{"text_format":"1","workbook":"xlsx","n_sheets":12,"sheets":["CS","使用方法","スキルVL用","種族VL用","ﾀｲﾌﾟVL用","選択リスト","ｽﾀｲﾙVL用","武器VL用","防具VL用","アクセVL用","データ管理","データ管理2"],"not_rendered":{"charts":0,"images":0,"macros":1,"external_links":0,"defined_names":43,"comments":0,"pivot_tables":0},"unopened":[],"bounds":{"document_bytes":16777216,"sheet_cells":100000,"rows_first":2000,"rows_last":500,"rows_between":2000,"halvings":0,"cell_chars":16384,"cell_head_chars":4096},"cells_cut":0,"cells_raw":0,"read":"whole","date_system":"1900"}

{"sheet":"CS","index":0,"n_rows":56,"n_cols":67,"rows_kept":56,"cut":false,"hidden":false,"merged":[[45,38,46,38],[47,38,48,38],[49,38,50,38],[51,38,52,38],[53,38,54,38],[55,38,56,38],[27,38,28,38],[29,38,30,38],[31,38,32,38],[33,38,34,38],[35,38,36,38],[37,38,38,38],[39,38,40,38],[41,38,42,38],[43,38,44,38],[1,62,1,74],[2,62,2,74],[3,62,3,74],[4,62,4,74],[5,62,5,74],[6,62,6,74],[7,62,7,74],[8,62,8,74],[4,39,4,42],[4,49,4,60],[8,49,8,60],[1,43,1,48],[1,49,1,54],[1,55,1,60],[2,43,3,48],[2,49,3,54],[2,55,3,60],[4,43,4,48],[5,43,5,48],[6,43,6,48],[6,49,6,60],[5,49,5,60],[1,39,1,42],[2,39,3,42],[5,39,5,42],[6,39,6,42],[7,39,7,42],[8,39,8,42],[14,1,14,16],[51,39,52,40],[53,39,54,40],[53,41,54,47],[37,41,38,47],[31,41,32,47],[27,41,28,47],[35,41,36,47],[34,11,35,12],[40,15,41,16],[42,11,43,12],[9,1,9,2],[11,17,12,21],[11,27,12,31],[11,22,12,26],[10,1,10,2],[11,1,11,2],[12,1,12,2],[9,3,9,11],[10,3,10,11],[55,30,55,32],[48,33,55,35],[13,1,13,16],[48,30,48,32],[49,30,49,32],[50,30,50,32],[21,11,23,12],[21,13,23,14],[21,15,23,16],[24,11,25,12],[24,13,25,14],[24,15,25,16],[26,11,27,12],[26,13,27,14],[26,15,27,16],[28,11,29,12],[28,13,29,14],[28,15,29,16],[32,11,33,12],[32,13,33,14],[32,15,33,16],[54,30,54,32],[28,8,29,10],[30,8,31,10],[52,30,52,32],[9,12,9,13],[10,12,10,13],[11,12,11,13],[12,12,12,13],[9,14,10,16],[11,14,12,16],[51,30,51,32],[26,23,27,26],[17,13,18,14],[17,15,18,16],[30,23,31,26],[32,23,33,26],[49,17,49,18],[36,23,37,26],[51,13,51,14],[51,15,51,16],[51,11,51,12],[11,3,11,11],[12,3,12,11],[28,17,29,18],[52,15,52,16],[16,13,16,14],[36,2,37,4],[16,15,16,16],[24,17,25,18],[26,17,27,18],[21,2,23,4],[26,5,27,7],[28,5,29,7],[32,5,33,7],[34,5,35,7],[36,5,37,7],[19,1,20,36],[36,30,37,35],[24,30,25,35],[23,5,23,7],[24,5,25,7],[30,5,31,7],[21,5,22,7],[16,7,16,8],[16,9,16,10],[16,11,16,12],[17,9,18,10],[17,11,18,12],[21,8,22,10],[23,8,23,10],[14,18,15,25],[53,13,53,14],[53,15,53,16],[42,15,43,16],[44,11,45,12],[30,21,31,22],[32,21,33,22],[34,21,35,22],[36,21,37,22],[34,17,35,18],[36,17,37,18],[30,19,31,20],[32,19,33,20],[34,19,35,20],[36,19,37,20],[30,11,31,12],[30,13,31,14],[30,15,31,16],[30,17,31,18],[49,13,49,14],[49,15,49,16],[50,11,50,12],[50,13,50,14],[48,13,48,14],[48,15,48,16],[24,23,25,26],[44,8,45,10],[46,8,47,10],[36,8,37,10],[38,8,39,10],[32,8,33,10],[34,8,35,10],[46,19,47,20],[40,19,41,20],[42,19,43,20],[38,17,39,18],[42,8,43,10],[36,11,37,12],[36,13,37,14],[36,15,37,16],[44,13,45,14],[44,15,45,16],[46,11,47,12],[46,13,47,14],[46,15,47,16],[42,13,43,14],[38,11,39,12],[40,8,41,10],[53,30,53,32],[17,24,18,26],[17,18,18,20],[17,1,18,2],[17,3,18,4],[17,5,18,6],[17,7,18,8],[28,23,29,26],[24,21,25,22],[38,5,39,7],[44,2,45,4],[26,30,27,35],[42,21,43,22],[44,17,45,18],[40,17,41,18],[42,17,43,18],[38,19,39,20],[44,19,45,20],[46,2,47,4],[21,23,23,26],[38,13,39,14],[38,15,39,16],[40,11,41,12],[46,5,47,7],[1,27,1,36],[2,27,3,36],[4,17,4,36],[5,17,6,26],[5,27,6,36],[7,32,8,36],[1,1,4,16],[5,1,6,16],[7,1,8,9],[7,10,8,16],[7,17,8,21],[7,22,8,26],[7,27,8,31],[1,17,1,26],[2,17,3,26],[14,26,15,36],[26,2,27,4],[15,1,15,2],[15,3,15,4],[15,5,15,6],[24,2,25,4],[34,13,35,14],[34,15,35,16],[15,9,15,10],[15,11,15,12],[15,13,15,14],[15,15,15,16],[24,8,25,10],[26,8,27,10],[15,7,15,8],[16,1,16,2],[16,3,16,4],[16,5,16,6],[28,2,29,4],[30,2,31,4],[32,2,33,4],[34,2,35,4],[32,17,33,18],[34,23,35,26],[38,2,39,4],[40,2,41,4],[40,5,41,7],[42,2,43,4],[42,5,43,7],[44,5,45,7],[46,17,47,18],[44,30,45,35],[46,21,47,22],[44,23,45,26],[46,23,47,26],[38,21,39,22],[38,23,39,26],[46,30,47,35],[40,23,41,26],[42,23,43,26],[40,21,41,22],[38,30,39,35],[40,30,41,35],[42,30,43,35],[44,21,45,22],[40,13,41,14],[29,39,30,40],[33,39,34,40],[17,21,18,23],[16,18,16,20],[16,21,16,23],[28,21,29,22],[21,30,23,35],[21,17,22,22],[23,17,23,18],[23,19,23,20],[23,21,23,22],[28,30,29,35],[30,30,31,35],[32,30,33,35],[34,30,35,35],[31,39,32,40],[23,39,24,40],[24,19,25,20],[26,19,27,20],[28,19,29,20],[26,21,27,22],[27,39,28,40],[19,39,20,59],[29,41,30,47],[11,32,12,36],[9,17,10,21],[9,22,10,26],[9,27,10,31],[9,32,10,36],[16,24,16,26],[13,53,14,56],[21,39,22,40],[21,41,22,47],[21,48,22,50],[21,51,22,53],[21,54,22,55],[14,17,18,17],[16,27,16,29],[17,27,18,29],[16,30,16,36],[17,30,18,36],[13,39,14,42],[13,43,14,45],[13,46,14,49],[21,56,22,57],[9,53,10,56],[11,53,12,56],[13,50,14,52],[53,66,54,74],[55,39,56,40],[49,63,50,65],[47,63,48,65],[51,41,52,47],[39,39,40,40],[49,41,50,47],[47,54,48,55],[47,56,48,57],[41,39,42,40],[55,48,56,50],[55,56,56,57],[55,60,56,62],[55,41,56,47],[43,39,44,40],[45,39,46,40],[47,39,48,40],[55,51,56,53],[55,58,56,59],[55,54,56,55],[49,51,50,53],[45,51,46,53],[45,58,46,59],[53,63,54,65],[45,63,46,65],[35,39,36,40],[37,39,38,40],[47,58,48,59],[49,54,50,55],[53,48,54,50],[53,51,54,53],[53,58,54,59],[49,39,50,40],[47,41,48,47],[45,48,46,50],[43,41,44,47],[41,41,42,47],[43,48,44,50],[43,51,44,53],[39,41,40,47],[43,56,44,57],[41,48,42,50],[41,51,42,53],[41,54,42,55],[39,58,40,59],[35,58,36,59],[41,56,42,57],[39,48,40,50],[45,41,46,47],[43,58,44,59],[33,60,34,62],[49,60,50,62],[51,48,52,50],[51,51,52,53],[51,54,52,55],[49,56,50,57],[49,48,50,50],[37,60,38,62],[39,51,40,53],[35,48,36,50],[35,51,36,53],[27,60,28,62],[33,48,34,50],[33,51,34,53],[33,58,34,59],[33,54,34,55],[33,56,34,57],[29,56,30,57],[37,63,38,65],[33,41,34,47],[37,54,38,55],[37,56,38,57],[27,48,28,50],[27,51,28,53],[27,63,28,65],[31,63,32,65],[27,54,28,55],[27,58,28,59],[35,63,36,65],[27,56,28,57],[29,48,30,50],[29,51,30,53],[29,58,30,59],[29,54,30,55],[31,56,32,57],[53,60,54,62],[45,54,46,55],[45,56,46,57],[53,54,54,55],[53,56,54,57],[49,58,50,59],[47,48,48,50],[47,51,48,53],[31,60,32,62],[37,48,38,50],[37,51,38,53],[37,58,38,59],[39,54,40,55],[31,58,32,59],[31,48,32,50],[31,51,32,53],[31,54,32,55],[41,63,42,65],[41,60,42,62],[41,66,42,74],[43,63,44,65],[43,60,44,62],[29,60,30,62],[29,66,30,74],[31,66,32,74],[37,66,38,74],[49,66,50,74],[41,58,42,59],[55,66,56,74],[33,63,34,65],[33,66,34,74],[35,54,36,55],[35,56,36,57],[35,60,36,62],[39,56,40,57],[39,60,40,62],[47,60,48,62],[35,66,36,74],[55,63,56,65],[45,66,46,74],[51,56,52,57],[51,58,52,59],[51,60,52,62],[51,63,52,65],[51,66,52,74],[45,60,46,62],[43,54,44,55],[43,66,44,74],[39,63,40,65],[39,66,40,74],[27,66,28,74],[47,66,48,74],[9,39,10,42],[9,43,10,45],[11,39,12,42],[11,43,12,45],[7,43,7,48],[8,43,8,48],[7,49,7,60],[9,46,10,49],[9,50,10,52],[11,46,12,49],[11,50,12,52],[9,57,10,60],[11,57,12,59],[11,60,12,60],[16,39,16,50],[25,48,26,50],[25,51,26,53],[23,41,24,47],[23,48,24,50],[23,51,24,53],[21,58,22,59],[29,63,30,65],[25,39,26,40],[17,39,18,50],[16,51,16,62],[17,51,18,62],[23,58,24,59],[23,54,24,55],[23,56,24,57],[23,60,24,62],[25,58,26,59],[25,54,26,55],[25,56,26,57],[25,41,26,47],[19,60,19,74],[49,23,49,26],[50,23,50,26],[50,15,50,16],[48,2,55,2],[48,3,48,4],[49,3,49,4],[50,3,50,4],[51,3,51,4],[52,3,52,4],[53,3,53,4],[54,3,54,4],[55,3,55,4],[52,11,52,12],[52,13,52,14],[55,5,55,7],[48,8,48,10],[49,8,49,10],[50,8,50,10],[51,8,51,10],[48,23,48,26],[48,17,48,18],[48,19,48,20],[48,21,48,22],[54,15,54,16],[52,8,52,10],[53,8,53,10],[54,8,54,10],[49,11,49,12],[55,8,55,10],[48,5,48,7],[49,5,49,7],[50,5,50,7],[51,5,51,7],[52,5,52,7],[53,5,53,7],[54,5,54,7],[48,11,48,12],[54,11,54,12],[54,13,54,14],[53,11,53,12],[52,23,52,26],[53,23,53,26],[54,23,54,26],[55,23,55,26],[51,17,51,18],[51,19,51,20],[51,21,51,22],[52,17,52,18],[52,19,52,20],[52,21,52,22],[54,17,54,18],[54,19,54,20],[54,21,54,22],[55,17,55,18],[55,19,55,20],[55,21,55,22],[53,17,53,18],[53,19,53,20],[53,21,53,22],[51,23,51,26],[55,11,55,12],[55,13,55,14],[55,15,55,16],[20,60,20,74],[13,57,14,60],[25,60,26,62],[12,62,12,74],[13,62,13,74],[14,62,14,74],[9,62,9,74],[10,62,10,74],[11,62,11,74],[21,60,22,62],[16,63,16,74],[17,63,18,74],[21,63,22,65],[23,63,24,65],[25,66,26,74],[25,63,26,65],[23,66,24,74],[21,66,22,74],[49,19,49,20],[49,21,49,22],[50,17,50,18],[50,19,50,20],[50,21,50,22]]}
[]
[null,"Magician's Age",null,null,null,null,null,null,null,null,null,null,null,null,null,null,null,"Character's name",null,null,null,null,null,null,null,null,null,"Player's name",null,null,null,null,null,null,null,null,null,null,null,null,null,null,null,"理由",null,null,null,null,null,"職業",null,null,null,null,null,"宝物",null,null,null,null,null,null,"Free Space"]
[null,null,null,null,null,null,null,null,null,null,null,null,null,null,null,null,null,null,null,null,null,null,null,null,null,null,null,null,null,null,null,null,null,null,null,null,null,null,null,"Lifepath"]
[]
[null,null,null,null,null,null,null,null,null,null,null,null,null,null,null,null,null,null,null,null,null,null,null,null,null,null,null,null,null,null,null,null,null,null,null,null,null,null,null,null,null,null,null,"名称",null,null,null,null,null,"効果"]
[null,"- Auto Character Sheet+ ver1.0 -",null,null,null,null,null,null,null,null,null,null,null,null,null,null,null,"Total Experience point",null,null,null,null,null,null,null,null,null,null,null,null,null,null,null,null,null,null,null,null,null,"防具",null,null,null,"一般服"]
[null,null,null,null,null,null,null,null,null,null,null,null,null,null,null,null,null,null,null,null,null,null,null,null,null,null,null,null,null,null,null,null,null,null,null,null,null,null,null,"アクセサリA",null,null,null,"なし",null,null,null,null,null,{"$f":"\" \"&VLOOKUP(アクセA,アクセVL用!$B$1:$BH$135,59,FALSE)","v":" "}]
[null,"Character's Species >>",null,null,null,null,null,null,null,null,"人間",null,null,null,null,null,null,"Gender",null,null,null,null,null,null,null,null,null,"Age",null,null,null,null,null,null,null,null,null,null,null,"アクセサリB",null,null,null,"なし",null,null,null,null,null,{"$f":"\" \"&VLOOKUP(アクセB,アクセVL用!$B$1:$BH$135,59,FALSE)","v":" "}]
[null,null,null,null,null,null,null,null,null,null,null,null,null,null,null,null,null,null,null,null,null,null,null,null,null,null,null,null,null,null,null,null,null,null,null,null,null,null,null,"アクセサリC",null,null,null,"なし",null,null,null,null,null,{"$f":"\" \"&VLOOKUP(アクセC,アクセVL用!$B$1:$BH$135,59,FALSE)","v":" "}]
[null,null,null,"Type's name",null,null,null,null,null,null,null,null,"TL",null,"CL",null,null,"Height",null,null,null,null,null,null,null,null,null,"Weight",null,null,null,null,null,null,null,null,null,null,null,"命中C値",null,null,null,{"$f":"データ管理!C29","v":16},null,null,"命中F値",null,null,null,{"$f":"データ管理!F29","v":5},null,null,"移動ｺｽﾄ",null,null,null,{"$f":"データ管理!V29&\"/\"&データ管理!Y29","v":"3/8"}]
[null,"Main",null,"―"]
[null,"Sub",null,"―",null,null,null,null,null,null,null,null,null,null,{"$f":"ML+SL+EL","v":0},null,null,"Hair Color",null,null,null,null,null,null,null,null,null,"Eye Color",null,null,null,null,null,null,null,null,null,null,null,"回避C値",null,null,null,{"$f":"データ管理!I29","v":17},null,null,"回避F値",null,null,null,{"$f":"データ管理!L29","v":5},null,null,"消費額",null,null,null,{"$f":"VLOOKUP(武器名,武器VL用!$B$1:$AY$100,5,FALSE)\n+VLOOKUP(防具名,防具VL用!$B$1:$W$43,2,FALSE)\n+VLOOKUP(アクセA,アクセVL用!$B$1:$BH$135,2,FALSE)\n+VLOOKUP(アクセB,アクセVL用!$B$1:$BH$135,2,FALSE)\n+VLOOKUP(アクセC,アクセVL用!$B$1:$BH$135,2,FALSE)","v":0},null,null,"ND"]
[null,"Extra",null,"―"]
[null,{"$f":"IF(AND(ML>=SL,SL>=EL)=TRUE,IF(OR(D11=D12,D12=D13)=TRUE,\"↑タイプ重複エラー↑\",\"\"),\"↑レベル設定エラー(ﾒｲﾝ≧ｻﾌﾞ≧ｴｸｽﾄﾗ)↑\")","v":"↑タイプ重複エラー↑"},null,null,null,null,null,null,null,null,null,null,null,null,null,null,null,null,null,null,null,null,null,null,null,null,null,null,null,null,null,null,null,null,null,null,null,null,null,"調査C値",null,null,null,{"$f":"データ管理!O29","v":17},null,null,"調査F値",null,null,null,{"$f":"データ管理!R29","v":5},null,null,"BP上限値",null,null,null,{"$f":"データ管理!U29","v":16}]
[null,"基本能力値",null,null,null,null,null,null,null,null,null,null,null,null,null,null,null,null,"装備武器 >>",null,null,null,null,null,null,null,"素手"]
[null,"肉体",null,"反射",null,"集中",null,"知識",null,"感覚",null,"意志",null,"洞察",null,"幸運"]
[null,{"$f":"VLOOKUP(種族,種族VL用!$B$1:$AE$20,2,FALSE)+VLOOKUP(武器名,武器VL用!$B$1:$AY$100,7,FALSE)+VLOOKUP(アクセA,アクセVL用!$B$1:$BH$135,3,FALSE)+VLOOKUP(アクセB,アクセVL用!$B$1:$BH$135,3,FALSE)+VLOOKUP(アクセC,アクセVL用!$B$1:$BH$135,3,FALSE)+IF(データ管理2!C19=\"\",0,データ管理2!C19)","v":10},null,{"$f":"VLOOKUP(種族,種族VL用!$B$1:$AE$20,3,FALSE)+VLOOKUP(武器名,武器VL用!$B$1:$AY$100,8,FALSE)+VLOOKUP(アクセA,アクセVL用!$B$1:$BH$135,4,FALSE)+VLOOKUP(アクセB,アクセVL用!$B$1:$BH$135,4,FALSE)+VLOOKUP(アクセC,アクセVL用!$B$1:$BH$135,4,FALSE)+IF(データ管理2!D19=\"\",0,データ管理2!D19)","v":9},null,{"$f":"VLOOKUP(種族,種族VL用!$B$1:$AE$20,4,FALSE)+VLOOKUP(武器名,武器VL用!$B$1:$AY$100,9,FALSE)+VLOOKUP(アクセA,アクセVL用!$B$1:$BH$135,5,FALSE)+VLOOKUP(アクセB,アクセVL用!$B$1:$BH$135,5,FALSE)+VLOOKUP(アクセC,アクセVL用!$B$1:$BH$135,5,FALSE)+IF(データ管理2!E19=\"\",0,データ管理2!E19)","v":17},null,{"$f":"VLOOKUP(種族,種族VL用!$B$1:$AE$20,5,FALSE)+VLOOKUP(武器名,武器VL用!$B$1:$AY$100,10,FALSE)+VLOOKUP(アクセA,アクセVL用!$B$1:$BH$135,6,FALSE)+VLOOKUP(アクセB,アクセVL用!$B$1:$BH$135,6,FALSE)+VLOOKUP(アクセC,アクセVL用!$B$1:$BH$135,6,FALSE)+IF(データ管理2!F19=\"\",0,データ管理2!F19)","v":10},null,{"$f":"VLOOKUP(種族,種族VL用!$B$1:$AE$20,6,FALSE)+VLOOKUP(武器名,武器VL用!$B$1:$AY$100,11,FALSE)+VLOOKUP(アクセA,アクセVL用!$B$1:$BH$135,7,FALSE)+VLOOKUP(アクセB,アクセVL用!$B$1:$BH$135,7,FALSE)+VLOOKUP(アクセC,アクセVL用!$B$1:$BH$135,7,FALSE)+IF(データ管理2!G19=\"\",0,データ管理2!G19)","v":6},null,{"$f":"VLOOKUP(種族,種族VL用!$B$1:$AE$20,7,FALSE)+VLOOKUP(武器名,武器VL用!$B$1:$AY$100,12,FALSE)+VLOOKUP(アクセA,アクセVL用!$B$1:$BH$135,8,FALSE)+VLOOKUP(アクセB,アクセVL用!$B$1:$BH$135,8,FALSE)+VLOOKUP(アクセC,アクセVL用!$B$1:$BH$135,8,FALSE)+IF(データ管理2!H19=\"\",0,データ管理2!H19)","v":11},null,{"$f":"VLOOKUP(種族,種族VL用!$B$1:$AE$20,8,FALSE)+VLOOKUP(武器名,武器VL用!$B$1:$AY$100,13,FALSE)+VLOOKUP(アクセA,アクセVL用!$B$1:$BH$135,9,FALSE)+VLOOKUP(アクセB,アクセVL用!$B$1:$BH$135,9,FALSE)+VLOOKUP(アクセC,アクセVL用!$B$1:$BH$135,9,FALSE)+IF(データ管理2!I19=\"\",0,データ管理2!I19)","v":7},null,{"$f":"VLOOKUP(種族,種族VL用!$B$1:$AE$20,9,FALSE)+VLOOKUP(武器名,武器VL用!$B$1:$AY$100,14,FALSE)+VLOOKUP(アクセA,アクセVL用!$B$1:$BH$135,10,FALSE)+VLOOKUP(アクセB,アクセVL用!$B$1:$BH$135,10,FALSE)+VLOOKUP(アクセC,アクセVL用!$B$1:$BH$135,10,FALSE)+IF(データ管理2!J19=\"\",0,データ管理2!J19)","v":10},null,null,"種別",null,null,"射程",null,null,"属性",null,null,"コスト",null,null,"効果",null,null,null,null,null,null,null,null,"種族特典",null,null,null,null,null,null,null,null,null,null,null,"メインタイプ特典",null,null,null,null,null,null,null,null,null,null,null,"サブタイプ特典 (TL3以上)"]
[null,null,null,null,null,null,null,null,null,null,null,null,null,null,null,null,null,null,{"$f":"VLOOKUP(武器名,武器VL用!$B$1:$AY$100,2,FALSE)","v":"近接"},null,null,{"$f":"VLOOKUP(武器名,武器VL用!$B$1:$AY$100,3,FALSE)","v":"超至近"},null,null,{"$f":"VLOOKUP(武器名,武器VL用!$B$1:$AY$100,4,FALSE)","v":"近"},null,null,{"$f":"VLOOKUP(武器名,武器VL用!$B$1:$AY$100,6,FALSE)","v":8},null,null,{"$f":"VLOOKUP(武器名,武器VL用!$B$1:$AY$100,50,FALSE)","v":"[素手武器] 武器未装備時の参照データ"},null,null,null,null,null,null,null,null,{"$f":"VLOOKUP(種族,種族VL用!$B$1:$AE$20,30,FALSE)","v":"常時C値-1 (下限値：16) <適用済>"},null,null,null,null,null,null,null,null,null,null,null,{"$f":"VLOOKUP(MC,ﾀｲﾌﾟVL用!B2:AN23,39,FALSE)","v":""},null,null,null,null,null,null,null,null,null,null,null,{"$f":"IF(SL>=3,VLOOKUP(SC,ﾀｲﾌﾟVL用!B2:AN23,39,FALSE),\" なし\")","v":" なし"}]
[]
[null,"Status                                                              ",null,null,null,null,null,null,null,null,null,null,null,null,null,null,null,null,null,null,null,null,null,null,null,null,null,null,null,null,null,null,null,null,null,null,null,null,null,"Skill                                                              ",null,null,null,null,null,null,null,null,null,null,null,null,null,null,null,null,null,null,null,null,{"$f":"IF(BI21=\"\",\"\",\"タイプスキルは各TLの半分(↓)個まで取得可\")","v":""}]
[null,null,null,null,null,null,null,null,null,null,null,null,null,null,null,null,null,null,null,null,null,null,null,null,null,null,null,null,null,null,null,null,null,null,null,null,null,null,null,null,null,null,null,null,null,null,null,null,null,null,null,null,null,null,null,null,null,null,null,null,{"$f":"IF(COUNTIF(ｽﾀｲﾙVL用!D29:D48,\"×\")=0,\"\",\"↓タイプスキル取得数エラー↓\")","v":""}]
[null,null,null,null,null,"種族",null,null,"ﾀｲﾌﾟ",null,null,"ｽﾀｲﾙ",null,"武器",null,"防具",null,"ｱｸｾｻﾘｰ",null,null,null,null,null,"他修正",null,null,null,null,null,null,"Total\nStatus",null,null,null,null,null,null,null,null,"CL",null,"スキル名",null,null,null,null,null,null,"種別",null,null,"ﾀｲﾐﾝｸﾞ",null,null,"射程",null,"対象",null,"判定",null,"代償",null,null,"コスト",null,null,"効果"]
[]
[null,null,null,null,null,"Bonus",null,null,"Bonus",null,null,null,null,null,null,null,null,"A",null,"B",null,"C",null,null,null,null,null,null,null,null,null,null,null,null,null,null,null,null,null,"★",null,{"$f":"VLOOKUP(種族,種族VL用!$B$1:$AN$20,31,FALSE)","v":"起死回生"},null,null,null,null,null,null,{"$f":"VLOOKUP(AP24,スキルVL用!$C$1:$BO$518,2,FALSE)","v":"自"},null,null,{"$f":"VLOOKUP(AP24,スキルVL用!$C$1:$BO$518,3,FALSE)","v":"オート"},null,null,{"$f":"VLOOKUP(AP24,スキルVL用!$C$1:$BO$518,4,FALSE)","v":"―"},null,{"$f":"VLOOKUP(AP24,スキルVL用!$C$1:$BO$518,5,FALSE)","v":"自身"},null,{"$f":"VLOOKUP(AP24,スキルVL用!$C$1:$BO$518,6,FALSE)","v":"自動"},null,{"$f":"VLOOKUP(AP24,スキルVL用!$C$1:$BO$518,7,FALSE)","v":"5BP"},null,null,{"$f":"VLOOKUP(AP24,スキルVL用!$C$1:$BO$518,8,FALSE)","v":0},null,null,{"$f":"VLOOKUP(AP24,スキルVL用!$C$1:$BO$518,65,FALSE)","v":"判定直後使用可\n判定ダイスの両方を9に変更\n対する回避判定C値を20に固定"}]
[null,null,"近接",null,null,{"$f":"IF(VLOOKUP(種族,種族VL用!$B$1:$AE$20,種族VL用!A2,FALSE)=0,\"\",VLOOKUP(種族,種族VL用!$B$1:$AE$20,種族VL用!A2,FALSE))","v":5},null,null,{"$f":"IF(VLOOKUP(MC,ﾀｲﾌﾟVL用!$B$2:$AN$23,ﾀｲﾌﾟVL用!A3,FALSE)=0,\"\",VLOOKUP(MC,ﾀｲﾌﾟVL用!$B$2:$AN$23,ﾀｲﾌﾟVL用!A3,FALSE))","v":""},null,null,{"$f":"IF(CS!AP26=ｽﾀｲﾙVL用!B4,1,\"\")","v":""},null,{"$f":"IF(VLOOKUP(武器名,武器VL用!$B$1:$AY$100,種族VL用!A2+5,FALSE)=0,\"\",VLOOKUP(武器名,武器VL用!$B$1:$AY$100,種族VL用!A2+5,FALSE))","v":-2},null,{"$f":"IF(VLOOKUP(防具名,防具VL用!$B$1:$W$43,防具VL用!A2,FALSE)=0,\"\",VLOOKUP(防具名,防具VL用!$B$1:$W$43,防具VL用!A2,FALSE))","v":""},null,{"$f":"IF(VLOOKUP(アクセA,アクセVL用!$B$1:$BH$135,アクセVL用!A2,FALSE)=0,\"\",VLOOKUP(アクセA,アクセVL用!$B$1:$BH$135,アクセVL用!A2,FALSE))","v":""},null,{"$f":"IF(VLOOKUP(アクセB,アクセVL用!$B$1:$BH$135,アクセVL用!A2,FALSE)=0,\"\",VLOOKUP(アクセB,アクセVL用!$B$1:$BH$135,アクセVL用!A2,FALSE))","v":""},null,{"$f":"IF(VLOOKUP(アクセC,アクセVL用!$B$1:$BH$135,アクセVL用!A2,FALSE)=0,\"\",VLOOKUP(アクセC,アクセVL用!$B$1:$BH$135,アクセVL用!A2,FALSE))","v":""},null,{"$f":"データ管理2!K19","v":""},null,null,null,null,null,null,{"$f":"SUM(F25:AA26)","v":3}]
[null,null,null,null,null,null,null,null,null,null,null,null,null,null,null,null,null,null,null,null,null,null,null,null,null,null,null,null,null,null,null,null,null,null,null,null,null,null,null,"S",null,"アタッカー",null,null,null,null,null,null,{"$f":"VLOOKUP(AP26,スキルVL用!$C$1:$BO$518,2,FALSE)","v":"ｽﾀｲﾙ"},null,null,null,null,null,null,null,null,null,null,null,null,null,null,null,null,null,{"$f":"VLOOKUP(AP26,スキルVL用!$C$1:$BO$518,65,FALSE)","v":"命中C値-1(下限値：15) <済>\n攻撃の与D+[-10+2D10]"}]
[null,null,"射撃",null,null,{"$f":"IF(VLOOKUP(種族,種族VL用!$B$1:$AE$20,種族VL用!A4,FALSE)=0,\"\",VLOOKUP(種族,種族VL用!$B$1:$AE$20,種族VL用!A4,FALSE))","v":5},null,null,{"$f":"IF(VLOOKUP(MC,ﾀｲﾌﾟVL用!$B$2:$AN$23,ﾀｲﾌﾟVL用!A5,FALSE)=0,\"\",VLOOKUP(MC,ﾀｲﾌﾟVL用!$B$2:$AN$23,ﾀｲﾌﾟVL用!A5,FALSE))","v":""},null,null,{"$f":"IF(CS!AP26=ｽﾀｲﾙVL用!B4,1,\"\")","v":""},null,{"$f":"IF(VLOOKUP(武器名,武器VL用!$B$1:$AY$100,種族VL用!A4+5,FALSE)=0,\"\",VLOOKUP(武器名,武器VL用!$B$1:$AY$100,種族VL用!A4+5,FALSE))","v":""},null,{"$f":"IF(VLOOKUP(防具名,防具VL用!$B$1:$W$43,防具VL用!A4,FALSE)=0,\"\",VLOOKUP(防具名,防具VL用!$B$1:$W$43,防具VL用!A4,FALSE))","v":""},null,{"$f":"IF(VLOOKUP(アクセA,アクセVL用!$B$1:$BH$135,アクセVL用!A4,FALSE)=0,\"\",VLOOKUP(アクセA,アクセVL用!$B$1:$BH$135,アクセVL用!A4,FALSE))","v":""},null,{"$f":"IF(VLOOKUP(アクセB,アクセVL用!$B$1:$BH$135,アクセVL用!A4,FALSE)=0,\"\",VLOOKUP(アクセB,アクセVL用!$B$1:$BH$135,アクセVL用!A4,FALSE))","v":""},null,{"$f":"IF(VLOOKUP(アクセC,アクセVL用!$B$1:$BH$135,アクセVL用!A4,FALSE)=0,\"\",VLOOKUP(アクセC,アクセVL用!$B$1:$BH$135,アクセVL用!A4,FALSE))","v":""},null,{"$f":"データ管理2!L19","v":""},null,null,null,null,null,null,{"$f":"SUM(F27:AA28)","v":5}]
[null,null,null,null,null,null,null,null,null,null,null,null,null,null,null,null,null,null,null,null,null,null,null,null,null,null,null,null,null,null,null,null,null,null,null,null,null,null,1,1,null,null,null,null,null,null,null,null,{"$f":"IFERROR(VLOOKUP(AP28,スキルVL用!$C$1:$BO$518,2,FALSE),\"\")","v":""},null,null,{"$f":"IFERROR(VLOOKUP(AP28,スキルVL用!$C$1:$BO$518,3,FALSE),\"\")","v":""},null,null,{"$f":"IFERROR(VLOOKUP(AP28,スキルVL用!$C$1:$BO$518,4,FALSE),\"\")","v":""},null,{"$f":"IFERROR(VLOOKUP(AP28,スキルVL用!$C$1:$BO$518,5,FALSE),\"\")","v":""},null,{"$f":"IFERROR(VLOOKUP(AP28,スキルVL用!$C$1:$BO$518,6,FALSE),\"\")","v":""},null,{"$f":"IFERROR(VLOOKUP(AP28,スキルVL用!$C$1:$BO$518,7,FALSE),\"\")","v":""},null,null,{"$f":"IFERROR(VLOOKUP(AP28,スキルVL用!$C$1:$BO$518,8,FALSE),\"\")","v":""},null,null,{"$f":"IF(COUNTIFS(ｽﾀｲﾙVL用!$B$62:$B$79,AP28)>=1,IF(AM28=VLOOKUP(AP28,ｽﾀｲﾙVL用!$B$61:$D$78,3,),IFERROR(VLOOKUP(AP28,スキルVL用!$C$1:$BO$518,65,FALSE),\"\"),\"上の同名スキル参照\"),IFERROR(VLOOKUP(AP28,スキルVL用!$C$1:$BO$518,65,FALSE),\"\"))","v":""}]
[null,null,"回避",null,null,{"$f":"IF(VLOOKUP(種族,種族VL用!$B$1:$AE$20,種族VL用!A6,FALSE)=0,\"\",VLOOKUP(種族,種族VL用!$B$1:$AE$20,種族VL用!A6,FALSE))","v":3},null,null,{"$f":"IF(VLOOKUP(MC,ﾀｲﾌﾟVL用!$B$2:$AN$23,ﾀｲﾌﾟVL用!A7,FALSE)=0,\"\",VLOOKUP(MC,ﾀｲﾌﾟVL用!$B$2:$AN$23,ﾀｲﾌﾟVL用!A7,FALSE))","v":""},null,null,{"$f":"IF(CS!AP26=ｽﾀｲﾙVL用!B5,2,\"\")","v":""},null,{"$f":"IF(VLOOKUP(武器名,武器VL用!$B$1:$AY$100,種族VL用!A6+5,FALSE)=0,\"\",VLOOKUP(武器名,武器VL用!$B$1:$AY$100,種族VL用!A6+5,FALSE))","v":""},null,{"$f":"IF(VLOOKUP(防具名,防具VL用!$B$1:$W$43,防具VL用!A6,FALSE)=0,\"\",VLOOKUP(防具名,防具VL用!$B$1:$W$43,防具VL用!A6,FALSE))","v":""},null,{"$f":"IF(VLOOKUP(アクセA,アクセVL用!$B$1:$BH$135,アクセVL用!A6,FALSE)=0,\"\",VLOOKUP(アクセA,アクセVL用!$B$1:$BH$135,アクセVL用!A6,FALSE))","v":""},null,{"$f":"IF(VLOOKUP(アクセB,アクセVL用!$B$1:$BH$135,アクセVL用!A6,FALSE)=0,\"\",VLOOKUP(アクセB,アクセVL用!$B$1:$BH$135,アクセVL用!A6,FALSE))","v":""},null,{"$f":"IF(VLOOKUP(アクセC,アクセVL用!$B$1:$BH$135,アクセVL用!A6,FALSE)=0,\"\",VLOOKUP(アクセC,アクセVL用!$B$1:$BH$135,アクセVL用!A6,FALSE))","v":""},null,{"$f":"データ管理2!M19","v":""},null,null,null,null,null,null,{"$f":"SUM(F29:AA30)","v":3}]
[null,null,null,null,null,null,null,null,null,null,null,null,null,null,null,null,null,null,null,null,null,null,null,null,null,null,null,null,null,null,null,null,null,null,null,null,null,null,2,1,null,null,null,null,null,null,null,null,{"$f":"IFERROR(VLOOKUP(AP30,スキルVL用!$C$1:$BO$518,2,FALSE),\"\")","v":""},null,null,{"$f":"IFERROR(VLOOKUP(AP30,スキルVL用!$C$1:$BO$518,3,FALSE),\"\")","v":""},null,null,{"$f":"IFERROR(VLOOKUP(AP30,スキルVL用!$C$1:$BO$518,4,FALSE),\"\")","v":""},null,{"$f":"IFERROR(VLOOKUP(AP30,スキルVL用!$C$1:$BO$518,5,FALSE),\"\")","v":""},null,{"$f":"IFERROR(VLOOKUP(AP30,スキルVL用!$C$1:$BO$518,6,FALSE),\"\")","v":""},null,{"$f":"IFERROR(VLOOKUP(AP30,スキルVL用!$C$1:$BO$518,7,FALSE),\"\")","v":""},null,null,{"$f":"IFERROR(VLOOKUP(AP30,スキルVL用!$C$1:$BO$518,8,FALSE),\"\")","v":""},null,null,{"$f":"IF(COUNTIFS(ｽﾀｲﾙVL用!$B$62:$B$79,AP30)>=1,IF(AM30=VLOOKUP(AP30,ｽﾀｲﾙVL用!$B$61:$D$78,3,),IFERROR(VLOOKUP(AP30,スキルVL用!$C$1:$BO$518,65,FALSE),\"\"),\"上の同名スキル参照\"),IFERROR(VLOOKUP(AP30,スキルVL用!$C$1:$BO$518,65,FALSE),\"\"))","v":""}]
[null,null,"魔術",null,null,{"$f":"IF(VLOOKUP(種族,種族VL用!$B$1:$AE$20,種族VL用!A8,FALSE)=0,\"\",VLOOKUP(種族,種族VL用!$B$1:$AE$20,種族VL用!A8,FALSE))","v":4},null,null,{"$f":"IF(VLOOKUP(MC,ﾀｲﾌﾟVL用!$B$2:$AN$23,ﾀｲﾌﾟVL用!A9,FALSE)=0,\"\",VLOOKUP(MC,ﾀｲﾌﾟVL用!$B$2:$AN$23,ﾀｲﾌﾟVL用!A9,FALSE))","v":""},null,null,{"$f":"IF(CS!AP26=ｽﾀｲﾙVL用!B4,1,\"\")","v":""},null,{"$f":"IF(VLOOKUP(武器名,武器VL用!$B$1:$AY$100,種族VL用!A8+5,FALSE)=0,\"\",VLOOKUP(武器名,武器VL用!$B$1:$AY$100,種族VL用!A8+5,FALSE))","v":-2},null,{"$f":"IF(VLOOKUP(防具名,防具VL用!$B$1:$W$43,防具VL用!A8,FALSE)=0,\"\",VLOOKUP(防具名,防具VL用!$B$1:$W$43,防具VL用!A8,FALSE))","v":""},null,{"$f":"IF(VLOOKUP(アクセA,アクセVL用!$B$1:$BH$135,アクセVL用!A8,FALSE)=0,\"\",VLOOKUP(アクセA,アクセVL用!$B$1:$BH$135,アクセVL用!A8,FALSE))","v":""},null,{"$f":"IF(VLOOKUP(アクセB,アクセVL用!$B$1:$BH$135,アクセVL用!A8,FALSE)=0,\"\",VLOOKUP(アクセB,アクセVL用!$B$1:$BH$135,アクセVL用!A8,FALSE))","v":""},null,{"$f":"IF(VLOOKUP(アクセC,アクセVL用!$B$1:$BH$135,アクセVL用!A8,FALSE)=0,\"\",VLOOKUP(アクセC,アクセVL用!$B$1:$BH$135,アクセVL用!A8,FALSE))","v":""},null,{"$f":"データ管理2!N19","v":""},null,null,null,null,null,null,{"$f":"SUM(F31:AA32)","v":2}]
[null,null,null,null,null,null,null,null,null,null,null,null,null,null,null,null,null,null,null,null,null,null,null,null,null,null,null,null,null,null,null,null,null,null,null,null,null,null,3,1,null,null,null,null,null,null,null,null,{"$f":"IFERROR(VLOOKUP(AP32,スキルVL用!$C$1:$BO$518,2,FALSE),\"\")","v":""},null,null,{"$f":"IFERROR(VLOOKUP(AP32,スキルVL用!$C$1:$BO$518,3,FALSE),\"\")","v":""},null,null,{"$f":"IFERROR(VLOOKUP(AP32,スキルVL用!$C$1:$BO$518,4,FALSE),\"\")","v":""},null,{"$f":"IFERROR(VLOOKUP(AP32,スキルVL用!$C$1:$BO$518,5,FALSE),\"\")","v":""},null,{"$f":"IFERROR(VLOOKUP(AP32,スキルVL用!$C$1:$BO$518,6,FALSE),\"\")","v":""},null,{"$f":"IFERROR(VLOOKUP(AP32,スキルVL用!$C$1:$BO$518,7,FALSE),\"\")","v":""},null,null,{"$f":"IFERROR(VLOOKUP(AP32,スキルVL用!$C$1:$BO$518,8,FALSE),\"\")","v":""},null,null,{"$f":"IF(COUNTIFS(ｽﾀｲﾙVL用!$B$62:$B$79,AP32)>=1,IF(AM32=VLOOKUP(AP32,ｽﾀｲﾙVL用!$B$61:$D$78,3,),IFERROR(VLOOKUP(AP32,スキルVL用!$C$1:$BO$518,65,FALSE),\"\"),\"上の同名スキル参照\"),IFERROR(VLOOKUP(AP32,スキルVL用!$C$1:$BO$518,65,FALSE),\"\"))","v":""}]
[null,null,"抵抗",null,null,{"$f":"IF(VLOOKUP(種族,種族VL用!$B$1:$AE$20,種族VL用!A10,FALSE)=0,\"\",VLOOKUP(種族,種族VL用!$B$1:$AE$20,種族VL用!A10,FALSE))","v":3},null,null,{"$f":"IF(VLOOKUP(MC,ﾀｲﾌﾟVL用!$B$2:$AN$23,ﾀｲﾌﾟVL用!A11,FALSE)=0,\"\",VLOOKUP(MC,ﾀｲﾌﾟVL用!$B$2:$AN$23,ﾀｲﾌﾟVL用!A11,FALSE))","v":""},null,null,{"$f":"IF(CS!AP26=ｽﾀｲﾙVL用!B6,2,\"\")","v":""},null,{"$f":"IF(VLOOKUP(武器名,武器VL用!$B$1:$AY$100,種族VL用!A10+5,FALSE)=0,\"\",VLOOKUP(武器名,武器VL用!$B$1:$AY$100,種族VL用!A10+5,FALSE))","v":""},null,{"$f":"IF(VLOOKUP(防具名,防具VL用!$B$1:$W$43,防具VL用!A10,FALSE)=0,\"\",VLOOKUP(防具名,防具VL用!$B$1:$W$43,防具VL用!A10,FALSE))","v":""},null,{"$f":"IF(VLOOKUP(アクセA,アクセVL用!$B$1:$BH$135,アクセVL用!A10,FALSE)=0,\"\",VLOOKUP(アクセA,アクセVL用!$B$1:$BH$135,アクセVL用!A10,FALSE))","v":""},null,{"$f":"IF(VLOOKUP(アクセB,アクセVL用!$B$1:$BH$135,アクセVL用!A10,FALSE)=0,\"\",VLOOKUP(アクセB,アクセVL用!$B$1:$BH$135,アクセVL用!A10,FALSE))","v":""},null,{"$f":"IF(VLOOKUP(アクセC,アクセVL用!$B$1:$BH$135,アクセVL用!A10,FALSE)=0,\"\",VLOOKUP(アクセC,アクセVL用!$B$1:$BH$135,アクセVL用!A10,FALSE))","v":""},null,{"$f":"データ管理2!O19","v":""},null,null,null,null,null,null,{"$f":"SUM(F33:AA34)","v":3}]
[null,null,null,null,null,null,null,null,null,null,null,null,null,null,null,null,null,null,null,null,null,null,null,null,null,null,null,null,null,null,null,null,null,null,null,null,null,null,4,3,null,null,null,null,null,null,null,null,{"$f":"IFERROR(VLOOKUP(AP34,スキルVL用!$C$1:$BO$518,2,FALSE),\"\")","v":""},null,null,{"$f":"IFERROR(VLOOKUP(AP34,スキルVL用!$C$1:$BO$518,3,FALSE),\"\")","v":""},null,null,{"$f":"IFERROR(VLOOKUP(AP34,スキルVL用!$C$1:$BO$518,4,FALSE),\"\")","v":""},null,{"$f":"IFERROR(VLOOKUP(AP34,スキルVL用!$C$1:$BO$518,5,FALSE),\"\")","v":""},null,{"$f":"IFERROR(VLOOKUP(AP34,スキルVL用!$C$1:$BO$518,6,FALSE),\"\")","v":""},null,{"$f":"IFERROR(VLOOKUP(AP34,スキルVL用!$C$1:$BO$518,7,FALSE),\"\")","v":""},null,null,{"$f":"IFERROR(VLOOKUP(AP34,スキルVL用!$C$1:$BO$518,8,FALSE),\"\")","v":""},null,null,{"$f":"IF(COUNTIFS(ｽﾀｲﾙVL用!$B$62:$B$79,AP34)>=1,IF(AM34=VLOOKUP(AP34,ｽﾀｲﾙVL用!$B$61:$D$78,3,),IFERROR(VLOOKUP(AP34,スキルVL用!$C$1:$BO$518,65,FALSE),\"\"),\"上の同名スキル参照\"),IFERROR(VLOOKUP(AP34,スキルVL用!$C$1:$BO$518,65,FALSE),\"\"))","v":""}]
[null,null,"敏捷",null,null,{"$f":"IF(VLOOKUP(種族,種族VL用!$B$1:$AE$20,種族VL用!A12,FALSE)=0,\"\",VLOOKUP(種族,種族VL用!$B$1:$AE$20,種族VL用!A12,FALSE))","v":10},null,null,{"$f":"IF(VLOOKUP(MC,ﾀｲﾌﾟVL用!$B$2:$AN$23,ﾀｲﾌﾟVL用!A13,FALSE)=0,\"\",VLOOKUP(MC,ﾀｲﾌﾟVL用!$B$2:$AN$23,ﾀｲﾌﾟVL用!A13,FALSE))","v":""},null,null,{"$f":"IF(CS!AP26=ｽﾀｲﾙVL用!B11,8,\"\")","v":""},null,{"$f":"IF(VLOOKUP(武器名,武器VL用!$B$1:$AY$100,種族VL用!A12+5,FALSE)=0,\"\",VLOOKUP(武器名,武器VL用!$B$1:$AY$100,種族VL用!A12+5,FALSE))","v":""},null,{"$f":"IF(VLOOKUP(防具名,防具VL用!$B$1:$W$43,防具VL用!A12,FALSE)=0,\"\",VLOOKUP(防具名,防具VL用!$B$1:$W$43,防具VL用!A12,FALSE))","v":""},null,{"$f":"IF(VLOOKUP(アクセA,アクセVL用!$B$1:$BH$135,アクセVL用!A12,FALSE)=0,\"\",VLOOKUP(アクセA,アクセVL用!$B$1:$BH$135,アクセVL用!A12,FALSE))","v":""},null,{"$f":"IF(VLOOKUP(アクセB,アクセVL用!$B$1:$BH$135,アクセVL用!A12,FALSE)=0,\"\",VLOOKUP(アクセB,アクセVL用!$B$1:$BH$135,アクセVL用!A12,FALSE))","v":""},null,{"$f":"IF(VLOOKUP(アクセC,アクセVL用!$B$1:$BH$135,アクセVL用!A12,FALSE)=0,\"\",VLOOKUP(アクセC,アクセVL用!$B$1:$BH$135,アクセVL用!A12,FALSE))","v":""},null,{"$f":"データ管理2!P19","v":""},null,null,null,null,null,null,{"$f":"SUM(F35:AA36)","v":10}]
[null,null,null,null,null,null,null,null,null,null,null,null,null,null,null,null,null,null,null,null,null,null,null,null,null,null,null,null,null,null,null,null,null,null,null,null,null,null,5,5,null,null,null,null,null,null,null,null,{"$f":"IFERROR(VLOOKUP(AP36,スキルVL用!$C$1:$BO$518,2,FALSE),\"\")","v":""},null,null,{"$f":"IFERROR(VLOOKUP(AP36,スキルVL用!$C$1:$BO$518,3,FALSE),\"\")","v":""},null,null,{"$f":"IFERROR(VLOOKUP(AP36,スキルVL用!$C$1:$BO$518,4,FALSE),\"\")","v":""},null,{"$f":"IFERROR(VLOOKUP(AP36,スキルVL用!$C$1:$BO$518,5,FALSE),\"\")","v":""},null,{"$f":"IFERROR(VLOOKUP(AP36,スキルVL用!$C$1:$BO$518,6,FALSE),\"\")","v":""},null,{"$f":"IFERROR(VLOOKUP(AP36,スキルVL用!$C$1:$BO$518,7,FALSE),\"\")","v":""},null,null,{"$f":"IFERROR(VLOOKUP(AP36,スキルVL用!$C$1:$BO$518,8,FALSE),\"\")","v":""},null,null,{"$f":"IF(COUNTIFS(ｽﾀｲﾙVL用!$B$62:$B$79,AP36)>=1,IF(AM36=VLOOKUP(AP36,ｽﾀｲﾙVL用!$B$61:$D$78,3,),IFERROR(VLOOKUP(AP36,スキルVL用!$C$1:$BO$518,65,FALSE),\"\"),\"上の同名スキル参照\"),IFERROR(VLOOKUP(AP36,スキルVL用!$C$1:$BO$518,65,FALSE),\"\"))","v":""}]
[null,null,"物攻",null,null,{"$f":"IF(VLOOKUP(種族,種族VL用!$B$1:$AE$20,種族VL用!A14,FALSE)=0,\"\",VLOOKUP(種族,種族VL用!$B$1:$AE$20,種族VL用!A14,FALSE))","v":6},null,null,{"$f":"IF(VLOOKUP(MC,ﾀｲﾌﾟVL用!$B$2:$AN$23,ﾀｲﾌﾟVL用!A15,FALSE)=0,\"\",VLOOKUP(MC,ﾀｲﾌﾟVL用!$B$2:$AN$23,ﾀｲﾌﾟVL用!A15,FALSE))","v":""},null,null,null,null,{"$f":"IF(VLOOKUP(武器名,武器VL用!$B$1:$AY$100,種族VL用!A14+5,FALSE)=0,\"\",VLOOKUP(武器名,武器VL用!$B$1:$AY$100,種族VL用!A14+5,FALSE))","v":5},null,{"$f":"IF(VLOOKUP(防具名,防具VL用!$B$1:$W$43,防具VL用!A14,FALSE)=0,\"\",VLOOKUP(防具名,防具VL用!$B$1:$W$43,防具VL用!A14,FALSE))","v":""},null,{"$f":"IF(VLOOKUP(アクセA,アクセVL用!$B$1:$BH$135,アクセVL用!A14,FALSE)=0,\"\",VLOOKUP(アクセA,アクセVL用!$B$1:$BH$135,アクセVL用!A14,FALSE))","v":""},null,{"$f":"IF(VLOOKUP(アクセB,アクセVL用!$B$1:$BH$135,アクセVL用!A14,FALSE)=0,\"\",VLOOKUP(アクセB,アクセVL用!$B$1:$BH$135,アクセVL用!A14,FALSE))","v":""},null,{"$f":"IF(VLOOKUP(アクセC,アクセVL用!$B$1:$BH$135,アクセVL用!A14,FALSE)=0,\"\",VLOOKUP(アクセC,アクセVL用!$B$1:$BH$135,アクセVL用!A14,FALSE))","v":""},null,{"$f":"データ管理2!Q19","v":""},null,null,null,null,null,null,{"$f":"SUM(F37:AA38)","v":11}]
[null,null,null,null,null,null,null,null,null,null,null,null,null,null,null,null,null,null,null,null,null,null,null,null,null,null,null,null,null,null,null,null,null,null,null,null,null,null,6,8,null,null,null,null,null,null,null,null,{"$f":"IFERROR(VLOOKUP(AP38,スキルVL用!$C$1:$BO$518,2,FALSE),\"\")","v":""},null,null,{"$f":"IFERROR(VLOOKUP(AP38,スキルVL用!$C$1:$BO$518,3,FALSE),\"\")","v":""},null,null,{"$f":"IFERROR(VLOOKUP(AP38,スキルVL用!$C$1:$BO$518,4,FALSE),\"\")","v":""},null,{"$f":"IFERROR(VLOOKUP(AP38,スキルVL用!$C$1:$BO$518,5,FALSE),\"\")","v":""},null,{"$f":"IFERROR(VLOOKUP(AP38,スキルVL用!$C$1:$BO$518,6,FALSE),\"\")","v":""},null,{"$f":"IFERROR(VLOOKUP(AP38,スキルVL用!$C$1:$BO$518,7,FALSE),\"\")","v":""},null,null,{"$f":"IFERROR(VLOOKUP(AP38,スキルVL用!$C$1:$BO$518,8,FALSE),\"\")","v":""},null,null,{"$f":"IF(COUNTIFS(ｽﾀｲﾙVL用!$B$62:$B$79,AP38)>=1,IF(AM38=VLOOKUP(AP38,ｽﾀｲﾙVL用!$B$61:$D$78,3,),IFERROR(VLOOKUP(AP38,スキルVL用!$C$1:$BO$518,65,FALSE),\"\"),\"上の同名スキル参照\"),IFERROR(VLOOKUP(AP38,スキルVL用!$C$1:$BO$518,65,FALSE),\"\"))","v":""}]
[null,null,"魔攻",null,null,{"$f":"IF(VLOOKUP(種族,種族VL用!$B$1:$AE$20,種族VL用!A16,FALSE)=0,\"\",VLOOKUP(種族,種族VL用!$B$1:$AE$20,種族VL用!A16,FALSE))","v":6},null,null,{"$f":"IF(VLOOKUP(MC,ﾀｲﾌﾟVL用!$B$2:$AN$23,ﾀｲﾌﾟVL用!A17,FALSE)=0,\"\",VLOOKUP(MC,ﾀｲﾌﾟVL用!$B$2:$AN$23,ﾀｲﾌﾟVL用!A17,FALSE))","v":""},null,null,null,null,{"$f":"IF(VLOOKUP(武器名,武器VL用!$B$1:$AY$100,種族VL用!A16+5,FALSE)=0,\"\",VLOOKUP(武器名,武器VL用!$B$1:$AY$100,種族VL用!A16+5,FALSE))","v":""},null,{"$f":"IF(VLOOKUP(防具名,防具VL用!$B$1:$W$43,防具VL用!A16,FALSE)=0,\"\",VLOOKUP(防具名,防具VL用!$B$1:$W$43,防具VL用!A16,FALSE))","v":""},null,{"$f":"IF(VLOOKUP(アクセA,アクセVL用!$B$1:$BH$135,アクセVL用!A16,FALSE)=0,\"\",VLOOKUP(アクセA,アクセVL用!$B$1:$BH$135,アクセVL用!A16,FALSE))","v":""},null,{"$f":"IF(VLOOKUP(アクセB,アクセVL用!$B$1:$BH$135,アクセVL用!A16,FALSE)=0,\"\",VLOOKUP(アクセB,アクセVL用!$B$1:$BH$135,アクセVL用!A16,FALSE))","v":""},null,{"$f":"IF(VLOOKUP(アクセC,アクセVL用!$B$1:$BH$135,アクセVL用!A16,FALSE)=0,\"\",VLOOKUP(アクセC,アクセVL用!$B$1:$BH$135,アクセVL用!A16,FALSE))","v":""},null,{"$f":"データ管理2!R19","v":""},null,null,null,null,null,null,{"$f":"SUM(F39:AA40)","v":6}]
[null,null,null,null,null,null,null,null,null,null,null,null,null,null,null,null,null,null,null,null,null,null,null,null,null,null,null,null,null,null,null,null,null,null,null,null,null,null,7,10,null,null,null,null,null,null,null,null,{"$f":"IFERROR(VLOOKUP(AP40,スキルVL用!$C$1:$BO$518,2,FALSE),\"\")","v":""},null,null,{"$f":"IFERROR(VLOOKUP(AP40,スキルVL用!$C$1:$BO$518,3,FALSE),\"\")","v":""},null,null,{"$f":"IFERROR(VLOOKUP(AP40,スキルVL用!$C$1:$BO$518,4,FALSE),\"\")","v":""},null,{"$f":"IFERROR(VLOOKUP(AP40,スキルVL用!$C$1:$BO$518,5,FALSE),\"\")","v":""},null,{"$f":"IFERROR(VLOOKUP(AP40,スキルVL用!$C$1:$BO$518,6,FALSE),\"\")","v":""},null,{"$f":"IFERROR(VLOOKUP(AP40,スキルVL用!$C$1:$BO$518,7,FALSE),\"\")","v":""},null,null,{"$f":"IFERROR(VLOOKUP(AP40,スキルVL用!$C$1:$BO$518,8,FALSE),\"\")","v":""},null,null,{"$f":"IF(COUNTIFS(ｽﾀｲﾙVL用!$B$62:$B$79,AP40)>=1,IF(AM40=VLOOKUP(AP40,ｽﾀｲﾙVL用!$B$61:$D$78,3,),IFERROR(VLOOKUP(AP40,スキルVL用!$C$1:$BO$518,65,FALSE),\"\"),\"上の同名スキル参照\"),IFERROR(VLOOKUP(AP40,スキルVL用!$C$1:$BO$518,65,FALSE),\"\"))","v":""}]
[null,null,"物防",null,null,{"$f":"IF(VLOOKUP(種族,種族VL用!$B$1:$AE$20,種族VL用!A18,FALSE)=0,\"\",VLOOKUP(種族,種族VL用!$B$1:$AE$20,種族VL用!A18,FALSE))","v":2},null,null,{"$f":"IF(VLOOKUP(MC,ﾀｲﾌﾟVL用!$B$2:$AN$23,ﾀｲﾌﾟVL用!A19,FALSE)=0,\"\",VLOOKUP(MC,ﾀｲﾌﾟVL用!$B$2:$AN$23,ﾀｲﾌﾟVL用!A19,FALSE))","v":""},null,null,{"$f":"IF(CS!AP26=ｽﾀｲﾙVL用!B9,INT(CL/2),\"\")","v":""},null,{"$f":"IF(VLOOKUP(武器名,武器VL用!$B$1:$AY$100,種族VL用!A18+5,FALSE)=0,\"\",VLOOKUP(武器名,武器VL用!$B$1:$AY$100,種族VL用!A18+5,FALSE))","v":""},null,{"$f":"IF(VLOOKUP(防具名,防具VL用!$B$1:$W$43,防具VL用!A18,FALSE)=0,\"\",VLOOKUP(防具名,防具VL用!$B$1:$W$43,防具VL用!A18,FALSE))","v":""},null,{"$f":"IF(VLOOKUP(アクセA,アクセVL用!$B$1:$BH$135,アクセVL用!A18,FALSE)=0,\"\",VLOOKUP(アクセA,アクセVL用!$B$1:$BH$135,アクセVL用!A18,FALSE))","v":""},null,{"$f":"IF(VLOOKUP(アクセB,アクセVL用!$B$1:$BH$135,アクセVL用!A18,FALSE)=0,\"\",VLOOKUP(アクセB,アクセVL用!$B$1:$BH$135,アクセVL用!A18,FALSE))","v":""},null,{"$f":"IF(VLOOKUP(アクセC,アクセVL用!$B$1:$BH$135,アクセVL用!A18,FALSE)=0,\"\",VLOOKUP(アクセC,アクセVL用!$B$1:$BH$135,アクセVL用!A18,FALSE))","v":""},null,{"$f":"データ管理2!S19","v":""},null,null,null,null,null,null,{"$f":"SUM(F41:AA42)","v":2}]
[null,null,null,null,null,null,null,null,null,null,null,null,null,null,null,null,null,null,null,null,null,null,null,null,null,null,null,null,null,null,null,null,null,null,null,null,null,null,8,12,null,null,null,null,null,null,null,null,{"$f":"IFERROR(VLOOKUP(AP42,スキルVL用!$C$1:$BO$518,2,FALSE),\"\")","v":""},null,null,{"$f":"IFERROR(VLOOKUP(AP42,スキルVL用!$C$1:$BO$518,3,FALSE),\"\")","v":""},null,null,{"$f":"IFERROR(VLOOKUP(AP42,スキルVL用!$C$1:$BO$518,4,FALSE),\"\")","v":""},null,{"$f":"IFERROR(VLOOKUP(AP42,スキルVL用!$C$1:$BO$518,5,FALSE),\"\")","v":""},null,{"$f":"IFERROR(VLOOKUP(AP42,スキルVL用!$C$1:$BO$518,6,FALSE),\"\")","v":""},null,{"$f":"IFERROR(VLOOKUP(AP42,スキルVL用!$C$1:$BO$518,7,FALSE),\"\")","v":""},null,null,{"$f":"IFERROR(VLOOKUP(AP42,スキルVL用!$C$1:$BO$518,8,FALSE),\"\")","v":""},null,null,{"$f":"IF(COUNTIFS(ｽﾀｲﾙVL用!$B$62:$B$79,AP42)>=1,IF(AM42=VLOOKUP(AP42,ｽﾀｲﾙVL用!$B$61:$D$78,3,),IFERROR(VLOOKUP(AP42,スキルVL用!$C$1:$BO$518,65,FALSE),\"\"),\"上の同名スキル参照\"),IFERROR(VLOOKUP(AP42,スキルVL用!$C$1:$BO$518,65,FALSE),\"\"))","v":""}]
[null,null,"魔防",null,null,{"$f":"IF(VLOOKUP(種族,種族VL用!$B$1:$AE$20,種族VL用!A20,FALSE)=0,\"\",VLOOKUP(種族,種族VL用!$B$1:$AE$20,種族VL用!A20,FALSE))","v":""},null,null,{"$f":"IF(VLOOKUP(MC,ﾀｲﾌﾟVL用!$B$2:$AN$23,ﾀｲﾌﾟVL用!A21,FALSE)=0,\"\",VLOOKUP(MC,ﾀｲﾌﾟVL用!$B$2:$AN$23,ﾀｲﾌﾟVL用!A21,FALSE))","v":""},null,null,{"$f":"IF(CS!AP26=ｽﾀｲﾙVL用!B9,INT(CL/2),\"\")","v":""},null,{"$f":"IF(VLOOKUP(武器名,武器VL用!$B$1:$AY$100,種族VL用!A20+5,FALSE)=0,\"\",VLOOKUP(武器名,武器VL用!$B$1:$AY$100,種族VL用!A20+5,FALSE))","v":""},null,{"$f":"IF(VLOOKUP(防具名,防具VL用!$B$1:$W$43,防具VL用!A20,FALSE)=0,\"\",VLOOKUP(防具名,防具VL用!$B$1:$W$43,防具VL用!A20,FALSE))","v":""},null,{"$f":"IF(VLOOKUP(アクセA,アクセVL用!$B$1:$BH$135,アクセVL用!A20,FALSE)=0,\"\",VLOOKUP(アクセA,アクセVL用!$B$1:$BH$135,アクセVL用!A20,FALSE))","v":""},null,{"$f":"IF(VLOOKUP(アクセB,アクセVL用!$B$1:$BH$135,アクセVL用!A20,FALSE)=0,\"\",VLOOKUP(アクセB,アクセVL用!$B$1:$BH$135,アクセVL用!A20,FALSE))","v":""},null,{"$f":"IF(VLOOKUP(アクセC,アクセVL用!$B$1:$BH$135,アクセVL用!A20,FALSE)=0,\"\",VLOOKUP(アクセC,アクセVL用!$B$1:$BH$135,アクセVL用!A20,FALSE))","v":""},null,{"$f":"データ管理2!T19","v":""},null,null,null,null,null,null,{"$f":"SUM(F43:AA44)","v":0}]
[null,null,null,null,null,null,null,null,null,null,null,null,null,null,null,null,null,null,null,null,null,null,null,null,null,null,null,null,null,null,null,null,null,null,null,null,null,null,9,14,null,null,null,null,null,null,null,null,{"$f":"IFERROR(VLOOKUP(AP44,スキルVL用!$C$1:$BO$518,2,FALSE),\"\")","v":""},null,null,{"$f":"IFERROR(VLOOKUP(AP44,スキルVL用!$C$1:$BO$518,3,FALSE),\"\")","v":""},null,null,{"$f":"IFERROR(VLOOKUP(AP44,スキルVL用!$C$1:$BO$518,4,FALSE),\"\")","v":""},null,{"$f":"IFERROR(VLOOKUP(AP44,スキルVL用!$C$1:$BO$518,5,FALSE),\"\")","v":""},null,{"$f":"IFERROR(VLOOKUP(AP44,スキルVL用!$C$1:$BO$518,6,FALSE),\"\")","v":""},null,{"$f":"IFERROR(VLOOKUP(AP44,スキルVL用!$C$1:$BO$518,7,FALSE),\"\")","v":""},null,null,{"$f":"IFERROR(VLOOKUP(AP44,スキルVL用!$C$1:$BO$518,8,FALSE),\"\")","v":""},null,null,{"$f":"IF(COUNTIFS(ｽﾀｲﾙVL用!$B$62:$B$79,AP44)>=1,IF(AM44=VLOOKUP(AP44,ｽﾀｲﾙVL用!$B$61:$D$78,3,),IFERROR(VLOOKUP(AP44,スキルVL用!$C$1:$BO$518,65,FALSE),\"\"),\"上の同名スキル参照\"),IFERROR(VLOOKUP(AP44,スキルVL用!$C$1:$BO$518,65,FALSE),\"\"))","v":""}]
[null,null,"耐久",null,null,{"$f":"IF(VLOOKUP(種族,種族VL用!$B$1:$AE$20,種族VL用!A22,FALSE)=0,\"\",VLOOKUP(種族,種族VL用!$B$1:$AE$20,種族VL用!A22,FALSE))","v":20},null,null,{"$f":"ｽﾀｲﾙVL用!D16","v":""},null,null,{"$f":"IF(CS!AP26=ｽﾀｲﾙVL用!B7,CL+10,\"\")","v":""},null,{"$f":"IF(VLOOKUP(武器名,武器VL用!$B$1:$AY$100,種族VL用!A22+5,FALSE)=0,\"\",VLOOKUP(武器名,武器VL用!$B$1:$AY$100,種族VL用!A22+5,FALSE))","v":""},null,{"$f":"IF(VLOOKUP(防具名,防具VL用!$B$1:$W$43,防具VL用!A22,FALSE)=0,\"\",VLOOKUP(防具名,防具VL用!$B$1:$W$43,防具VL用!A22,FALSE))","v":""},null,{"$f":"IF(VLOOKUP(アクセA,アクセVL用!$B$1:$BH$135,アクセVL用!A22,FALSE)=0,\"\",VLOOKUP(アクセA,アクセVL用!$B$1:$BH$135,アクセVL用!A22,FALSE))","v":""},null,{"$f":"IF(VLOOKUP(アクセB,アクセVL用!$B$1:$BH$135,アクセVL用!A22,FALSE)=0,\"\",VLOOKUP(アクセB,アクセVL用!$B$1:$BH$135,アクセVL用!A22,FALSE))","v":""},null,{"$f":"IF(VLOOKUP(アクセC,アクセVL用!$B$1:$BH$135,アクセVL用!A22,FALSE)=0,\"\",VLOOKUP(アクセC,アクセVL用!$B$1:$BH$135,アクセVL用!A22,FALSE))","v":""},null,{"$f":"データ管理2!U19","v":""},null,null,null,null,null,null,{"$f":"SUM(F45:AA46)","v":20}]
[null,null,null,null,null,null,null,null,null,null,null,null,null,null,null,null,null,null,null,null,null,null,null,null,null,null,null,null,null,null,null,null,null,null,null,null,null,null,10,16,null,null,null,null,null,null,null,null,{"$f":"IFERROR(VLOOKUP(AP46,スキルVL用!$C$1:$BO$518,2,FALSE),\"\")","v":""},null,null,{"$f":"IFERROR(VLOOKUP(AP46,スキルVL用!$C$1:$BO$518,3,FALSE),\"\")","v":""},null,null,{"$f":"IFERROR(VLOOKUP(AP46,スキルVL用!$C$1:$BO$518,4,FALSE),\"\")","v":""},null,{"$f":"IFERROR(VLOOKUP(AP46,スキルVL用!$C$1:$BO$518,5,FALSE),\"\")","v":""},null,{"$f":"IFERROR(VLOOKUP(AP46,スキルVL用!$C$1:$BO$518,6,FALSE),\"\")","v":""},null,{"$f":"IFERROR(VLOOKUP(AP46,スキルVL用!$C$1:$BO$518,7,FALSE),\"\")","v":""},null,null,{"$f":"IFERROR(VLOOKUP(AP46,スキルVL用!$C$1:$BO$518,8,FALSE),\"\")","v":""},null,null,{"$f":"IF(COUNTIFS(ｽﾀｲﾙVL用!$B$62:$B$79,AP46)>=1,IF(AM46=VLOOKUP(AP46,ｽﾀｲﾙVL用!$B$61:$D$78,3,),IFERROR(VLOOKUP(AP46,スキルVL用!$C$1:$BO$518,65,FALSE),\"\"),\"上の同名スキル参照\"),IFERROR(VLOOKUP(AP46,スキルVL用!$C$1:$BO$518,65,FALSE),\"\"))","v":""}]
[null,null,"精神",null,null,{"$f":"IF(VLOOKUP(種族,種族VL用!$B$1:$AE$20,種族VL用!A24,FALSE)=0,\"\",VLOOKUP(種族,種族VL用!$B$1:$AE$20,種族VL用!A24,FALSE))","v":13},null,null,{"$f":"ｽﾀｲﾙVL用!D17","v":""},null,null,{"$f":"IF(CS!AP26=ｽﾀｲﾙVL用!B8,CL+3,\"\")","v":""},null,{"$f":"IF(VLOOKUP(武器名,武器VL用!$B$1:$AY$100,種族VL用!A24+5,FALSE)=0,\"\",VLOOKUP(武器名,武器VL用!$B$1:$AY$100,種族VL用!A24+5,FALSE))","v":""},null,{"$f":"IF(VLOOKUP(防具名,防具VL用!$B$1:$W$43,防具VL用!A24,FALSE)=0,\"\",VLOOKUP(防具名,防具VL用!$B$1:$W$43,防具VL用!A24,FALSE))","v":""},null,{"$f":"IF(VLOOKUP(アクセA,アクセVL用!$B$1:$BH$135,アクセVL用!A24,FALSE)=0,\"\",VLOOKUP(アクセA,アクセVL用!$B$1:$BH$135,アクセVL用!A24,FALSE))","v":""},null,{"$f":"IF(VLOOKUP(アクセB,アクセVL用!$B$1:$BH$135,アクセVL用!A24,FALSE)=0,\"\",VLOOKUP(アクセB,アクセVL用!$B$1:$BH$135,アクセVL用!A24,FALSE))","v":""},null,{"$f":"IF(VLOOKUP(アクセC,アクセVL用!$B$1:$BH$135,アクセVL用!A24,FALSE)=0,\"\",VLOOKUP(アクセC,アクセVL用!$B$1:$BH$135,アクセVL用!A24,FALSE))","v":""},null,{"$f":"データ管理2!V19","v":""},null,null,null,null,null,null,{"$f":"SUM(F47:AA48)","v":13}]
[null,null,null,null,null,null,null,null,null,null,null,null,null,null,null,null,null,null,null,null,null,null,null,null,null,null,null,null,null,null,null,null,null,null,null,null,null,null,11,18,null,null,null,null,null,null,null,null,{"$f":"IFERROR(VLOOKUP(AP48,スキルVL用!$C$1:$BO$518,2,FALSE),\"\")","v":""},null,null,{"$f":"IFERROR(VLOOKUP(AP48,スキルVL用!$C$1:$BO$518,3,FALSE),\"\")","v":""},null,null,{"$f":"IFERROR(VLOOKUP(AP48,スキルVL用!$C$1:$BO$518,4,FALSE),\"\")","v":""},null,{"$f":"IFERROR(VLOOKUP(AP48,スキルVL用!$C$1:$BO$518,5,FALSE),\"\")","v":""},null,{"$f":"IFERROR(VLOOKUP(AP48,スキルVL用!$C$1:$BO$518,6,FALSE),\"\")","v":""},null,{"$f":"IFERROR(VLOOKUP(AP48,スキルVL用!$C$1:$BO$518,7,FALSE),\"\")","v":""},null,null,{"$f":"IFERROR(VLOOKUP(AP48,スキルVL用!$C$1:$BO$518,8,FALSE),\"\")","v":""},null,null,{"$f":"IF(COUNTIFS(ｽﾀｲﾙVL用!$B$62:$B$79,AP48)>=1,IF(AM48=VLOOKUP(AP48,ｽﾀｲﾙVL用!$B$61:$D$78,3,),IFERROR(VLOOKUP(AP48,スキルVL用!$C$1:$BO$518,65,FALSE),\"\"),\"上の同名スキル参照\"),IFERROR(VLOOKUP(AP48,スキルVL用!$C$1:$BO$518,65,FALSE),\"\"))","v":""}]
[null,null,"耐性","近",null,{"$f":"(IF(VLOOKUP(種族,種族VL用!$B$1:$AE$20,種族VL用!A26,FALSE)=0,\"\",VLOOKUP(種族,種族VL用!$B$1:$AE$20,種族VL用!A26,FALSE)))","v":""},null,null,{"$f":"ｽﾀｲﾙVL用!D18","v":""},null,null,null,null,{"$f":"IF(VLOOKUP(武器名,武器VL用!$B$1:$AY$100,種族VL用!A26+5,FALSE)=0,\"\",VLOOKUP(武器名,武器VL用!$B$1:$AY$100,種族VL用!A26+5,FALSE))","v":""},null,{"$f":"IF(VLOOKUP(防具名,防具VL用!$B$1:$W$43,防具VL用!A26,FALSE)=0,\"\",VLOOKUP(防具名,防具VL用!$B$1:$W$43,防具VL用!A26,FALSE))","v":-2},null,{"$f":"IF(VLOOKUP(アクセA,アクセVL用!$B$1:$BH$135,アクセVL用!A26,FALSE)=0,\"\",VLOOKUP(アクセA,アクセVL用!$B$1:$BH$135,アクセVL用!A26,FALSE))","v":""},null,{"$f":"IF(VLOOKUP(アクセB,アクセVL用!$B$1:$BH$135,アクセVL用!A26,FALSE)=0,\"\",VLOOKUP(アクセB,アクセVL用!$B$1:$BH$135,アクセVL用!A26,FALSE))","v":""},null,{"$f":"IF(VLOOKUP(アクセC,アクセVL用!$B$1:$BH$135,アクセVL用!A26,FALSE)=0,\"\",VLOOKUP(アクセC,アクセVL用!$B$1:$BH$135,アクセVL用!A26,FALSE))","v":""},null,{"$f":"データ管理2!W19","v":""},null,null,null,null,null,null,{"$f":"IF(SUM(F49:AA49)=0,0,SUM(F49:AA49))","v":-2},null,null,"D10"]
[null,null,null,"遠",null,{"$f":"IF(VLOOKUP(種族,種族VL用!$B$1:$AE$20,種族VL用!A27,FALSE)=0,\"\",VLOOKUP(種族,種族VL用!$B$1:$AE$20,種族VL用!A27,FALSE))","v":""},null,null,{"$f":"ｽﾀｲﾙVL用!D19","v":""},null,null,null,null,{"$f":"IF(VLOOKUP(武器名,武器VL用!$B$1:$AY$100,種族VL用!A27+5,FALSE)=0,\"\",VLOOKUP(武器名,武器VL用!$B$1:$AY$100,種族VL用!A27+5,FALSE))","v":""},null,{"$f":"IF(VLOOKUP(防具名,防具VL用!$B$1:$W$43,防具VL用!A27,FALSE)=0,\"\",VLOOKUP(防具名,防具VL用!$B$1:$W$43,防具VL用!A27,FALSE))","v":-2},null,{"$f":"IF(VLOOKUP(アクセA,アクセVL用!$B$1:$BH$135,アクセVL用!A27,FALSE)=0,\"\",VLOOKUP(アクセA,アクセVL用!$B$1:$BH$135,アクセVL用!A27,FALSE))","v":""},null,{"$f":"IF(VLOOKUP(アクセB,アクセVL用!$B$1:$BH$135,アクセVL用!A27,FALSE)=0,\"\",VLOOKUP(アクセB,アクセVL用!$B$1:$BH$135,アクセVL用!A27,FALSE))","v":""},null,{"$f":"IF(VLOOKUP(アクセC,アクセVL用!$B$1:$BH$135,アクセVL用!A27,FALSE)=0,\"\",VLOOKUP(アクセC,アクセVL用!$B$1:$BH$135,アクセVL用!A27,FALSE))","v":""},null,{"$f":"データ管理2!X19","v":""},null,null,null,null,null,null,-2,null,null,null,null,null,null,null,12,20,null,null,null,null,null,null,null,null,{"$f":"IFERROR(VLOOKUP(AP50,スキルVL用!$C$1:$BO$518,2,FALSE),\"\")","v":""},null,null,{"$f":"IFERROR(VLOOKUP(AP50,スキルVL用!$C$1:$BO$518,3,FALSE),\"\")","v":""},null,null,{"$f":"IFERROR(VLOOKUP(AP50,スキルVL用!$C$1:$BO$518,4,FALSE),\"\")","v":""},null,{"$f":"IFERROR(VLOOKUP(AP50,スキルVL用!$C$1:$BO$518,5,FALSE),\"\")","v":""},null,{"$f":"IFERROR(VLOOKUP(AP50,スキルVL用!$C$1:$BO$518,6,FALSE),\"\")","v":""},null,{"$f":"IFERROR(VLOOKUP(AP50,スキルVL用!$C$1:$BO$518,7,FALSE),\"\")","v":""},null,null,{"$f":"IFERROR(VLOOKUP(AP50,スキルVL用!$C$1:$BO$518,8,FALSE),\"\")","v":""},null,null,{"$f":"IF(COUNTIFS(ｽﾀｲﾙVL用!$B$62:$B$79,AP50)>=1,IF(AM50=VLOOKUP(AP50,ｽﾀｲﾙVL用!$B$61:$D$78,3,),IFERROR(VLOOKUP(AP50,スキルVL用!$C$1:$BO$518,65,FALSE),\"\"),\"上の同名スキル参照\"),IFERROR(VLOOKUP(AP50,スキルVL用!$C$1:$BO$518,65,FALSE),\"\"))","v":""}]
[null,null,null,"炎",null,{"$f":"IF(VLOOKUP(種族,種族VL用!$B$1:$AE$20,種族VL用!A28,FALSE)=0,\"\",VLOOKUP(種族,種族VL用!$B$1:$AE$20,種族VL用!A28,FALSE))","v":""},null,null,{"$f":"ｽﾀｲﾙVL用!D20","v":""},null,null,null,null,{"$f":"IF(VLOOKUP(武器名,武器VL用!$B$1:$AY$100,種族VL用!A28+5,FALSE)=0,\"\",VLOOKUP(武器名,武器VL用!$B$1:$AY$100,種族VL用!A28+5,FALSE))","v":""},null,{"$f":"IF(VLOOKUP(防具名,防具VL用!$B$1:$W$43,防具VL用!A28,FALSE)=0,\"\",VLOOKUP(防具名,防具VL用!$B$1:$W$43,防具VL用!A28,FALSE))","v":-2},null,{"$f":"IF(VLOOKUP(アクセA,アクセVL用!$B$1:$BH$135,アクセVL用!A28,FALSE)=0,\"\",VLOOKUP(アクセA,アクセVL用!$B$1:$BH$135,アクセVL用!A28,FALSE))","v":""},null,{"$f":"IF(VLOOKUP(アクセB,アクセVL用!$B$1:$BH$135,アクセVL用!A28,FALSE)=0,\"\",VLOOKUP(アクセB,アクセVL用!$B$1:$BH$135,アクセVL用!A28,FALSE))","v":""},null,{"$f":"IF(VLOOKUP(アクセC,アクセVL用!$B$1:$BH$135,アクセVL用!A28,FALSE)=0,\"\",VLOOKUP(アクセC,アクセVL用!$B$1:$BH$135,アクセVL用!A28,FALSE))","v":""},null,{"$f":"データ管理2!Y19","v":""},null,null,null,null,null,null,-2]
[null,null,null,"氷",null,{"$f":"IF(VLOOKUP(種族,種族VL用!$B$1:$AE$20,種族VL用!A29,FALSE)=0,\"\",VLOOKUP(種族,種族VL用!$B$1:$AE$20,種族VL用!A29,FALSE))","v":""},null,null,{"$f":"ｽﾀｲﾙVL用!D21","v":""},null,null,null,null,{"$f":"IF(VLOOKUP(武器名,武器VL用!$B$1:$AY$100,種族VL用!A29+5,FALSE)=0,\"\",VLOOKUP(武器名,武器VL用!$B$1:$AY$100,種族VL用!A29+5,FALSE))","v":""},null,{"$f":"IF(VLOOKUP(防具名,防具VL用!$B$1:$W$43,防具VL用!A29,FALSE)=0,\"\",VLOOKUP(防具名,防具VL用!$B$1:$W$43,防具VL用!A29,FALSE))","v":-2},null,{"$f":"IF(VLOOKUP(アクセA,アクセVL用!$B$1:$BH$135,アクセVL用!A29,FALSE)=0,\"\",VLOOKUP(アクセA,アクセVL用!$B$1:$BH$135,アクセVL用!A29,FALSE))","v":""},null,{"$f":"IF(VLOOKUP(アクセB,アクセVL用!$B$1:$BH$135,アクセVL用!A29,FALSE)=0,\"\",VLOOKUP(アクセB,アクセVL用!$B$1:$BH$135,アクセVL用!A29,FALSE))","v":""},null,{"$f":"IF(VLOOKUP(アクセC,アクセVL用!$B$1:$BH$135,アクセVL用!A29,FALSE)=0,\"\",VLOOKUP(アクセC,アクセVL用!$B$1:$BH$135,アクセVL用!A29,FALSE))","v":""},null,{"$f":"データ管理2!Z19","v":""},null,null,null,null,null,null,-2,null,null,null,null,null,null,null,13,23,null,null,null,null,null,null,null,null,{"$f":"IFERROR(VLOOKUP(AP52,スキルVL用!$C$1:$BO$518,2,FALSE),\"\")","v":""},null,null,{"$f":"IFERROR(VLOOKUP(AP52,スキルVL用!$C$1:$BO$518,3,FALSE),\"\")","v":""},null,null,{"$f":"IFERROR(VLOOKUP(AP52,スキルVL用!$C$1:$BO$518,4,FALSE),\"\")","v":""},null,{"$f":"IFERROR(VLOOKUP(AP52,スキルVL用!$C$1:$BO$518,5,FALSE),\"\")","v":""},null,{"$f":"IFERROR(VLOOKUP(AP52,スキルVL用!$C$1:$BO$518,6,FALSE),\"\")","v":""},null,{"$f":"IFERROR(VLOOKUP(AP52,スキルVL用!$C$1:$BO$518,7,FALSE),\"\")","v":""},null,null,{"$f":"IFERROR(VLOOKUP(AP52,スキルVL用!$C$1:$BO$518,8,FALSE),\"\")","v":""},null,null,{"$f":"IF(COUNTIFS(ｽﾀｲﾙVL用!$B$62:$B$79,AP52)>=1,IF(AM52=VLOOKUP(AP52,ｽﾀｲﾙVL用!$B$61:$D$78,3,),IFERROR(VLOOKUP(AP52,スキルVL用!$C$1:$BO$518,65,FALSE),\"\"),\"上の同名スキル参照\"),IFERROR(VLOOKUP(AP52,スキルVL用!$C$1:$BO$518,65,FALSE),\"\"))","v":""}]
[null,null,null,"水",null,{"$f":"IF(VLOOKUP(種族,種族VL用!$B$1:$AE$20,種族VL用!A30,FALSE)=0,\"\",VLOOKUP(種族,種族VL用!$B$1:$AE$20,種族VL用!A30,FALSE))","v":-1},null,null,{"$f":"ｽﾀｲﾙVL用!D22","v":""},null,null,null,null,{"$f":"IF(VLOOKUP(武器名,武器VL用!$B$1:$AY$100,種族VL用!A30+5,FALSE)=0,\"\",VLOOKUP(武器名,武器VL用!$B$1:$AY$100,種族VL用!A30+5,FALSE))","v":""},null,{"$f":"IF(VLOOKUP(防具名,防具VL用!$B$1:$W$43,防具VL用!A30,FALSE)=0,\"\",VLOOKUP(防具名,防具VL用!$B$1:$W$43,防具VL用!A30,FALSE))","v":-2},null,{"$f":"IF(VLOOKUP(アクセA,アクセVL用!$B$1:$BH$135,アクセVL用!A30,FALSE)=0,\"\",VLOOKUP(アクセA,アクセVL用!$B$1:$BH$135,アクセVL用!A30,FALSE))","v":""},null,{"$f":"IF(VLOOKUP(アクセB,アクセVL用!$B$1:$BH$135,アクセVL用!A30,FALSE)=0,\"\",VLOOKUP(アクセB,アクセVL用!$B$1:$BH$135,アクセVL用!A30,FALSE))","v":""},null,{"$f":"IF(VLOOKUP(アクセC,アクセVL用!$B$1:$BH$135,アクセVL用!A30,FALSE)=0,\"\",VLOOKUP(アクセC,アクセVL用!$B$1:$BH$135,アクセVL用!A30,FALSE))","v":""},null,{"$f":"データ管理2!AA19","v":""},null,null,null,null,null,null,-3]
[null,null,null,"雷",null,{"$f":"IF(VLOOKUP(種族,種族VL用!$B$1:$AE$20,種族VL用!A31,FALSE)=0,\"\",VLOOKUP(種族,種族VL用!$B$1:$AE$20,種族VL用!A31,FALSE))","v":""},null,null,{"$f":"ｽﾀｲﾙVL用!D23","v":""},null,null,null,null,{"$f":"IF(VLOOKUP(武器名,武器VL用!$B$1:$AY$100,種族VL用!A31+5,FALSE)=0,\"\",VLOOKUP(武器名,武器VL用!$B$1:$AY$100,種族VL用!A31+5,FALSE))","v":""},null,{"$f":"IF(VLOOKUP(防具名,防具VL用!$B$1:$W$43,防具VL用!A31,FALSE)=0,\"\",VLOOKUP(防具名,防具VL用!$B$1:$W$43,防具VL用!A31,FALSE))","v":-2},null,{"$f":"IF(VLOOKUP(アクセA,アクセVL用!$B$1:$BH$135,アクセVL用!A31,FALSE)=0,\"\",VLOOKUP(アクセA,アクセVL用!$B$1:$BH$135,アクセVL用!A31,FALSE))","v":""},null,{"$f":"IF(VLOOKUP(アクセB,アクセVL用!$B$1:$BH$135,アクセVL用!A31,FALSE)=0,\"\",VLOOKUP(アクセB,アクセVL用!$B$1:$BH$135,アクセVL用!A31,FALSE))","v":""},null,{"$f":"IF(VLOOKUP(アクセC,アクセVL用!$B$1:$BH$135,アクセVL用!A31,FALSE)=0,\"\",VLOOKUP(アクセC,アクセVL用!$B$1:$BH$135,アクセVL用!A31,FALSE))","v":""},null,{"$f":"データ管理2!AB19","v":""},null,null,null,null,null,null,-2,null,null,null,null,null,null,null,14,26,null,null,null,null,null,null,null,null,{"$f":"IFERROR(VLOOKUP(AP54,スキルVL用!$C$1:$BO$518,2,FALSE),\"\")","v":""},null,null,{"$f":"IFERROR(VLOOKUP(AP54,スキルVL用!$C$1:$BO$518,3,FALSE),\"\")","v":""},null,null,{"$f":"IFERROR(VLOOKUP(AP54,スキルVL用!$C$1:$BO$518,4,FALSE),\"\")","v":""},null,{"$f":"IFERROR(VLOOKUP(AP54,スキルVL用!$C$1:$BO$518,5,FALSE),\"\")","v":""},null,{"$f":"IFERROR(VLOOKUP(AP54,スキルVL用!$C$1:$BO$518,6,FALSE),\"\")","v":""},null,{"$f":"IFERROR(VLOOKUP(AP54,スキルVL用!$C$1:$BO$518,7,FALSE),\"\")","v":""},null,null,{"$f":"IFERROR(VLOOKUP(AP54,スキルVL用!$C$1:$BO$518,8,FALSE),\"\")","v":""},null,null,{"$f":"IF(COUNTIFS(ｽﾀｲﾙVL用!$B$62:$B$79,AP54)>=1,IF(AM54=VLOOKUP(AP54,ｽﾀｲﾙVL用!$B$61:$D$78,3,),IFERROR(VLOOKUP(AP54,スキルVL用!$C$1:$BO$518,65,FALSE),\"\"),\"上の同名スキル参照\"),IFERROR(VLOOKUP(AP54,スキルVL用!$C$1:$BO$518,65,FALSE),\"\"))","v":""}]
[null,null,null,"風",null,{"$f":"IF(VLOOKUP(種族,種族VL用!$B$1:$AE$20,種族VL用!A32,FALSE)=0,\"\",VLOOKUP(種族,種族VL用!$B$1:$AE$20,種族VL用!A32,FALSE))","v":1},null,null,{"$f":"ｽﾀｲﾙVL用!D24","v":""},null,null,null,null,{"$f":"IF(VLOOKUP(武器名,武器VL用!$B$1:$AY$100,種族VL用!A32+5,FALSE)=0,\"\",VLOOKUP(武器名,武器VL用!$B$1:$AY$100,種族VL用!A32+5,FALSE))","v":""},null,{"$f":"IF(VLOOKUP(防具名,防具VL用!$B$1:$W$43,防具VL用!A32,FALSE)=0,\"\",VLOOKUP(防具名,防具VL用!$B$1:$W$43,防具VL用!A32,FALSE))","v":-2},null,{"$f":"IF(VLOOKUP(アクセA,アクセVL用!$B$1:$BH$135,アクセVL用!A32,FALSE)=0,\"\",VLOOKUP(アクセA,アクセVL用!$B$1:$BH$135,アクセVL用!A32,FALSE))","v":""},null,{"$f":"IF(VLOOKUP(アクセB,アクセVL用!$B$1:$BH$135,アクセVL用!A32,FALSE)=0,\"\",VLOOKUP(アクセB,アクセVL用!$B$1:$BH$135,アクセVL用!A32,FALSE))","v":""},null,{"$f":"IF(VLOOKUP(アクセC,アクセVL用!$B$1:$BH$135,アクセVL用!A32,FALSE)=0,\"\",VLOOKUP(アクセC,アクセVL用!$B$1:$BH$135,アクセVL用!A32,FALSE))","v":""},null,{"$f":"データ管理2!AC19","v":""},null,null,null,null,null,null,-1]
[null,null,null,"光",null,{"$f":"IF(VLOOKUP(種族,種族VL用!$B$1:$AE$20,種族VL用!A33,FALSE)=0,\"\",VLOOKUP(種族,種族VL用!$B$1:$AE$20,種族VL用!A33,FALSE))","v":""},null,null,{"$f":"ｽﾀｲﾙVL用!D25","v":""},null,null,null,null,{"$f":"IF(VLOOKUP(武器名,武器VL用!$B$1:$AY$100,種族VL用!A33+5,FALSE)=0,\"\",VLOOKUP(武器名,武器VL用!$B$1:$AY$100,種族VL用!A33+5,FALSE))","v":""},null,{"$f":"IF(VLOOKUP(防具名,防具VL用!$B$1:$W$43,防具VL用!A33,FALSE)=0,\"\",VLOOKUP(防具名,防具VL用!$B$1:$W$43,防具VL用!A33,FALSE))","v":-2},null,{"$f":"IF(VLOOKUP(アクセA,アクセVL用!$B$1:$BH$135,アクセVL用!A33,FALSE)=0,\"\",VLOOKUP(アクセA,アクセVL用!$B$1:$BH$135,アクセVL用!A33,FALSE))","v":""},null,{"$f":"IF(VLOOKUP(アクセB,アクセVL用!$B$1:$BH$135,アクセVL用!A33,FALSE)=0,\"\",VLOOKUP(アクセB,アクセVL用!$B$1:$BH$135,アクセVL用!A33,FALSE))","v":""},null,{"$f":"IF(VLOOKUP(アクセC,アクセVL用!$B$1:$BH$135,アクセVL用!A33,FALSE)=0,\"\",VLOOKUP(アクセC,アクセVL用!$B$1:$BH$135,アクセVL用!A33,FALSE))","v":""},null,{"$f":"データ管理2!AD19","v":""},null,null,null,null,null,null,-2,null,null,null,null,null,null,null,15,30,null,null,null,null,null,null,null,null,{"$f":"IFERROR(VLOOKUP(AP56,スキルVL用!$C$1:$BO$518,2,FALSE),\"\")","v":""},null,null,{"$f":"IFERROR(VLOOKUP(AP56,スキルVL用!$C$1:$BO$518,3,FALSE),\"\")","v":""},null,null,{"$f":"IFERROR(VLOOKUP(AP56,スキルVL用!$C$1:$BO$518,4,FALSE),\"\")","v":""},null,{"$f":"IFERROR(VLOOKUP(AP56,スキルVL用!$C$1:$BO$518,5,FALSE),\"\")","v":""},null,{"$f":"IFERROR(VLOOKUP(AP56,スキルVL用!$C$1:$BO$518,6,FALSE),\"\")","v":""},null,{"$f":"IFERROR(VLOOKUP(AP56,スキルVL用!$C$1:$BO$518,7,FALSE),\"\")","v":""},null,null,{"$f":"IFERROR(VLOOKUP(AP56,スキルVL用!$C$1:$BO$518,8,FALSE),\"\")","v":""},null,null,{"$f":"IF(COUNTIFS(ｽﾀｲﾙVL用!$B$62:$B$79,AP56)>=1,IF(AM56=VLOOKUP(AP56,ｽﾀｲﾙVL用!$B$61:$D$78,3,),IFERROR(VLOOKUP(AP56,スキルVL用!$C$1:$BO$518,65,FALSE),\"\"),\"上の同名スキル参照\"),IFERROR(VLOOKUP(AP56,スキルVL用!$C$1:$BO$518,65,FALSE),\"\"))","v":""}]

{"sheet":"使用方法","index":1,"n_rows":29,"n_cols":2,"rows_kept":29,"cut":false,"hidden":false,"merged":[]}
[null,"■Magician's Age キャラクター検証用シート完全版 ver1.0"]
[]
[null,"●種族、タイプ、装備、スキルのドロップダウン選択機能"]
[null,"　各種族、各タイプ、各装備と、取得可能スキルはドロップダウンから選択可能。選択するとパラメータや効果が自動反映する。"]
[]
[null,"●自動計算されない値・効果"]
[null,"ダメージ上昇効果、スキル代償減少効果、基本能力値のボーナスポイント、取得時に選択するタイプの効果"]
[null,"（常時スキルのダメージ上昇効果は、自動で攻撃に加算はされないため、常時スキル効果を含めた実際の攻撃のダメージ量は、手計算する必要あり。）"]
[]
[null,"●自動計算される値・効果 (灰色背景のセルは自動計算される。数式が入っているため中身を書き換えると動作しないことあり。)"]
[null,"1. 種族修正・種族特典・タイプ修正・タイプ特典・装備修正・常時スキルによるステータスへの修正効果"]
[null,"→基本能力値、【近接】～【精神】、耐性、各C値・F値、移動コスト、BP上限値、「判定値：対決」への達成値修正、「種別：回」ｽｷﾙの【HP】回復量上昇、配置ﾕﾆｯﾄの【耐久】上昇効果 は自動反映"]
[null,"2. スキルの種別～コスト"]
[null,"3. スキルのテキスト"]
[null,"　テキストは枠内に入るように簡潔に記載しているため、実際のテキストと異なる場合あり。常にルールブックの記載が正しいものとする。"]
[null,"　スキルの取得条件は判定される。上級スキルなどはTLの値が不足していた場合に「取得不可」と表示される。"]
[null,"　武器参照の攻撃属性・TL・CL・物攻などのパラメータは自動反映してテキストに反映される。ただし「【物攻】or【魔攻】」は高い方の値を使用して算出"]
[null,"　攻撃スキルによる命中C値や命中F値の変化は自動計算して、テキストに反映している。"]
[null,"　その他、〈済〉と記載された箇所の効果は自動で該当箇所に反映している。"]
[null,"　「与D」=与えるダメージ　「被D」=受けるダメージ の意。その他略記も多いため、不明部分はルールブックによる正式なテキストを確認すること"]
[]
[null,"●選択効果の記入"]
[null,"　《加護属性(●)》は●に属性名を、《○○の一撃》、《○○の一射》、《ギビング○○》は○○に該当する単語を入力することで効果が反映される。"]
[]
[null,"●リセット機能"]
[null,"・「Ctrl+Shift+R」で入力可能な箇所についてはすべて空欄になる。"]
[]
[null,"※游ゴシックで数値が表示されたり、フォントがずれてしまう方へ (Windowsの場合)"]
[null,"「ページレイアウト」タブの「フォント」を「Office」から「Office2007-2010」にすると解決する可能性があります。"]

{"sheet":"スキルVL用","index":2,"n_rows":429,"n_cols":67,"rows_kept":429,"cut":false,"hidden":false,"merged":[[393,1,408,1],[409,1,418,1],[419,1,428,1],[331,1,340,1],[341,1,350,1],[351,1,360,1],[361,1,370,1],[371,1,392,1],[127,1,138,1],[139,1,150,1],[75,1,82,1],[83,1,90,1],[91,1,102,1],[103,1,114,1],[115,1,126,1],[51,1,58,1],[59,1,66,1],[67,1,74,1],[1,1,10,1],[11,1,18,1],[19,1,26,1],[27,1,34,1],[35,1,42,1],[43,1,50,1],[151,1,162,1],[163,1,174,1],[175,1,186,1],[187,1,198,1],[199,1,210,1],[211,1,222,1],[223,1,234,1],[235,1,246,1],[247,1,258,1],[259,1,270,1],[271,1,282,1],[283,1,294,1],[295,1,306,1],[307,1,318,1],[319,1,330,1]]}
[null,null,"武器","種別","ﾀｲﾐﾝｸﾞ","射程","対象","判定","代償","ｺｽﾄ","肉体","反射","集中","知識","感覚","意志","洞察","幸運","近接","射撃","回避","魔術","抵抗","敏捷","物攻","魔攻","物防","魔防","耐久","精神","近","遠","炎","氷","水","雷","風","光","命C","命C↑","命C↓","命F","命F↑","命F↓","回C","回C↑","回C↓","回F","回F↑","回F↓","調C","調C↑","調C↓","調F","調F↑","調F↓","BP上限","SMC","SMC上限","SMC下限","MMC","MMC上限","MMC下限","対決","回復","配置","特殊効果"]
[{"$f":"COUNTA(C2:C517)","v":428},"スタイル","アタッカー","ｽﾀｲﾙ","常時","―","自身","―","―","―",null,null,null,null,null,null,null,null,null,null,null,null,null,null,null,null,null,null,null,null,null,null,null,null,null,null,null,null,-1,null,15,null,null,null,null,null,null,null,null,null,null,null,null,null,null,null,null,null,null,null,null,null,null,null,null,null,{"$f":"\"命中C値-1(下限値：15) <済>\"&\"\n攻撃の与D+\"&IF(CL=10,\"2D10\",\"[\"&CL-10&\"+2D10]\")","v":"命中C値-1(下限値：15) <済>\n攻撃の与D+[-10+2D10]"}]
[null,null,"ヒットマン","ｽﾀｲﾙ","常時","―","自身","―","―","―",null,null,null,null,null,null,null,null,1,1,null,1,null,null,null,null,null,null,null,null,null,null,null,null,null,null,null,null,null,null,null,-1,null,3,null,null,null,null,null,null,null,null,null,null,null,null,null,null,null,null,null,null,null,null,null,null,"【近接】【射撃】【魔術】+1\n命中F値-1(下限値：3) <済>"]
[null,null,"アヴォイダー","ｽﾀｲﾙ","常時","―","自身","―","―","―",null,null,null,null,null,null,null,null,null,null,2,null,null,null,null,null,null,null,null,null,null,null,null,null,null,null,null,null,null,null,null,null,null,null,-1,null,16,-1,null,3,null,null,null,null,null,null,null,null,null,null,null,null,null,null,null,null,"【回避】+2\n回避C値-1 (下限値：16) <済>\n回避F値-1 (下限値：3) <済>"]
[null,null,"レジスター","ｽﾀｲﾙ","常時","―","自身","―","―","―",null,null,null,null,null,null,null,null,null,null,null,null,2,null,null,null,null,null,null,null,null,null,null,null,null,null,null,null,null,null,null,null,null,null,null,null,null,null,null,null,null,null,null,null,null,null,null,null,null,null,null,null,null,null,null,null,"【抵抗】+2\n敵の攻撃によるBS付与を30%で無効にする"]
[null,null,"ロバストネス","ｽﾀｲﾙ","常時","―","自身","―","―","―",null,null,null,null,null,null,null,null,null,null,null,null,null,null,null,null,null,null,{"$f":"CL+10","v":10},null,null,null,null,null,null,null,null,null,null,null,null,null,null,null,null,null,null,null,null,null,null,null,null,null,null,null,null,null,null,null,null,null,null,null,null,null,{"$f":"\"【耐久】+\"&CL+10","v":"【耐久】+10"}]
[null,null,"カレイジャス","ｽﾀｲﾙ","常時","―","自身","―","―","―",null,null,null,null,null,null,null,null,null,null,null,null,null,null,null,null,null,null,null,{"$f":"CL+3","v":3},null,null,null,null,null,null,null,null,null,null,null,null,null,null,null,null,null,null,null,null,null,null,null,null,null,null,null,null,null,null,null,null,null,null,null,null,{"$f":"\"【精神】+\"&CL+3","v":"【精神】+3"}]
[null,null,"ブロッカー","ｽﾀｲﾙ","常時","―","自身","―","―","―",null,null,null,null,null,null,null,null,null,null,null,null,null,null,null,null,{"$f":"INT(CL/2)","v":0},{"$f":"INT(CL/2)","v":0},null,null,null,null,null,null,null,null,null,null,null,null,null,null,null,null,null,null,null,null,null,null,null,null,null,null,null,null,null,null,null,null,null,null,null,null,null,null,{"$f":"\"【物防】【魔防】+\"&INT(CL/2)&\"\n1ﾒｲﾝ3回まで、「種別：庇」ｽｷﾙ使用可\n受ける「種別：回」ｽｷﾙ HP回復量+\"&CL","v":"【物防】【魔防】+0\n1ﾒｲﾝ3回まで、「種別：庇」ｽｷﾙ使用可\n受ける「種別：回」ｽｷﾙ HP回復量+0"}]
[null,null,"ギャンブラー","ｽﾀｲﾙ","常時","―","自身","―","―","―",null,null,null,null,null,null,null,null,null,null,null,null,null,null,null,null,null,null,null,null,null,null,null,null,null,null,null,null,null,null,null,null,null,null,null,null,null,null,null,null,null,null,null,null,null,null,null,null,null,null,null,null,null,null,null,null,"判定直後、自身の判定を振り直せる\n1戦闘2回制限\n(1判定に2回使用してもよい)"]
[null,null,"スピードスター","ｽﾀｲﾙ","常時","―","自身","―","―","―",null,null,null,null,null,null,null,null,null,null,null,null,null,8,null,null,null,null,null,null,null,null,null,null,null,null,null,null,null,null,null,null,null,null,null,null,null,null,null,null,null,null,null,null,null,null,null,-1,null,1,-1,null,5,null,null,null,{"$f":"\"【敏捷】+8 移動ｺｽﾄ-1 \n(ｻﾌﾞ下限値：1 ﾒｲﾝ下限値：5)\n<済>\"","v":"【敏捷】+8 移動ｺｽﾄ-1 \n(ｻﾌﾞ下限値：1 ﾒｲﾝ下限値：5)\n<済>"}]
[null,null,"ヒーロー","ｽﾀｲﾙ","常時","―","自身","―","―","―",null,null,null,null,null,null,null,null,null,null,null,null,null,null,null,null,null,null,null,null,null,null,null,null,null,null,null,null,null,null,null,-2,null,3,null,null,null,-2,null,3,null,null,null,-2,null,3,2,null,null,null,null,null,null,null,null,null,"[BP上限値]+2\n全F値-2 (下限値：3) <済>"]
[null,"人\n間","起死回生","自","オート","―","自身","自動",{"$f":"IF(AND(COUNTIFS(CS!AW28:AY57,スキルVL用!C13),CL>=15)=TRUE,\"4BP\",\"5BP\")","v":"5BP"},0,null,null,null,null,null,null,null,null,null,null,null,null,null,null,null,null,null,null,null,null,null,null,null,null,null,null,null,null,null,null,null,null,null,null,null,null,null,null,null,null,null,null,null,null,null,null,null,null,null,null,null,null,null,null,null,null,"判定直後使用可\n判定ダイスの両方を9に変更\n対する回避判定C値を20に固定"]
[null,null,"ネイティブスピリット","―","常時","―","自身","―","―","―",null,null,{"$f":"ROUNDUP(CL/2,0)","v":0},{"$f":"ROUNDUP(CL/2,0)","v":0},null,null,{"$f":"ROUNDUP(CL/2,0)","v":0},{"$f":"ROUNDUP(CL/2,0)","v":0},null,null,null,null,null,null,null,null,null,null,null,null,null,null,null,null,null,null,null,null,null,null,null,null,null,null,null,null,null,null,null,null,{"$f":"IF(CL>=15,-2,\"\")","v":""},null,{"$f":"IF(CL>=15,14,\"\")","v":""},null,null,null,null,null,null,null,null,null,null,null,null,null,{"$f":"\"【集中】【知識】【洞察】【幸運】+\"&ROUNDUP(CL/2,0)&\" <済> \"&IF(CL>=15,\"\n調査C値-2 (下限値:14) <済>\n《起死回生》を4BPに変更 <済>\",\"\")","v":"【集中】【知識】【洞察】【幸運】+0 <済> "}]
[null,null,"ミラクルフォース","―","常時","―","自身","―","―","―",null,null,null,null,null,null,null,null,null,null,null,null,null,null,null,null,null,null,null,null,null,null,null,null,null,null,null,null,-1,null,15,null,null,null,null,null,null,null,null,null,null,null,null,null,null,null,null,null,null,null,null,null,null,null,null,null,{"$f":"\"命中C値-1 (下限値：15) <済>\nｸﾘﾃｨｶﾙした攻撃の与ダメージに+\"&IF(集中値>=30,CL*2+10,CL*2)","v":"命中C値-1 (下限値：15) <済>\nｸﾘﾃｨｶﾙした攻撃の与ダメージに+0"}]
[null,null,"ZPC適合者","―","常時","―","自身","―","―","―",null,null,null,null,null,null,null,null,null,null,null,{"$f":"IF(感覚値>=15,1,\"\")","v":""},{"$f":"IF(感覚値>=15,1,\"\")","v":""},null,null,null,null,null,null,null,null,null,null,null,null,null,null,null,null,null,null,null,null,null,null,null,null,null,null,null,null,null,null,null,null,null,null,null,null,null,null,null,null,null,null,null,{"$f":"\"20の倍数ｶｳﾝﾄ終了時に\n【MP】\"&INT(CL/2)+5&\"点回復\"&IF(感覚値>=15,\"\n【魔術】【抵抗】+1\",\"\")","v":"20の倍数ｶｳﾝﾄ終了時に\n【MP】5点回復"}]
[null,null,"超集中","支","サブ","―","自身","自動","8MP",3,null,null,null,null,null,null,null,null,null,null,null,null,null,null,null,null,null,null,null,null,null,null,null,null,null,null,null,null,null,null,null,null,null,null,null,null,null,null,null,null,null,null,null,null,null,null,null,null,null,null,null,null,null,null,null,null,{"$f":"\"自身に「GS：攻勢(\"&CL&\")」を付与\n直後ﾒｲﾝで行う判定達成値+\"&ROUNDUP(集中値/7,0)&\"\n1戦闘3回制限\"","v":"自身に「GS：攻勢(0)」を付与\n直後ﾒｲﾝで行う判定達成値+0\n1戦闘3回制限"}]
[null,null,"九死に一生","支","オート","―","自身","自動","なし",7,null,null,null,null,null,null,null,null,null,null,null,null,null,null,null,null,null,null,null,null,null,null,null,null,null,null,null,null,null,null,null,null,null,null,null,null,null,null,null,null,null,null,null,null,null,null,null,null,null,null,null,null,null,null,null,null,"【HP】が0になった直後に使用可\n直ちに、あなたの【HP】を1にする\n1戦闘2回制限"]
[null,null,"オーバーロード","上、支","オート","―","自身","自動","10MP",2,null,null,null,null,null,null,null,null,null,null,null,null,null,null,null,null,null,null,null,null,null,null,null,null,null,null,null,null,null,null,null,null,null,null,null,null,null,null,null,null,null,null,null,null,null,null,null,null,null,null,null,null,null,null,null,null,"スキル宣言時に使用可\nそのスキルで参照するTL or CLに+7\n1戦闘2回制限"]
[null,null,"ボンドパワー","上、支","オート","自陣","[単体]","自動","XBP",1,null,null,null,null,null,null,null,null,null,null,null,null,null,null,null,null,null,null,null,null,null,null,null,null,null,null,null,null,null,null,null,null,null,null,null,null,null,null,null,null,null,null,null,null,null,null,null,null,null,null,null,null,null,null,null,null,"ｶｳﾝﾄ開始時に使用可\n対象の【BP】を[X-1]点回復 X:2～6\n1戦闘 1対象に各1回制限"]
[null,"天使","天使の祝福","自","(サブ)","自陣","[単体]","自動","2BP",2,null,null,null,null,null,null,null,null,null,null,null,null,null,null,null,null,null,null,null,null,null,null,null,null,null,null,null,null,null,null,null,null,null,null,null,null,null,null,null,null,null,null,null,null,null,null,null,null,null,null,null,null,null,null,null,null,{"$f":"\"対象の【MP】\"&CL&\"点回復\n対象の所持スキルの回数を1回回復\n1戦闘、同対象同スキル1回制限\"","v":"対象の【MP】0点回復\n対象の所持スキルの回数を1回回復\n1戦闘、同対象同スキル1回制限"}]
[null,null,"堕天使の祝福","自","(サブ)","遠隔","単体","自動","2BP",0,null,null,null,null,null,null,null,null,null,null,null,null,null,null,null,null,null,null,null,null,null,null,null,null,null,null,null,null,null,null,null,null,null,null,null,null,null,null,null,null,null,null,null,null,null,null,null,null,null,null,null,null,null,null,null,null,"対象の次判定達成値+5\nその判定のF値10固定"]
[null,null,"天よりの知識","―","常時","―","自身","―","―","―",null,null,null,{"$f":"ROUNDUP(CL/2,0)","v":0},null,null,{"$f":"ROUNDUP(CL/2,0)","v":0},null,null,null,null,null,null,null,null,null,null,null,null,{"$f":"ROUNDUP(CL/2,0)","v":0},null,null,null,null,null,null,null,null,null,null,null,null,null,null,null,null,null,null,null,null,null,null,null,null,null,null,null,null,null,null,null,null,null,null,null,null,{"$f":"\"【知識】【洞察】【精神】+\"&ROUNDUP(CL/2,0)&\" <済>\"&IF(知識値>=30,\"\n1ｾｯｼｮﾝ1回【魔術】or【知識】判定を判定直後ｸﾘﾃｨｶﾙに変更\",\"\")","v":"【知識】【洞察】【精神】+0 <済>"}]
[null,null,"セイントヒール","回",{"$f":"IF(感覚値>=20,\"(サブ)\",\"サブ\")","v":"サブ"},"自陣","単体","自動","8MP",3,null,null,null,null,null,null,null,null,null,null,null,null,null,null,null,null,null,null,null,null,null,null,null,null,null,null,null,null,null,null,null,null,null,null,null,null,null,null,null,null,null,null,null,null,null,null,null,null,null,null,null,null,null,null,null,null,{"$f":"\"対象の【HP】[\"&CL*3+データ管理!AC29&\"+3D10]回復\n対象のBS1つ解除\"","v":"対象の【HP】[0+3D10]回復\n対象のBS1つ解除"}]
[null,null,"ホーリーエッジ","近","メイン","至近","単体","近接\n+1","3MP",8,null,null,null,null,null,null,null,null,null,null,null,null,null,null,null,null,null,null,null,null,null,null,null,null,null,null,null,null,null,null,null,null,null,null,null,null,null,null,null,null,null,null,null,null,null,null,null,null,null,null,null,null,null,null,null,null,{"$f":"\"〈光〉属性近接攻撃 与D+\"&CL*2&\"\n攻撃命中対象に40%封印付与\"","v":"〈光〉属性近接攻撃 与D+0\n攻撃命中対象に40%封印付与"}]
[null,null,"破邪光線","魔","メイン","超遠隔","単体","魔術\n+2","15MP","(8)→9",null,null,null,null,null,null,null,null,null,null,null,null,null,null,null,null,null,null,null,null,null,null,null,null,null,null,null,null,null,null,null,null,null,null,null,null,null,null,null,null,null,null,null,null,null,null,null,null,null,null,null,null,null,null,null,null,{"$f":"\"〈光〉属性[\"&CL*8+魔攻&\"+6D10]ﾀﾞﾒｰｼﾞの攻撃\n攻撃命中対象に70%\"&IF(種族=種族VL用!B3,\"封印\",IF(種族=種族VL用!B4,\"呪い\",\"\"))&\"付与\"","v":"〈光〉属性[6+6D10]ﾀﾞﾒｰｼﾞの攻撃\n攻撃命中対象に70%付与"}]
[null,null,"閃光撃","上、射","メイン","遠隔","全体()","射撃\n-2","18MP","12+X",null,null,null,null,null,null,null,null,null,null,null,null,null,null,null,null,null,null,null,null,null,null,null,null,null,null,null,null,null,null,null,null,null,null,null,null,null,null,null,null,null,null,null,null,null,null,null,null,null,null,null,null,null,null,null,null,{"$f":"IF(種族=種族VL用!B3,\"〈光〉\",IF(種族=種族VL用!B4,\"〈近〉〈遠〉\",))&\"属性射撃攻撃 与D+\"&CL*3&\"\nX=使用回数\"","v":"属性射撃攻撃 与D+0\nX=使用回数"}]
[null,null,"エンジェルライト","上、支、妨","オート","遠隔","単体","自動","7MP",2,null,null,null,null,null,null,null,null,null,null,null,null,null,null,null,null,null,null,null,null,null,null,null,null,null,null,null,null,null,null,null,null,null,null,null,null,null,null,null,null,null,null,null,null,null,null,null,null,null,null,null,null,null,null,null,null,{"$f":"\"対象の判定直後使用\n判定達成値\"&IF(種族=種族VL用!B3,\"+3\",IF(種族=種族VL用!B4,\"-3\",))&\"\n1メイン1回制限\"","v":"対象の判定直後使用\n判定達成値\n1メイン1回制限"}]
[null,"悪魔","増幅する苦痛","自","オート","遠隔","全体()","自動","4BP",3,null,null,null,null,null,null,null,null,null,null,null,null,null,null,null,null,null,null,null,null,null,null,null,null,null,null,null,null,null,null,null,null,null,null,null,null,null,null,null,null,null,null,null,null,null,null,null,null,null,null,null,null,null,null,null,null,{"$f":"\"敵がﾀﾞﾒｰｼﾞを受けた時使用可 対象に受けたﾀﾞﾒｰｼﾞの半分(↓)の〈無〉属性ﾀﾞﾒｰｼﾞを与え、怯み(3)付与(無効不可)\"","v":"敵がﾀﾞﾒｰｼﾞを受けた時使用可 対象に受けたﾀﾞﾒｰｼﾞの半分(↓)の〈無〉属性ﾀﾞﾒｰｼﾞを与え、怯み(3)付与(無効不可)"}]
[null,null,"ナイトメアフォール","自","メイン","遠隔","範囲()",{"$f":"\"対決\n+\"&3+データ管理!AB29","v":"対決\n+3"},"4BP",9,null,null,null,null,null,null,null,null,null,null,null,null,null,null,null,null,null,null,null,null,null,null,null,null,null,null,null,null,null,null,null,null,null,null,null,null,null,null,null,null,null,null,null,null,null,null,null,null,null,null,null,null,null,null,null,null,{"$f":"\"〈無〉属性[\"&CL*6+MAX(物攻,魔攻)&\"+6D10]ﾀﾞﾒｰｼﾞの攻撃\n攻撃命中対象に睡眠付与 \n[連続x]\"","v":"〈無〉属性[11+6D10]ﾀﾞﾒｰｼﾞの攻撃\n攻撃命中対象に睡眠付与 \n[連続x]"}]
[null,null,"デビルリカバー","支",{"$f":"IF(肉体値>=25,\"サブ\",\"(サブ)\")","v":"(サブ)"},"―","自身","自動","10MP",2,null,null,null,null,null,null,null,null,null,null,null,null,null,null,null,null,null,null,null,null,null,null,null,null,null,null,null,null,null,null,null,null,null,null,null,null,null,null,null,null,null,null,null,null,null,null,null,null,null,null,null,null,null,null,null,null,{"$f":"\"BSを受けていても使用可\n受けているBS全解除\"","v":"BSを受けていても使用可\n受けているBS全解除"}]
[null,null,"ペインスラッシュ","近","メイン","至近","範囲()","近接","8MP",10,null,null,null,null,null,null,null,null,null,null,null,null,null,null,null,null,null,null,null,null,null,null,null,null,null,null,null,null,null,null,null,null,null,null,null,null,null,null,null,null,null,null,null,null,null,null,null,null,null,null,null,null,null,null,null,null,{"$f":"\"〈\"&ｽﾀｲﾙVL用!$H$52&\"〉属性近接攻撃 与D+\"&CL*2&\"\n攻撃がｸﾘﾃｨｶﾙになった場合、命中対象に疲労と呪い付与\"","v":"〈近〉属性近接攻撃 与D+0\n攻撃がｸﾘﾃｨｶﾙになった場合、命中対象に疲労と呪い付与"}]
[null,null,"デーモンフレイム","魔","メイン","中距離","単体\n※","魔術\n-1","6MP","(2)→7",null,null,null,null,null,null,null,null,null,null,null,null,null,null,null,null,null,null,null,null,null,null,null,null,null,null,null,null,null,null,null,null,null,null,null,null,null,null,null,null,null,null,null,null,null,null,null,null,null,null,null,null,null,null,null,null,{"$f":"\"※射程内の敵からﾗﾝﾀﾞﾑに1体を対象\n〈炎〉属性[\"&CL*4+魔攻&\"+4D10]ﾀﾞﾒｰｼﾞの攻撃\n攻撃命中対象に火傷(10)付与\"","v":"※射程内の敵からﾗﾝﾀﾞﾑに1体を対象\n〈炎〉属性[6+4D10]ﾀﾞﾒｰｼﾞの攻撃\n攻撃命中対象に火傷(10)付与"}]
[null,null,"悪魔の知恵","支","オート","―","自身","自動","1BP","―",null,null,null,null,null,null,null,null,null,null,null,null,null,null,null,null,null,null,null,null,null,null,null,null,null,null,null,null,null,null,null,null,null,null,null,null,null,null,null,null,null,null,null,null,null,null,null,null,null,null,null,null,null,null,null,null,"【知識】or【幸運】判定直前に使用\nその判定をクリティカルにする\n1セッション2回制限"]
[null,null,"ブラックオーラ","上、支","スタート","―","自身","自動","―",2,null,null,null,null,null,null,null,null,null,null,null,null,null,null,null,null,null,null,null,null,null,null,null,null,null,null,null,null,null,null,null,null,null,null,null,null,null,null,null,null,null,null,null,null,null,null,null,null,null,null,null,null,null,null,null,null,{"$f":"\"【HP】を1にし、自身に疲労付与(無効不可) 戦闘中、攻撃の与D+\"&CL*4&\"\n疲労解除で効果消滅\"","v":"【HP】を1にし、自身に疲労付与(無効不可) 戦闘中、攻撃の与D+0\n疲労解除で効果消滅"}]
[null,null,"ドレインアイズ","上、支","オート","―","自身","自動","2BP",2,null,null,null,null,null,null,null,null,null,null,null,null,null,null,null,null,null,null,null,null,null,null,null,null,null,null,null,null,null,null,null,null,null,null,null,null,null,null,null,null,null,null,null,null,null,null,null,null,null,null,null,null,null,null,null,null,{"$f":"\"攻撃でﾀﾞﾒｰｼﾞを与えた時に使用可\n与えたダメージ量だけ【HP】回復\n1戦闘2回制限\"","v":"攻撃でﾀﾞﾒｰｼﾞを与えた時に使用可\n与えたダメージ量だけ【HP】回復\n1戦闘2回制限"}]
[null,"妖精","マナフォース","自","(サブ)","自陣","単体","自動","2BP",0,null,null,null,null,null,null,null,null,null,null,null,null,null,null,null,null,null,null,null,null,null,null,null,null,null,null,null,null,null,null,null,null,null,null,null,null,null,null,null,null,null,null,null,null,null,null,null,null,null,null,null,null,null,null,null,null,{"$f":"\"〈炎〉～〈風〉を選択\n対象の次の攻撃の属性を、選択した属性に変更\"","v":"〈炎〉～〈風〉を選択\n対象の次の攻撃の属性を、選択した属性に変更"}]
[null,null,"マナシールド","自","サブ","自陣","3体","自動","NBP",0,null,null,null,null,null,null,null,null,null,null,null,null,null,null,null,null,null,null,null,null,null,null,null,null,null,null,null,null,null,null,null,null,null,null,null,null,null,null,null,null,null,null,null,null,null,null,null,null,null,null,null,null,null,null,null,null,{"$f":"\"1～5(N)BPを支払い、〈炎〉～〈光〉属性から[N+1]個の属性選択。2ﾒｲﾝ間、選択した属性ダメージを\"&CL*2+5&\"点軽減\"","v":"1～5(N)BPを支払い、〈炎〉～〈光〉属性から[N+1]個の属性選択。2ﾒｲﾝ間、選択した属性ダメージを5点軽減"}]
[null,null,"レインボーアーチ","支","サブ","―","本文","自動","8MP",0,null,null,null,null,null,null,null,null,null,null,null,null,null,null,null,null,null,null,null,null,null,null,null,null,null,null,null,null,null,null,null,null,null,null,null,null,null,null,null,null,null,null,null,null,null,null,null,null,null,null,null,null,null,null,null,null,"味方(A)と敵(B)を選択。2ﾒｲﾝ間、AはBに通常攻撃と単体ｽｷﾙを射程無視で使用可。Bのみ対象の攻撃の命中+2"]
[null,null,"マナサポート","支","サブ","自陣","単体","自動","6MP",2,null,null,null,null,null,null,null,null,null,null,null,null,null,null,null,null,null,null,null,null,null,null,null,null,null,null,null,null,null,null,null,null,null,null,null,null,null,null,null,null,null,null,null,null,null,null,null,null,null,null,null,null,null,null,null,null,{"$f":"\"対象の次の命中判定達成値+\"&IF(感覚値>=25,4,3)","v":"対象の次の命中判定達成値+3"}]
[null,null,"ヒールウォーター","回","サブ","自陣","単体","自動","8MP",3,null,null,null,null,null,null,null,null,null,null,null,null,null,null,null,null,null,null,null,null,null,null,null,null,null,null,null,null,null,null,null,null,null,null,null,null,null,null,null,null,null,null,null,null,null,null,null,null,null,null,null,null,null,null,null,null,{"$f":"\"対象の次行動手番終了時、対象の【HP】[\"&CL*4+データ管理!AC29&\"+6D10]回復\n(効果発動までに戦闘不能でも発動)\"","v":"対象の次行動手番終了時、対象の【HP】[0+6D10]回復\n(効果発動までに戦闘不能でも発動)"}]
[null,null,"アイシクルアロー","射","メイン","遠隔","単体","射撃\n+N","5MP",9,null,null,null,null,null,null,null,null,null,null,null,null,null,null,null,null,null,null,null,null,null,null,null,null,null,null,null,null,null,null,null,null,null,null,null,null,null,null,null,null,null,null,null,null,null,null,null,null,null,null,null,null,null,null,null,null,{"$f":"\"〈氷〉属性射撃攻撃 与D+[CL×(N+2)]\nN=この行動手番で使用したｻﾌﾞｽｷﾙの個数\"","v":"〈氷〉属性射撃攻撃 与D+[CL×(N+2)]\nN=この行動手番で使用したｻﾌﾞｽｷﾙの個数"}]
[null,null,"七色の防壁","上、防",{"$f":"IF(MIN(CS!B18:Q19)>=10,\"(サブ)\",\"サブ\")","v":"サブ"},"自陣","範囲()","自動","14MP",3,null,null,null,null,null,null,null,null,null,null,null,null,null,null,null,null,null,null,null,null,null,null,null,null,null,null,null,null,null,null,null,null,null,null,null,null,null,null,null,null,null,null,null,null,null,null,null,null,null,null,null,null,null,null,null,null,{"$f":"\"2ﾒｲﾝ間、〈光〉属性以外の攻撃の\n被ダメージ\"&CL+3&\"点軽減\"","v":"2ﾒｲﾝ間、〈光〉属性以外の攻撃の\n被ダメージ3点軽減"}]
[null,null,"マナサポートEx","上、支","(サブ)","自陣","単体","自動","6MP","[3]",null,null,null,null,null,null,null,null,null,null,null,null,null,null,null,null,null,null,null,null,null,null,null,null,null,null,null,null,null,null,null,null,null,null,null,null,null,null,null,null,null,null,null,null,null,null,null,null,null,null,null,null,null,null,null,null,"対象が次行動手番で行うﾒｲﾝｱｸｼｮﾝの行動ｺｽﾄに-4する。(下限値：1)\n1戦闘3回制限"]
[null,"獣\n人","ワイルドラッシュ","自","オート","―","自身","自動","6BP",2,null,null,null,null,null,null,null,null,null,null,null,null,null,null,null,null,null,null,null,null,null,null,null,null,null,null,null,null,null,null,null,null,null,null,null,null,null,null,null,null,null,null,null,null,null,null,null,null,null,null,null,null,null,null,null,null,"行動手番終了時に使用可\n直ちに、通常攻撃orﾒｲﾝｱｸｼｮﾝの攻撃スキルを1つ ｺｽﾄ0で使用"]
[null,null,"音速疾駆","自","オート","自陣","単体","自動","2BP",2,null,null,null,null,null,null,null,null,null,null,null,null,null,null,null,null,null,null,null,null,null,null,null,null,null,null,null,null,null,null,null,null,null,null,null,null,null,null,null,null,null,null,null,null,null,null,null,null,null,null,null,null,null,null,null,null,"対象の回避判定直前に使用可\nその判定に、あなたの回避判定値使用可。自身に使用時、回避達成値+4"]
[null,null,"ビーストセンス","―","常時","―","自身","―","―","―",null,{"$f":"ROUNDUP(CL/2,0)","v":0},null,null,{"$f":"ROUNDUP(CL/2,0)","v":0},null,null,null,null,null,null,null,null,null,{"$f":"ROUNDUP(CL/2,0)","v":0},null,null,null,null,null,null,null,null,null,null,null,null,null,null,null,null,null,null,null,null,null,null,null,null,null,null,null,null,null,null,null,null,null,null,null,null,null,null,null,null,null,{"$f":"\"【反射】【感覚】【物攻】+\"&ROUNDUP(CL/2,0)&\"\n敵からの攻撃回避時に【MP】\"&SL&\"点回復\"","v":"【反射】【感覚】【物攻】+0\n敵からの攻撃回避時に【MP】点回復"}]
[null,null,"神速","支","サブ","―","自身","自動","6MP",2,null,null,null,null,null,null,null,null,null,null,null,null,null,null,null,null,null,null,null,null,null,null,null,null,null,null,null,null,null,null,null,null,null,null,null,null,null,null,null,null,null,null,null,null,null,null,null,null,null,null,null,null,null,null,null,null,{"$f":"\"直後ﾒｲﾝでの次の攻撃の与D+\"&反射値&IF(肉体値>=20,\"\n後衛使用時、前衛に配置してもよい\",\"\")","v":"直後ﾒｲﾝでの次の攻撃の与D+"}]
[null,null,"ビーストクロー","近","メイン","至近","単体","近接\n+1","3MP",8,null,null,null,null,null,null,null,null,null,null,null,null,null,null,null,null,null,null,null,null,null,null,null,null,null,null,null,null,null,null,null,null,null,null,null,null,null,null,null,null,null,null,null,null,null,null,null,null,null,null,null,null,null,null,null,null,{"$f":"\"[素手武器]装備時使用可\n〈近〉属性近接攻撃 与D+\"&CL*3&\"\nｸﾘﾃｨｶﾙで、攻撃後に攻勢(\"&CL*2&\")付与\"","v":"[素手武器]装備時使用可\n〈近〉属性近接攻撃 与D+0\nｸﾘﾃｨｶﾙで、攻撃後に攻勢(0)付与"}]
[null,null,"ビーストリカバー","支","オート","―","自身","自動","8MP",2,null,null,null,null,null,null,null,null,null,null,null,null,null,null,null,null,null,null,null,null,null,null,null,null,null,null,null,null,null,null,null,null,null,null,null,null,null,null,null,null,null,null,null,null,null,null,null,null,null,null,null,null,null,null,null,null,"火傷(X)、凍結、マヒ、疲労、封印、毒を受けるときに使用可。その付与を無効にする。 1メイン1回制限"]
[null,null,"ビーストロアー","上、支","(サブ)","―","自身","自動","4BP",0,null,null,null,null,null,null,null,null,null,null,null,null,null,null,null,null,null,null,null,null,null,null,null,null,null,null,null,null,null,null,null,null,null,null,null,null,null,null,null,null,null,null,null,null,null,null,null,null,null,null,null,null,null,null,null,null,{"$f":"\"この行動手番での次の攻撃の\n命中判定達成値+5 与D+\"&反射値*2&\"\n《ﾜｲﾙﾄﾞﾗｯｼｭ》の攻撃にも適用可\"","v":"この行動手番での次の攻撃の\n命中判定達成値+5 与D+0\n《ﾜｲﾙﾄﾞﾗｯｼｭ》の攻撃にも適用可"}]
[null,null,"ペネトレイトラッシュ","上、攻","メイン","遠隔","各1","武器","13MP",11,null,null,null,null,null,null,null,null,null,null,null,null,null,null,null,null,null,null,null,null,null,null,null,null,null,null,null,null,null,null,null,null,null,null,null,null,null,null,null,null,null,null,null,null,null,null,null,null,null,null,null,null,null,null,null,null,{"$f":"\"〈近〉属性[\"&CL*3+物攻&\"+3D10]ﾀﾞﾒｰｼﾞの攻撃\n後衛で使用した場合、攻撃終了後に自身を前衛に配置する\"","v":"〈近〉属性[11+3D10]ﾀﾞﾒｰｼﾞの攻撃\n後衛で使用した場合、攻撃終了後に自身を前衛に配置する"}]
[null,"鳥人","エアグライド","自","サブ","―","自身","自動","4BP",0,null,null,null,null,null,null,null,null,null,null,null,null,null,null,null,null,null,null,null,null,null,null,null,null,null,null,null,null,null,null,null,null,null,null,null,null,null,null,null,null,null,null,null,null,null,null,null,null,null,null,null,null,null,null,null,null,"1ﾒｲﾝ間、回避C値14固定\n全判定で1判定1回振り直し可能\n効果中、他振り直し効果適用不可"]
[null,null,"ソニックムーブ","自","オート","―","自身","自動","2BP",0,null,null,null,null,null,null,null,null,null,null,null,null,null,null,null,null,null,null,null,null,null,null,null,null,null,null,null,null,null,null,null,null,null,null,null,null,null,null,null,null,null,null,null,null,null,null,null,null,null,null,null,null,null,null,null,null,"配置ｶｳﾝﾄが、現ｶｳﾝﾄより20ｶｳﾝﾄ以上後方の場合使用不可。 ｶｳﾝﾄ開始時に使用。直ちに行動手番を得る。"]
[null,null,"ソニックダッシュ","支","サブ","―","自身","自動","2MP",0,null,null,null,null,null,null,null,null,null,null,null,null,null,null,null,null,null,null,null,null,null,null,null,null,null,null,null,null,null,null,null,null,null,null,null,null,null,null,null,null,null,null,null,null,null,null,null,null,null,null,null,null,null,null,null,null,{"$f":"\"自身の配置を変更する\n1戦闘\"&IF(肉体値>=20,4,2)&\"回制限\"","v":"自身の配置を変更する\n1戦闘2回制限"}]
[null,null,"スカイアタック","近","メイン","至近","単体","近接","9MP","(5)→5",null,null,null,null,null,null,null,null,null,null,null,null,null,null,null,null,null,null,null,null,null,null,null,null,null,null,null,null,null,null,null,null,null,null,null,null,null,null,null,null,null,null,null,null,null,null,null,null,null,null,null,null,null,null,null,null,{"$f":"\"〈\"&ｽﾀｲﾙVL用!$H$52&\"〉属性近接攻撃 与D+\"&CL*3&\"\n準備期間の間、「種別：近」と「種別：自陣」のｽｷﾙの対象に取られない\"","v":"〈近〉属性近接攻撃 与D+0\n準備期間の間、「種別：近」と「種別：自陣」のｽｷﾙの対象に取られない"}]
[null,null,"ソニックアタック","支、攻","オート","至近","単体","自動","4MP",0,null,null,null,null,null,null,null,null,null,null,null,null,null,null,null,null,null,null,null,null,null,null,null,null,null,null,null,null,null,null,null,null,null,null,null,null,null,null,null,null,null,null,null,null,null,null,null,null,null,null,null,null,null,null,null,null,{"$f":"\"ｶｳﾝﾄ開始時使用可\n通常攻撃を行う。与D+\"&CL&\"\n1戦闘3回制限\"","v":"ｶｳﾝﾄ開始時使用可\n通常攻撃を行う。与D+0\n1戦闘3回制限"}]
[null,null,"クイックアクション","支","オート","―","自身","自動","12MP",0,null,null,null,null,null,null,null,null,null,null,null,null,null,null,null,null,null,null,null,null,null,null,null,null,null,null,null,null,null,null,null,null,null,null,null,null,null,null,null,null,null,null,null,null,null,null,null,null,null,null,null,null,null,null,null,null,"【反射】or【感覚】or【幸運】判定直前に使用可。その判定をｸﾘﾃｨｶﾙにする\n1セッション2回制限"]
[null,null,"乱気流","上、支","スタート","―","自身","自動","3BP",4,null,null,null,null,null,null,null,null,null,null,null,null,null,null,null,null,null,null,null,null,null,null,null,null,null,null,null,null,null,null,null,null,null,null,null,null,null,null,null,null,null,null,null,null,null,null,null,null,null,null,null,null,null,null,null,null,"戦闘中、【射撃】or【魔術】の攻撃命中直後、3D10を振り21以上なら攻撃を回避したものとして扱ってよい"]
[null,null,"スカイルーラー","上、支","スタート","―","自身","自動","2BP",0,null,null,null,null,null,null,null,null,null,null,null,null,null,null,null,null,null,null,null,null,null,null,null,null,null,null,null,null,null,null,null,null,null,null,null,null,null,null,null,null,null,null,null,null,null,null,null,null,null,null,null,null,null,null,null,null,{"$f":"\"戦闘中、自身がﾒｲﾝを行ったｶｳﾝﾄ間\n攻撃やｽｷﾙの対象に取られない\"&IF(AND(反射値>=25,感覚値>=25)=TRUE,\"\n効果適用中 回避達成値+1\",)","v":"戦闘中、自身がﾒｲﾝを行ったｶｳﾝﾄ間\n攻撃やｽｷﾙの対象に取られない"}]
[null,"竜人","ドラゴンフォース","自","スタート","―","自身","自動","NBP",0,null,null,null,null,null,null,null,null,null,null,null,null,null,null,null,null,null,null,null,null,null,null,null,null,null,null,null,null,null,null,null,null,null,null,null,null,null,null,null,null,null,null,null,null,null,null,null,null,null,null,null,null,null,null,null,null,{"$f":"\"この戦闘中、攻撃の与D+[10+(N×\"&INT(CL/3)&\")]\nN：1～10\"","v":"この戦闘中、攻撃の与D+[10+(N×0)]\nN：1～10"}]
[null,null,{"$f":"\"加護属性(\"&ｽﾀｲﾙVL用!C51&\")\"","v":"加護属性(●)"},"―","常時","―","自身","―","―","―",null,null,null,null,null,null,null,null,null,null,null,null,null,null,null,null,null,null,null,null,null,null,{"$f":"IF(ｽﾀｲﾙVL用!$C$51=\"炎\",3,\"\")","v":""},{"$f":"IF(ｽﾀｲﾙVL用!$C$51=\"氷\",3,\"\")","v":""},{"$f":"IF(ｽﾀｲﾙVL用!$C$51=\"水\",3,\"\")","v":""},{"$f":"IF(ｽﾀｲﾙVL用!$C$51=\"雷\",3,\"\")","v":""},{"$f":"IF(ｽﾀｲﾙVL用!$C$51=\"風\",3,\"\")","v":""},{"$f":"IF(ｽﾀｲﾙVL用!$C$51=\"光\",3,\"\")","v":""},null,null,null,null,null,null,null,null,null,null,null,null,null,null,null,null,null,null,null,null,null,null,null,null,null,null,null,null,{"$f":"\"〈\"&IF(ｽﾀｲﾙVL用!C51=\"炎\",\"炎\",IF(ｽﾀｲﾙVL用!C51=\"氷\",\"氷\",IF(ｽﾀｲﾙVL用!C51=\"水\",\"水\",IF(ｽﾀｲﾙVL用!C51=\"雷\",\"雷\",IF(ｽﾀｲﾙVL用!C51=\"風\",\"風\",IF(ｽﾀｲﾙVL用!C51=\"光\",\"光\",))))))&\"〉属性攻撃与D+\"&CL&\"\n〈\"&IF(COUNTIFS(C61,\"*炎*\")=1,\"炎\",IF(COUNTIFS(C61,\"*氷*\")=1,\"氷\",IF(COUNTIFS(C61,\"*水*\")=1,\"水\",IF(COUNTIFS(C61,\"*雷*\")=1,\"雷\",IF(COUNTIFS(C61,\"*風*\")=1,\"風\",IF(COUNTIFS(C61,\"*光*\")=1,\"光\",))))))&\"〉耐性+3\"","v":"〈〉属性攻撃与D+0\n〈〉耐性+3"}]
[null,null,"テイルスイング","近","メイン","超至近","範囲()","近接","4MP",9,null,null,null,null,null,null,null,null,null,null,null,null,null,null,null,null,null,null,null,null,null,null,null,null,null,null,null,null,null,null,null,null,null,null,null,null,null,null,null,null,null,null,null,null,null,null,null,null,null,null,null,null,null,null,null,null,{"$f":"\"〈近〉属性[\"&CL*3+物攻&\"+2D10]ﾀﾞﾒｰｼﾞの攻撃\"&IF(肉体値>=30,\"\n攻撃属性を〈\"&ｽﾀｲﾙVL用!C51&\"〉属性に変更してもよい\",\"\")","v":"〈近〉属性[11+2D10]ﾀﾞﾒｰｼﾞの攻撃"}]
[null,null,"ドラゴンブレス","魔","メイン","中距離","範囲()","魔術\n+1","6MP","(2)→11",null,null,null,null,null,null,null,null,null,null,null,null,null,null,null,null,null,null,null,null,null,null,null,null,null,null,null,null,null,null,null,null,null,null,null,null,null,null,null,null,null,null,null,null,null,null,null,null,null,null,null,null,null,null,null,null,{"$f":"\"〈\"&ｽﾀｲﾙVL用!C51&\"〉属性[\"&CL*4+魔攻&\"+4D10]ﾀﾞﾒｰｼﾞの攻撃\"&IF(感覚値>=15,\"\n命中C値15固定\",\"\")","v":"〈●〉属性[6+4D10]ﾀﾞﾒｰｼﾞの攻撃"}]
[null,null,"ハーデニング","防","オート","―","自身","自動","5MP",2,null,null,null,null,null,null,null,null,null,null,null,null,null,null,null,null,null,null,null,null,null,null,null,null,null,null,null,null,null,null,null,null,null,null,null,null,null,null,null,null,null,null,null,null,null,null,null,null,null,null,null,null,null,null,null,null,{"$f":"\"攻撃対象となった時使用可\n回避達成値に-10し、その攻撃の\n被D\"&-CL*2-15&\"　1戦闘3回制限\"","v":"攻撃対象となった時使用可\n回避達成値に-10し、その攻撃の\n被D-15　1戦闘3回制限"}]
[null,null,"カラーチェンジ","支","ダメロ","自陣","単体","自動","5MP",1,null,null,null,null,null,null,null,null,null,null,null,null,null,null,null,null,null,null,null,null,null,null,null,null,null,null,null,null,null,null,null,null,null,null,null,null,null,null,null,null,null,null,null,null,null,null,null,null,null,null,null,null,null,null,null,null,{"$f":"\"「種別：魔」以外の攻撃のﾀﾞﾒﾛ開始時に使用可能 属性を〈\"&ｽﾀｲﾙVL用!C51&\"〉属性に変更して、与D+\"&CL&\"  1ﾒｲﾝ1回制限\"","v":"「種別：魔」以外の攻撃のﾀﾞﾒﾛ開始時に使用可能 属性を〈●〉属性に変更して、与D+0  1ﾒｲﾝ1回制限"}]
[null,null,"竜の威厳","上","常時","―","自身","―","―","―",{"$f":"ROUNDUP(CL/3,0)","v":0},{"$f":"ROUNDUP(CL/3,0)","v":0},{"$f":"ROUNDUP(CL/3,0)","v":0},{"$f":"ROUNDUP(CL/3,0)","v":0},null,null,null,null,null,null,null,null,null,null,{"$f":"INT(CL/2)","v":0},{"$f":"INT(CL/2)","v":0},null,null,null,null,null,null,null,null,null,null,null,null,null,null,null,{"$f":"IF(意志値>=20,-1,\"\")","v":""},null,{"$f":"IF(意志値>=20,5,\"\")","v":""},null,null,null,{"$f":"IF(意志値>=20,-1,\"\")","v":""},null,{"$f":"IF(意志値>=20,5,\"\")","v":""},null,null,null,{"$f":"IF(意志値>=20,-1,\"\")","v":""},null,{"$f":"IF(意志値>=20,5,\"\")","v":""},null,null,null,null,null,null,null,null,null,null,{"$f":"\"【肉体】【反射】【集中】【知識】+\"&ROUNDUP(CL/3,0)&\"\n【物攻】【魔攻】+\"&INT(CL/2)&\"\n\"&IF(意志値>=20,\"常時F値-1 (下限値：5) <済>.\",\"\")","v":"【肉体】【反射】【集中】【知識】+0\n【物攻】【魔攻】+0\n"}]
[null,null,"十字閃","上、近","メイン","超至近","[単体]","近接","13MP",13,null,null,null,null,null,null,null,null,null,null,null,null,null,null,null,null,null,null,null,null,null,null,null,null,null,null,null,null,null,null,null,null,null,null,null,null,null,null,null,null,null,null,null,null,null,null,null,null,null,null,null,null,null,null,null,null,{"$f":"\"〈\"&ｽﾀｲﾙVL用!$H$52&\"〉属性近接攻撃。命中した場合50%で同対象に射程ｺｽﾄ無視で通常攻撃してもよい。[連続x]\"","v":"〈近〉属性近接攻撃。命中した場合50%で同対象に射程ｺｽﾄ無視で通常攻撃してもよい。[連続x]"}]
[null,"魔\n法\n人\n形","エナジーバースト","自","オート","―","自身","自動","6BP",0,null,null,null,null,null,null,null,null,null,null,null,null,null,null,null,null,null,null,null,null,null,null,null,null,null,null,null,null,null,null,null,null,null,null,null,null,null,null,null,null,null,null,null,null,null,null,null,null,null,null,null,null,null,null,null,null,{"$f":"\"カウント開始時に使用可能\nこのｶｳﾝﾄ中、判定達成値+4 最初の攻撃の与D+\"&CL*3+MAX(物攻,魔攻)&\" ｶｳﾝﾄ終了時【HP】1\"","v":"カウント開始時に使用可能\nこのｶｳﾝﾄ中、判定達成値+4 最初の攻撃の与D+11 ｶｳﾝﾄ終了時【HP】1"}]
[null,null,"先天的特性","―","常時","―","自身","―","―","―",null,null,null,null,null,null,null,null,null,null,null,null,null,null,null,null,null,null,null,null,null,null,null,null,null,null,null,null,null,null,null,null,null,null,null,null,null,null,null,null,null,null,null,null,null,null,null,null,null,null,null,null,null,null,null,null,{"$f":"\"5つの基本能力値に+\"&INT(CL/3)& \" <未適用>\n《ｴﾅｼﾞｰﾊﾞｰｽﾄ》を準備期間でも使用可能\"","v":"5つの基本能力値に+0 <未適用>\n《ｴﾅｼﾞｰﾊﾞｰｽﾄ》を準備期間でも使用可能"}]
[null,null,"寵愛を受けし存在","―","常時","―","自身","―","―","―",null,null,null,null,null,null,null,null,null,null,null,null,null,null,null,null,null,null,null,null,null,null,null,null,null,null,null,null,null,null,null,null,null,null,null,null,null,null,null,null,null,null,null,null,null,null,-2,null,null,null,null,null,null,null,null,null,"[BP上限値]-2 <済>\n【HP】が0となった直後、【HP】1以上になったタイミングで覚醒付与"]
[null,null,"棄てられし存在","―","常時","―","自身","―","―","―",null,null,null,null,null,null,null,null,1,1,1,1,1,null,{"$f":"CL+5","v":5},{"$f":"CL+5","v":5},null,null,null,null,null,null,null,null,null,null,null,null,null,null,null,null,null,null,null,null,null,null,null,null,null,null,null,null,null,null,null,null,null,null,null,null,null,null,null,null,{"$f":"\"[BP上限値]-4 <済>\n【物攻】【魔攻】+\"&CL+5&\" 【近接】～【抵抗】+1　【HP】1のとき、攻撃与D+\"&CL*2","v":"[BP上限値]-4 <済>\n【物攻】【魔攻】+5 【近接】～【抵抗】+1　【HP】1のとき、攻撃与D+0"}]
[null,null,"マジックバリア","防","サブ","自陣","範囲()","自動","5MP",2,null,null,null,null,null,null,null,null,null,null,null,null,null,null,null,null,null,null,null,null,null,null,null,null,null,null,null,null,null,null,null,null,null,null,null,null,null,null,null,null,null,null,null,null,null,null,null,null,null,null,null,null,null,null,null,null,{"$f":"\"2ﾒｲﾝ間、「種別：魔」の攻撃の被D-\"&CL*2&\"\n「種別：魔」の攻撃によるBS付与無効\"","v":"2ﾒｲﾝ間、「種別：魔」の攻撃の被D-0\n「種別：魔」の攻撃によるBS付与無効"}]
[null,null,"生命燃焼","防","ダメロ","―","自身","自動","NMP",1,null,null,null,null,null,null,null,null,null,null,null,null,null,null,null,null,null,null,null,null,null,null,null,null,null,null,null,null,null,null,null,null,null,null,null,null,null,null,null,null,null,null,null,null,null,null,null,null,null,null,null,null,null,null,null,null,{"$f":"\"攻撃でﾀﾞﾒｰｼﾞを受けるとき使用可\n被D-[N×4] (Nに下限・上限なし)\n1戦闘3回制限\"","v":"攻撃でﾀﾞﾒｰｼﾞを受けるとき使用可\n被D-[N×4] (Nに下限・上限なし)\n1戦闘3回制限"}]
[null,null,"無痛の極地","上、支","オート","―","自身","自動","15MP",0,null,null,null,null,null,null,null,null,null,null,null,null,null,null,null,null,null,null,null,null,null,null,null,null,null,null,null,null,null,null,null,null,null,null,null,null,null,null,null,null,null,null,null,null,null,null,null,null,null,null,null,null,null,null,null,null,{"$f":"\"【HP】が0となった時に使用可\n【HP】を1にする。　1戦闘1回制限\"","v":"【HP】が0となった時に使用可\n【HP】を1にする。　1戦闘1回制限"}]
[null,null,"最後の一撃","上、攻","メイン","遠隔","単体","武器\n+N","全BP","[20]",null,null,null,null,null,null,null,null,null,null,null,null,null,null,null,null,null,null,null,null,null,null,null,null,null,null,null,null,null,null,null,null,null,null,null,null,null,null,null,null,null,null,null,null,null,null,null,null,null,null,null,null,null,null,null,null,{"$f":"\"【HP】1,【MP】0にして、〈無〉属性[(N×\"&CL&\")+\"&MAX(物攻,魔攻)&\"+25D10]ﾀﾞﾒｰｼﾞの攻撃\nN=代償のBP(上限12) 1戦闘1回制限\"","v":"【HP】1,【MP】0にして、〈無〉属性[(N×0)+11+25D10]ﾀﾞﾒｰｼﾞの攻撃\nN=代償のBP(上限12) 1戦闘1回制限"}]
[null,"神\n格","Paranormal Power","自","スタート","―","自身","自動","2BP",1,null,null,null,null,null,null,null,null,null,null,null,null,null,null,null,null,null,null,null,null,null,null,null,null,null,null,null,null,null,null,null,null,null,null,null,null,null,null,null,null,null,null,null,null,null,null,null,null,null,null,null,null,null,null,null,null,{"$f":"\"戦闘中①②③のうち1つを得る\n①全達成値+1 ②命中・回避C値-1(下限15) ③攻撃の与D+\"&CL+5","v":"戦闘中①②③のうち1つを得る\n①全達成値+1 ②命中・回避C値-1(下限15) ③攻撃の与D+5"}]
[null,null,"信仰の力","自","スタート","―","自身","自動","3BP",0,null,null,null,null,null,null,null,null,null,null,null,null,null,null,null,null,null,null,null,null,null,null,null,null,null,null,null,null,null,null,null,null,null,null,null,null,null,null,null,null,null,null,null,null,null,null,null,null,null,null,null,null,null,null,null,null,"戦闘中、1戦闘2回まで振り直し可能。\n回避判定成功時、1回分回数回復。\n(最大3回までストック可能)"]
[null,null,"Almighty","―","常時","―","自身","―","―","―",null,null,null,{"$f":"INT(CL/2)","v":0},{"$f":"INT(CL/2)","v":0},null,{"$f":"INT(CL/2)","v":0},null,null,null,null,null,null,null,null,null,null,null,null,{"$f":"INT(CL/2)","v":0},null,null,null,null,null,null,null,null,null,null,null,null,null,null,null,null,null,null,null,null,null,null,null,null,null,null,null,null,null,null,null,null,null,null,null,null,{"$f":"\"【知識】【感覚】【洞察】【精神】+\"&INT(CL/2)&\" <済>　1セッション2回 F値以下の判定振り直し可能\"","v":"【知識】【感覚】【洞察】【精神】+0 <済>　1セッション2回 F値以下の判定振り直し可能"}]
[null,null,"Oracle","支","サブ","自陣","単体",0.9,"6MP",2,null,null,null,null,null,null,null,null,null,null,null,null,null,null,null,null,null,null,null,null,null,null,null,null,null,null,null,null,null,null,null,null,null,null,null,null,null,null,null,null,null,null,null,null,null,null,null,null,null,null,null,null,null,null,null,null,{"$f":"\"対象の次の攻撃を〈光〉属性に変更\n与D+\"&知識値+10","v":"対象の次の攻撃を〈光〉属性に変更\n与D+10"}]
[null,null,"Thunderstorm","魔","メイン","中距離","単体","魔術","7MP","(4)→9",null,null,null,null,null,null,null,null,null,null,null,null,null,null,null,null,null,null,null,null,null,null,null,null,null,null,null,null,null,null,null,null,null,null,null,null,null,null,null,null,null,null,null,null,null,null,null,null,null,null,null,null,null,null,null,null,{"$f":"\"〈雷〉属性[\"&CL*6+魔攻&\"+6D10]ﾀﾞﾒｰｼﾞの攻撃\n攻撃の命中C値\"&IF(データ管理!C29-1>=MIN(データ管理!E29,15),データ管理!C29-1,MIN(データ管理!E29,15))&\"\"&IF(意志値>=20,\"\n「ｺｽﾄ：14」としても使用可\",\"\")","v":"〈雷〉属性[6+6D10]ﾀﾞﾒｰｼﾞの攻撃\n攻撃の命中C値15"}]
[null,null,"Providence","支","オート","自陣","単体","自動","3MP",2,null,null,null,null,null,null,null,null,null,null,null,null,null,null,null,null,null,null,null,null,null,null,null,null,null,null,null,null,null,null,null,null,null,null,null,null,null,null,null,null,null,null,null,null,null,null,null,null,null,null,null,null,null,null,null,null,"対象のスキル使用時使用可。そのスキルの代償を代わりに支払う\n1戦闘3回制限"]
[null,null,"AEGIS","上、防","(サブ)","―","自身","自動","4BP",0,null,null,null,null,null,null,null,null,null,null,null,null,null,null,null,null,null,null,null,null,null,null,null,null,null,null,null,null,null,null,null,null,null,null,null,null,null,null,null,null,null,null,null,null,null,null,null,null,null,null,null,null,null,null,null,null,{"$f":"\"1ﾒｲﾝ間、BSとダメージを無効にする [連続x]\"","v":"1ﾒｲﾝ間、BSとダメージを無効にする [連続x]"}]
[null,null,"Indra Arrow","上、射","メイン","遠隔","全体()","射撃\n+2","3BP","(5)→8",null,null,null,null,null,null,null,null,null,null,null,null,null,null,null,null,null,null,null,null,null,null,null,null,null,null,null,null,null,null,null,null,null,null,null,null,null,null,null,null,null,null,null,null,null,null,null,null,null,null,null,null,null,null,null,null,{"$f":"\"〈炎〉〈雷〉〈光〉射撃攻撃\n与D+[\"&CL*6&\"+6D10]　命中・回避判定はｵｰﾄｽｷﾙで振り直し不可\"","v":"〈炎〉〈雷〉〈光〉射撃攻撃\n与D+[0+6D10]　命中・回避判定はｵｰﾄｽｷﾙで振り直し不可"}]
[null,"花\n姫","フルブルーム","自","オート","―","自身","自動","3BP",0,null,null,null,null,null,null,null,null,null,null,null,null,null,null,null,null,null,null,null,null,null,null,null,null,null,null,null,null,null,null,null,null,null,null,null,null,null,null,null,null,null,null,null,null,null,null,null,null,null,null,null,null,null,null,null,null,{"$f":"\"ｶｳﾝﾄ開始時使用可能\n【HP】\"&CL*5+10&\"回復 この戦闘中、ｻﾌﾞにｽｷﾙ使用で【HP】\"&INT(CL/2)+3&\"点回復 (3回まで重複)\"","v":"ｶｳﾝﾄ開始時使用可能\n【HP】10回復 この戦闘中、ｻﾌﾞにｽｷﾙ使用で【HP】3点回復 (3回まで重複)"}]
[null,null,"美花の毒","―","常時","―","自身","―","―","―",null,null,null,null,null,null,null,null,null,null,null,null,null,null,null,null,null,null,null,null,null,null,null,null,null,null,null,null,null,null,null,null,null,null,null,null,null,null,null,null,null,null,null,null,null,null,null,null,null,null,null,null,null,null,null,null,{"$f":"\"毒が付与された敵に毒を付与する場合、値を合算して付与する\n(最大値：\"&CL*2+20&\")\"","v":"毒が付与された敵に毒を付与する場合、値を合算して付与する\n(最大値：20)"}]
[null,null,"美しき花姫","―","常時","―","自身","―","―","―",null,null,null,null,null,null,null,null,null,null,null,null,null,null,null,null,null,null,{"$f":"CL","v":0},{"$f":"INT(CL/2)","v":0},null,null,null,null,null,null,null,null,null,null,null,null,null,null,null,null,null,null,null,null,null,null,null,null,null,null,null,null,null,null,null,null,null,null,null,null,{"$f":"\"【耐久】+\"&CL&\" 【精神】+\"&INT(CL/2)&\"\n基本能力値判定達成値+2\"&IF(知識値+感覚値+意志値>=50,\"\nｻﾌﾞor(ｻﾌﾞ)ｽｷﾙ代償-2MP(下限2MP)\",\"\")","v":"【耐久】+0 【精神】+0\n基本能力値判定達成値+2"}]
[null,null,"ペタルフロー","支","サブ","―","自身","自動","2MP",1,null,null,null,null,null,null,null,null,null,null,null,null,null,null,null,null,null,null,null,null,null,null,null,null,null,null,null,null,null,null,null,null,null,null,null,null,null,null,null,null,null,null,null,null,null,null,null,null,null,null,null,null,null,null,null,null,{"$f":"\"直後メインで最初に行う命中判定達成値+1 攻撃の与D+\"&CL-5","v":"直後メインで最初に行う命中判定達成値+1 攻撃の与D+-5"}]
[null,null,"ポイズンカウンター","防","オート","遠隔","単体",0.6,"6MP",2,null,null,null,null,null,null,null,null,null,null,null,null,null,null,null,null,null,null,null,null,null,null,null,null,null,null,null,null,null,null,null,null,null,null,null,null,null,null,null,null,null,null,null,null,null,null,null,null,null,null,null,null,null,null,null,null,{"$f":"\"攻撃のﾀﾞﾒｰｼﾞを受けた際に使用可\n攻撃ユニットに毒(\"&CL&\")付与\n1ﾒｲﾝ1回制限\"","v":"攻撃のﾀﾞﾒｰｼﾞを受けた際に使用可\n攻撃ユニットに毒(0)付与\n1ﾒｲﾝ1回制限"}]
[null,null,"フローラルガード","防","ダメロ","―","自身",0.5,"15MP",3,null,null,null,null,null,null,null,null,null,null,null,null,null,null,null,null,null,null,null,null,null,null,null,null,null,null,null,null,null,null,null,null,null,null,null,null,null,null,null,null,null,null,null,null,null,null,null,null,null,null,null,null,null,null,null,null,"〈炎〉ﾀﾞﾒｰｼﾞ以外を受けるとき、それを0にする　次行動手番まで ｵｰﾄ&ﾀﾞﾒﾛ使用不可　1戦闘3回制限"]
[null,null,"フラワーガーデン","上、支","スタート","超至近","[単体]","自動","4BP",5,null,null,null,null,null,null,null,null,null,null,null,null,null,null,null,null,null,null,null,null,null,null,null,null,null,null,null,null,null,null,null,null,null,null,null,null,null,null,null,null,null,null,null,null,null,null,null,null,null,null,null,null,null,null,null,null,{"$f":"\"戦闘中、攻撃与D+\"&CL*2&\"\n戦闘中、自身の判定を3回まで振り直せる 《ﾌﾙﾌﾞﾙｰﾑ》使用で1回分回復\"","v":"戦闘中、攻撃与D+0\n戦闘中、自身の判定を3回まで振り直せる 《ﾌﾙﾌﾞﾙｰﾑ》使用で1回分回復"}]
[null,null,"サンライトバースト","上、魔","メイン","中距離","全体()","魔術",{"$f":"CL+4&\"MP\"","v":"4MP"},10,null,null,null,null,null,null,null,null,null,null,null,null,null,null,null,null,null,null,null,null,null,null,null,null,null,null,null,null,null,null,null,null,null,null,null,null,null,null,null,null,null,null,null,null,null,null,null,null,null,null,null,null,null,null,null,null,{"$f":"\"〈光〉属性[\"&CL*8+魔攻&\"+4D10]ﾀﾞﾒｰｼﾞの攻撃\n《ﾌﾙﾌﾞﾙｰﾑ》を使用することで使用回数1回回復 (0回ｽﾀｰﾄ)\"","v":"〈光〉属性[6+4D10]ﾀﾞﾒｰｼﾞの攻撃\n《ﾌﾙﾌﾞﾙｰﾑ》を使用することで使用回数1回回復 (0回ｽﾀｰﾄ)"}]
[null,"AB","メガアサルター","核","常時","―","自身","―","―","―",null,null,null,null,null,null,null,null,null,null,null,null,null,null,null,null,null,null,null,null,null,null,null,null,null,null,null,null,null,null,null,null,null,null,null,null,null,null,null,null,null,null,null,null,null,null,null,null,null,null,null,null,null,null,null,null,{"$f":"\"ｻﾌﾞで通常移動した直後のﾒｲﾝの\n次攻撃の命中達成値+1　攻撃与D+\"&CL+COUNTIFS(CS!$AW$28:$AY$57,\"*核*\")*2","v":"ｻﾌﾞで通常移動した直後のﾒｲﾝの\n次攻撃の命中達成値+1　攻撃与D+0"}]
[null,null,"核熱ブースター","核、支","(サブ)","―","自身","自動","6MP",3,null,null,null,null,null,null,null,null,null,null,null,null,null,null,null,null,null,null,null,null,null,null,null,null,null,null,null,null,null,null,null,null,null,null,null,null,null,null,null,null,null,null,null,null,null,null,null,null,null,null,null,null,null,null,null,null,{"$f":"\"飛行を付与 この飛行が付与されている間、ABﾀｲﾌﾟ特典の後衛効果を無視\"","v":"飛行を付与 この飛行が付与されている間、ABﾀｲﾌﾟ特典の後衛効果を無視"}]
[null,null,"インプロージョン","核、支","サブ","―","自身","自動","10MP",2,null,null,null,null,null,null,null,null,null,null,null,null,null,null,null,null,null,null,null,null,null,null,null,null,null,null,null,null,null,null,null,null,null,null,null,null,null,null,null,null,null,null,null,null,null,null,null,null,null,null,null,null,null,null,null,null,{"$f":"\"行動手番中の次使用ｽｷﾙのTLorCLに+7\n1戦闘3回制限\"","v":"行動手番中の次使用ｽｷﾙのTLorCLに+7\n1戦闘3回制限"}]
[null,null,"フォトンセイバー","核、近","メイン","超至近","単体","近接","3MP",8,null,null,null,null,null,null,null,null,null,null,null,null,null,null,null,null,null,null,null,null,null,null,null,null,null,null,null,null,null,null,null,null,null,null,null,null,null,null,null,null,null,null,null,null,null,null,null,null,null,null,null,null,null,null,null,null,{"$f":"\"〈光〉属性[\"&AB値+(CL*3)+物攻&\"+2D10]ﾀﾞﾒｰｼﾞの攻撃\n攻撃命中時、終了後に後衛配置\"","v":"〈光〉属性[11+2D10]ﾀﾞﾒｰｼﾞの攻撃\n攻撃命中時、終了後に後衛配置"}]
[null,null,"シャインバースト","核、射","メイン","中距離","2体","射撃","7MP","(4)→7",null,null,null,null,null,null,null,null,null,null,null,null,null,null,null,null,null,null,null,null,null,null,null,null,null,null,null,null,null,null,null,null,null,null,null,null,null,null,null,null,null,null,null,null,null,null,null,null,null,null,null,null,null,null,null,null,{"$f":"\"〈光〉属性射撃攻撃 与D+\"&(AB値+CL)*2&\"\n攻撃命中時、終了後に後衛配置\"","v":"〈光〉属性射撃攻撃 与D+0\n攻撃命中時、終了後に後衛配置"}]
[null,null,"アトミックバスター","核、射","メイン","中距離","単体","射撃\n+1","5MP","(3)→6",null,null,null,null,null,null,null,null,null,null,null,null,null,null,null,null,null,null,null,null,null,null,null,null,null,null,null,null,null,null,null,null,null,null,null,null,null,null,null,null,null,null,null,null,null,null,null,null,null,null,null,null,null,null,null,null,{"$f":"\"〈炎〉属性射撃攻撃 与D+\"&AB値+(CL*2)&\"\n攻撃命中時、終了後に後衛配置\"","v":"〈炎〉属性射撃攻撃 与D+0\n攻撃命中時、終了後に後衛配置"}]
[null,null,"スーパーフレア","核、魔","メイン","超至近","範囲()","魔術\n+2","10MP","(6)→8",null,null,null,null,null,null,null,null,null,null,null,null,null,null,null,null,null,null,null,null,null,null,null,null,null,null,null,null,null,null,null,null,null,null,null,null,null,null,null,null,null,null,null,null,null,null,null,null,null,null,null,null,null,null,null,null,{"$f":"\"〈炎〉〈光〉属性[\"&(AB値+CL)*2+物攻&\"+5D10]ﾀﾞﾒｰｼﾞの攻撃 攻撃命中対象に怯み(2)付与\n攻撃命中時、終了後に後衛配置\"","v":"〈炎〉〈光〉属性[11+5D10]ﾀﾞﾒｰｼﾞの攻撃 攻撃命中対象に怯み(2)付与\n攻撃命中時、終了後に後衛配置"}]
[null,null,"サポートレイ","核、支","オート","自陣","単体","自動","6MP","X",null,null,null,null,null,null,null,null,null,null,null,null,null,null,null,null,null,null,null,null,null,null,null,null,null,null,null,null,null,null,null,null,null,null,null,null,null,null,null,null,null,null,null,null,null,null,null,null,null,null,null,null,null,null,null,null,"戦闘中、判定直前に0～3(X)を選択\n判定達成値に+[X+1]\n1ﾒｲﾝ1回制限"]
[null,null,"リストレイントレイ","核、妨","オート","遠隔","単体","自動","6MP","X",null,null,null,null,null,null,null,null,null,null,null,null,null,null,null,null,null,null,null,null,null,null,null,null,null,null,null,null,null,null,null,null,null,null,null,null,null,null,null,null,null,null,null,null,null,null,null,null,null,null,null,null,null,null,null,null,"戦闘中、判定直前に0～3(X)を選択\n判定達成値に-[X+1]\n1ﾒｲﾝ1回制限"]
[null,null,"スラストカバー","核、庇","ダメロ","自陣","単体",0.9,"4MP",1,null,null,null,null,null,null,null,null,null,null,null,null,null,null,null,null,null,null,null,null,null,null,null,null,null,null,null,null,null,null,null,null,null,null,null,null,null,null,null,null,null,null,null,null,null,null,null,null,null,null,null,null,null,null,null,null,{"$f":"\"対象への攻撃ﾀﾞﾒｰｼﾞを引き受け、自身同ﾏｽ配置 判定出目が1なら被D0\n1ﾒｲﾝ\"&IF(CS!$AP$26=\"ブロッカー\",3,2)&\"回制限\"","v":"対象への攻撃ﾀﾞﾒｰｼﾞを引き受け、自身同ﾏｽ配置 判定出目が1なら被D0\n1ﾒｲﾝ2回制限"}]
[null,null,"フレアアシスト","核、支","ダメロ","自陣","単体","自動","5MP",3,null,null,null,null,null,null,null,null,null,null,null,null,null,null,null,null,null,null,null,null,null,null,null,null,null,null,null,null,null,null,null,null,null,null,null,null,null,null,null,null,null,null,null,null,null,null,null,null,null,null,null,null,null,null,null,null,{"$f":"IF(AND(AB値>=5,COUNTIFS(CS!AP28:AV57,\"メガアサルター\"),COUNTIFS(CS!D11:L12,\"アトミックブラスター\")=1)=TRUE,\"対象の攻撃与D+[1D10*1D10+\"&CL&\"]\n1ﾒｲﾝ1回制限\",\"取得不可\")","v":"取得不可"}]
[null,null,"ブラックフレア","核、攻","メイン","中距離","全体()",{"$f":"\"対決\n+\"&100+データ管理!AB29","v":"対決\n+100"},"3BP","(5)→10",null,null,null,null,null,null,null,null,null,null,null,null,null,null,null,null,null,null,null,null,null,null,null,null,null,null,null,null,null,null,null,null,null,null,null,null,null,null,null,null,null,null,null,null,null,null,null,null,null,null,null,null,null,null,null,null,{"$f":"IF(AND(AB値>=10,MC=\"アトミックブラスター\")=TRUE,\"〈無〉属性[\"&CL*9&\"+6D10]ﾀﾞﾒｰｼﾞの攻撃\n1戦闘\"&INT(AB値/10)&\"回制限\",\"取得不可\")","v":"取得不可"}]
[null,"AW","オルタナP→M","交","常時","―","自身","―","―","―",null,null,null,null,null,null,null,null,null,null,null,null,null,null,null,null,null,null,null,null,null,null,null,null,null,null,null,null,null,null,null,null,null,null,null,null,null,null,null,null,null,null,null,null,null,null,null,null,null,null,null,null,null,null,null,null,{"$f":"\"前ﾒｲﾝで【近接】or【射撃】判定していて、【魔術】判定の攻撃をする場合\n命中達成値+1　与D+\"&AW値+CL","v":"前ﾒｲﾝで【近接】or【射撃】判定していて、【魔術】判定の攻撃をする場合\n命中達成値+1　与D+0"}]
[null,null,"オルタナM→P","交","常時","―","自身","―","―","―",null,null,null,null,null,null,null,null,null,null,null,null,null,null,null,null,null,null,null,null,null,null,null,null,null,null,null,null,null,null,null,null,null,null,null,null,null,null,null,null,null,null,null,null,null,null,null,null,null,null,null,null,null,null,null,null,{"$f":"\"前ﾒｲﾝで【魔術】判定していて、【近接】or【射撃】判定の攻撃をする場合\n命中達成値+1　与D+\"&AW値+CL","v":"前ﾒｲﾝで【魔術】判定していて、【近接】or【射撃】判定の攻撃をする場合\n命中達成値+1　与D+0"}]
[null,null,"ポジションスイッチ","交、支","サブ","自陣","全体","自動","4MP",0,null,null,null,null,null,null,null,null,null,null,null,null,null,null,null,null,null,null,null,null,null,null,null,null,null,null,null,null,null,null,null,null,null,null,null,null,null,null,null,null,null,null,null,null,null,null,null,null,null,null,null,null,null,null,null,null,{"$f":"\"前衛と後衛を入れ替える\"&IF(AW値>=5,\"\n1戦闘1回 「射程：敵陣」「代償：15MP」として使用できる\",)","v":"前衛と後衛を入れ替える"}]
[null,null,"魔連撃","交、支","サブ","―","自身",0.8,"8MP",3,null,null,null,null,null,null,null,null,null,null,null,null,null,null,null,null,null,null,null,null,null,null,null,null,null,null,null,null,null,null,null,null,null,null,null,null,null,null,null,null,null,null,null,null,null,null,null,null,null,null,null,null,null,null,null,null,{"$f":"\"「種別：近or射」のスキルを【魔術】判定してもよい。その攻撃の与D+\"&魔攻&\"\n(近接(射撃)攻撃扱い=【物攻】適用)\"","v":"「種別：近or射」のスキルを【魔術】判定してもよい。その攻撃の与D+6\n(近接(射撃)攻撃扱い=【物攻】適用)"}]
[null,null,"マジックエッジ","交、近","メイン","超至近","単体","近接","3MP",8,null,null,null,null,null,null,null,null,null,null,null,null,null,null,null,null,null,null,null,null,null,null,null,null,null,null,null,null,null,null,null,null,null,null,null,null,null,null,null,null,null,null,null,null,null,null,null,null,null,null,null,null,null,null,null,null,{"$f":"\"〈近〉属性近接攻撃 与D+\"&AW値+(CL*3)&\"\n+2MPで【魔術】判定に変更可\n(近接攻撃扱い=【物攻】適用)\"","v":"〈近〉属性近接攻撃 与D+0\n+2MPで【魔術】判定に変更可\n(近接攻撃扱い=【物攻】適用)"}]
[null,null,"マジックアロー","交、射","メイン","遠隔","単体","射撃","5MP",10,null,null,null,null,null,null,null,null,null,null,null,null,null,null,null,null,null,null,null,null,null,null,null,null,null,null,null,null,null,null,null,null,null,null,null,null,null,null,null,null,null,null,null,null,null,null,null,null,null,null,null,null,null,null,null,null,{"$f":"\"〈遠〉属性射撃攻撃 与D+\"&AW値+(CL*3)&\"\n+2MPで【魔術】判定に変更可\n(射撃攻撃扱い=【物攻】適用)\"","v":"〈遠〉属性射撃攻撃 与D+0\n+2MPで【魔術】判定に変更可\n(射撃攻撃扱い=【物攻】適用)"}]
[null,null,"セヴァーウェーブ","交、魔","メイン","中距離","単体","魔術","7MP","(3)→9",null,null,null,null,null,null,null,null,null,null,null,null,null,null,null,null,null,null,null,null,null,null,null,null,null,null,null,null,null,null,null,null,null,null,null,null,null,null,null,null,null,null,null,null,null,null,null,null,null,null,null,null,null,null,null,null,{"$f":"\"近接武器装備時のみ使用可能\n〈近〉\"&IF(CS!Y18=\"近\",\"\",\"〈\"&CS!Y18&\"〉\")&\"属性[\"&(AW値*2)+(CL*3)+魔攻&\"+4D10]ﾀﾞﾒｰｼﾞの攻撃　[連続x]\"","v":"近接武器装備時のみ使用可能\n〈近〉属性[6+4D10]ﾀﾞﾒｰｼﾞの攻撃　[連続x]"}]
[null,null,"不意の二撃目","交、支","オート","―","自身","自動","8MP",3,null,null,null,null,null,null,null,null,null,null,null,null,null,null,null,null,null,null,null,null,null,null,null,null,null,null,null,null,null,null,null,null,null,null,null,null,null,null,null,null,null,null,null,null,null,null,null,null,null,null,null,null,null,null,null,null,{"$f":"\"命中判定直後使用可 片方の出目を振り直し\n1戦闘\"&COUNTIFS(CS!AW28:AY57,\"*交*\")&\"回制限\"","v":"命中判定直後使用可 片方の出目を振り直し\n1戦闘0回制限"}]
[null,null,"アヴォイドチェンジ","交、支","オート","自陣","単体","自動","6MP",2,null,null,null,null,null,null,null,null,null,null,null,null,null,null,null,null,null,null,null,null,null,null,null,null,null,null,null,null,null,null,null,null,null,null,null,null,null,null,null,null,null,null,null,null,null,null,null,null,null,null,null,null,null,null,null,null,"判定直前に使用可\n判定中、【回避】と【抵抗】を入れ替え\n1ﾒｲﾝ1回制限"]
[null,null,"アーマーチェンジ","交、防","ダメロ","自陣","単体","自動","5MP",1,null,null,null,null,null,null,null,null,null,null,null,null,null,null,null,null,null,null,null,null,null,null,null,null,null,null,null,null,null,null,null,null,null,null,null,null,null,null,null,null,null,null,null,null,null,null,null,null,null,null,null,null,null,null,null,null,"ﾀﾞﾒｰｼﾞを受けるとき使用可\nﾀﾞﾒﾛ中、【物防】と【魔防】を入れ替え\n1ﾒｲﾝ1回制限"]
[null,null,"チェンジポイント","交、支","(サブ)","―","自身","自動","2BP",1,null,null,null,null,null,null,null,null,null,null,null,null,null,null,null,null,null,null,null,null,null,null,null,null,null,null,null,null,null,null,null,null,null,null,null,null,null,null,null,null,null,null,null,null,null,null,null,null,null,null,null,null,null,null,null,null,{"$f":"IF(AND(AW値>=5,COUNTIFS(CS!D11:L12,\"オルタネイトウォーリアー\")=1)=TRUE,\"この行動手番中、【耐久】と【精神】、【HP】と【MP】を入れ替える。\n戻すとき上限は超えないものとする\",\"取得不可\")","v":"取得不可"}]
[null,null,"オルタネイトコンボ","交、攻","メイン","中距離","範囲()","本文","15MP",14,null,null,null,null,null,null,null,null,null,null,null,null,null,null,null,null,null,null,null,null,null,null,null,null,null,null,null,null,null,null,null,null,null,null,null,null,null,null,null,null,null,null,null,null,null,null,null,null,null,null,null,null,null,null,null,null,{"$f":"IF(AND(AW値>=10,MC=\"オルタネイトウォーリアー\",COUNTIFS(CS!AP28:AV57,\"オルタナP→M\")=1,COUNTIFS(CS!AP28:AV57,\"オルタナM→P\")=1)=TRUE,\"ｵﾙﾀﾅが発動する判定値で判定。〈武器の属性〉[\"&(AW値*3)+(CL*2)+MAX(物攻,魔攻)&\"+5D10]ﾀﾞﾒｰｼﾞの攻撃　[連続x]\",\"取得不可\")","v":"取得不可"}]
[null,"BC","血の刻印","血","常時","―","自身","―","―","―",null,null,null,null,null,null,null,null,null,null,null,null,null,null,null,null,null,null,null,null,null,null,null,null,null,null,null,null,null,null,null,null,null,null,null,null,null,null,null,null,null,null,null,null,null,null,null,null,null,null,null,null,null,null,null,null,{"$f":"\"攻撃によるBS付与時、【HP】を\"&CL*2-10&\"点支払う 攻撃対象に呪印(1)付与 呪印は自身の【HP】0で全解除\"","v":"攻撃によるBS付与時、【HP】を-10点支払う 攻撃対象に呪印(1)付与 呪印は自身の【HP】0で全解除"}]
[null,null,"呪印拡大","血","常時","―","自身","―","―","―",null,null,null,null,null,null,null,null,null,null,null,null,null,null,null,null,null,null,{"$f":"CL","v":0},null,null,null,null,null,null,null,null,null,null,null,null,null,null,null,null,null,null,null,null,null,null,null,null,null,null,null,null,null,null,null,null,null,null,null,null,null,{"$f":"\"【耐久】+\"&CL&\"\n呪印が付与された敵に呪印を付与する場合、値を合算して付与\"","v":"【耐久】+0\n呪印が付与された敵に呪印を付与する場合、値を合算して付与"}]
[null,null,"プラスブラッド","血、支","サブ","―","自身","自動","6MP",2,null,null,null,null,null,null,null,null,null,null,null,null,null,null,null,null,null,null,null,null,null,null,null,null,null,null,null,null,null,null,null,null,null,null,null,null,null,null,null,null,null,null,null,null,null,null,null,null,null,null,null,null,null,null,null,null,{"$f":"\"【HP】を\"&CL*2-5&\"点支払う\n直後メインの最初の攻撃の与D+\"&CL*3&\"\n攻撃命中時、【HP】\"&CL&\"点回復\"","v":"【HP】を-5点支払う\n直後メインの最初の攻撃の与D+0\n攻撃命中時、【HP】0点回復"}]
[null,null,"ブラッドブレード","血、近","メイン",{"$f":"ｽﾀｲﾙVL用!G52","v":"超至近"},"単体","近接\n+1","3MP",8,null,null,null,null,null,null,null,null,null,null,null,null,null,null,null,null,null,null,null,null,null,null,null,null,null,null,null,null,null,null,null,null,null,null,null,null,null,null,null,null,null,null,null,null,null,null,null,null,null,null,null,null,null,null,null,null,{"$f":"\"【HP】を\"&CL+5&\"点支払い、\n〈\"&ｽﾀｲﾙVL用!$H$52&\"〉属性近接攻撃 与D+\"&BC値+CL*2&\"\n攻撃命中対象に怯み(1)付与\"","v":"【HP】を5点支払い、\n〈近〉属性近接攻撃 与D+0\n攻撃命中対象に怯み(1)付与"}]
[null,null,"ペインショット","血、射","メイン","遠隔x","単体","射撃","5MP",9,null,null,null,null,null,null,null,null,null,null,null,null,null,null,null,null,null,null,null,null,null,null,null,null,null,null,null,null,null,null,null,null,null,null,null,null,null,null,null,null,null,null,null,null,null,null,null,null,null,null,null,null,null,null,null,null,{"$f":"\"【HP】を\"&CL+10&\"点支払い、\n〈\"&CS!Y18&\"〉属性射撃攻撃 与D+\"&BC値+CL*3&\"\n攻撃命中対象に 60%呪印(1)付与\"","v":"【HP】を10点支払い、\n〈近〉属性射撃攻撃 与D+0\n攻撃命中対象に 60%呪印(1)付与"}]
[null,null,"エナジードレイン","血、攻","メイン","遠隔","[単体]",{"$f":"\"対決\n+N+\"&2+データ管理!AB29","v":"対決\n+N+2"},"4MP","[8]",null,null,null,null,null,null,null,null,null,null,null,null,null,null,null,null,null,null,null,null,null,null,null,null,null,null,null,null,null,null,null,null,null,null,null,null,null,null,null,null,null,null,null,null,null,null,null,null,null,null,null,null,null,null,null,null,{"$f":"\"〈無〉属性[(N×\"&CL*3&\")+(N×4)D10]点のﾀﾞﾒｰｼﾞの攻撃　命中時、自身の【MP】[N×\"&BC値&\"]点回復し、対象の呪印解除\"","v":"〈無〉属性[(N×0)+(N×4)D10]点のﾀﾞﾒｰｼﾞの攻撃　命中時、自身の【MP】[N×0]点回復し、対象の呪印解除"}]
[null,null,"ブラッディクロス","血、魔","メイン","遠隔","範囲()","魔術\n+2","13MP","(6)→7",null,null,null,null,null,null,null,null,null,null,null,null,null,null,null,null,null,null,null,null,null,null,null,null,null,null,null,null,null,null,null,null,null,null,null,null,null,null,null,null,null,null,null,null,null,null,null,null,null,null,null,null,null,null,null,null,{"$f":"\"【HP】を\"&CL+20&\"点支払い、\n〈遠〉属性[\"&CL*4+魔攻&\"+5D10]ﾀﾞﾒｰｼﾞの攻撃\n攻撃命中対象に 70%怯み(2)付与\"","v":"【HP】を20点支払い、\n〈遠〉属性[6+5D10]ﾀﾞﾒｰｼﾞの攻撃\n攻撃命中対象に 70%怯み(2)付与"}]
[null,null,"血流制御","血、支","オート","―","自身","自動",{"$f":"CL+20&\"HP\"","v":"20HP"},1,null,null,null,null,null,null,null,null,null,null,null,null,null,null,null,null,null,null,null,null,null,null,null,null,null,null,null,null,null,null,null,null,null,null,null,null,null,null,null,null,null,null,null,null,null,null,null,null,null,null,null,null,null,null,null,null,{"$f":"\"【HP】を\"&CL+20&\"点支払い、\n自身に付与されるBSを無効化\n1戦闘\"&COUNTIFS(CS!AW28:AY57,\"*血*\")&\"回制限\"","v":"【HP】を20点支払い、\n自身に付与されるBSを無効化\n1戦闘0回制限"}]
[null,null,"クロスドレイン","血、支","オート","遠隔","単体",0.8,"9MP",2,null,null,null,null,null,null,null,null,null,null,null,null,null,null,null,null,null,null,null,null,null,null,null,null,null,null,null,null,null,null,null,null,null,null,null,null,null,null,null,null,null,null,null,null,null,null,null,null,null,null,null,null,null,null,null,null,{"$f":"\"敵の攻撃回避時、攻撃対象に〈無〉\"&CL*3&\"ﾀﾞﾒｰｼﾞ 自身の【HP】\"&CL*3&\"回復し、対象に呪印(1)付与 1ﾒｲﾝ1回制限\"","v":"敵の攻撃回避時、攻撃対象に〈無〉0ﾀﾞﾒｰｼﾞ 自身の【HP】0回復し、対象に呪印(1)付与 1ﾒｲﾝ1回制限"}]
[null,null,"不壊の血盾","血、防","ダメロ","自陣","単体","自動","2BP",2,null,null,null,null,null,null,null,null,null,null,null,null,null,null,null,null,null,null,null,null,null,null,null,null,null,null,null,null,null,null,null,null,null,null,null,null,null,null,null,null,null,null,null,null,null,null,null,null,null,null,null,null,null,null,null,null,"対象が受けるﾀﾞﾒｰｼﾞを0にし、自身の【HP】1にして疲労付与(無効不可)\n疲労付与時、このｽｷﾙ使用不可"]
[null,null,"運命掌握","血、支","オート","―","自身","自動","なし",0,null,null,null,null,null,null,null,null,null,null,null,null,null,null,null,null,null,null,null,null,null,null,null,null,null,null,null,null,null,null,null,null,null,null,null,null,null,null,null,null,null,null,null,null,null,null,null,null,null,null,null,null,null,null,null,null,{"$f":"IF(AND(BC値>=5,COUNTIFS(CS!$D$11:$L$12,\"ブラッディコントラクター\")=1)=TRUE,\"戦闘中の判定を【HP】を[\"&CL*3&\"+3D10]点支払い振り直す。回数制限なし\",\"取得不可\")","v":"取得不可"}]
[null,null,"カースバインド","血","常時","―","自身","―","―","―",null,null,null,null,null,null,null,null,null,null,null,null,null,null,null,null,null,null,null,null,null,null,null,null,null,null,null,null,null,null,null,null,null,null,null,null,null,null,null,null,null,null,null,null,null,null,null,null,null,null,null,null,null,null,null,null,{"$f":"IF(AND(BC値>=10,MC=\"ブラッディコントラクター\",COUNTIFS(CS!AP28:AV57,\"血の刻印\")=1,COUNTIFS(CS!AP28:AV57,\"呪印拡大\")=1)=TRUE,\"呪印(N)付与の敵への攻撃の\n与D+[N×\"&CL+3&\"] 呪印の付与解除時、【HP】\"&CL*3&\"回復\",\"取得不可\")","v":"取得不可"}]
[null,"CI","クロスファイト","色","常時","―","自身","―","―","―",null,null,null,null,null,null,null,null,null,null,null,null,null,null,null,null,null,null,null,null,null,null,null,null,null,null,null,null,null,null,null,null,null,null,null,null,null,null,null,null,null,null,null,null,null,null,null,null,null,null,null,null,null,null,null,null,{"$f":"\"前衛にいる間\n前衛の敵への攻撃与D+\"&CL&\"\n前衛の敵の攻撃による被D-\"&CL","v":"前衛にいる間\n前衛の敵への攻撃与D+0\n前衛の敵の攻撃による被D-0"}]
[null,null,"グレースラッシュ","色、近","メイン","超至近","単体","近接","3MP",8,null,null,null,null,null,null,null,null,null,null,null,null,null,null,null,null,null,null,null,null,null,null,null,null,null,null,null,null,null,null,null,null,null,null,null,null,null,null,null,null,null,null,null,null,null,null,null,null,null,null,null,null,null,null,null,null,{"$f":"IF(CS!AE49>=3,\"〈近〉属性近接攻撃 与D+\"&(CI値+CL)*2,\"使用不可\")","v":"使用不可"}]
[null,null,"レッドフレアスピア","色、近","メイン","中距離","各1","近接","7MP",11,null,null,null,null,null,null,null,null,null,null,null,null,null,null,null,null,null,null,null,null,null,null,null,null,null,null,null,null,null,null,null,null,null,null,null,null,null,null,null,null,null,null,null,null,null,null,null,null,null,null,null,null,null,null,null,null,{"$f":"IF(CS!AE51>=3,\"〈炎〉属性近接攻撃 与D+\"&CI値+(CL*3)&\"\n2体以上に命中した場合\n1ﾒｲﾝ間 被D-\"&CI値*2&\"　[連続x]\",\"使用不可\")","v":"使用不可"}]
[null,null,"ホワイトエッジ","色、近","メイン","超至近","単体","近接\n-1","3MP",7,null,null,null,null,null,null,null,null,null,null,null,null,null,null,null,null,null,null,null,null,null,null,null,null,null,null,null,null,null,null,null,null,null,null,null,null,null,null,null,null,null,null,null,null,null,null,null,null,null,null,null,null,null,null,null,null,{"$f":"IF(CS!AE52>=3,\"〈氷〉属性近接攻撃 与D+\"&CI値+(CL*2)&\"\n攻撃命中対象に 30%凍結付与\n[連続x]\",\"使用不可\")","v":"使用不可"}]
[null,null,"ブルーストライク","色、近","メイン","至近","[単体]","近接","7MP",10,null,null,null,null,null,null,null,null,null,null,null,null,null,null,null,null,null,null,null,null,null,null,null,null,null,null,null,null,null,null,null,null,null,null,null,null,null,null,null,null,null,null,null,null,null,null,null,null,null,null,null,null,null,null,null,null,{"$f":"IF(CS!AE53>=3,\"〈水〉属性近接攻撃 与D+\"&CI値+(CL*2)&\"\n与えたﾀﾞﾒｰｼﾞの半分(↑)【HP】回復\n[連続x]\",\"使用不可\")","v":"使用不可"}]
[null,null,"橙雷帝斬","色、近","メイン","至近","範囲()","近接","8MP",10,null,null,null,null,null,null,null,null,null,null,null,null,null,null,null,null,null,null,null,null,null,null,null,null,null,null,null,null,null,null,null,null,null,null,null,null,null,null,null,null,null,null,null,null,null,null,null,null,null,null,null,null,null,null,null,null,{"$f":"IF(CS!AE54>=3,\"〈雷〉属性近接攻撃 与D+\"&CI値+(CL*3)&\"\n攻撃命中対象に 20%マヒ、20%怯み(2)付与　[連続x]\",\"使用不可\")","v":"使用不可"}]
[null,null,"碧龍連撃","色、近","メイン","超至近","[単体]","近接\n+1","6MP",2,null,null,null,null,null,null,null,null,null,null,null,null,null,null,null,null,null,null,null,null,null,null,null,null,null,null,null,null,null,null,null,null,null,null,null,null,null,null,null,null,null,null,null,null,null,null,null,null,null,null,null,null,null,null,null,null,{"$f":"IF(CS!AE55>=3,\"〈風〉属性近接攻撃 与D+[\"&CI値+(CL*2)&\"+(N×2)]　N：[命中達成値 - 回避達成値]\n(ｸﾘﾃｨｶﾙの場合15)　[連続x]\",\"使用不可\")","v":"使用不可"}]
[null,null,"イエロースイング","色、近","メイン","超至近","単体","近接","5MP",8,null,null,null,null,null,null,null,null,null,null,null,null,null,null,null,null,null,null,null,null,null,null,null,null,null,null,null,null,null,null,null,null,null,null,null,null,null,null,null,null,null,null,null,null,null,null,null,null,null,null,null,null,null,null,null,null,{"$f":"IF(CS!AE56>=3,\"〈光〉属性近接攻撃 与D+\"&CI値+(CL*3)&\"\n攻撃の命中F値\"&IF(データ管理!F29+3>=MAX(データ管理!G29,8),データ管理!G29,データ管理!F29+3)&\"\n[連続x]\",\"使用不可\")","v":"使用不可"}]
[null,null,"ブラックブレイク","色、近","メイン","超至近","単体","近接\n+1","3BP",9,null,null,null,null,null,null,null,null,null,null,null,null,null,null,null,null,null,null,null,null,null,null,null,null,null,null,null,null,null,null,null,null,null,null,null,null,null,null,null,null,null,null,null,null,null,null,null,null,null,null,null,null,null,null,null,null,{"$f":"IF(MIN(CS!AE49:AG56)>=0,\"〈無〉属性近接攻撃 与D+\"&(CI値+CL)*2,\"使用不可\")","v":"使用不可"}]
[null,null,"色波誘導","色、庇","ダメロ","自陣","単体","自動","4MP",2,null,null,null,null,null,null,null,null,null,null,null,null,null,null,null,null,null,null,null,null,null,null,null,null,null,null,null,null,null,null,null,null,null,null,null,null,null,null,null,null,null,null,null,null,null,null,null,null,null,null,null,null,null,null,null,null,{"$f":"\"対象への攻撃ﾀﾞﾒｰｼﾞを引き受ける\"&IF(ｽﾀｲﾙVL用!B59=\"\",\"\",\"\n\"&ｽﾀｲﾙVL用!B59&\"属性ﾀﾞﾒｰｼﾞなら被D\"&CL&\"点軽減\")","v":"対象への攻撃ﾀﾞﾒｰｼﾞを引き受ける"}]
[null,null,"カラーバリア","色、防","ダメロ","自陣","単体","自動","3BP",0,null,null,null,null,null,null,null,null,null,null,null,null,null,null,null,null,null,null,null,null,null,null,null,null,null,null,null,null,null,null,null,null,null,null,null,null,null,null,null,null,null,null,null,null,null,null,null,null,null,null,null,null,null,null,null,null,{"$f":"IF(AND(CI値>=5,COUNTIFS(CS!$D$11:$L$12,\"カラーインファイター\")=1)=TRUE,IF(CS!AE49>=5,\"〈近〉\",\"\")&IF(CS!AE50>=5,\"〈遠〉\",\"\")&IF(CS!AE51>=5,\"〈炎〉\",\"\")&IF(CS!AE52>=5,\"〈氷〉\",\"\")&IF(CS!AE53>=5,\"〈水〉\",\"\")&IF(CS!AE54>=5,\"〈雷〉\",\"\")&IF(CS!AE55>=5,\"〈風〉\",\"\")&IF(CS!AE56>=5,\"〈光〉\",\"\")&\"のいずれかの属性ダメージを受けるとき被D0にする。1戦闘 各属性1回制限\",\"取得不可\")","v":"取得不可"}]
[null,null,"カラーチェンジ","色、支","ダメロ","自陣","単体","自動","6MP",3,null,null,null,null,null,null,null,null,null,null,null,null,null,null,null,null,null,null,null,null,null,null,null,null,null,null,null,null,null,null,null,null,null,null,null,null,null,null,null,null,null,null,null,null,null,null,null,null,null,null,null,null,null,null,null,null,{"$f":"IF(AND(CI値>=10,MC=\"カラーインファイター\")=TRUE,\"ﾀﾞﾒﾛ開始時、\"&IF(CS!AE49>=5,\"〈近〉\",\"\")&IF(CS!AE50>=5,\"〈遠〉\",\"\")&IF(CS!AE51>=5,\"〈炎〉\",\"\")&IF(CS!AE52>=5,\"〈氷〉\",\"\")&IF(CS!AE53>=5,\"〈水〉\",\"\")&IF(CS!AE54>=5,\"〈雷〉\",\"\")&IF(CS!AE55>=5,\"〈風〉\",\"\")&IF(CS!AE56>=5,\"〈光〉\",\"\")&\"のいずれか1つ選択した属性に、攻撃の属性を変更　1ﾒｲﾝ1回制限\",\"取得不可\")","v":"取得不可"}]
[null,"CT","インスタビリティ","混","常時","―","自身","―","―","―",null,null,null,null,null,null,null,null,null,null,null,null,null,null,null,null,null,null,null,null,null,null,null,null,null,null,null,null,{"$f":"IF(CT値>=7,-1,\"\")","v":""},null,{"$f":"IF(CT値>=7,17,\"\")","v":""},{"$f":"IF(CT値>=7,1,\"\")","v":""},{"$f":"IF(CT値>=7,8,\"\")","v":""},null,null,null,null,null,null,null,null,null,null,null,null,null,null,null,null,null,null,null,null,null,null,null,{"$f":"\"攻撃の与D+\"&IF(CL-30=0,\"5D10\",\"[5D10\"&(CL-30)&\"]\")&IF(CT値>=7,\"\n命中C値-1(下限値：17)\n命中F値+1(上限値：8) <済>\",\"\")","v":"攻撃の与D+[5D10-30]"}]
[null,null,"マルチアイテム","混、支","サブ","―","自身","自動","3MP",0,null,null,null,null,null,null,null,null,null,null,null,null,null,null,null,null,null,null,null,null,null,null,null,null,null,null,null,null,null,null,null,null,null,null,null,null,null,null,null,null,null,null,null,null,null,null,null,null,null,null,null,null,null,null,null,null,{"$f":"\"消費ｱｲﾃﾑを\"&IF(CT値>=10,3,2)&\"つまで使用\"","v":"消費ｱｲﾃﾑを2つまで使用"}]
[null,null,"ギャンブルチャージ","混、支、回","サブ","―","自身",0.5,"10MP",0,null,null,null,null,null,null,null,null,null,null,null,null,null,null,null,null,null,null,null,null,null,null,null,null,null,null,null,null,null,null,null,null,null,null,null,null,null,null,null,null,null,null,null,null,null,null,null,null,null,null,null,null,null,null,null,null,{"$f":"\"【HP】\"&CL*3-5&\"回復し、【MP】20回復\"","v":"【HP】-5回復し、【MP】20回復"}]
[null,null,"カウントダウンボム","混、配","サブ","―","本文","自動","10MP",0,null,null,null,null,null,null,null,null,null,null,null,null,null,null,null,null,null,null,null,null,null,null,null,null,null,null,null,null,null,null,null,null,null,null,null,null,null,null,null,null,null,null,null,null,null,null,null,null,null,null,null,null,null,null,null,null,{"$f":"\"味方前衛に「ｶｳﾝﾄﾀﾞｳﾝﾎﾞﾑ」(【耐久】:\"&CL*10+データ管理!AD29&\")を配置 次行動手番で味方後衛以外に〈無〉\"&CL*10&\"ﾀﾞﾒｰｼﾞ→【HP】0\"","v":"味方前衛に「ｶｳﾝﾄﾀﾞｳﾝﾎﾞﾑ」(【耐久】:0)を配置 次行動手番で味方後衛以外に〈無〉0ﾀﾞﾒｰｼﾞ→【HP】0"}]
[null,null,"ファントムエッジ","混、近","メイン","至近","単体","近接\n+2","6MP",9,null,null,null,null,null,null,null,null,null,null,null,null,null,null,null,null,null,null,null,null,null,null,null,null,null,null,null,null,null,null,null,null,null,null,null,null,null,null,null,null,null,null,null,null,null,null,null,null,null,null,null,null,null,null,null,null,{"$f":"\"〈近〉属性近接攻撃 与D+\"&CT値+(CL*2)&\"\n命中判定がﾌｧﾝﾌﾞﾙ以外で失敗した場合、【MP】4点回復\"","v":"〈近〉属性近接攻撃 与D+0\n命中判定がﾌｧﾝﾌﾞﾙ以外で失敗した場合、【MP】4点回復"}]
[null,null,"カオスボム","混、射","メイン","遠隔x","[単体]","射撃","4MP","(1)→8",null,null,null,null,null,null,null,null,null,null,null,null,null,null,null,null,null,null,null,null,null,null,null,null,null,null,null,null,null,null,null,null,null,null,null,null,null,null,null,null,null,null,null,null,null,null,null,null,null,null,null,null,null,null,null,null,{"$f":"\"〈遠〉属性射撃攻撃 与D+\"&CT値+CL&\"　命中対象に40%[火傷(\"&CL+5&\"),凍結,呪い,ﾏﾋ,恐怖,睡眠,疲労,毒(\"&CL*2&\"),封印,怯み(5)] 付与\"","v":"〈遠〉属性射撃攻撃 与D+0　命中対象に40%[火傷(5),凍結,呪い,ﾏﾋ,恐怖,睡眠,疲労,毒(0),封印,怯み(5)] 付与"}]
[null,null,"カオスマジック","混、魔","メイン","中距離","単体","魔術","6MP","(3)→6",null,null,null,null,null,null,null,null,null,null,null,null,null,null,null,null,null,null,null,null,null,null,null,null,null,null,null,null,null,null,null,null,null,null,null,null,null,null,null,null,null,null,null,null,null,null,null,null,null,null,null,null,null,null,null,null,{"$f":"\"[\"&(CT値+CL)*2+魔攻&\"+5D10]ﾀﾞﾒｰｼﾞの攻撃\n属性は判定前に[近,遠,炎,氷,水,雷,風,光,無,炎～光]から1D10で決定\"","v":"[6+5D10]ﾀﾞﾒｰｼﾞの攻撃\n属性は判定前に[近,遠,炎,氷,水,雷,風,光,無,炎～光]から1D10で決定"}]
[null,null,"トリックブレイク","混、支、妨","オート","中距離","単体",0.8,"6MP",2,null,null,null,null,null,null,null,null,null,null,null,null,null,null,null,null,null,null,null,null,null,null,null,null,null,null,null,null,null,null,null,null,null,null,null,null,null,null,null,null,null,null,null,null,null,null,null,null,null,null,null,null,null,null,null,null,{"$f":"\"判定直後使用可 判定達成値+2 or -2\n1戦闘\"&COUNTIFS(CS!$AW$28:$AY$57,\"*混*\")&\"回制限\"","v":"判定直後使用可 判定達成値+2 or -2\n1戦闘0回制限"}]
[null,null,"カウンタートリック","混、攻","オート","遠隔","本文",{"$f":"\"対決\"&IF(データ管理!AB29>0,\"\n+\"&データ管理!AB29,\"\")","v":"対決"},"6MP","[6]",null,null,null,null,null,null,null,null,null,null,null,null,null,null,null,null,null,null,null,null,null,null,null,null,null,null,null,null,null,null,null,null,null,null,null,null,null,null,null,null,null,null,null,null,null,null,null,null,null,null,null,null,null,null,null,null,{"$f":"\"攻撃によるﾀﾞﾒｰｼﾞを受けた時、攻撃者を対象に〈無〉属性[\"&CL*3&\"+4D10]ﾀﾞﾒｰｼﾞを与える攻撃を行う　1ﾒｲﾝ1回制限\"","v":"攻撃によるﾀﾞﾒｰｼﾞを受けた時、攻撃者を対象に〈無〉属性[0+4D10]ﾀﾞﾒｰｼﾞを与える攻撃を行う　1ﾒｲﾝ1回制限"}]
[null,null,"プラスランダム","混、支、妨","ダメロ","遠隔","単体","自動","7MP",1,null,null,null,null,null,null,null,null,null,null,null,null,null,null,null,null,null,null,null,null,null,null,null,null,null,null,null,null,null,null,null,null,null,null,null,null,null,null,null,null,null,null,null,null,null,null,null,null,null,null,null,null,null,null,null,null,{"$f":"\"対象の攻撃ﾀﾞﾒﾛ開始時使用可\n攻撃属性を[近,遠,炎,氷,水,雷,風,光,無,同一]から1D10で決定 1戦闘3回制限\"","v":"対象の攻撃ﾀﾞﾒﾛ開始時使用可\n攻撃属性を[近,遠,炎,氷,水,雷,風,光,無,同一]から1D10で決定 1戦闘3回制限"}]
[null,null,"オールランダム","混、支、妨","オート","遠隔","単体","自動","15MP",1,null,null,null,null,null,null,null,null,null,null,null,null,null,null,null,null,null,null,null,null,null,null,null,null,null,null,null,null,null,null,null,null,null,null,null,null,null,null,null,null,null,null,null,null,null,null,null,null,null,null,null,null,null,null,null,null,{"$f":"IF(AND(CT値>=5,COUNTIFS(CS!$D$11:$L$12,\"カオストリックスター\")=1)=TRUE,\"攻撃の命中判定直前に使用し「対決」に変更　命中・回避判定に振り直し・達成値操作無効　1戦闘2回制限\",\"取得不可\")","v":"取得不可"}]
[null,null,"ファンブルスネア","混、妨","オート","遠隔","単体","自動","2BP",0,null,null,null,null,null,null,null,null,null,null,null,null,null,null,null,null,null,null,null,null,null,null,null,null,null,null,null,null,null,null,null,null,null,null,null,null,null,null,null,null,null,null,null,null,null,null,null,null,null,null,null,null,null,null,null,null,{"$f":"IF(AND(CT値>=10,MC=\"カオストリックスター\")=TRUE,\"判定直前に使用可\n判定F値を12に固定し、ﾌｧﾝﾌﾞﾙで対象に怯み(3)付与　1戦闘3回制限\",\"取得不可\")","v":"取得不可"}]
[null,"EE","雷神の力","雷","常時","―","自身","―","―","―",null,null,null,null,null,null,null,null,null,null,null,null,null,null,null,null,null,null,null,null,null,null,null,null,null,null,null,null,null,null,null,null,null,null,null,null,null,null,null,null,null,null,null,null,null,null,-2,null,null,null,null,null,null,null,null,null,{"$f":"\"[BP上限値]-2 <済> 〈雷〉属性攻撃与D+\"&EE値+CL&\"　攻撃で敵にﾏﾋ付与時、攻勢(\"&CL&\")付与　攻勢付与中は、覚醒付与\"","v":"[BP上限値]-2 <済> 〈雷〉属性攻撃与D+0　攻撃で敵にﾏﾋ付与時、攻勢(0)付与　攻勢付与中は、覚醒付与"}]
[null,null,"プラスサンダー","雷、支","サブ","自陣","単体","自動","5MP",2,null,null,null,null,null,null,null,null,null,null,null,null,null,null,null,null,null,null,null,null,null,null,null,null,null,null,null,null,null,null,null,null,null,null,null,null,null,null,null,null,null,null,null,null,null,null,null,null,null,null,null,null,null,null,null,null,{"$f":"\"2ﾒｲﾝ間、攻撃に〈雷〉属性追加\n〈雷〉〈光〉属性の被D-\"&EE値*2+CL","v":"2ﾒｲﾝ間、攻撃に〈雷〉属性追加\n〈雷〉〈光〉属性の被D-0"}]
[null,null,"エレクトロバリア","雷、防","サブ","―","自身","自動","8MP",3,null,null,null,null,null,null,null,null,null,null,null,null,null,null,null,null,null,null,null,null,null,null,null,null,null,null,null,null,null,null,null,null,null,null,null,null,null,null,null,null,null,null,null,null,null,null,null,null,null,null,null,null,null,null,null,null,{"$f":"\"3ｶｳﾝﾄ後終了時まで、敵からの攻撃ﾀﾞﾒｰｼﾞ無効。この効果中「種別：庇」使用不可　[連続x]\"","v":"3ｶｳﾝﾄ後終了時まで、敵からの攻撃ﾀﾞﾒｰｼﾞ無効。この効果中「種別：庇」使用不可　[連続x]"}]
[null,null,"プラズマファング","雷、近","メイン","超至近","単体","近接","4MP",9,null,null,null,null,null,null,null,null,null,null,null,null,null,null,null,null,null,null,null,null,null,null,null,null,null,null,null,null,null,null,null,null,null,null,null,null,null,null,null,null,null,null,null,null,null,null,null,null,null,null,null,null,null,null,null,null,{"$f":"\"〈雷〉属性[\"&EE値+(CL*2)+物攻&\"+2D10]ﾀﾞﾒｰｼﾞの攻撃\n攻撃命中対象に怯み(1D10-6)付与\"","v":"〈雷〉属性[11+2D10]ﾀﾞﾒｰｼﾞの攻撃\n攻撃命中対象に怯み(1D10-6)付与"}]
[null,null,"サンダーショット","雷、射","メイン","遠隔","単体","射撃\n-1","4MP",10,null,null,null,null,null,null,null,null,null,null,null,null,null,null,null,null,null,null,null,null,null,null,null,null,null,null,null,null,null,null,null,null,null,null,null,null,null,null,null,null,null,null,null,null,null,null,null,null,null,null,null,null,null,null,null,null,{"$f":"\"〈雷〉属性射撃攻撃 与D+\"&EE値+CL*3&\"\n攻撃命中対象に 40%マヒ付与\"","v":"〈雷〉属性射撃攻撃 与D+0\n攻撃命中対象に 40%マヒ付与"}]
[null,null,"ショックボム","雷、魔","メイン","遠隔x","単体","魔術","8MP","(4)→6",null,null,null,null,null,null,null,null,null,null,null,null,null,null,null,null,null,null,null,null,null,null,null,null,null,null,null,null,null,null,null,null,null,null,null,null,null,null,null,null,null,null,null,null,null,null,null,null,null,null,null,null,null,null,null,null,{"$f":"\"〈雷〉属性[\"&EE値+(CL*3)+魔攻&\"+4D10]ﾀﾞﾒｰｼﾞの攻撃\n命中時、対象以外の全敵ﾕﾆｯﾄに\n〈雷〉属性\"&COUNTIFS(CS!AW28:AY57,\"*雷*\")*7&\"ダメージ\"","v":"〈雷〉属性[6+4D10]ﾀﾞﾒｰｼﾞの攻撃\n命中時、対象以外の全敵ﾕﾆｯﾄに\n〈雷〉属性0ダメージ"}]
[null,null,"ブレインクラッシュ","雷、攻","メイン","遠隔","単体","武器","12MP",8,null,null,null,null,null,null,null,null,null,null,null,null,null,null,null,null,null,null,null,null,null,null,null,null,null,null,null,null,null,null,null,null,null,null,null,null,null,null,null,null,null,null,null,null,null,null,null,null,null,null,null,null,null,null,null,null,{"$f":"\"凍結orマヒor封印のﾕﾆｯﾄのみ選択可\n〈雷〉〈無〉属性[\"&CL*8&\"+8D10]ﾀﾞﾒｰｼﾞの攻撃 攻撃命中対象に怯み(3)付与\"","v":"凍結orマヒor封印のﾕﾆｯﾄのみ選択可\n〈雷〉〈無〉属性[0+8D10]ﾀﾞﾒｰｼﾞの攻撃 攻撃命中対象に怯み(3)付与"}]
[null,null,"シグナルアクト","雷、支","オート","―","自身","自動","2MP",2,null,null,null,null,null,null,null,null,null,null,null,null,null,null,null,null,null,null,null,null,null,null,null,null,null,null,null,null,null,null,null,null,null,null,null,null,null,null,null,null,null,null,null,null,null,null,null,null,null,null,null,null,null,null,null,null,{"$f":"\"戦闘中の判定直後使用可\n判定を振り直す\n1戦闘\"&IF(反射値>=25,5,3)&\"回制限\"","v":"戦闘中の判定直後使用可\n判定を振り直す\n1戦闘3回制限"}]
[null,null,"リトライヴスパーク","雷、支","オート","自陣","単体",0.8,"なし",2,null,null,null,null,null,null,null,null,null,null,null,null,null,null,null,null,null,null,null,null,null,null,null,null,null,null,null,null,null,null,null,null,null,null,null,null,null,null,null,null,null,null,null,null,null,null,null,null,null,null,null,null,null,null,null,null,"対象へのﾏﾋ付与時使用可\nその付与を無効にし、自身の【MP】1D10回復　1戦闘2回制限"]
[null,null,"瞬雷壁","雷、庇","ダメロ","自陣","単体","自動","6MP",0,null,null,null,null,null,null,null,null,null,null,null,null,null,null,null,null,null,null,null,null,null,null,null,null,null,null,null,null,null,null,null,null,null,null,null,null,null,null,null,null,null,null,null,null,null,null,null,null,null,null,null,null,null,null,null,null,{"$f":"\"対象への攻撃ﾀﾞﾒｰｼﾞを引き受け、自身を対象と同ﾏｽ配置\n1ﾒｲﾝ\"&IF(CS!$AP$26=\"ブロッカー\",3,2)&\"回制限\"","v":"対象への攻撃ﾀﾞﾒｰｼﾞを引き受け、自身を対象と同ﾏｽ配置\n1ﾒｲﾝ2回制限"}]
[null,null,"リフレクトライトニング","雷、魔","メイン","遠隔","[単体]","魔術\n+1","16MP","(7)→6",null,null,null,null,null,null,null,null,null,null,null,null,null,null,null,null,null,null,null,null,null,null,null,null,null,null,null,null,null,null,null,null,null,null,null,null,null,null,null,null,null,null,null,null,null,null,null,null,null,null,null,null,null,null,null,null,{"$f":"IF(AND(EE値>=5,COUNTIFS(CS!$D$11:$L$12,\"エレクトロエンフォーサー\")=1)=TRUE,\"〈雷〉属性[\"&(EE値+CL)*2+魔攻&\"+4D10]ﾀﾞﾒｰｼﾞの攻撃\n命中した場合、攻撃後に別対象にもう一度発動(最大3回攻撃)\",\"取得不可\")","v":"取得不可"}]
[null,null,"ライトニングカノン","雷、攻","メイン","遠隔","各1","武器","18MP","(3)→11",null,null,null,null,null,null,null,null,null,null,null,null,null,null,null,null,null,null,null,null,null,null,null,null,null,null,null,null,null,null,null,null,null,null,null,null,null,null,null,null,null,null,null,null,null,null,null,null,null,null,null,null,null,null,null,null,{"$f":"IF(AND(EE値>=10,MC=\"エレクトロエンフォーサー\")=TRUE,\"〈雷〉[\"&EE値*7+MAX(物攻,魔攻)&\"+5D10]ﾀﾞﾒｰｼﾞの攻撃\n攻撃命中対象にマヒ付与\n[連続x]\",\"取得不可\")","v":"取得不可"}]
[null,"FC","氷の帝王","氷","常時","―","自身","―","―","―",null,null,null,null,null,null,null,null,null,null,null,null,null,null,null,null,null,null,null,null,null,null,null,null,null,null,null,null,null,null,null,null,null,null,null,null,null,null,null,null,null,null,null,null,null,null,null,null,null,null,null,null,null,null,null,null,{"$f":"\"自身や配置ﾕﾆｯﾄが敵に凍結付与時、【MP】3回復(攻撃1回で1回まで)\n凍結の敵への命中達成値+2 与D+\"&FC値+CL*2","v":"自身や配置ﾕﾆｯﾄが敵に凍結付与時、【MP】3回復(攻撃1回で1回まで)\n凍結の敵への命中達成値+2 与D+0"}]
[null,null,"スケーティング","氷、支","スタート","―","自身","自動","15MP",0,null,null,null,null,null,null,null,null,null,null,null,null,null,null,null,null,null,null,null,null,null,null,null,null,null,null,null,null,null,null,null,null,null,null,null,null,null,null,null,null,null,null,null,null,null,null,null,null,null,null,null,null,null,null,null,null,{"$f":"\"戦闘中、回避達成値+\"&IF(FC値>=10,2,1)&\"\nサブ移動コストを1に固定\"","v":"戦闘中、回避達成値+1\nサブ移動コストを1に固定"}]
[null,null,"プラスフリーズ","氷、支","サブ","自陣","単体","自動","5MP",2,null,null,null,null,null,null,null,null,null,null,null,null,null,null,null,null,null,null,null,null,null,null,null,null,null,null,null,null,null,null,null,null,null,null,null,null,null,null,null,null,null,null,null,null,null,null,null,null,null,null,null,null,null,null,null,null,{"$f":"\"2ﾒｲﾝ間、攻撃に〈氷〉属性追加\n〈氷〉〈風〉属性の被D-\"&FC値*2+CL","v":"2ﾒｲﾝ間、攻撃に〈氷〉属性追加\n〈氷〉〈風〉属性の被D-0"}]
[null,null,"アイスサテライト","氷、配","サブ","―","本文","自動","7MP",2,null,null,null,null,null,null,null,null,null,null,null,null,null,null,null,null,null,null,null,null,null,null,null,null,null,null,null,null,null,null,null,null,null,null,null,null,null,null,null,null,null,null,null,null,null,null,null,null,null,null,null,null,null,null,null,null,{"$f":"\"自身と同マスに「ｱｲｽｻﾃﾗｲﾄ」(\n【耐久】:\"&CL*8+10+データ管理!AD29&\")を配置 味方の攻撃与D\n+\"&FC値&\"し、命中対象に30凍結付与\"","v":"自身と同マスに「ｱｲｽｻﾃﾗｲﾄ」(\n【耐久】:10)を配置 味方の攻撃与D\n+0し、命中対象に30凍結付与"}]
[null,null,"ツララセイバー","氷、近","メイン","超至近","単体","近接","3MP",8,null,null,null,null,null,null,null,null,null,null,null,null,null,null,null,null,null,null,null,null,null,null,null,null,null,null,null,null,null,null,null,null,null,null,null,null,null,null,null,null,null,null,null,null,null,null,null,null,null,null,null,null,null,null,null,null,{"$f":"IF(FC値>=8,\"宣言時+6MPで「射程：遠隔」に変更可\",\"\")&\"\n〈氷〉属性近接攻撃 与D+\"&FC値+CL*2&\"\n攻撃命中対象に 30%凍結付与\"","v":"\n〈氷〉属性近接攻撃 与D+0\n攻撃命中対象に 30%凍結付与"}]
[null,null,"氷針撃","氷、射","メイン","遠隔","単体","射撃","4MP",10,null,null,null,null,null,null,null,null,null,null,null,null,null,null,null,null,null,null,null,null,null,null,null,null,null,null,null,null,null,null,null,null,null,null,null,null,null,null,null,null,null,null,null,null,null,null,null,null,null,null,null,null,null,null,null,null,{"$f":"\"〈氷〉属性射撃攻撃 与D+\"&FC値+CL*2&\"\n攻撃命中対象に 30%凍結付与\"","v":"〈氷〉属性射撃攻撃 与D+0\n攻撃命中対象に 30%凍結付与"}]
[null,null,"アイスタワー","氷、魔","メイン","中距離","単体","魔術","6MP","(3)→7",null,null,null,null,null,null,null,null,null,null,null,null,null,null,null,null,null,null,null,null,null,null,null,null,null,null,null,null,null,null,null,null,null,null,null,null,null,null,null,null,null,null,null,null,null,null,null,null,null,null,null,null,null,null,null,null,{"$f":"\"〈氷〉属性[\"&(FC値+CL)*2+魔攻&\"+3D10]ﾀﾞﾒｰｼﾞの攻撃\n攻撃命中対象に 60%凍結付与\"","v":"〈氷〉属性[6+3D10]ﾀﾞﾒｰｼﾞの攻撃\n攻撃命中対象に 60%凍結付与"}]
[null,null,"フリーズストップ","氷、妨","メイン","中距離","範囲()",{"$f":"\"対決\n+\"&COUNTIFS(CS!AW28:AY57,\"*氷*\")+データ管理!AB29","v":"対決\n+0"},"7MP","(3)→6",null,null,null,null,null,null,null,null,null,null,null,null,null,null,null,null,null,null,null,null,null,null,null,null,null,null,null,null,null,null,null,null,null,null,null,null,null,null,null,null,null,null,null,null,null,null,null,null,null,null,null,null,null,null,null,null,{"$f":"\"最初の行動手番で使用不可\n命中対象に凍結付与\n(攻撃ではない)\"","v":"最初の行動手番で使用不可\n命中対象に凍結付与\n(攻撃ではない)"}]
[null,null,"フリーズターン","氷、支","オート","―","自身","自動","6MP",0,null,null,null,null,null,null,null,null,null,null,null,null,null,null,null,null,null,null,null,null,null,null,null,null,null,null,null,null,null,null,null,null,null,null,null,null,null,null,null,null,null,null,null,null,null,null,null,null,null,null,null,null,null,null,null,null,{"$f":"\"回避判定成功時使用可能\n覚醒と攻勢(\"&CL+5&\")付与\"","v":"回避判定成功時使用可能\n覚醒と攻勢(5)付与"}]
[null,null,"氷結治癒","氷、支","オート","自陣","単体","自動","15MP",3,null,null,null,null,null,null,null,null,null,null,null,null,null,null,null,null,null,null,null,null,null,null,null,null,null,null,null,null,null,null,null,null,null,null,null,null,null,null,null,null,null,null,null,null,null,null,null,null,null,null,null,null,null,null,null,null,{"$f":"\"ｶｳﾝﾄ開始時使用可能\n【HP】を\"&FC値*2+CL*3&\"点回復\n1戦闘3回制限\"","v":"ｶｳﾝﾄ開始時使用可能\n【HP】を0点回復\n1戦闘3回制限"}]
[null,null,"絶技：凍空刃","氷、近","オート","遠隔","[単体]","近接","4MP","[6]",null,null,null,null,null,null,null,null,null,null,null,null,null,null,null,null,null,null,null,null,null,null,null,null,null,null,null,null,null,null,null,null,null,null,null,null,null,null,null,null,null,null,null,null,null,null,null,null,null,null,null,null,null,null,null,null,{"$f":"IF(AND(FC値>=5,COUNTIFS(CS!$D$11:$L$12,\"フリーズキャッスル\")=1)=TRUE,\"敵の攻撃回避時に、攻撃者に使用可\n〈氷〉属性近接攻撃 与D+\"&FC値*3&\"\n1ﾒｲﾝ2回制限\",\"取得不可\")","v":"取得不可"}]
[null,null,"フリーズカノン","氷、攻","メイン","遠隔","各1","武器","18MP","(3)→11",null,null,null,null,null,null,null,null,null,null,null,null,null,null,null,null,null,null,null,null,null,null,null,null,null,null,null,null,null,null,null,null,null,null,null,null,null,null,null,null,null,null,null,null,null,null,null,null,null,null,null,null,null,null,null,null,{"$f":"IF(AND(FC値>=10,MC=\"フリーズキャッスル\")=TRUE,\"〈氷〉[\"&FC値*7+MAX(物攻,魔攻)&\"+5D10]ﾀﾞﾒｰｼﾞの攻撃\n攻撃命中対象に凍結付与\n[連続x]\",\"取得不可\")","v":"取得不可"}]
[null,"FS","ファイアウォール","炎、防","サブ","自陣","範囲()","自動","14MP",4,null,null,null,null,null,null,null,null,null,null,null,null,null,null,null,null,null,null,null,null,null,null,null,null,null,null,null,null,null,null,null,null,null,null,null,null,null,null,null,null,null,null,null,null,null,null,null,null,null,null,null,null,null,null,null,null,{"$f":"\"2ﾒｲﾝ間、〈水〉属性以外の被D-\"&FS値+CL","v":"2ﾒｲﾝ間、〈水〉属性以外の被D-0"}]
[null,null,"再生の炎","炎、回","サブ","自陣","範囲()","自動","12MP",3,null,null,null,null,null,null,null,null,null,null,null,null,null,null,null,null,null,null,null,null,null,null,null,null,null,null,null,null,null,null,null,null,null,null,null,null,null,null,null,null,null,null,null,null,null,null,null,null,null,null,null,null,null,null,null,null,{"$f":"\"対象の【HP】[\"&(FS値+CL)*2+データ管理!$AC$29&\"+3D10]回復し、\n凍結 睡眠 呪い 疲労解除　直後ﾒｲﾝでの「種別：炎」攻撃の命中達成値+2\"","v":"対象の【HP】[0+3D10]回復し、\n凍結 睡眠 呪い 疲労解除　直後ﾒｲﾝでの「種別：炎」攻撃の命中達成値+2"}]
[null,null,"プラスファイア","炎、支","サブ","自陣","単体","自動","5MP",2,null,null,null,null,null,null,null,null,null,null,null,null,null,null,null,null,null,null,null,null,null,null,null,null,null,null,null,null,null,null,null,null,null,null,null,null,null,null,null,null,null,null,null,null,null,null,null,null,null,null,null,null,null,null,null,null,{"$f":"\"2ﾒｲﾝ間、攻撃に〈炎〉属性追加\n〈炎〉〈氷〉属性の被D-\"&FS値*2+CL","v":"2ﾒｲﾝ間、攻撃に〈炎〉属性追加\n〈炎〉〈氷〉属性の被D-0"}]
[null,null,"火炎閃","炎、近","メイン",{"$f":"ｽﾀｲﾙVL用!G52","v":"超至近"},"単体","近接","3MP",8,null,null,null,null,null,null,null,null,null,null,null,null,null,null,null,null,null,null,null,null,null,null,null,null,null,null,null,null,null,null,null,null,null,null,null,null,null,null,null,null,null,null,null,null,null,null,null,null,null,null,null,null,null,null,null,null,{"$f":"\"〈炎〉属性近接攻撃 与D+\"&FS値+CL*2&\"\n攻撃の命中C値\"&IF(データ管理!C29-1>=MIN(データ管理!E29,14),データ管理!C29-1,MIN(データ管理!E29,14))","v":"〈炎〉属性近接攻撃 与D+0\n攻撃の命中C値15"}]
[null,null,"起爆弾","炎、射","メイン","遠隔","範囲()","射撃","6MP",9,null,null,null,null,null,null,null,null,null,null,null,null,null,null,null,null,null,null,null,null,null,null,null,null,null,null,null,null,null,null,null,null,null,null,null,null,null,null,null,null,null,null,null,null,null,null,null,null,null,null,null,null,null,null,null,null,{"$f":"\"〈炎〉属性射撃攻撃 与D+\"&FS値+CL&\"\n攻撃の命中F値3固定\n命中判定振り直し不可\"","v":"〈炎〉属性射撃攻撃 与D+0\n攻撃の命中F値3固定\n命中判定振り直し不可"}]
[null,null,"ファイアチェイン","炎、魔","メイン","遠隔","単体","魔術","6MP","(4)→6",null,null,null,null,null,null,null,null,null,null,null,null,null,null,null,null,null,null,null,null,null,null,null,null,null,null,null,null,null,null,null,null,null,null,null,null,null,null,null,null,null,null,null,null,null,null,null,null,null,null,null,null,null,null,null,null,{"$f":"\"〈炎〉属性[\"&(FS値+CL)*2+魔攻&\"+3D10]ﾀﾞﾒｰｼﾞの攻撃\n攻撃命中対象に 60%火傷(\"&FS値+5&\")付与\"","v":"〈炎〉属性[6+3D10]ﾀﾞﾒｰｼﾞの攻撃\n攻撃命中対象に 60%火傷(5)付与"}]
[null,null,"ツインフレイム","炎、魔","メイン","中距離","2体","魔術","14MP","(4)→8",null,null,null,null,null,null,null,null,null,null,null,null,null,null,null,null,null,null,null,null,null,null,null,null,null,null,null,null,null,null,null,null,null,null,null,null,null,null,null,null,null,null,null,null,null,null,null,null,null,null,null,null,null,null,null,null,{"$f":"\"〈炎〉属性[\"&(FS値+CL)*2+魔攻&\"+4D10]ﾀﾞﾒｰｼﾞの攻撃\n攻撃命中対象に 60%火傷(\"&FS値+5&\")付与\"","v":"〈炎〉属性[6+4D10]ﾀﾞﾒｰｼﾞの攻撃\n攻撃命中対象に 60%火傷(5)付与"}]
[null,null,"牽制火球","炎、防","オート","遠隔","単体","自動","7MP",2,null,null,null,null,null,null,null,null,null,null,null,null,null,null,null,null,null,null,null,null,null,null,null,null,null,null,null,null,null,null,null,null,null,null,null,null,null,null,null,null,null,null,null,null,null,null,null,null,null,null,null,null,null,null,null,null,{"$f":"\"判定直後使用可 判定達成値-3\n1戦闘\"&INT(CL/5)&\"回制限\"","v":"判定直後使用可 判定達成値-3\n1戦闘0回制限"}]
[null,null,"覚醒の炎","炎、支","オート","―","自身","自動","2BP",3,null,null,null,null,null,null,null,null,null,null,null,null,null,null,null,null,null,null,null,null,null,null,null,null,null,null,null,null,null,null,null,null,null,null,null,null,null,null,null,null,null,null,null,null,null,null,null,null,null,null,null,null,null,null,null,null,{"$f":"\"行動手番終了時使用可\n覚醒と攻勢(\"&(FS値+CL)*2&\")付与\"","v":"行動手番終了時使用可\n覚醒と攻勢(0)付与"}]
[null,null,"フレイムシールド","炎、防","ダメロ","自陣","単体","自動","6MP",2,null,null,null,null,null,null,null,null,null,null,null,null,null,null,null,null,null,null,null,null,null,null,null,null,null,null,null,null,null,null,null,null,null,null,null,null,null,null,null,null,null,null,null,null,null,null,null,null,null,null,null,null,null,null,null,null,{"$f":"\"攻撃の被D-\"&FS値+(CL*2)&\"\n自身以外に使用した場合、対象に30%火傷(\"&CL+10&\")付与　1戦闘3回制限\"","v":"攻撃の被D-0\n自身以外に使用した場合、対象に30%火傷(10)付与　1戦闘3回制限"}]
[null,null,"サポートフレイム","炎、支","スタート","―","自身","自動","4BP",5,null,null,null,null,null,null,null,null,null,null,null,null,null,null,null,null,null,null,null,null,null,null,null,null,null,null,null,null,null,null,null,null,null,null,null,null,null,null,null,null,null,null,null,null,null,null,null,null,null,null,null,null,null,null,null,null,{"$f":"IF(AND(FS値>=5,COUNTIFS(CS!$D$11:$L$12,\"フレイムソーサラー\")=1)=TRUE,\"戦闘中の攻撃与D+\"&CL+7&\"\n効果適用中、効果を消滅させて一度だけ被Dを0にできる\",\"取得不可\")","v":"取得不可"}]
[null,null,"フレアカノン","炎、攻","メイン","遠隔","各1","武器","18MP","(3)→11",null,null,null,null,null,null,null,null,null,null,null,null,null,null,null,null,null,null,null,null,null,null,null,null,null,null,null,null,null,null,null,null,null,null,null,null,null,null,null,null,null,null,null,null,null,null,null,null,null,null,null,null,null,null,null,null,{"$f":"IF(AND(FS値>=10,MC=\"フレイムソーサラー\")=TRUE,\"〈炎〉[\"&FS値*7+MAX(物攻,魔攻)&\"+5D10]ﾀﾞﾒｰｼﾞの攻撃\n攻撃命中対象に怯み(2)付与\n[連続x]\",\"取得不可\")","v":"取得不可"}]
[null,"LS","シュートダウナー","光","常時","―","自身","―","―","―",null,null,null,null,null,null,null,null,null,null,null,null,null,null,null,null,null,null,null,-15,null,null,null,null,null,null,null,null,null,null,null,null,null,null,null,null,null,null,null,null,null,null,null,null,null,null,null,null,null,null,null,null,null,null,null,null,{"$f":"\"【精神】-15\n遠隔・遠隔x・超遠隔のｸﾘﾃｨｶﾙでない攻撃命中時、20%で回避扱い。\"","v":"【精神】-15\n遠隔・遠隔x・超遠隔のｸﾘﾃｨｶﾙでない攻撃命中時、20%で回避扱い。"}]
[null,null,"光剣の守護","光、防","スタート","―","自身","自動","3BP",0,null,null,null,null,null,null,null,null,null,null,null,null,null,null,null,null,null,null,null,null,null,null,null,null,null,null,null,null,null,null,null,null,null,null,null,null,null,null,null,null,null,null,null,null,null,null,null,null,null,null,null,null,null,null,null,null,{"$f":"\"戦闘中、被D-\"&CL&\"\n自身へのBS付与40%無効\"","v":"戦闘中、被D-0\n自身へのBS付与40%無効"}]
[null,null,"プラスライト","光、支","サブ","自陣","単体","自動","5MP",2,null,null,null,null,null,null,null,null,null,null,null,null,null,null,null,null,null,null,null,null,null,null,null,null,null,null,null,null,null,null,null,null,null,null,null,null,null,null,null,null,null,null,null,null,null,null,null,null,null,null,null,null,null,null,null,null,{"$f":"\"2ﾒｲﾝ間、攻撃に〈光〉属性追加\n〈水〉〈光〉属性の被D-\"&LS値*2+CL","v":"2ﾒｲﾝ間、攻撃に〈光〉属性追加\n〈水〉〈光〉属性の被D-0"}]
[null,null,"レーザーバリア","光、防","サブ","自陣","範囲()","自動","10MP",3,null,null,null,null,null,null,null,null,null,null,null,null,null,null,null,null,null,null,null,null,null,null,null,null,null,null,null,null,null,null,null,null,null,null,null,null,null,null,null,null,null,null,null,null,null,null,null,null,null,null,null,null,null,null,null,null,{"$f":"\"2ﾒｲﾝ間、被D-\"&CL&\"\n効果中、敵のﾀﾞﾒｰｼﾞを受けた場合、攻撃者に〈無〉属性\"&CL+5&\"ﾀﾞﾒｰｼﾞ\"","v":"2ﾒｲﾝ間、被D-0\n効果中、敵のﾀﾞﾒｰｼﾞを受けた場合、攻撃者に〈無〉属性5ﾀﾞﾒｰｼﾞ"}]
[null,null,"ブラックレーザー","光、支","サブ","自陣","単体","自動","10MP",3,null,null,null,null,null,null,null,null,null,null,null,null,null,null,null,null,null,null,null,null,null,null,null,null,null,null,null,null,null,null,null,null,null,null,null,null,null,null,null,null,null,null,null,null,null,null,null,null,null,null,null,null,null,null,null,null,{"$f":"\"対象の次攻撃与D+\"&CL*2&\"し、\n攻撃命中対象に \"&COUNTIF(CS!AW28:AY57,\"*光*\")*10&\"%呪い付与\"","v":"対象の次攻撃与D+0し、\n攻撃命中対象に 0%呪い付与"}]
[null,null,"ライトセーバー","光、近","メイン",{"$f":"ｽﾀｲﾙVL用!G52","v":"超至近"},"単体","近接\n+1","6MP",9,null,null,null,null,null,null,null,null,null,null,null,null,null,null,null,null,null,null,null,null,null,null,null,null,null,null,null,null,null,null,null,null,null,null,null,null,null,null,null,null,null,null,null,null,null,null,null,null,null,null,null,null,null,null,null,null,{"$f":"\"〈光〉属性近接攻撃 与D+\"&LS値+CL*2&\"\n攻撃命中対象に 20%封印付与\"","v":"〈光〉属性近接攻撃 与D+0\n攻撃命中対象に 20%封印付与"}]
[null,null,"レーザーショット","光、射","メイン","遠隔","各1","射撃\n+1","7MP",12,null,null,null,null,null,null,null,null,null,null,null,null,null,null,null,null,null,null,null,null,null,null,null,null,null,null,null,null,null,null,null,null,null,null,null,null,null,null,null,null,null,null,null,null,null,null,null,null,null,null,null,null,null,null,null,null,{"$f":"\"〈光〉属性射撃攻撃 与D+\"&LS値+CL","v":"〈光〉属性射撃攻撃 与D+0"}]
[null,null,"光学ビーム砲","光、魔","メイン","遠隔","単体","魔術","8MP","(9)→3",null,null,null,null,null,null,null,null,null,null,null,null,null,null,null,null,null,null,null,null,null,null,null,null,null,null,null,null,null,null,null,null,null,null,null,null,null,null,null,null,null,null,null,null,null,null,null,null,null,null,null,null,null,null,null,null,{"$f":"\"〈光〉属性[\"&(LS値+CL)*3+魔攻&\"+4D10]ﾀﾞﾒｰｼﾞの攻撃\n攻撃命中対象に怯み(2)付与\"&IF(LS値>=7,\"\n「ｺｽﾄ：14」としても使用可\",\"\")","v":"〈光〉属性[6+4D10]ﾀﾞﾒｰｼﾞの攻撃\n攻撃命中対象に怯み(2)付与"}]
[null,null,"バニッシュ","光、攻","メイン","遠隔","単体",{"$f":"\"対決\n+\"&2+データ管理!AB29","v":"対決\n+2"},"5MP","[10]",null,null,null,null,null,null,null,null,null,null,null,null,null,null,null,null,null,null,null,null,null,null,null,null,null,null,null,null,null,null,null,null,null,null,null,null,null,null,null,null,null,null,null,null,null,null,null,null,null,null,null,null,null,null,null,null,{"$f":"\"〈無〉属性[\"&(CL*3)&\"+3D10]ﾀﾞﾒｰｼﾞの攻撃\nこのﾀﾞﾒｰｼﾞは攻勢、ｸﾘﾃｨｶﾙ、耐性以外で増加しない\"","v":"〈無〉属性[0+3D10]ﾀﾞﾒｰｼﾞの攻撃\nこのﾀﾞﾒｰｼﾞは攻勢、ｸﾘﾃｨｶﾙ、耐性以外で増加しない"}]
[null,null,"ミラージュ","光、支","オート","―","自身","自動","2MP",2,null,null,null,null,null,null,null,null,null,null,null,null,null,null,null,null,null,null,null,null,null,null,null,null,null,null,null,null,null,null,null,null,null,null,null,null,null,null,null,null,null,null,null,null,null,null,null,null,null,null,null,null,null,null,null,null,"回避判定直後使用可 判定振り直し\nその判定成功の場合、配置変更可能\n1判定1回制限"]
[null,null,"リフレクトレーザー","光、支","オート","自陣","単体","自動",{"$f":"COUNTIFS(CS!AW28:AY57,\"*光*\")*3&\"MP\"","v":"0MP"},1,null,null,null,null,null,null,null,null,null,null,null,null,null,null,null,null,null,null,null,null,null,null,null,null,null,null,null,null,null,null,null,null,null,null,null,null,null,null,null,null,null,null,null,null,null,null,null,null,null,null,null,null,null,null,null,null,{"$f":"IF(AND(LS値>=5,COUNTIFS(CS!$D$11:$L$12,\"レーザースニッパー\")=1)=TRUE,\"攻撃命中時に使用可能、与D+\"&COUNTIFS(CS!AW28:AY57,\"*光*\")+2&\"D10\n1ﾒｲﾝ1回制限\",\"取得不可\")","v":"取得不可"}]
[null,null,"神聖なる加護","光、支","オート","遠隔","[単体]","自動","3BP",0,null,null,null,null,null,null,null,null,null,null,null,null,null,null,null,null,null,null,null,null,null,null,null,null,null,null,null,null,null,null,null,null,null,null,null,null,null,null,null,null,null,null,null,null,null,null,null,null,null,null,null,null,null,null,null,null,{"$f":"IF(AND(LS値>=10,MC=\"レーザースニッパー\")=TRUE,\"対象の攻撃対象を自身に変更する。この攻撃の回避判定達成値-10\n1戦闘2回制限\",\"取得不可\")","v":"取得不可"}]
[null,"ME","クイックステップ","専","常時","―","自身","―","―","―",null,null,null,null,null,null,null,null,null,null,null,null,null,null,null,null,null,null,null,null,null,null,null,null,null,null,null,null,null,null,null,null,null,null,null,null,null,null,null,null,null,null,null,null,null,null,null,-2,null,1,null,null,null,null,null,null,"ｻﾌﾞ移動ｺｽﾄ-2 (下限値：1) <済>\n超至近の攻撃を至近として使用可"]
[null,null,"デュアルエフェクト","専、支","サブ","―","自身","自動","6MP",2,null,null,null,null,null,null,null,null,null,null,null,null,null,null,null,null,null,null,null,null,null,null,null,null,null,null,null,null,null,null,null,null,null,null,null,null,null,null,null,null,null,null,null,null,null,null,null,null,null,null,null,null,null,null,null,null,{"$f":"\"直後ﾒｲﾝの攻撃命中時、前衛ﾕﾆｯﾄなら火傷(\"&CL+3&\")付与、後衛ﾕﾆｯﾄならﾏﾋ付与　[連続x]\"","v":"直後ﾒｲﾝの攻撃命中時、前衛ﾕﾆｯﾄなら火傷(3)付与、後衛ﾕﾆｯﾄならﾏﾋ付与　[連続x]"}]
[null,null,"マジックリフレクタ","専、防","サブ","―","自身",0.7,"7MP",4,null,null,null,null,null,null,null,null,null,null,null,null,null,null,null,null,null,null,null,null,null,null,null,null,null,null,null,null,null,null,null,null,null,null,null,null,null,null,null,null,null,null,null,null,null,null,null,null,null,null,null,null,null,null,null,null,{"$f":"\"3ｶｳﾝﾄ後終了時まで、「種別：魔」攻撃の被D0し、攻撃者に〈無〉属性\"&CL*4&\"ダメージ\"","v":"3ｶｳﾝﾄ後終了時まで、「種別：魔」攻撃の被D0し、攻撃者に〈無〉属性0ダメージ"}]
[null,null,"マジックカッター","専、魔","メイン","中距離","単体","魔術","6MP","(3)→6",null,null,null,null,null,null,null,null,null,null,null,null,null,null,null,null,null,null,null,null,null,null,null,null,null,null,null,null,null,null,null,null,null,null,null,null,null,null,null,null,null,null,null,null,null,null,null,null,null,null,null,null,null,null,null,null,{"$f":"\"〈近〉属性[\"&(ME値+CL)*2+魔攻&\"+5D10]ﾀﾞﾒｰｼﾞの攻撃\n攻撃ﾀﾞﾒｰｼﾞは【魔防】と耐性以外で減少しない\"","v":"〈近〉属性[6+5D10]ﾀﾞﾒｰｼﾞの攻撃\n攻撃ﾀﾞﾒｰｼﾞは【魔防】と耐性以外で減少しない"}]
[null,null,"マジックミサイル","専、魔","メイン","遠隔x","単体","魔術\n+1","10MP","(4)→8",null,null,null,null,null,null,null,null,null,null,null,null,null,null,null,null,null,null,null,null,null,null,null,null,null,null,null,null,null,null,null,null,null,null,null,null,null,null,null,null,null,null,null,null,null,null,null,null,null,null,null,null,null,null,null,null,{"$f":"\"宣言時、50%で「対象：2体」に変更可\n〈遠〉属性[\"&ME値+(CL*3)+魔攻&\"+6D10]ﾀﾞﾒｰｼﾞの攻撃\n攻撃命中対象に即死(\"&CL*4&\")付与\"","v":"宣言時、50%で「対象：2体」に変更可\n〈遠〉属性[6+6D10]ﾀﾞﾒｰｼﾞの攻撃\n攻撃命中対象に即死(0)付与"}]
[null,null,"エレメントスター","専、魔","メイン","中距離","単体","魔術","8MP","(6)→6",null,null,null,null,null,null,null,null,null,null,null,null,null,null,null,null,null,null,null,null,null,null,null,null,null,null,null,null,null,null,null,null,null,null,null,null,null,null,null,null,null,null,null,null,null,null,null,null,null,null,null,null,null,null,null,null,{"$f":"\"〈※〉属性[\"&(ME値+CL)*2+魔攻&\"+3D10]ﾀﾞﾒｰｼﾞ\nの攻撃　※：炎・水・雷・風からスキル使用時に1つ選択\"","v":"〈※〉属性[6+3D10]ﾀﾞﾒｰｼﾞ\nの攻撃　※：炎・水・雷・風からスキル使用時に1つ選択"}]
[null,null,"ムーンスパーク","専、魔","メイン","遠隔","全体()","魔術\n-3","15MP","(6)→9",null,null,null,null,null,null,null,null,null,null,null,null,null,null,null,null,null,null,null,null,null,null,null,null,null,null,null,null,null,null,null,null,null,null,null,null,null,null,null,null,null,null,null,null,null,null,null,null,null,null,null,null,null,null,null,null,{"$f":"\"〈雷〉〈光〉属性[\"&(ME値*2)+(CL*3)+魔攻&\"+3D10]ﾀﾞﾒｰｼﾞの攻撃\n攻撃命中対象に 50%マヒ付与\"","v":"〈雷〉〈光〉属性[6+3D10]ﾀﾞﾒｰｼﾞの攻撃\n攻撃命中対象に 50%マヒ付与"}]
[null,null,"パワーリサイクル","専、支","オート","―","自身","自動","4MP",1,null,null,null,null,null,null,null,null,null,null,null,null,null,null,null,null,null,null,null,null,null,null,null,null,null,null,null,null,null,null,null,null,null,null,null,null,null,null,null,null,null,null,null,null,null,null,null,null,null,null,null,null,null,null,null,null,{"$f":"\"自身の攻撃ﾀﾞﾒﾛ終了時使用可\n攻勢(\"&CL*2&\")付与 既に攻勢付与時は、値に+\"&CL&\"した攻勢を付与\"","v":"自身の攻撃ﾀﾞﾒﾛ終了時使用可\n攻勢(0)付与 既に攻勢付与時は、値に+0した攻勢を付与"}]
[null,null,"ウィークエイム","専、支","オート","自陣","単体","自動","8MP",2,null,null,null,null,null,null,null,null,null,null,null,null,null,null,null,null,null,null,null,null,null,null,null,null,null,null,null,null,null,null,null,null,null,null,null,null,null,null,null,null,null,null,null,null,null,null,null,null,null,null,null,null,null,null,null,null,{"$f":"\"命中判定直前使用可　命中判定のC値に-3する(下限値：13)　判定ｸﾘﾃｨｶﾙ時、【MP】1D10回復　1ﾒｲﾝ1回制限\"","v":"命中判定直前使用可　命中判定のC値に-3する(下限値：13)　判定ｸﾘﾃｨｶﾙ時、【MP】1D10回復　1ﾒｲﾝ1回制限"}]
[null,null,"エフェクトバースト","専、支","ダメロ","自陣","単体","自動","7MP",2,null,null,null,null,null,null,null,null,null,null,null,null,null,null,null,null,null,null,null,null,null,null,null,null,null,null,null,null,null,null,null,null,null,null,null,null,null,null,null,null,null,null,null,null,null,null,null,null,null,null,null,null,null,null,null,null,{"$f":"\"対象の攻撃の与D+\"&CL*2+10&\"\n1ﾒｲﾝ1回制限\"","v":"対象の攻撃の与D+10\n1ﾒｲﾝ1回制限"}]
[null,null,"ダブルポイント","専、支","サブ","自陣","単体","自動","2BP",4,null,null,null,null,null,null,null,null,null,null,null,null,null,null,null,null,null,null,null,null,null,null,null,null,null,null,null,null,null,null,null,null,null,null,null,null,null,null,null,null,null,null,null,null,null,null,null,null,null,null,null,null,null,null,null,null,{"$f":"IF(AND(ME値>=5,COUNTIFS(CS!$D$11:$L$12,\"マジックエキスパート\")=1)=TRUE,\"2ﾒｲﾝ間の【耐久】の値を2倍にする。効果解除時、【HP】を\"&ME値*5&\"にする\",\"取得不可\")","v":"取得不可"}]
[null,null,"エクリプスバスター","専、攻","メイン","遠隔","範囲()",{"$f":"\"対決\n+\"&2+データ管理!AB29","v":"対決\n+2"},"22MP","(9)→9",null,null,null,null,null,null,null,null,null,null,null,null,null,null,null,null,null,null,null,null,null,null,null,null,null,null,null,null,null,null,null,null,null,null,null,null,null,null,null,null,null,null,null,null,null,null,null,null,null,null,null,null,null,null,null,null,{"$f":"IF(AND(ME値>=10,MC=\"マジックエキスパート\")=TRUE,\"〈炎〉〈氷〉〈雷〉[\"&(ME値+CL)*4+MAX(物攻,魔攻)&\"+6D10]ﾀﾞﾒｰｼﾞの攻撃 攻撃命中対象に各30%で火傷(\"&ME値*3&\")、凍結、マヒ付与　[連続x]\",\"取得不可\")","v":"取得不可"}]
[null,"MV","メンタルバリア","幻","常時","―","自身","―","―","―",null,null,null,null,null,null,null,null,null,null,null,null,null,null,null,null,null,null,null,null,null,null,null,null,null,null,null,null,null,null,null,null,null,null,null,null,null,null,null,null,null,null,null,null,null,null,null,null,null,null,null,null,null,null,null,null,{"$f":"\"自身への睡眠,疲労,恐怖,盲目の付与を【HP】を\"&CL*3&\"支払って無効にできる\"","v":"自身への睡眠,疲労,恐怖,盲目の付与を【HP】を0支払って無効にできる"}]
[null,null,"無情の追撃","幻","常時","―","自身","―","―","―",null,null,null,null,null,null,null,null,null,null,null,null,null,null,null,null,null,null,null,null,null,null,null,null,null,null,null,null,null,null,null,null,null,null,null,null,null,null,null,null,null,null,null,null,null,null,null,null,null,null,null,null,null,null,null,null,{"$f":"\"BSが付与された対象への\n攻撃与D+\"&MV値+(CL*2)","v":"BSが付与された対象への\n攻撃与D+0"}]
[null,null,"スターゲイジング","幻、妨","サブ","中距離","単体",{"$f":"\"対決\n+\"&1+データ管理!AB29","v":"対決\n+1"},"7MP",3,null,null,null,null,null,null,null,null,null,null,null,null,null,null,null,null,null,null,null,null,null,null,null,null,null,null,null,null,null,null,null,null,null,null,null,null,null,null,null,null,null,null,null,null,null,null,null,null,null,null,null,null,null,null,null,null,"マヒ付与（攻撃ではない）"]
[null,null,"ハルシネーション","幻、妨","サブ","中距離","単体",{"$f":"\"対決\n+\"&2+データ管理!AB29","v":"対決\n+2"},"7MP",3,null,null,null,null,null,null,null,null,null,null,null,null,null,null,null,null,null,null,null,null,null,null,null,null,null,null,null,null,null,null,null,null,null,null,null,null,null,null,null,null,null,null,null,null,null,null,null,null,null,null,null,null,null,null,null,null,"恐怖付与（攻撃ではない）"]
[null,null,"オーラルブレイク","幻、妨","サブ","中距離","単体",0.5,"8MP",1,null,null,null,null,null,null,null,null,null,null,null,null,null,null,null,null,null,null,null,null,null,null,null,null,null,null,null,null,null,null,null,null,null,null,null,null,null,null,null,null,null,null,null,null,null,null,null,null,null,null,null,null,null,null,null,null,"1ﾒｲﾝ間、対象は「種別：支」「種別：妨」ｽｷﾙの効果を受けない"]
[null,null,"幻影斬","幻、近","メイン",{"$f":"ｽﾀｲﾙVL用!G52","v":"超至近"},"単体","近接\n+3","4MP",11,null,null,null,null,null,null,null,null,null,null,null,null,null,null,null,null,null,null,null,null,null,null,null,null,null,null,null,null,null,null,null,null,null,null,null,null,null,null,null,null,null,null,null,null,null,null,null,null,null,null,null,null,null,null,null,null,{"$f":"\"〈近〉属性近接攻撃 与D+\"&(MV値+CL)*2","v":"〈近〉属性近接攻撃 与D+0"}]
[null,null,"アプセットパルス","幻、射","メイン","遠隔","単体","射撃\n-1","6MP",10,null,null,null,null,null,null,null,null,null,null,null,null,null,null,null,null,null,null,null,null,null,null,null,null,null,null,null,null,null,null,null,null,null,null,null,null,null,null,null,null,null,null,null,null,null,null,null,null,null,null,null,null,null,null,null,null,{"$f":"\"〈遠〉属性射撃攻撃 与D+\"&(MV値*2)+(CL*3)&\"\n攻撃命中対象にマヒ付与\"","v":"〈遠〉属性射撃攻撃 与D+0\n攻撃命中対象にマヒ付与"}]
[null,null,"センスブレイク","幻、魔","メイン","中距離","単体","魔術","6MP","(7)→5",null,null,null,null,null,null,null,null,null,null,null,null,null,null,null,null,null,null,null,null,null,null,null,null,null,null,null,null,null,null,null,null,null,null,null,null,null,null,null,null,null,null,null,null,null,null,null,null,null,null,null,null,null,null,null,null,{"$f":"\"〈炎〉or〈氷〉属性[\"&(MV値*2)+(CL*3)+魔攻&\"+4D10]ﾀﾞﾒｰｼﾞの攻撃　攻撃命中対象に30% \n〈炎〉→火傷(\"&CL+5&\")　〈氷〉→凍結付与\"","v":"〈炎〉or〈氷〉属性[6+4D10]ﾀﾞﾒｰｼﾞの攻撃　攻撃命中対象に30% \n〈炎〉→火傷(5)　〈氷〉→凍結付与"}]
[null,null,"ディヴィエーション","幻、妨","オート","中距離","単体","自動","7MP",2,null,null,null,null,null,null,null,null,null,null,null,null,null,null,null,null,null,null,null,null,null,null,null,null,null,null,null,null,null,null,null,null,null,null,null,null,null,null,null,null,null,null,null,null,null,null,null,null,null,null,null,null,null,null,null,null,{"$f":"\"対象の命中判定直後使用可\n命中達成値-[1D10-3]\n1戦闘\"&COUNTIFS(CS!AW28:AY57,\"*幻*\")&\"回制限\"","v":"対象の命中判定直後使用可\n命中達成値-[1D10-3]\n1戦闘0回制限"}]
[null,null,"痛覚制御","幻、支、防","ダメロ","遠隔","単体","自動","7MP",2,null,null,null,null,null,null,null,null,null,null,null,null,null,null,null,null,null,null,null,null,null,null,null,null,null,null,null,null,null,null,null,null,null,null,null,null,null,null,null,null,null,null,null,null,null,null,null,null,null,null,null,null,null,null,null,null,{"$f":"\"対象の攻撃の与D±\"&CL*2&\"\n1ﾒｲﾝ1回制限\"","v":"対象の攻撃の与D±0\n1ﾒｲﾝ1回制限"}]
[null,null,"インザダーク","幻、攻","メイン","中距離","単体",{"$f":"\"対決\"&IF(データ管理!AB29>0,\"\n+\"&データ管理!AB29,\"\")","v":"対決"},"13MP","[11]",null,null,null,null,null,null,null,null,null,null,null,null,null,null,null,null,null,null,null,null,null,null,null,null,null,null,null,null,null,null,null,null,null,null,null,null,null,null,null,null,null,null,null,null,null,null,null,null,null,null,null,null,null,null,null,null,{"$f":"IF(AND(MV値>=5,COUNTIFS(CS!$D$11:$L$12,\"マインドバニッシャー\")=1)=TRUE,\"〈無〉[\"&(MV値+CL)*2&\"+3D10]ﾀﾞﾒｰｼﾞの攻撃\n攻撃命中対象に60%盲目付与\",\"取得不可\")","v":"取得不可"}]
[null,null,"完全催眠","幻、妨","オート","遠隔","[単体]","自動","5BP",5,null,null,null,null,null,null,null,null,null,null,null,null,null,null,null,null,null,null,null,null,null,null,null,null,null,null,null,null,null,null,null,null,null,null,null,null,null,null,null,null,null,null,null,null,null,null,null,null,null,null,null,null,null,null,null,null,{"$f":"IF(AND(MV値>=10,MC=\"マインドバニッシャー\")=TRUE,\"攻撃宣言時使用可。①攻撃対象を、ｽｷﾙ対象に変更 ②攻撃無効にして怯み(4)付与　1戦闘①②1回ずつ\",\"取得不可\")","v":"取得不可"}]
[null,"OC","物質生成の心得","物","常時","―","自身","―","―","―",null,null,null,null,null,null,null,null,null,null,null,null,null,null,null,null,null,null,null,null,null,null,null,null,null,null,null,null,null,null,null,null,null,null,null,null,null,null,null,null,null,null,null,null,null,null,null,null,null,null,null,null,null,null,null,null,{"$f":"\"手番開始時6MPで、配ｽｷﾙをｻﾌﾞ消費せず使用可 配置ﾕﾆｯﾄ0時、ｻﾌﾞ消費で「ﾌﾞﾛｯｸ」(【耐久】:\"&CL*3+データ管理!AD29&\") 1体同ﾏｽ配置可\"","v":"手番開始時6MPで、配ｽｷﾙをｻﾌﾞ消費せず使用可 配置ﾕﾆｯﾄ0時、ｻﾌﾞ消費で「ﾌﾞﾛｯｸ」(【耐久】:0) 1体同ﾏｽ配置可"}]
[null,null,"スタートアップ","物","スタート","自陣","単体","自動","3BP",3,null,null,null,null,null,null,null,null,null,null,null,null,null,null,null,null,null,null,null,null,null,null,null,null,null,null,null,null,null,null,null,null,null,null,null,null,null,null,null,null,null,null,null,null,null,null,null,null,null,null,null,null,null,null,null,null,{"$f":"\"「種別：配」ｽｷﾙ2種使用(ﾀｲﾐﾝｸﾞ・代償・ｺｽﾄ無視)　戦闘中、配置する配置ﾕﾆｯﾄの【耐久】+\"&OC値*2","v":"「種別：配」ｽｷﾙ2種使用(ﾀｲﾐﾝｸﾞ・代償・ｺｽﾄ無視)　戦闘中、配置する配置ﾕﾆｯﾄの【耐久】+0"}]
[null,null,"陣形指令","物、支","サブ","自陣","全体()","自動","13MP",3,null,null,null,null,null,null,null,null,null,null,null,null,null,null,null,null,null,null,null,null,null,null,null,null,null,null,null,null,null,null,null,null,null,null,null,null,null,null,null,null,null,null,null,null,null,null,null,null,null,null,null,null,null,null,null,null,{"$f":"\"対象をそれぞれ任意配置可能。\"&IF(OC値>=8,\"\n「代償：9MP」「ｺｽﾄ：3」として使用可\",\"\")","v":"対象をそれぞれ任意配置可能。"}]
[null,null,"キューブ生成","物、配","サブ","―","本文","自動","8MP",3,null,null,null,null,null,null,null,null,null,null,null,null,null,null,null,null,null,null,null,null,null,null,null,null,null,null,null,null,null,null,null,null,null,null,null,null,null,null,null,null,null,null,null,null,null,null,null,null,null,null,null,null,null,null,null,null,{"$f":"\"自身と同マスに「ｷｭｰﾌﾞ」(【耐久】:\"&CL*6+10+データ管理!AD29&\")を配置　ｷｭｰﾌﾞのあるﾏｽのﾕﾆｯﾄの\n被D-\"&INT(CL/2)+4&\"(重複可)\"","v":"自身と同マスに「ｷｭｰﾌﾞ」(【耐久】:10)を配置　ｷｭｰﾌﾞのあるﾏｽのﾕﾆｯﾄの\n被D-4(重複可)"}]
[null,null,"バルカン砲生成","物、配","サブ","―","本文","自動","9MP",3,null,null,null,null,null,null,null,null,null,null,null,null,null,null,null,null,null,null,null,null,null,null,null,null,null,null,null,null,null,null,null,null,null,null,null,null,null,null,null,null,null,null,null,null,null,null,null,null,null,null,null,null,null,null,null,null,{"$f":"\"自身と同マスに「ﾊﾞﾙｶﾝ砲」\n(【耐久】:\"&CL*8+20+データ管理!$AD$29&\")を配置　行動手番開始時、敵1体に〈無〉属性\"&CL*4&\"点付与\"","v":"自身と同マスに「ﾊﾞﾙｶﾝ砲」\n(【耐久】:20)を配置　行動手番開始時、敵1体に〈無〉属性0点付与"}]
[null,null,"パワーポッド生成","物、配","サブ","―","本文","自動","1BP",2,null,null,null,null,null,null,null,null,null,null,null,null,null,null,null,null,null,null,null,null,null,null,null,null,null,null,null,null,null,null,null,null,null,null,null,null,null,null,null,null,null,null,null,null,null,null,null,null,null,null,null,null,null,null,null,null,{"$f":"\"自身と同マスに「ﾊﾟﾜｰﾎﾟｯﾄﾞ」\n(【耐久】:\"&CL*10+10+データ管理!$AD$29&\")を配置　行動手番開始時、味方全体の【MP】\"&INT(CL/5)+2&\"回復\"","v":"自身と同マスに「ﾊﾟﾜｰﾎﾟｯﾄﾞ」\n(【耐久】:10)を配置　行動手番開始時、味方全体の【MP】2回復"}]
[null,null,"貫通射撃","物、射","メイン","遠隔","各1","射撃","12MP",12,null,null,null,null,null,null,null,null,null,null,null,null,null,null,null,null,null,null,null,null,null,null,null,null,null,null,null,null,null,null,null,null,null,null,null,null,null,null,null,null,null,null,null,null,null,null,null,null,null,null,null,null,null,null,null,null,{"$f":"\"〈\"&CS!Y18&\"〉属性射撃攻撃 与D+\"&OC値+(CL*2)&\"\n【物防】と耐性以外で与Dが減少しない\"","v":"〈近〉属性射撃攻撃 与D+0\n【物防】と耐性以外で与Dが減少しない"}]
[null,null,"ポルターガイスト","物、攻","メイン","中距離","N体",{"$f":"\"対決\n+N+\"&3+データ管理!AB29","v":"対決\n+N+3"},"8MP",12,null,null,null,null,null,null,null,null,null,null,null,null,null,null,null,null,null,null,null,null,null,null,null,null,null,null,null,null,null,null,null,null,null,null,null,null,null,null,null,null,null,null,null,null,null,null,null,null,null,null,null,null,null,null,null,null,{"$f":"\"N体の自陣配置ﾕﾆｯﾄを消滅させ、\n〈遠〉属性[\"&(OC値*4)+(CL*8)&\"+4D10]ﾀﾞﾒｰｼﾞの攻撃\n[連続x]\"","v":"N体の自陣配置ﾕﾆｯﾄを消滅させ、\n〈遠〉属性[0+4D10]ﾀﾞﾒｰｼﾞの攻撃\n[連続x]"}]
[null,null,"オブジェクトスロー","物、支、妨","オート","遠隔","単体","自動","6MP",1,null,null,null,null,null,null,null,null,null,null,null,null,null,null,null,null,null,null,null,null,null,null,null,null,null,null,null,null,null,null,null,null,null,null,null,null,null,null,null,null,null,null,null,null,null,null,null,null,null,null,null,null,null,null,null,null,{"$f":"\"判定直後に自陣配置ﾕﾆｯﾄをN体消滅させ、判定達成値±[N×3]\n1ﾒｲﾝ1回制限\"","v":"判定直後に自陣配置ﾕﾆｯﾄをN体消滅させ、判定達成値±[N×3]\n1ﾒｲﾝ1回制限"}]
[null,null,"オブジェクトガード","物、防","ダメロ","自陣","単体","自動","12MP",0,null,null,null,null,null,null,null,null,null,null,null,null,null,null,null,null,null,null,null,null,null,null,null,null,null,null,null,null,null,null,null,null,null,null,null,null,null,null,null,null,null,null,null,null,null,null,null,null,null,null,null,null,null,null,null,null,{"$f":"\"対象の攻撃被D-\"&OC値+CL*2&\"\n30%で「ﾌﾞﾛｯｸ」(【耐久】\"&CL*3&\") 1体同ﾏｽ配置　1ﾒｲﾝ1回制限\"","v":"対象の攻撃被D-0\n30%で「ﾌﾞﾛｯｸ」(【耐久】0) 1体同ﾏｽ配置　1ﾒｲﾝ1回制限"}]
[null,null,"ホワイトジャマー","物、配","サブ","―","本文","自動","12MP",3,null,null,null,null,null,null,null,null,null,null,null,null,null,null,null,null,null,null,null,null,null,null,null,null,null,null,null,null,null,null,null,null,null,null,null,null,null,null,null,null,null,null,null,null,null,null,null,null,null,null,null,null,null,null,null,null,{"$f":"IF(AND(OC値>=5,COUNTIFS(CS!$D$11:$L$12,\"オブジェクトコマンダー\")=1)=TRUE,\"自身と同ﾏｽに「ﾎﾜｲﾄｼﾞｬﾏｰ」\n(【耐久】：\"&CL*4+40+データ管理!$AD$29&\")1体配置 「ﾎﾜｲﾄｼﾞｬﾏｰ」と同ﾏｽﾕﾆｯﾄは怯み以外のBS無効\",\"取得不可\")","v":"取得不可"}]
[null,null,"スケープゴート","物、防","ダメロ","自陣","全体()","自動","3BP",3,null,null,null,null,null,null,null,null,null,null,null,null,null,null,null,null,null,null,null,null,null,null,null,null,null,null,null,null,null,null,null,null,null,null,null,null,null,null,null,null,null,null,null,null,null,null,null,null,null,null,null,null,null,null,null,null,{"$f":"IF(AND(OC値>=10,MC=\"オブジェクトコマンダー\")=TRUE,\"自陣の配置ﾕﾆｯﾄ消滅させて攻撃ﾀﾞﾒｰｼﾞを被D0にする。1戦闘1回制限 3体以上消滅すれば、使用回数消費なし\",\"取得不可\")","v":"取得不可"}]
[null,"OK","真珠のきらめき","宝","常時","―","自身","―","―","―",null,null,null,null,null,null,null,null,null,null,null,null,null,null,null,null,null,null,null,null,null,null,null,null,null,null,null,null,null,null,null,null,null,null,null,null,null,null,null,null,null,null,null,null,null,null,null,null,null,null,null,null,null,null,null,null,"行動手番終了時、5D10で35以上ならﾒｲﾝを得てよい。そのﾒｲﾝでの攻撃を「ｺｽﾄ：3」で使用可能"]
[null,null,"アメジストワールド","宝","スタート","自陣","全体()","自動","26MP",5,null,null,null,null,null,null,null,null,null,null,null,null,null,null,null,null,null,null,null,null,null,null,null,null,null,null,null,null,null,null,null,null,null,null,null,null,null,null,null,null,null,null,null,null,null,null,null,null,null,null,null,null,null,null,null,null,{"$f":"\"戦闘中、対象がBS付与のない攻撃を受けた場合、対象の【HP】\"&CL+5&\"回復　【HP】0で効果消滅\"","v":"戦闘中、対象がBS付与のない攻撃を受けた場合、対象の【HP】5回復　【HP】0で効果消滅"}]
[null,null,"金剛石の輝き","宝、防","サブ","自陣","範囲()","自動","15MP",3,null,null,null,null,null,null,null,null,null,null,null,null,null,null,null,null,null,null,null,null,null,null,null,null,null,null,null,null,null,null,null,null,null,null,null,null,null,null,null,null,null,null,null,null,null,null,null,null,null,null,null,null,null,null,null,null,{"$f":"\"2ﾒｲﾝ間、対象の被D-\"&OK値+CL&\"\n40%BS付与無効\"","v":"2ﾒｲﾝ間、対象の被D-0\n40%BS付与無効"}]
[null,null,"プリズムフォース","宝、支","サブ","―","自身","自動","8MP",5,null,null,null,null,null,null,null,null,null,null,null,null,null,null,null,null,null,null,null,null,null,null,null,null,null,null,null,null,null,null,null,null,null,null,null,null,null,null,null,null,null,null,null,null,null,null,null,null,null,null,null,null,null,null,null,null,"直後ﾒｲﾝで行う攻撃を「射程：遠隔」「対象：全体(選択)」に変更\n1戦闘2回制限"]
[null,null,"ルビースラッシュ","宝、近","メイン","至近","範囲()","近接\n+1","6MP",11,null,null,null,null,null,null,null,null,null,null,null,null,null,null,null,null,null,null,null,null,null,null,null,null,null,null,null,null,null,null,null,null,null,null,null,null,null,null,null,null,null,null,null,null,null,null,null,null,null,null,null,null,null,null,null,null,{"$f":"\"〈炎〉属性近接攻撃 与D+\"&INT((OK値+(CL*2))/5)&\"D10\"","v":"〈炎〉属性近接攻撃 与D+0D10"}]
[null,null,"アイオライトボウ","宝、射","メイン",{"$f":"CS!V18","v":"超至近"},"単体","射撃\n+1","8MP","(3)→9",null,null,null,null,null,null,null,null,null,null,null,null,null,null,null,null,null,null,null,null,null,null,null,null,null,null,null,null,null,null,null,null,null,null,null,null,null,null,null,null,null,null,null,null,null,null,null,null,null,null,null,null,null,null,null,null,{"$f":"\"〈水〉属性射撃攻撃 与D+\"&(OK値+CL)*2&\"\n攻撃命中対象のGSを全解除\"","v":"〈水〉属性射撃攻撃 与D+0\n攻撃命中対象のGSを全解除"}]
[null,null,"アンバースパーク","宝、魔","メイン","中距離","単体","魔術\n+3","16MP","(8)→3",null,null,null,null,null,null,null,null,null,null,null,null,null,null,null,null,null,null,null,null,null,null,null,null,null,null,null,null,null,null,null,null,null,null,null,null,null,null,null,null,null,null,null,null,null,null,null,null,null,null,null,null,null,null,null,null,{"$f":"\"〈雷〉属性[\"&(OK値*2)+(CL*3)+魔攻&\"+5D10]ﾀﾞﾒｰｼﾞの攻撃\n攻撃命中対象にマヒ&怯み(2)付与\n[連続x]\"","v":"〈雷〉属性[6+5D10]ﾀﾞﾒｰｼﾞの攻撃\n攻撃命中対象にマヒ&怯み(2)付与\n[連続x]"}]
[null,null,"エメラルドスピア","宝、攻","メイン","遠隔","各1","武器","8MP",12,null,null,null,null,null,null,null,null,null,null,null,null,null,null,null,null,null,null,null,null,null,null,null,null,null,null,null,null,null,null,null,null,null,null,null,null,null,null,null,null,null,null,null,null,null,null,null,null,null,null,null,null,null,null,null,null,{"$f":"\"【魔術】で判定不可\n〈風〉属性[\"&OK値+(CL*2)+物攻&\"+3D10]ﾀﾞﾒｰｼﾞの攻撃\n回避F値[1D10+7]固定\"","v":"【魔術】で判定不可\n〈風〉属性[11+3D10]ﾀﾞﾒｰｼﾞの攻撃\n回避F値[1D10+7]固定"}]
[null,null,"トパーズレイ","宝、支","オート","遠隔","単体","自動","4MP",2,null,null,null,null,null,null,null,null,null,null,null,null,null,null,null,null,null,null,null,null,null,null,null,null,null,null,null,null,null,null,null,null,null,null,null,null,null,null,null,null,null,null,null,null,null,null,null,null,null,null,null,null,null,null,null,null,"戦闘中のC値以上でもF値以下でもない判定の出目の片方を、あなたが振り直す　1戦闘3回制限"]
[null,null,"サファイアガード","宝、防","ダメロ","自陣","全体()","自動","5MP",0,null,null,null,null,null,null,null,null,null,null,null,null,null,null,null,null,null,null,null,null,null,null,null,null,null,null,null,null,null,null,null,null,null,null,null,null,null,null,null,null,null,null,null,null,null,null,null,null,null,null,null,null,null,null,null,null,{"$f":"\"対象の被D-[2D10×\"&CL&\"]\nその後、あなたの【MP】を[(2D10の出目)*2]点減少　1戦闘2回制限\"","v":"対象の被D-[2D10×0]\nその後、あなたの【MP】を[(2D10の出目)*2]点減少　1戦闘2回制限"}]
[null,null,"アゲートサポート","宝、支","オート","自陣","単体","自動","1BP",3,null,null,null,null,null,null,null,null,null,null,null,null,null,null,null,null,null,null,null,null,null,null,null,null,null,null,null,null,null,null,null,null,null,null,null,null,null,null,null,null,null,null,null,null,null,null,null,null,null,null,null,null,null,null,null,null,{"$f":"IF(AND(OK値>=5,COUNTIFS(CS!$D$11:$L$12,\"オパルスナイト\")=1)=TRUE,\"判定の片方の出目+1　1戦闘3回制限\",\"取得不可\")","v":"取得不可"}]
[null,null,"レインボーバースト","宝、攻","メイン","遠隔","全体()","武器","21MP",3,null,null,null,null,null,null,null,null,null,null,null,null,null,null,null,null,null,null,null,null,null,null,null,null,null,null,null,null,null,null,null,null,null,null,null,null,null,null,null,null,null,null,null,null,null,null,null,null,null,null,null,null,null,null,null,null,{"$f":"IF(AND(OK値>=10,MC=\"オパルスナイト\")=TRUE,\"〈炎〉〈氷〉〈水〉〈雷〉〈風〉〈光〉[\"&(OK値+COUNTIFS(CS!AW28:AY57,\"*宝*\"))*7&\"+4D10]ﾀﾞﾒｰｼﾞの攻撃　[連続x]\",\"取得不可\")","v":"取得不可"}]
[null,"RD","魔法印の使い手","印","常時","―","自身","―","―","―",null,null,null,null,null,null,null,null,null,null,null,null,null,null,null,null,null,null,null,{"$f":"COUNTIFS(CS!AW28:AY57,\"*印*\")*2","v":0},{"$f":"COUNTIFS(CS!$AW$28:$AY$57,\"*印*\")*-3","v":0},{"$f":"COUNTIFS(CS!$AW$28:$AY$57,\"*印*\")*-3","v":0},{"$f":"COUNTIFS(CS!$AW$28:$AY$57,\"*印*\")","v":0},{"$f":"COUNTIFS(CS!$AW$28:$AY$57,\"*印*\")","v":0},{"$f":"COUNTIFS(CS!$AW$28:$AY$57,\"*印*\")","v":0},{"$f":"COUNTIFS(CS!$AW$28:$AY$57,\"*印*\")","v":0},{"$f":"COUNTIFS(CS!$AW$28:$AY$57,\"*印*\")","v":0},{"$f":"COUNTIFS(CS!$AW$28:$AY$57,\"*印*\")","v":0},null,null,null,null,null,null,null,null,null,null,null,null,null,null,null,null,null,null,null,null,null,null,null,null,null,null,null,null,{"$f":"\"〈近〉〈遠〉耐性-\"&COUNTIFS(CS!AW28:AY57,\"*印*\")*3&\" \n〈炎〉～〈光〉耐性+\"&COUNTIFS(CS!AW28:AY57,\"*印*\")&\" \n【精神】+\"&COUNTIFS(CS!AW28:AY57,\"*印*\")*2","v":"〈近〉〈遠〉耐性-0 \n〈炎〉～〈光〉耐性+0 \n【精神】+0"}]
[null,null,"魔法印：アルジス","印、支","スタート","自陣","全体()","自動","2BP",2,null,null,null,null,null,null,null,null,null,null,null,null,null,null,null,null,null,null,null,null,null,null,null,null,null,null,null,null,null,null,null,null,null,null,null,null,null,null,null,null,null,null,null,null,null,null,null,null,null,null,null,null,null,null,null,null,"自身最初の行動手番まで、対象は敵の攻撃でBSを受けない"]
[null,null,"魔法印：エイワズ","印、支","サブ","―","自身","自動","6MP",2,null,null,null,null,null,null,null,null,null,null,null,null,null,null,null,null,null,null,null,null,null,null,null,null,null,null,null,null,null,null,null,null,null,null,null,null,null,null,null,null,null,null,null,null,null,null,null,null,null,null,null,null,null,null,null,null,"直後ﾒｲﾝの攻撃ｽｷﾙを「射程：遠隔」「対象：範囲(選択)」に変更"]
[null,null,"魔法印：ナウシズ","印、防","サブ","―","自身","自動","8MP",3,null,null,null,null,null,null,null,null,null,null,null,null,null,null,null,null,null,null,null,null,null,null,null,null,null,null,null,null,null,null,null,null,null,null,null,null,null,null,null,null,null,null,null,null,null,null,null,null,null,null,null,null,null,null,null,null,{"$f":"\"1ﾒｲﾝ間 攻撃被D-\"&RD値+CL&\"\nBS付与無効\"","v":"1ﾒｲﾝ間 攻撃被D-0\nBS付与無効"}]
[null,null,"魔法印：テイワズ","印、支","サブ","―","自身","自動","5MP",1,null,null,null,null,null,null,null,null,null,null,null,null,null,null,null,null,null,null,null,null,null,null,null,null,null,null,null,null,null,null,null,null,null,null,null,null,null,null,null,null,null,null,null,null,null,null,null,null,null,null,null,null,null,null,null,null,"後衛でのみ使用可能\n直後ﾒｲﾝの命中C値-3 (下限値：13)\nｸﾘﾃｨｶﾙの場合、【MP】1D10回復"]
[null,null,"ルーンブレード","印、近","メイン",{"$f":"ｽﾀｲﾙVL用!G52","v":"超至近"},"単体",{"$f":"\"近接\"&IF(COUNTIFS(CS!AP28:AV57,\"*印*\")=1,\"\",\"\n+\"&MIN(4,COUNTIFS(CS!AP28:AV57,\"*印*\"))-1)","v":"近接\n+-1"},"8MP",13,null,null,null,null,null,null,null,null,null,null,null,null,null,null,null,null,null,null,null,null,null,null,null,null,null,null,null,null,null,null,null,null,null,null,null,null,null,null,null,null,null,null,null,null,null,null,null,null,null,null,null,null,null,null,null,null,{"$f":"\"〈近〉属性近接攻撃 与D+\"&(RD値*2)+(CL*3)&\"\"","v":"〈近〉属性近接攻撃 与D+0"}]
[null,null,"魔法印：ラグズ","印、射","メイン","遠隔x","単体","射撃\n+1","5MP",11,null,null,null,null,null,null,null,null,null,null,null,null,null,null,null,null,null,null,null,null,null,null,null,null,null,null,null,null,null,null,null,null,null,null,null,null,null,null,null,null,null,null,null,null,null,null,null,null,null,null,null,null,null,null,null,null,{"$f":"\"〈水〉属性射撃攻撃 与D+\"&RD値+(CL*2)&\"\n攻撃命中対象に40%怯み(2)付与\"","v":"〈水〉属性射撃攻撃 与D+0\n攻撃命中対象に40%怯み(2)付与"}]
[null,null,"魔法印：カノ","印、魔","メイン","中距離","単体","魔術","7MP",13,null,null,null,null,null,null,null,null,null,null,null,null,null,null,null,null,null,null,null,null,null,null,null,null,null,null,null,null,null,null,null,null,null,null,null,null,null,null,null,null,null,null,null,null,null,null,null,null,null,null,null,null,null,null,null,null,{"$f":"\"〈炎〉属性[\"&RD値+(CL*3)+魔攻&\"+6D10]ﾀﾞﾒｰｼﾞの攻撃\n攻撃命中対象に30%火傷(\"&CL+8&\")付与\"","v":"〈炎〉属性[6+6D10]ﾀﾞﾒｰｼﾞの攻撃\n攻撃命中対象に30%火傷(8)付与"}]
[null,null,"魔法印：イサ","印、魔","メイン","中距離","各1","魔術","11MP",13,null,null,null,null,null,null,null,null,null,null,null,null,null,null,null,null,null,null,null,null,null,null,null,null,null,null,null,null,null,null,null,null,null,null,null,null,null,null,null,null,null,null,null,null,null,null,null,null,null,null,null,null,null,null,null,null,{"$f":"\"〈氷〉属性[\"&RD値+(CL*3)+魔攻&\"+3D10]ﾀﾞﾒｰｼﾞの攻撃\n攻撃命中対象に30%凍結付与\"","v":"〈氷〉属性[6+3D10]ﾀﾞﾒｰｼﾞの攻撃\n攻撃命中対象に30%凍結付与"}]
[null,null,"魔法印：パース","印、支","オート","自陣","単体",0.8,"7MP",3,null,null,null,null,null,null,null,null,null,null,null,null,null,null,null,null,null,null,null,null,null,null,null,null,null,null,null,null,null,null,null,null,null,null,null,null,null,null,null,null,null,null,null,null,null,null,null,null,null,null,null,null,null,null,null,null,"判定直後使用可 判定振り直し\n出目がC値以上なら【BP】+1、F値以上なら【BP】-1　1ﾒｲﾝ1回制限"]
[null,null,"魔法印：ソウェイル","印、攻","メイン","中距離","単体",{"$f":"\"対決\n+\"&2+データ管理!AB29","v":"対決\n+2"},"12MP","[12]",null,null,null,null,null,null,null,null,null,null,null,null,null,null,null,null,null,null,null,null,null,null,null,null,null,null,null,null,null,null,null,null,null,null,null,null,null,null,null,null,null,null,null,null,null,null,null,null,null,null,null,null,null,null,null,null,{"$f":"IF(AND(RD値>=5,COUNTIFS(CS!$D$11:$L$12,\"ルーンデコーダー\")=1)=TRUE,\"〈光〉属性[\"&CL*4&\"+4D10]ﾀﾞﾒｰｼﾞの攻撃\n攻撃命中対象に 20%封印付与\",\"取得不可\")","v":"取得不可"}]
[null,null,"魔法印：ウルズ","印、支","オート","自陣","単体","自動","4BP",0,null,null,null,null,null,null,null,null,null,null,null,null,null,null,null,null,null,null,null,null,null,null,null,null,null,null,null,null,null,null,null,null,null,null,null,null,null,null,null,null,null,null,null,null,null,null,null,null,null,null,null,null,null,null,null,null,{"$f":"IF(AND(RD値>=10,MC=\"ルーンデコーダー\")=TRUE,\"ｶｳﾝﾄ開始時使用可\n対象に攻勢(\"&RD値*6&\")付与\",\"取得不可\")","v":"取得不可"}]
[null,"SS","狂乱の刀","士","常時","―","自身","―","―","―",null,null,null,null,null,null,null,null,null,null,null,null,null,null,null,null,null,null,null,null,null,null,null,null,null,null,null,null,null,null,null,null,null,null,null,null,null,null,null,null,null,null,null,null,null,null,null,null,null,null,null,null,null,null,null,null,{"$f":"\"[剣]装備中かつ、自身のBSが付与されている場合、攻撃の与D+[\"&CL*2+5&\"×BS付与数]\"","v":"[剣]装備中かつ、自身のBSが付与されている場合、攻撃の与D+[5×BS付与数]"}]
[null,null,"弐の太刀要らず","士","常時","―","自身","―","―","―",null,null,null,null,null,null,null,null,null,null,null,null,null,null,null,null,null,null,null,null,null,null,null,null,null,null,null,null,null,null,null,null,null,null,null,null,null,null,null,null,null,null,null,null,null,null,null,null,null,null,null,null,null,null,null,null,{"$f":"\"戦闘最初の攻撃の命中達成値+5\n与D+\"&SS値+CL*3&\"\n《弐の太刀..》《参の太刀..》取得不可\"","v":"戦闘最初の攻撃の命中達成値+5\n与D+0\n《弐の太刀..》《参の太刀..》取得不可"}]
[null,null,"縮地","士、支","サブ","―","自身","自動","4MP",1,null,null,null,null,null,null,null,null,null,null,null,null,null,null,null,null,null,null,null,null,null,null,null,null,null,null,null,null,null,null,null,null,null,null,null,null,null,null,null,null,null,null,null,null,null,null,null,null,null,null,null,null,null,null,null,null,"直後ﾒｲﾝの「種別：近」攻撃を「射程：中距離」に変更"]
[null,null,"壱の太刀「炎天」","士、近","メイン",{"$f":"ｽﾀｲﾙVL用!G52","v":"超至近"},"単体","近接\n+1","4MP",8,null,null,null,null,null,null,null,null,null,null,null,null,null,null,null,null,null,null,null,null,null,null,null,null,null,null,null,null,null,null,null,null,null,null,null,null,null,null,null,null,null,null,null,null,null,null,null,null,null,null,null,null,null,null,null,null,{"$f":"\"〈炎〉属性近接攻撃 与D+\"&SS値+CL&\"\n攻撃命中対象に30%火傷(\"&CL&\")付与\"","v":"〈炎〉属性近接攻撃 与D+0\n攻撃命中対象に30%火傷(0)付与"}]
[null,null,"弐の太刀「落葉」","士、近","メイン",{"$f":"ｽﾀｲﾙVL用!G52","v":"超至近"},"単体","近接\n+1","5MP",8,null,null,null,null,null,null,null,null,null,null,null,null,null,null,null,null,null,null,null,null,null,null,null,null,null,null,null,null,null,null,null,null,null,null,null,null,null,null,null,null,null,null,null,null,null,null,null,null,null,null,null,null,null,null,null,null,{"$f":"\"〈風〉属性近接攻撃 与D+\"&SS値+CL&\"\n前ﾒｲﾝで《壱の太刀..》を敵に命中させている場合、与D+\"&SS値+CL*3","v":"〈風〉属性近接攻撃 与D+0\n前ﾒｲﾝで《壱の太刀..》を敵に命中させている場合、与D+0"}]
[null,null,"参の太刀「閃牙」","士、近","メイン","中距離","単体","近接","5MP",8,null,null,null,null,null,null,null,null,null,null,null,null,null,null,null,null,null,null,null,null,null,null,null,null,null,null,null,null,null,null,null,null,null,null,null,null,null,null,null,null,null,null,null,null,null,null,null,null,null,null,null,null,null,null,null,null,{"$f":"\"〈光〉属性近接攻撃 与D+\"&SS値+CL&\"\n《壱の太刀..》→《弐の太刀..》の順で敵に命中の場合、命中+3 与D+\"&SS値*2+CL*4","v":"〈光〉属性近接攻撃 与D+0\n《壱の太刀..》→《弐の太刀..》の順で敵に命中の場合、命中+3 与D+0"}]
[null,null,"零の太刀「逆鱗」","士、近","メイン",{"$f":"ｽﾀｲﾙVL用!G52","v":"超至近"},"単体","近接\n+2","11MP",12,null,null,null,null,null,null,null,null,null,null,null,null,null,null,null,null,null,null,null,null,null,null,null,null,null,null,null,null,null,null,null,null,null,null,null,null,null,null,null,null,null,null,null,null,null,null,null,null,null,null,null,null,null,null,null,null,{"$f":"\"【HP】\"&CL*2&\"以下でのみ使用可\n〈近〉属性近接攻撃 与D+\"&CS!AE45&\"-【HP】\n(上限：\"&SS値*4+30&\")　[連続x]\"","v":"【HP】0以下でのみ使用可\n〈近〉属性近接攻撃 与D+20-【HP】\n(上限：30)　[連続x]"}]
[null,null,"夢現の刃","士、攻","メイン","中距離","[単体]","武器","7MP",10,null,null,null,null,null,null,null,null,null,null,null,null,null,null,null,null,null,null,null,null,null,null,null,null,null,null,null,null,null,null,null,null,null,null,null,null,null,null,null,null,null,null,null,null,null,null,null,null,null,null,null,null,null,null,null,null,{"$f":"\"〈近〉属性[\"&SS値*2+(CL*4)+物攻&\"+6D10]ﾀﾞﾒｰｼﾞの攻撃\n攻撃命中後、自身の【HP】が与Dの半分(↑)減少　[連続x]\"","v":"〈近〉属性[11+6D10]ﾀﾞﾒｰｼﾞの攻撃\n攻撃命中後、自身の【HP】が与Dの半分(↑)減少　[連続x]"}]
[null,null,"刹那返し","士、支","オート","―","自身","自動","2BP",0,null,null,null,null,null,null,null,null,null,null,null,null,null,null,null,null,null,null,null,null,null,null,null,null,null,null,null,null,null,null,null,null,null,null,null,null,null,null,null,null,null,null,null,null,null,null,null,null,null,null,null,null,null,null,null,null,"攻撃をｸﾘﾃｨｶﾙか同値回避した場合、攻撃ｽｷﾙを攻撃者に射程無視して使用可。代償は発生、ｺｽﾄは6固定"]
[null,null,"白刃取り","士、支","オート","―","自身","自動","1BP",3,null,null,null,null,null,null,null,null,null,null,null,null,null,null,null,null,null,null,null,null,null,null,null,null,null,null,null,null,null,null,null,null,null,null,null,null,null,null,null,null,null,null,null,null,null,null,null,null,null,null,null,null,null,null,null,null,{"$f":"\"【近接】判定の命中判定に対する回避判定直前に使用可　判定達成値+4\n1戦闘\"&COUNTIFS(CS!AW28:AY57,\"*士*\")&\"回制限\"","v":"【近接】判定の命中判定に対する回避判定直前に使用可　判定達成値+4\n1戦闘0回制限"}]
[null,null,"妖剣術","士、支","サブ","―","自身","自動","7MP",0,null,null,null,null,null,null,null,null,null,null,null,null,null,null,null,null,null,null,null,null,null,null,null,null,null,null,null,null,null,null,null,null,null,null,null,null,null,null,null,null,null,null,null,null,null,null,null,null,null,null,null,null,null,null,null,null,{"$f":"IF(AND(SS値>=5,COUNTIFS(CS!$D$11:$L$12,\"サムライソウル\")=1,COUNTIFS(CS!AP28:AV57,\"狂乱の刀\")=1)=TRUE,\"[剣]装備時のみ使用可　直後ﾒｲﾝで「種別：魔」「ｺｽﾄ：(X)→Y」のｽｷﾙを「ｺｽﾄ：X+Y-1」に変更　1戦闘\"&ROUNDUP(SS値/3,0)&\"回制限\",\"取得不可\")","v":"取得不可"}]
[null,null,"肆の太刀「絶無」","士、近","メイン","遠隔","単体","近接\n+5","なし","[5]",null,null,null,null,null,null,null,null,null,null,null,null,null,null,null,null,null,null,null,null,null,null,null,null,null,null,null,null,null,null,null,null,null,null,null,null,null,null,null,null,null,null,null,null,null,null,null,null,null,null,null,null,null,null,null,null,{"$f":"IF(AND(SS値>=10,MC=\"サムライソウル\")=TRUE,\"3つ前のﾒｲﾝから壱→弐→参と命中させている場合のみ使用可\n〈無〉属性近接攻撃 与D+\"&(SS値*6)+(CL*8),\"取得不可\")","v":"取得不可"}]
[null,"TD","時を司る者","時","常時","―","自身","―","―","―",null,null,null,null,null,null,null,null,null,null,null,null,null,null,null,null,null,null,null,null,null,null,null,null,null,null,null,null,null,null,null,null,null,null,null,null,null,null,null,null,null,null,null,null,null,null,null,null,null,null,null,null,null,null,null,null,"1戦闘2回 回避判定振り直す\nn0%効果の発動確率に+10%"]
[null,null,"タイムバインド","時、妨","サブ","中距離","単体",{"$f":"\"対決\n-\"&3-データ管理!AB29","v":"対決\n-3"},"9MP",3,null,null,null,null,null,null,null,null,null,null,null,null,null,null,null,null,null,null,null,null,null,null,null,null,null,null,null,null,null,null,null,null,null,null,null,null,null,null,null,null,null,null,null,null,null,null,null,null,null,null,null,null,null,null,null,null,{"$f":"\"1ﾒｲﾝ間、対象は一切の判定・行動・ｽｷﾙ使用不可　対象は【HP】\"&CL*5+20&\"点支払って付与を無効にできる\"","v":"1ﾒｲﾝ間、対象は一切の判定・行動・ｽｷﾙ使用不可　対象は【HP】20点支払って付与を無効にできる"}]
[null,null,"アクセラレイト","時、支","サブ","自陣","範囲()",0.8,"8MP",3,null,null,null,null,null,null,null,null,null,null,null,null,null,null,null,null,null,null,null,null,null,null,null,null,null,null,null,null,null,null,null,null,null,null,null,null,null,null,null,null,null,null,null,null,null,null,null,null,null,null,null,null,null,null,null,null,"2ﾒｲﾝ間、回避判定達成値+2"]
[null,null,"ディセラレイト","時、妨","サブ","遠隔","範囲()",{"$f":"\"対決\n+\"&1+データ管理!AB29","v":"対決\n+1"},"8MP",3,null,null,null,null,null,null,null,null,null,null,null,null,null,null,null,null,null,null,null,null,null,null,null,null,null,null,null,null,null,null,null,null,null,null,null,null,null,null,null,null,null,null,null,null,null,null,null,null,null,null,null,null,null,null,null,null,"2ﾒｲﾝ間、回避判定達成値-2"]
[null,null,"チェックメイト","時、妨","サブ","遠隔","単体",0.8,"13MP",6,null,null,null,null,null,null,null,null,null,null,null,null,null,null,null,null,null,null,null,null,null,null,null,null,null,null,null,null,null,null,null,null,null,null,null,null,null,null,null,null,null,null,null,null,null,null,null,null,null,null,null,null,null,null,null,null,{"$f":"\"対象の次の回避判定達成値-100\n1戦闘\"&INT(TD値/5)&\"回制限\"","v":"対象の次の回避判定達成値-100\n1戦闘0回制限"}]
[null,null,"アクセルスラッシュ","時、近","メイン",{"$f":"ｽﾀｲﾙVL用!G52","v":"超至近"},"単体","近接\n+2","4MP",10,null,null,null,null,null,null,null,null,null,null,null,null,null,null,null,null,null,null,null,null,null,null,null,null,null,null,null,null,null,null,null,null,null,null,null,null,null,null,null,null,null,null,null,null,null,null,null,null,null,null,null,null,null,null,null,null,{"$f":"\"〈\"&ｽﾀｲﾙVL用!$H$52&\"〉属性近接攻撃 与D+\"&TD値*2+CL&\"\n攻撃命中した場合、次に使用する《ｱｸｾﾙｽﾗｯｼｭ》を「ｺｽﾄ：9」にする\"","v":"〈近〉属性近接攻撃 与D+0\n攻撃命中した場合、次に使用する《ｱｸｾﾙｽﾗｯｼｭ》を「ｺｽﾄ：9」にする"}]
[null,null,"ディセルショット","時、射","メイン",{"$f":"CS!V18","v":"超至近"},"単体","射撃\n-1","6MP",9,null,null,null,null,null,null,null,null,null,null,null,null,null,null,null,null,null,null,null,null,null,null,null,null,null,null,null,null,null,null,null,null,null,null,null,null,null,null,null,null,null,null,null,null,null,null,null,null,null,null,null,null,null,null,null,null,{"$f":"\"〈\"&CS!Y18&\"〉属性射撃攻撃 与D+\"&TD値+CL&\"\n攻撃の回避判定振り直し不可\"","v":"〈近〉属性射撃攻撃 与D+0\n攻撃の回避判定振り直し不可"}]
[null,null,"弾幕射撃","時、射","メイン",{"$f":"CS!V18","v":"超至近"},"範囲()","射撃","8MP",12,null,null,null,null,null,null,null,null,null,null,null,null,null,null,null,null,null,null,null,null,null,null,null,null,null,null,null,null,null,null,null,null,null,null,null,null,null,null,null,null,null,null,null,null,null,null,null,null,null,null,null,null,null,null,null,null,{"$f":"\"〈\"&CS!Y18&\"〉属性射撃攻撃 与D+\"&TD値+CL&\"\n命中C値\"&IF(データ管理!C29-2>=MIN(データ管理!E29,14),データ管理!C29-2,MIN(データ管理!E29,14))","v":"〈近〉属性射撃攻撃 与D+0\n命中C値14"}]
[null,null,"タイムジャンプ","時、支","ダメロ","自陣","単体","自動","1BP","X+1",null,null,null,null,null,null,null,null,null,null,null,null,null,null,null,null,null,null,null,null,null,null,null,null,null,null,null,null,null,null,null,null,null,null,null,null,null,null,null,null,null,null,null,null,null,null,null,null,null,null,null,null,null,null,null,null,{"$f":"\"自身使用不可\n「ｺｽﾄ：(X)→Y」のｽｷﾙ宣言時を、「ｺｽﾄ：Y」に変更　1戦闘\"&COUNTIFS(CS!AW28:AY57,\"*時*\")&\"回制限\"","v":"自身使用不可\n「ｺｽﾄ：(X)→Y」のｽｷﾙ宣言時を、「ｺｽﾄ：Y」に変更　1戦闘0回制限"}]
[null,null,"瞬間離脱","時、防","ダメロ","―","自身",0.5,"2BP",0,null,null,null,null,null,null,null,null,null,null,null,null,null,null,null,null,null,null,null,null,null,null,null,null,null,null,null,null,null,null,null,null,null,null,null,null,null,null,null,null,null,null,null,null,null,null,null,null,null,null,null,null,null,null,null,null,"回避失敗直後のﾀﾞﾒﾛで使用可。被Dを0にする。ﾀﾞﾒﾛ中ｽｷﾙ使用不可\n1戦闘3回制限"]
[null,null,"時への反逆","時、支","サブ","―","自身","自動","6MP",0,null,null,null,null,null,null,null,null,null,null,null,null,null,null,null,null,null,null,null,null,null,null,null,null,null,null,null,null,null,null,null,null,null,null,null,null,null,null,null,null,null,null,null,null,null,null,null,null,null,null,null,null,null,null,null,null,{"$f":"IF(AND(TD値>=5,COUNTIFS(CS!$D$11:$L$12,\"タイムドリフター\")=1)=TRUE,\"直後ﾒｲﾝで行う通常攻撃のｺｽﾄ-3\n(下限値：5)\n1戦闘3回制限\",\"取得不可\")","v":"取得不可"}]
[null,null,"光速を超えて","時、支","オート","―","自身","自動","2BP",0,null,null,null,null,null,null,null,null,null,null,null,null,null,null,null,null,null,null,null,null,null,null,null,null,null,null,null,null,null,null,null,null,null,null,null,null,null,null,null,null,null,null,null,null,null,null,null,null,null,null,null,null,null,null,null,null,{"$f":"IF(AND(TD値>=10,MC=\"タイムドリフター\")=TRUE,\"ｶｳﾝﾄ開始時使用可\nこのｶｳﾝﾄ間、全判定達成値+20\n1戦闘1回制限\",\"取得不可\")","v":"取得不可"}]
[null,"VC","無の一撃","虚","常時","―","自身","―","―","―",null,null,null,null,null,null,null,null,null,null,null,null,null,null,null,null,null,null,null,null,null,null,null,null,null,null,null,null,null,null,null,null,null,null,null,null,null,null,null,null,null,null,null,null,null,null,null,null,null,null,null,null,null,null,null,null,{"$f":"\"攻撃命中時、即死(\"&VC値*3+8&\")付与\n即死で【HP】0にした場合、覚醒付与\"","v":"攻撃命中時、即死(8)付与\n即死で【HP】0にした場合、覚醒付与"}]
[null,null,"ヴォイドシールド","虚、防","スタート","―","自身","自動","1BP",1,null,null,null,null,null,null,null,null,null,null,null,null,null,null,null,null,null,null,null,null,null,null,null,null,null,null,null,null,null,null,null,null,null,null,null,null,null,null,null,null,null,null,null,null,null,null,null,null,null,null,null,null,null,null,null,null,"戦闘中、命中ｸﾘﾃｨｶﾙでない攻撃の\n被Dを10%で0にする\n(上限値：10%)"]
[null,null,"虚無への誘い","虚、支、妨","サブ","遠隔","単体",0.5,"6MP",2,null,null,null,null,null,null,null,null,null,null,null,null,null,null,null,null,null,null,null,null,null,null,null,null,null,null,null,null,null,null,null,null,null,null,null,null,null,null,null,null,null,null,null,null,null,null,null,null,null,null,null,null,null,null,null,null,{"$f":"\"対象を前衛に配置\"&IF(VC値>=5,\"\n味方に使用の場合は「自動成功」で使用可\",\"\")","v":"対象を前衛に配置"}]
[null,null,"ブラックミスト","虚、支、妨","サブ","遠隔","単体",0.8,"7MP",3,null,null,null,null,null,null,null,null,null,null,null,null,null,null,null,null,null,null,null,null,null,null,null,null,null,null,null,null,null,null,null,null,null,null,null,null,null,null,null,null,null,null,null,null,null,null,null,null,null,null,null,null,null,null,null,null,{"$f":"\"対象のBS・GS・一時持続効果を全解除　1戦闘\"&COUNTIFS(CS!AW28:AY57,\"*虚*\")&\"回制限\"","v":"対象のBS・GS・一時持続効果を全解除　1戦闘0回制限"}]
[null,null,"ダークマター生成","虚、配","サブ","―","本文","自動","10MP",3,null,null,null,null,null,null,null,null,null,null,null,null,null,null,null,null,null,null,null,null,null,null,null,null,null,null,null,null,null,null,null,null,null,null,null,null,null,null,null,null,null,null,null,null,null,null,null,null,null,null,null,null,null,null,null,null,{"$f":"\"自身と同マスに「ﾀﾞｰｸﾏﾀｰ」\n(【耐久】:\"&CL*8+データ管理!$AD$29&\")を配置 ﾀﾞｰｸﾏﾀｰを対象に取らない敵の攻撃の命中達成値-2\"","v":"自身と同マスに「ﾀﾞｰｸﾏﾀｰ」\n(【耐久】:0)を配置 ﾀﾞｰｸﾏﾀｰを対象に取らない敵の攻撃の命中達成値-2"}]
[null,null,"引力閃","虚、近","メイン","中距離","単体","近接","6MP",9,null,null,null,null,null,null,null,null,null,null,null,null,null,null,null,null,null,null,null,null,null,null,null,null,null,null,null,null,null,null,null,null,null,null,null,null,null,null,null,null,null,null,null,null,null,null,null,null,null,null,null,null,null,null,null,null,{"$f":"\"〈近〉属性近接攻撃 与D+\"&VC値+CL*2&\"\n攻撃が後衛に命中の場合で、攻撃終了後に前衛配置\"","v":"〈近〉属性近接攻撃 与D+0\n攻撃が後衛に命中の場合で、攻撃終了後に前衛配置"}]
[null,null,"リペルショット","虚、射","メイン",{"$f":"CS!V18","v":"超至近"},"単体","射撃\n+2","6MP",11,null,null,null,null,null,null,null,null,null,null,null,null,null,null,null,null,null,null,null,null,null,null,null,null,null,null,null,null,null,null,null,null,null,null,null,null,null,null,null,null,null,null,null,null,null,null,null,null,null,null,null,null,null,null,null,null,{"$f":"\"〈遠〉属性射撃攻撃 与D+\"&VC値+CL*3","v":"〈遠〉属性射撃攻撃 与D+0"}]
[null,null,"ヴォイドショット","虚、射","メイン",{"$f":"CS!V18","v":"超至近"},"単体","射撃\n-3","10MP",12,null,null,null,null,null,null,null,null,null,null,null,null,null,null,null,null,null,null,null,null,null,null,null,null,null,null,null,null,null,null,null,null,null,null,null,null,null,null,null,null,null,null,null,null,null,null,null,null,null,null,null,null,null,null,null,null,{"$f":"\"〈無〉属性射撃攻撃 与D+\"&VC値&\"\n命中F値18固定\n[連続x]\"","v":"〈無〉属性射撃攻撃 与D+0\n命中F値18固定\n[連続x]"}]
[null,null,"グラビティスタンプ","虚、魔","メイン","中距離","単体","魔術\n+2","8MP","(4)→6",null,null,null,null,null,null,null,null,null,null,null,null,null,null,null,null,null,null,null,null,null,null,null,null,null,null,null,null,null,null,null,null,null,null,null,null,null,null,null,null,null,null,null,null,null,null,null,null,null,null,null,null,null,null,null,null,{"$f":"\"〈遠〉属性[\"&VC値+(CL*2)+魔攻&\"+4D10]ﾀﾞﾒｰｼﾞの攻撃\n攻撃命中対象が飛行付与の場合\n与D+\"&CL*2&\"し、飛行解除する\"","v":"〈遠〉属性[6+4D10]ﾀﾞﾒｰｼﾞの攻撃\n攻撃命中対象が飛行付与の場合\n与D+0し、飛行解除する"}]
[null,null,"グラビティサポート","虚、支","オート","中距離","単体","自動","7MP",1,null,null,null,null,null,null,null,null,null,null,null,null,null,null,null,null,null,null,null,null,null,null,null,null,null,null,null,null,null,null,null,null,null,null,null,null,null,null,null,null,null,null,null,null,null,null,null,null,null,null,null,null,null,null,null,null,{"$f":"\"判定直後使用可\n判定達成値+[2D10-8]\n1戦闘\"&2+INT(CL/4)&\"回制限\"","v":"判定直後使用可\n判定達成値+[2D10-8]\n1戦闘2回制限"}]
[null,null,"プラスヴォイド","虚、支","サブ","―","自身","自動","24MP",4,null,null,null,null,null,null,null,null,null,null,null,null,null,null,null,null,null,null,null,null,null,null,null,null,null,null,null,null,null,null,null,null,null,null,null,null,null,null,null,null,null,null,null,null,null,null,null,null,null,null,null,null,null,null,null,null,{"$f":"IF(AND(VC値>=5,COUNTIFS(CS!$D$11:$L$12,\"ヴォイドクリエイター\")=1)=TRUE,\"1ﾒｲﾝ間 〈無〉属性追加 対象の被D-\"&VC値+CL,\"取得不可\")","v":"取得不可"}]
[null,null,"ブラックホール","虚、妨","オート","遠隔","単体","自動","5BP","[15]",null,null,null,null,null,null,null,null,null,null,null,null,null,null,null,null,null,null,null,null,null,null,null,null,null,null,null,null,null,null,null,null,null,null,null,null,null,null,null,null,null,null,null,null,null,null,null,null,null,null,null,null,null,null,null,null,{"$f":"IF(AND(VC値>=10,MC=\"ヴォイドクリエイター\")=TRUE,\"対象のｽｷﾙ宣言時使用可\nｽｷﾙ効果を全て無効化\n1戦闘1回制限\",\"取得不可\")","v":"取得不可"}]
[null,"VM","オーバーリカバリ","命","常時","―","自身","―","―","―",null,null,null,null,null,null,null,null,null,null,null,null,null,null,null,null,null,null,null,null,null,null,null,null,null,null,null,null,null,null,null,null,null,null,null,null,null,null,null,null,null,null,null,null,null,null,null,null,null,null,null,null,null,null,null,null,{"$f":"\"自身以外に回ｽｷﾙ使用時、【HP】を[5～\"&CL+5&\"]消費して、消費分回復量増加する。命ｽｷﾙ代償-1MP(下限：3MP)\"","v":"自身以外に回ｽｷﾙ使用時、【HP】を[5～5]消費して、消費分回復量増加する。命ｽｷﾙ代償-1MP(下限：3MP)"}]
[null,null,"プレゼントエナジー","命、回","サブ","自陣","単体","自動","6MP",2,null,null,null,null,null,null,null,null,null,null,null,null,null,null,null,null,null,null,null,null,null,null,null,null,null,null,null,null,null,null,null,null,null,null,null,null,null,null,null,null,null,null,null,null,null,null,null,null,null,null,null,null,null,null,null,null,{"$f":"\"【HP】[\"&(VM値+CL)*2+データ管理!$AC$29&\"+3D10]回復\"","v":"【HP】[0+3D10]回復"}]
[null,null,"セルフヒール","命、回","サブ","―","自身","自動","10MP",4,null,null,null,null,null,null,null,null,null,null,null,null,null,null,null,null,null,null,null,null,null,null,null,null,null,null,null,null,null,null,null,null,null,null,null,null,null,null,null,null,null,null,null,null,null,null,null,null,null,null,null,null,null,null,null,null,{"$f":"\"【HP】[\"&(VM値*2)+(CL*4)+データ管理!$AC$29&\"+4D10]回復\"","v":"【HP】[0+4D10]回復"}]
[null,null,"デュアルスペル","命、支","(サブ)","―","自身","自動","6MP",0,null,null,null,null,null,null,null,null,null,null,null,null,null,null,null,null,null,null,null,null,null,null,null,null,null,null,null,null,null,null,null,null,null,null,null,null,null,null,null,null,null,null,null,null,null,null,null,null,null,null,null,null,null,null,null,null,{"$f":"\"「種別：回」ｽｷﾙ使用で、直後ﾒｲﾝで「種別：魔」「ｺｽﾄ：(X)→Y」のｽｷﾙを\n「ｺｽﾄ：X+Y+1」\"","v":"「種別：回」ｽｷﾙ使用で、直後ﾒｲﾝで「種別：魔」「ｺｽﾄ：(X)→Y」のｽｷﾙを\n「ｺｽﾄ：X+Y+1」"}]
[null,null,"リペアオプション","命、配","サブ","―","本文","自動","5MP",1,null,null,null,null,null,null,null,null,null,null,null,null,null,null,null,null,null,null,null,null,null,null,null,null,null,null,null,null,null,null,null,null,null,null,null,null,null,null,null,null,null,null,null,null,null,null,null,null,null,null,null,null,null,null,null,null,{"$f":"\"自身と同マスに「ﾘﾍﾟｱｵﾌﾟｼｮﾝ」\n(【耐久】:\"&CL*11-5+データ管理!$AD$29&\")を配置 あなたの回ｽｷﾙの回復量+\"&VM値+CL&\"　効果重複可\"","v":"自身と同マスに「ﾘﾍﾟｱｵﾌﾟｼｮﾝ」\n(【耐久】:-5)を配置 あなたの回ｽｷﾙの回復量+0　効果重複可"}]
[null,null,"スティミュラント","命、支","サブ","自陣","単体",0.7,"12MP",3,null,null,null,null,null,null,null,null,null,null,null,null,null,null,null,null,null,null,null,null,null,null,null,null,null,null,null,null,null,null,null,null,null,null,null,null,null,null,null,null,null,null,null,null,null,null,null,null,null,null,null,null,null,null,null,null,{"$f":"\"2ﾒｲﾝ間、攻撃の与D+\"&CL*3&\" 効果中、ｱｲﾃﾑ使用禁止、ｻﾌﾞ,(ｻﾌﾞ),ﾀﾞﾒﾛｽｷﾙの使用禁止、特殊BP効果使用禁止\"","v":"2ﾒｲﾝ間、攻撃の与D+0 効果中、ｱｲﾃﾑ使用禁止、ｻﾌﾞ,(ｻﾌﾞ),ﾀﾞﾒﾛｽｷﾙの使用禁止、特殊BP効果使用禁止"}]
[null,null,"ドラッグショット","命、射","メイン","武器","単体","射撃","6MP",11,null,null,null,null,null,null,null,null,null,null,null,null,null,null,null,null,null,null,null,null,null,null,null,null,null,null,null,null,null,null,null,null,null,null,null,null,null,null,null,null,null,null,null,null,null,null,null,null,null,null,null,null,null,null,null,null,{"$f":"\"〈\"&CS!Y18&\"〉属性射撃攻撃 与D+\"&VM値+(CL*2)&\"\n攻撃命中対象に50%毒(\"&VM値+CL&\")付与\"","v":"〈近〉属性射撃攻撃 与D+0\n攻撃命中対象に50%毒(0)付与"}]
[null,null,"ライフサクション","命、攻","メイン","遠隔","[単体]",{"$f":"\"対決\n+\"&3+データ管理!AB29","v":"対決\n+3"},"3BP",9,null,null,null,null,null,null,null,null,null,null,null,null,null,null,null,null,null,null,null,null,null,null,null,null,null,null,null,null,null,null,null,null,null,null,null,null,null,null,null,null,null,null,null,null,null,null,null,null,null,null,null,null,null,null,null,null,{"$f":"\"〈無〉属性[\"&(OC値+CL)*3&\"+4D10]ﾀﾞﾒｰｼﾞの攻撃\n攻撃命中時、ﾀﾞﾒﾛ終了時に味方1体の【HP】を与D分回復\"","v":"〈無〉属性[0+4D10]ﾀﾞﾒｰｼﾞの攻撃\n攻撃命中時、ﾀﾞﾒﾛ終了時に味方1体の【HP】を与D分回復"}]
[null,null,"メディカルサポート","命、支","オート","自陣","単体","自動","12MP",0,null,null,null,null,null,null,null,null,null,null,null,null,null,null,null,null,null,null,null,null,null,null,null,null,null,null,null,null,null,null,null,null,null,null,null,null,null,null,null,null,null,null,null,null,null,null,null,null,null,null,null,null,null,null,null,null,{"$f":"\"戦闘中判定直後使用可\n判定振り直し、対象の【HP】\"&CL*2&\"回復\n1戦闘\"&COUNTIFS(CS!AW28:AY57,\"*命*\")&\"回制限\"","v":"戦闘中判定直後使用可\n判定振り直し、対象の【HP】0回復\n1戦闘0回制限"}]
[null,null,"クイックリペアー","命、支","オート","―","自身","自動","2BP",3,null,null,null,null,null,null,null,null,null,null,null,null,null,null,null,null,null,null,null,null,null,null,null,null,null,null,null,null,null,null,null,null,null,null,null,null,null,null,null,null,null,null,null,null,null,null,null,null,null,null,null,null,null,null,null,null,"ｶｳﾝﾄ開始時使用可\n取得している回かつｻﾌﾞのｽｷﾙを1つ使用可　(代償・ｺｽﾄは発生)"]
[null,null,"ライフエミッション","命、支","ダメロ","自陣","単体","自動","3BP",3,null,null,null,null,null,null,null,null,null,null,null,null,null,null,null,null,null,null,null,null,null,null,null,null,null,null,null,null,null,null,null,null,null,null,null,null,null,null,null,null,null,null,null,null,null,null,null,null,null,null,null,null,null,null,null,null,{"$f":"IF(AND(VM値>=5,COUNTIFS(CS!$D$11:$L$12,\"ヴァイタルミュール\")=1)=TRUE,\"【HP】を10～\"&VM値*6&\"支払い、対象の攻撃与D+[消費量×2]\n1戦闘2回制限\",\"取得不可\")","v":"取得不可"}]
[null,null,"フラッドライフ","命、回","サブ","自陣","全体()","自動","24MP",5,null,null,null,null,null,null,null,null,null,null,null,null,null,null,null,null,null,null,null,null,null,null,null,null,null,null,null,null,null,null,null,null,null,null,null,null,null,null,null,null,null,null,null,null,null,null,null,null,null,null,null,null,null,null,null,null,{"$f":"IF(AND(VM値>=10,MC=\"ヴァイタルミュール\")=TRUE,\"【HP】[\"&(VM値+CL)*3+データ管理!$AC$29&\"+4D10]回復\nその後、対象に攻勢(\"&VM値*2&\")付与\",\"取得不可\")","v":"取得不可"}]
[null,"WR","風の支配者","風","常時","―","自身","―","―","―",null,null,null,null,null,null,null,null,null,null,null,null,null,null,null,null,null,null,null,null,null,null,null,null,null,null,null,null,null,null,null,null,null,null,null,null,null,null,null,null,null,null,null,null,null,null,null,null,null,null,null,null,null,null,null,null,{"$f":"\"「種別：風」ｽｷﾙの攻撃を、30%で命中+3 & 攻撃与D+\"&CL*3&\"　攻撃対象に疲労ﾕﾆｯﾄがいれば80%発動になる\"","v":"「種別：風」ｽｷﾙの攻撃を、30%で命中+3 & 攻撃与D+0　攻撃対象に疲労ﾕﾆｯﾄがいれば80%発動になる"}]
[null,null,"プラスウィンド","風、支","サブ","自陣","単体","自動","5MP",2,null,null,null,null,null,null,null,null,null,null,null,null,null,null,null,null,null,null,null,null,null,null,null,null,null,null,null,null,null,null,null,null,null,null,null,null,null,null,null,null,null,null,null,null,null,null,null,null,null,null,null,null,null,null,null,null,{"$f":"\"2ﾒｲﾝ間、攻撃に〈風〉属性追加\n〈雷〉〈風〉属性の被D-\"&WR値*2+CL","v":"2ﾒｲﾝ間、攻撃に〈風〉属性追加\n〈雷〉〈風〉属性の被D-0"}]
[null,null,"癒しの風","風、回","サブ","自陣","範囲()","自動","8MP",2,null,null,null,null,null,null,null,null,null,null,null,null,null,null,null,null,null,null,null,null,null,null,null,null,null,null,null,null,null,null,null,null,null,null,null,null,null,null,null,null,null,null,null,null,null,null,null,null,null,null,null,null,null,null,null,null,{"$f":"\"【HP】[\"&WR値+(CL*2)+データ管理!$AC$29&\"+\"&COUNTIFS(CS!AW28:AY57,\"*風*\")&\"D10]回復\n凍結,呪い,毒(X),疲労解除\"","v":"【HP】[0+0D10]回復\n凍結,呪い,毒(X),疲労解除"}]
[null,null,"ストームバリア","風、防","サブ","自陣","単体","自動","5MP",1,null,null,null,null,null,null,null,null,null,null,null,null,null,null,null,null,null,null,null,null,null,null,null,null,null,null,null,null,null,null,null,null,null,null,null,null,null,null,null,null,null,null,null,null,null,null,null,null,null,null,null,null,null,null,null,null,{"$f":"\"1ﾒｲﾝ間、被D-\"&CL","v":"1ﾒｲﾝ間、被D-0"}]
[null,null,"エアフロート","風、支",{"$f":"IF(WR値>=8,\"(サブ)\",\"サブ\")","v":"サブ"},"自陣","単体","自動","3MP",1,null,null,null,null,null,null,null,null,null,null,null,null,null,null,null,null,null,null,null,null,null,null,null,null,null,null,null,null,null,null,null,null,null,null,null,null,null,null,null,null,null,null,null,null,null,null,null,null,null,null,null,null,null,null,null,null,"1ﾒｲﾝ間、封印とKB無効\n回避達成値+3\n効果適用中 先制付与\""]
[null,null,"音速閃","風、近","メイン","至近","単体","近接","8MP",9,null,null,null,null,null,null,null,null,null,null,null,null,null,null,null,null,null,null,null,null,null,null,null,null,null,null,null,null,null,null,null,null,null,null,null,null,null,null,null,null,null,null,null,null,null,null,null,null,null,null,null,null,null,null,null,null,{"$f":"\"〈風〉属性近接攻撃 与D+\"&WR値+(CL*3)&\"\nｽｷﾙ使用後、あなたは前衛に移動\"","v":"〈風〉属性近接攻撃 与D+0\nｽｷﾙ使用後、あなたは前衛に移動"}]
[null,null,"爆風拳","風、近","メイン","超至近","単体","近接\n+1","7MP",12,null,null,null,null,null,null,null,null,null,null,null,null,null,null,null,null,null,null,null,null,null,null,null,null,null,null,null,null,null,null,null,null,null,null,null,null,null,null,null,null,null,null,null,null,null,null,null,null,null,null,null,null,null,null,null,null,{"$f":"\"素手武器装備時のみ使用可\n〈風〉属性近接攻撃 与D+\"&(WR値*2)+(CL*3)&\"\n攻撃命中対象にKB付与\"","v":"素手武器装備時のみ使用可\n〈風〉属性近接攻撃 与D+0\n攻撃命中対象にKB付与"}]
[null,null,"ウィンドショット","風、射","メイン","遠隔","単体","射撃\n+2","7MP",12,null,null,null,null,null,null,null,null,null,null,null,null,null,null,null,null,null,null,null,null,null,null,null,null,null,null,null,null,null,null,null,null,null,null,null,null,null,null,null,null,null,null,null,null,null,null,null,null,null,null,null,null,null,null,null,null,{"$f":"\"〈風〉属性射撃攻撃 与D+\"&WR値+(CL*3)&\"\n攻撃命中対象に 40%疲労付与\"","v":"〈風〉属性射撃攻撃 与D+0\n攻撃命中対象に 40%疲労付与"}]
[null,null,"ギガストーム","風、魔","メイン","遠隔","単体","魔術\n+1","13MP","(14)→2",null,null,null,null,null,null,null,null,null,null,null,null,null,null,null,null,null,null,null,null,null,null,null,null,null,null,null,null,null,null,null,null,null,null,null,null,null,null,null,null,null,null,null,null,null,null,null,null,null,null,null,null,null,null,null,null,{"$f":"\"〈風〉属性[\"&(WR値*2)+(CL*4)+魔攻&\"+8D10]ﾀﾞﾒｰｼﾞの攻撃\n攻撃命中対象に怯み(2) 疲労付与\"","v":"〈風〉属性[6+8D10]ﾀﾞﾒｰｼﾞの攻撃\n攻撃命中対象に怯み(2) 疲労付与"}]
[null,null,"フォローウィンド","風、支","オート","―","自身","自動","4MP",2,null,null,null,null,null,null,null,null,null,null,null,null,null,null,null,null,null,null,null,null,null,null,null,null,null,null,null,null,null,null,null,null,null,null,null,null,null,null,null,null,null,null,null,null,null,null,null,null,null,null,null,null,null,null,null,null,"戦闘中判定直後使用\n判定を振り直す\n1ﾒｲﾝ1回制限"]
[null,null,"エフェクトタイフーン","風、支","(サブ)","―","自身","自動","2BP",0,null,null,null,null,null,null,null,null,null,null,null,null,null,null,null,null,null,null,null,null,null,null,null,null,null,null,null,null,null,null,null,null,null,null,null,null,null,null,null,null,null,null,null,null,null,null,null,null,null,null,null,null,null,null,null,null,{"$f":"IF(AND(WR値>=5,COUNTIFS(CS!$D$11:$L$12,\"ウィンドルーラー\")=1)=TRUE,\"直後ﾒｲﾝ攻撃を「対象：範囲(選択)」に変更　　\"&IF(WR値>=10,\"「射程：自陣」「対象：単体」「ｺｽﾄ：3」で使用可\",),\"取得不可\")","v":"取得不可"}]
[null,null,"エアサポート","風、支、妨","オート","遠隔","単体","自動","2MP",0,null,null,null,null,null,null,null,null,null,null,null,null,null,null,null,null,null,null,null,null,null,null,null,null,null,null,null,null,null,null,null,null,null,null,null,null,null,null,null,null,null,null,null,null,null,null,null,null,null,null,null,null,null,null,null,null,{"$f":"IF(AND(WR値>=10,MC=\"ウィンドルーラー\")=TRUE,\"対象の判定直後使用可\n判定達成値±[2D10-7]\n1戦闘4回制限\",\"取得不可\")","v":"取得不可"}]
[null,"WT","流水の守護","水、防","スタート","―","自身","自動","2BP",4,null,null,null,null,null,null,null,null,null,null,null,null,null,null,null,null,null,null,null,null,null,null,null,null,null,null,null,null,null,null,null,null,null,null,null,null,null,null,null,null,null,null,null,null,null,null,null,null,null,null,null,null,null,null,null,null,{"$f":"\"戦闘中、判定達成値-1\n〈雷〉属性以外の攻撃の被D-\"&CL+5","v":"戦闘中、判定達成値-1\n〈雷〉属性以外の攻撃の被D-5"}]
[null,null,"プラスウォーター","水、支","サブ","自陣","単体","自動","5MP",2,null,null,null,null,null,null,null,null,null,null,null,null,null,null,null,null,null,null,null,null,null,null,null,null,null,null,null,null,null,null,null,null,null,null,null,null,null,null,null,null,null,null,null,null,null,null,null,null,null,null,null,null,null,null,null,null,{"$f":"\"2ﾒｲﾝ間、攻撃に〈水〉属性追加\n〈炎〉〈水〉属性の被D-\"&WT値*2+CL","v":"2ﾒｲﾝ間、攻撃に〈水〉属性追加\n〈炎〉〈水〉属性の被D-0"}]
[null,null,"アクアオプション","水、配","サブ","―","本文","自動","6MP",1,null,null,null,null,null,null,null,null,null,null,null,null,null,null,null,null,null,null,null,null,null,null,null,null,null,null,null,null,null,null,null,null,null,null,null,null,null,null,null,null,null,null,null,null,null,null,null,null,null,null,null,null,null,null,null,null,{"$f":"\"自身と同マスに「ｱｸｱｵﾌﾟｼｮﾝ」\n(【耐久】:\"&CL*7+20+データ管理!$AD$29&\")を配置 あなたの全判定達成値+1（重複可）\"","v":"自身と同マスに「ｱｸｱｵﾌﾟｼｮﾝ」\n(【耐久】:20)を配置 あなたの全判定達成値+1（重複可）"}]
[null,null,"恵みの雨","水、回","サブ","自陣","全体()","自動","15MP",6,null,null,null,null,null,null,null,null,null,null,null,null,null,null,null,null,null,null,null,null,null,null,null,null,null,null,null,null,null,null,null,null,null,null,null,null,null,null,null,null,null,null,null,null,null,null,null,null,null,null,null,null,null,null,null,null,{"$f":"\"【HP】[\"&(WT値*2)+(CL*3)+データ管理!$AC$29&\"+\"&COUNTIFS(CS!AW28:AY57,\"*水*\")+1&\"D10]回復\"&IF(WT値>=7,\"\n「対象：範囲(選択)」「ｺｽﾄ：3」で使用可\",\"\")","v":"【HP】[0+1D10]回復"}]
[null,null,"水流閃","水、近","メイン","超至近","単体","近接\n-1","4MP",8,null,null,null,null,null,null,null,null,null,null,null,null,null,null,null,null,null,null,null,null,null,null,null,null,null,null,null,null,null,null,null,null,null,null,null,null,null,null,null,null,null,null,null,null,null,null,null,null,null,null,null,null,null,null,null,null,{"$f":"\"〈水〉属性近接攻撃 与D+\"&WT値+(CL*2)&\"\n回避F値7固定 出目7以下振り直し不可\"","v":"〈水〉属性近接攻撃 与D+0\n回避F値7固定 出目7以下振り直し不可"}]
[null,null,"バブルストリーム","水、射","メイン","遠隔x","範囲()","射撃\n+1","8MP","(3)→9",null,null,null,null,null,null,null,null,null,null,null,null,null,null,null,null,null,null,null,null,null,null,null,null,null,null,null,null,null,null,null,null,null,null,null,null,null,null,null,null,null,null,null,null,null,null,null,null,null,null,null,null,null,null,null,null,{"$f":"\"〈水〉属性射撃攻撃 与D+\"&WT値+(CL*2)&\"\n攻撃命中対象に 40%睡眠付与\n[連続x]\"","v":"〈水〉属性射撃攻撃 与D+0\n攻撃命中対象に 40%睡眠付与\n[連続x]"}]
[null,null,"アクアショット","水、射","メイン","遠隔","各1","射撃","6MP",12,null,null,null,null,null,null,null,null,null,null,null,null,null,null,null,null,null,null,null,null,null,null,null,null,null,null,null,null,null,null,null,null,null,null,null,null,null,null,null,null,null,null,null,null,null,null,null,null,null,null,null,null,null,null,null,null,{"$f":"\"〈水〉属性射撃攻撃 与D+\"&WT値+(CL*2)&\"\n攻撃ﾀﾞﾒｰｼﾞは「種別：防」ｽｷﾙ効果で軽減不可\"","v":"〈水〉属性射撃攻撃 与D+0\n攻撃ﾀﾞﾒｰｼﾞは「種別：防」ｽｷﾙ効果で軽減不可"}]
[null,null,"リクィッドスタンプ","水、魔","メイン","中距離","単体","魔術","7MP","(4)→7",null,null,null,null,null,null,null,null,null,null,null,null,null,null,null,null,null,null,null,null,null,null,null,null,null,null,null,null,null,null,null,null,null,null,null,null,null,null,null,null,null,null,null,null,null,null,null,null,null,null,null,null,null,null,null,null,{"$f":"\"追加5MPで「ｺｽﾄ：12」で使用可\n〈水〉属性[\"&(WT値+CL)*2+魔攻&\"+5D10]ﾀﾞﾒｰｼﾞの攻撃\"","v":"追加5MPで「ｺｽﾄ：12」で使用可\n〈水〉属性[6+5D10]ﾀﾞﾒｰｼﾞの攻撃"}]
[null,null,"リクィファクション","水、支","オート","―","自身","自動","2BP",2,null,null,null,null,null,null,null,null,null,null,null,null,null,null,null,null,null,null,null,null,null,null,null,null,null,null,null,null,null,null,null,null,null,null,null,null,null,null,null,null,null,null,null,null,null,null,null,null,null,null,null,null,null,null,null,null,{"$f":"\"回避判定直前使用可 判定達成値+5\nこの回避判定振り直し不可\n1ﾒｲﾝ1回制限\"","v":"回避判定直前使用可 判定達成値+5\nこの回避判定振り直し不可\n1ﾒｲﾝ1回制限"}]
[null,null,"ピンポイントガード","水、防","ダメロ","自陣","単体","自動","7MP",2,null,null,null,null,null,null,null,null,null,null,null,null,null,null,null,null,null,null,null,null,null,null,null,null,null,null,null,null,null,null,null,null,null,null,null,null,null,null,null,null,null,null,null,null,null,null,null,null,null,null,null,null,null,null,null,null,{"$f":"\"ｸﾘﾃｨｶﾙでない攻撃の被D-\"&WT値+CL&\"\n50%の確率で攻撃で付与されるBS無効　1ﾒｲﾝ1回制限\"","v":"ｸﾘﾃｨｶﾙでない攻撃の被D-0\n50%の確率で攻撃で付与されるBS無効　1ﾒｲﾝ1回制限"}]
[null,null,"ガイザーブラスト","水、魔","メイン","遠隔","[単体]","魔術","12MP","本文",null,null,null,null,null,null,null,null,null,null,null,null,null,null,null,null,null,null,null,null,null,null,null,null,null,null,null,null,null,null,null,null,null,null,null,null,null,null,null,null,null,null,null,null,null,null,null,null,null,null,null,null,null,null,null,null,{"$f":"IF(AND(WT値>=5,COUNTIFS(CS!$D$11:$L$12,\"ウォーターチューナー\")=1)=TRUE,\"対象が前衛なら「ｺｽﾄ：(2)→11」、後衛なら「ｺｽﾄ：(4)→9」に変更する　〈炎〉〈水〉属性[\"&(WT値*2)+(CL*4)+魔攻&\"+6D10]ﾀﾞﾒｰｼﾞの攻撃\",\"取得不可\")","v":"取得不可"}]
[null,null,"ミストブレス","水、攻","メイン","遠隔","全体()",{"$f":"\"対決\n+\"&1+データ管理!AB29","v":"対決\n+1"},"15MP",16,null,null,null,null,null,null,null,null,null,null,null,null,null,null,null,null,null,null,null,null,null,null,null,null,null,null,null,null,null,null,null,null,null,null,null,null,null,null,null,null,null,null,null,null,null,null,null,null,null,null,null,null,null,null,null,null,{"$f":"IF(AND(WT値>=10,MC=\"ウォーターチューナー\")=TRUE,\"〈水〉〈無〉属性[\"&CL*5&\"+4D10]ﾀﾞﾒｰｼﾞの攻撃　攻撃命中対象に 50%毒(\"&WT値*3&\")\n[連続x]\",\"取得不可\")","v":"取得不可"}]
[null,"汎用\n1","近接強化","基","常時","―","自身","―","―","―",null,null,null,null,null,null,null,null,1,null,null,null,null,null,null,null,null,null,{"$f":"-INT(CL/2)","v":0},0,null,null,null,null,null,null,null,null,null,null,null,null,null,null,null,null,null,null,null,null,null,null,null,null,null,null,null,null,null,null,null,null,null,null,null,null,{"$f":"\"【近接】+\"&ｽﾀｲﾙVL用!C62&\"　\n【耐久】【精神】-\"&INT(CL/2)*ｽﾀｲﾙVL用!C62","v":"【近接】+0　\n【耐久】【精神】-0"}]
[null,null,"射撃強化","基","常時","―","自身","―","―","―",null,null,null,null,null,null,null,null,null,1,null,null,null,null,null,null,null,null,0,0,null,null,null,null,null,null,null,null,null,null,null,null,null,null,null,null,null,null,null,null,null,null,null,null,null,null,null,null,null,null,null,null,null,null,null,null,{"$f":"\"【射撃】+\"&ｽﾀｲﾙVL用!C63&\"　\n【耐久】【精神】-\"&INT(CL/2)*ｽﾀｲﾙVL用!C63","v":"【射撃】+0　\n【耐久】【精神】-0"}]
[null,null,"魔術強化","基","常時","―","自身","―","―","―",null,null,null,null,null,null,null,null,null,null,null,1,null,null,null,null,null,null,0,0,null,null,null,null,null,null,null,null,null,null,null,null,null,null,null,null,null,null,null,null,null,null,null,null,null,null,null,null,null,null,null,null,null,null,null,null,{"$f":"\"【魔術】+\"&ｽﾀｲﾙVL用!C64&\"　\n【耐久】【精神】-\"&INT(CL/2)*ｽﾀｲﾙVL用!C64","v":"【魔術】+0　\n【耐久】【精神】-0"}]
[null,null,"回避強化","基","常時","―","自身","―","―","―",null,null,null,null,null,null,null,null,null,null,1,null,null,null,null,null,null,null,{"$f":"-INT(CL/3)","v":0},{"$f":"-INT(CL/3)","v":0},null,null,null,null,null,null,null,null,null,null,null,null,null,null,null,null,null,null,null,null,null,null,null,null,null,null,null,null,null,null,null,null,null,null,null,null,{"$f":"\"【回避】+\"&ｽﾀｲﾙVL用!C65&\"　\n【耐久】【精神】-\"&INT(CL/3)*ｽﾀｲﾙVL用!C65","v":"【回避】+0　\n【耐久】【精神】-0"}]
[null,null,"抵抗強化","基","常時","―","自身","―","―","―",null,null,null,null,null,null,null,null,null,null,null,null,1,null,null,null,null,null,{"$f":"-INT(CL/3)","v":0},{"$f":"-INT(CL/3)","v":0},null,null,null,null,null,null,null,null,null,null,null,null,null,null,null,null,null,null,null,null,null,null,null,null,null,null,null,null,null,null,null,null,null,null,null,null,{"$f":"\"【抵抗】+\"&ｽﾀｲﾙVL用!C66&\"　\n【耐久】【精神】-\"&INT(CL/3)*ｽﾀｲﾙVL用!C66","v":"【抵抗】+0　\n【耐久】【精神】-0"}]
[null,null,"敏捷強化","基","常時","―","自身","―","―","―",null,null,null,null,null,null,null,null,null,null,null,null,null,5,null,null,null,null,null,null,null,null,null,null,null,null,null,null,null,null,null,null,null,null,null,null,null,null,null,null,null,null,null,null,null,null,null,null,null,null,null,null,null,null,null,null,{"$f":"\"【敏捷】+\"&ｽﾀｲﾙVL用!C67*5&IF(ｽﾀｲﾙVL用!C67>=2,\"\n回避C値-1(下限：16) <済>\",\"\")","v":"【敏捷】+0"}]
[null,null,"耐久強化","基","常時","―","自身","―","―","―",null,null,null,null,null,null,null,null,null,null,null,null,null,null,null,null,null,null,{"$f":"SL+7","v":7},null,null,null,null,null,null,null,null,null,null,null,null,null,null,null,null,null,null,null,null,null,null,null,null,null,null,null,null,null,null,null,null,null,null,null,null,null,{"$f":"\"【耐久】+\"&ｽﾀｲﾙVL用!C68*(SL+7)","v":"【耐久】+0"}]
[null,null,"精神強化","基","常時","―","自身","―","―","―",null,null,null,null,null,null,null,null,null,null,null,null,null,null,null,null,null,null,null,{"$f":"SL+3","v":3},null,null,null,null,null,null,null,null,null,null,null,null,null,null,null,null,null,null,null,null,null,null,null,null,null,null,null,null,null,null,null,null,null,null,null,null,{"$f":"\"【精神】+\"&ｽﾀｲﾙVL用!C69*(SL+3)","v":"【精神】+0"}]
[null,null,"攻撃強化","基","常時","―","自身","―","―","―",null,null,null,null,null,null,null,null,null,null,null,null,null,null,null,null,null,null,null,null,null,null,null,null,null,null,null,null,null,null,null,null,null,null,null,null,null,null,null,null,null,null,null,null,null,null,null,null,null,null,null,null,null,null,null,null,{"$f":"\"攻撃の与D+\"&ｽﾀｲﾙVL用!C70*(SL+3)","v":"攻撃の与D+0"}]
[null,null,"防御強化","基","常時","―","自身","―","―","―",null,null,null,null,null,null,null,null,null,null,null,null,null,null,null,null,null,null,null,null,null,null,null,null,null,null,null,null,null,null,null,null,null,null,null,null,null,null,null,null,null,null,null,null,null,null,null,null,null,null,null,null,null,null,null,null,{"$f":"IF(SL<=1,\"取得不可\",\"自身への攻撃の被D-\"&ｽﾀｲﾙVL用!C71*(SL-1))","v":"取得不可"}]
[null,"汎用\n2","灼熱耐性+","基","常時","―","自身","―","―","―",null,null,null,null,null,null,null,null,null,null,null,null,null,null,null,null,null,null,null,null,null,null,{"$f":"5*ｽﾀｲﾙVL用!$C72","v":0},null,null,null,null,null,null,null,null,null,null,null,null,null,null,null,null,null,null,null,null,null,null,null,null,null,null,null,null,null,null,null,null,null,{"$f":"\"〈炎〉耐性+\"&5*ｽﾀｲﾙVL用!C72&IF(ｽﾀｲﾙVL用!C72>=2,\"\n火傷(X)無効\",IF(ｽﾀｲﾙVL用!C72=1,\"\n80%火傷(X)無効\",\"\"))","v":"〈炎〉耐性+0"}]
[null,null,"吹雪耐性+","基","常時","―","自身","―","―","―",null,null,null,null,null,null,null,null,null,null,null,null,null,null,null,null,null,null,null,null,null,null,null,{"$f":"5*ｽﾀｲﾙVL用!$C73","v":0},null,null,null,null,null,null,null,null,null,null,null,null,null,null,null,null,null,null,null,null,null,null,null,null,null,null,null,null,null,null,null,null,{"$f":"\"〈氷〉耐性+\"&5*ｽﾀｲﾙVL用!C73&IF(ｽﾀｲﾙVL用!C73>=2,\"\n凍結無効\",IF(ｽﾀｲﾙVL用!C73=1,\"\n80%凍結無効\",\"\"))","v":"〈氷〉耐性+0"}]
[null,null,"激流耐性+","基","常時","―","自身","―","―","―",null,null,null,null,null,null,null,null,null,null,null,null,null,null,null,null,null,null,null,null,null,null,null,null,{"$f":"5*ｽﾀｲﾙVL用!$C74","v":0},null,null,null,null,null,null,null,null,null,null,null,null,null,null,null,null,null,null,null,null,null,null,null,null,null,null,null,null,null,null,null,{"$f":"\"〈水〉耐性+\"&5*ｽﾀｲﾙVL用!C74&IF(ｽﾀｲﾙVL用!C74>=2,\"\n睡眠無効\",IF(ｽﾀｲﾙVL用!C74=1,\"\n80%睡眠無効\",\"\"))","v":"〈水〉耐性+0"}]
[null,null,"雷撃耐性+","基","常時","―","自身","―","―","―",null,null,null,null,null,null,null,null,null,null,null,null,null,null,null,null,null,null,null,null,null,null,null,null,null,{"$f":"5*ｽﾀｲﾙVL用!$C75","v":0},null,null,null,null,null,null,null,null,null,null,null,null,null,null,null,null,null,null,null,null,null,null,null,null,null,null,null,null,null,null,{"$f":"\"〈雷〉耐性+\"&5*ｽﾀｲﾙVL用!C75&IF(ｽﾀｲﾙVL用!C75>=2,\"\nマヒ無効\",IF(ｽﾀｲﾙVL用!C75=1,\"\n80%マヒ無効\",\"\"))","v":"〈雷〉耐性+0"}]
[null,null,"風刃耐性+","基","常時","―","自身","―","―","―",null,null,null,null,null,null,null,null,null,null,null,null,null,null,null,null,null,null,null,null,null,null,null,null,null,null,{"$f":"5*ｽﾀｲﾙVL用!$C76","v":0},null,null,null,null,null,null,null,null,null,null,null,null,null,null,null,null,null,null,null,null,null,null,null,null,null,null,null,null,null,{"$f":"\"〈風〉耐性+\"&5*ｽﾀｲﾙVL用!C76&IF(ｽﾀｲﾙVL用!C76>=2,\"\n疲労無効\",IF(ｽﾀｲﾙVL用!C76=1,\"\n80%疲労無効\",\"\"))","v":"〈風〉耐性+0"}]
[null,null,"閃光耐性+","基","常時","―","自身","―","―","―",null,null,null,null,null,null,null,null,null,null,null,null,null,null,null,null,null,null,null,null,null,null,null,null,null,null,null,{"$f":"5*ｽﾀｲﾙVL用!$C77","v":0},null,null,null,null,null,null,null,null,null,null,null,null,null,null,null,null,null,null,null,null,null,null,null,null,null,null,null,null,{"$f":"\"〈光〉耐性+\"&5*ｽﾀｲﾙVL用!C77&IF(ｽﾀｲﾙVL用!C77>=2,\"\n封印無効\",IF(ｽﾀｲﾙVL用!C77=1,\"\n80%封印無効\",\"\"))","v":"〈光〉耐性+0"}]
[null,null,"回復強化","―","常時","―","自身","―","―","―",null,null,null,null,null,null,null,null,null,null,null,null,null,null,null,null,null,null,null,null,null,null,null,null,null,null,null,null,null,null,null,null,null,null,null,null,null,null,null,null,null,null,null,null,null,null,null,null,null,null,null,null,null,null,{"$f":"CL*2-10","v":-10},null,{"$f":"\"「種別：回」ｽｷﾙ\n【HP】回復量+\"&CL*2-10&\" <済>\"","v":"「種別：回」ｽｷﾙ\n【HP】回復量+-10 <済>"}]
[null,null,"物理強化","―","常時","―","自身","―","―","―",null,null,null,null,null,null,null,null,null,null,null,null,null,null,null,null,null,null,null,null,null,null,null,null,null,null,null,null,null,null,null,null,null,null,null,null,null,null,null,null,null,null,null,null,null,null,null,null,null,null,null,null,null,null,null,null,{"$f":"\"攻撃の〈近〉〈遠〉属性与D+2D10\nｽｷﾙ攻撃なら、さらに与D+\"&SL","v":"攻撃の〈近〉〈遠〉属性与D+2D10\nｽｷﾙ攻撃なら、さらに与D+"}]
[null,null,"ライフハッカー","―","常時","―","自身","―","―","―",3,3,3,3,3,3,3,3,null,null,null,null,null,null,null,null,null,null,null,null,null,null,null,null,null,null,null,null,null,null,null,null,null,null,null,null,null,null,null,null,null,null,null,null,null,null,null,null,null,null,null,null,null,null,null,null,{"$f":"\"全基本能力値+3 <済>\n逃走失敗時、もう一度2D10を振ってもよい\"","v":"全基本能力値+3 <済>\n逃走失敗時、もう一度2D10を振ってもよい"}]
[null,null,"武器適応","―","常時","―","自身","―","―","―",null,null,null,null,null,null,null,null,null,null,null,null,null,null,null,null,null,null,null,null,null,null,null,null,null,null,null,null,null,null,null,null,null,null,null,null,null,null,null,null,null,null,null,null,null,null,null,null,null,null,null,null,null,null,null,null,{"$f":"\"通常攻撃の与D+\"&CL&\"\n通常攻撃の命中C値\"&IF(データ管理!C29-1>=MIN(データ管理!E29,15),データ管理!C29-1,MIN(データ管理!E29,15))","v":"通常攻撃の与D+0\n通常攻撃の命中C値15"}]
[null,"汎用\n3","諸刃の剣","―","常時","―","自身","―","―","―",null,null,null,null,null,null,null,null,null,null,null,null,null,null,{"$f":"INT(CL/2)+10","v":10},{"$f":"INT(CL/2)+10","v":10},null,null,null,null,-3,-3,-3,-3,-3,-3,-3,-3,null,null,null,null,null,null,null,null,null,null,null,null,null,null,null,null,null,null,null,null,null,null,null,null,null,null,null,null,{"$f":"\"全耐性-3\n【物攻】【魔攻】+\"&INT(CL/2)+10","v":"全耐性-3\n【物攻】【魔攻】+10"}]
[null,null,"適応者","―","常時","―","自身","―","―","―",null,null,null,null,null,null,null,null,null,null,null,null,null,null,null,null,null,null,null,null,null,null,null,null,null,null,null,null,null,null,null,null,null,null,null,null,null,null,null,null,null,null,null,null,null,null,{"$f":"IF(CL>=20,2,1)","v":1},null,null,null,null,null,null,null,null,null,{"$f":"\"[BP上限値]+\"&IF(CL>=20,2,1)&\" <済>\"","v":"[BP上限値]+1 <済>"}]
[null,null,"ピンチブーストA","―","常時","―","自身","―","―","―",null,null,null,null,null,null,null,null,null,null,null,null,null,null,null,null,null,null,null,null,null,null,null,null,null,null,null,null,null,null,null,null,null,null,null,null,null,null,null,null,null,null,null,null,null,null,null,null,null,null,null,null,null,null,null,null,{"$f":"IF(COUNTIFS(CS!$AW$28:$AY$57,\"ピンチブーストB\")>=1,\"取得不可\",\"【HP】\"&CL*2&\"以下のとき、攻撃の与D+\"&CL*2)","v":"【HP】0以下のとき、攻撃の与D+0"}]
[null,null,"ピンチブーストB","―","常時","―","自身","―","―","―",null,null,null,null,null,null,null,null,null,null,null,null,null,null,null,null,null,null,null,null,null,null,null,null,null,null,null,null,null,null,null,null,null,null,null,null,null,null,null,null,null,null,null,null,null,null,null,null,null,null,null,null,null,null,null,null,{"$f":"IF(COUNTIFS(CS!$AW$28:$AY$57,\"ピンチブーストA\")>=1,\"取得不可\",\"【HP】\"&CL*2&\"以下のとき、\n戦闘中の判定達成値+2\")","v":"【HP】0以下のとき、\n戦闘中の判定達成値+2"}]
[null,null,"攻撃集中","支","サブ","―","自身","自動","3MP",2,null,null,null,null,null,null,null,null,null,null,null,null,null,null,null,null,null,null,null,null,null,null,null,null,null,null,null,null,null,null,null,null,null,null,null,null,null,null,null,null,null,null,null,null,null,null,null,null,null,null,null,null,null,null,null,null,"直後ﾒｲﾝ、最初の攻撃の命中判定達成値+2"]
[null,null,"パワーチャージ","支","サブ","―","自身","自動","4MP",3,null,null,null,null,null,null,null,null,null,null,null,null,null,null,null,null,null,null,null,null,null,null,null,null,null,null,null,null,null,null,null,null,null,null,null,null,null,null,null,null,null,null,null,null,null,null,null,null,null,null,null,null,null,null,null,null,{"$f":"\"直後ﾒｲﾝ、最初の攻撃の与D+\"&CL*2+10","v":"直後ﾒｲﾝ、最初の攻撃の与D+10"}]
[null,null,"ヒーリング","回","サブ","自陣","単体",0.9,"6MP",2,null,null,null,null,null,null,null,null,null,null,null,null,null,null,null,null,null,null,null,null,null,null,null,null,null,null,null,null,null,null,null,null,null,null,null,null,null,null,null,null,null,null,null,null,null,null,null,null,null,null,null,null,null,null,null,null,{"$f":"\"【HP】[\"&CL*3+データ管理!$AC$29&\"+4D10]回復\"","v":"【HP】[0+4D10]回復"}]
[null,null,"ワイドヒール","回","サブ","自陣","2体",0.9,"9MP",3,null,null,null,null,null,null,null,null,null,null,null,null,null,null,null,null,null,null,null,null,null,null,null,null,null,null,null,null,null,null,null,null,null,null,null,null,null,null,null,null,null,null,null,null,null,null,null,null,null,null,null,null,null,null,null,null,{"$f":"\"【HP】[\"&CL*3+データ管理!$AC$29&\"+4D10]回復\"","v":"【HP】[0+4D10]回復"}]
[null,null,"自己修復","支","サブ","―","自身",0.8,"なし",1,null,null,null,null,null,null,null,null,null,null,null,null,null,null,null,null,null,null,null,null,null,null,null,null,null,null,null,null,null,null,null,null,null,null,null,null,null,null,null,null,null,null,null,null,null,null,null,null,null,null,null,null,null,null,null,null,{"$f":"\"自身の【HP】\"&SL*3&\"回復\"","v":"自身の【HP】0回復"}]
[null,null,"精神集中","支","サブ","―","自身",0.6,"なし",2,null,null,null,null,null,null,null,null,null,null,null,null,null,null,null,null,null,null,null,null,null,null,null,null,null,null,null,null,null,null,null,null,null,null,null,null,null,null,null,null,null,null,null,null,null,null,null,null,null,null,null,null,null,null,null,null,"自身の【MP】2D10回復\""]
[null,"汎用\n4","リフレッシュ","支","サブ","自陣","単体",0.8,"6MP",2,null,null,null,null,null,null,null,null,null,null,null,null,null,null,null,null,null,null,null,null,null,null,null,null,null,null,null,null,null,null,null,null,null,null,null,null,null,null,null,null,null,null,null,null,null,null,null,null,null,null,null,null,null,null,null,null,"対象のBSを1つ解除"]
[null,null,"スプレッドパワー","支","(サブ)","―","自身","自動","4BP",0,null,null,null,null,null,null,null,null,null,null,null,null,null,null,null,null,null,null,null,null,null,null,null,null,null,null,null,null,null,null,null,null,null,null,null,null,null,null,null,null,null,null,null,null,null,null,null,null,null,null,null,null,null,null,null,null,"直後ﾒｲﾝｽｷﾙを「射程：遠隔」「対象：全体(選択)」に変更"]
[null,null,"圧縮魔術","支","サブ","―","自身","自動","4MP",1,null,null,null,null,null,null,null,null,null,null,null,null,null,null,null,null,null,null,null,null,null,null,null,null,null,null,null,null,null,null,null,null,null,null,null,null,null,null,null,null,null,null,null,null,null,null,null,null,null,null,null,null,null,null,null,null,{"$f":"\"直後ﾒｲﾝの「種別：魔」かつ「範囲(選択)」「全体(選択)」ｽｷﾙを「単体」に変更し、与D+\"&CL*2","v":"直後ﾒｲﾝの「種別：魔」かつ「範囲(選択)」「全体(選択)」ｽｷﾙを「単体」に変更し、与D+0"}]
[null,null,"拡散魔術","支","サブ","―","自身","自動","6MP",2,null,null,null,null,null,null,null,null,null,null,null,null,null,null,null,null,null,null,null,null,null,null,null,null,null,null,null,null,null,null,null,null,null,null,null,null,null,null,null,null,null,null,null,null,null,null,null,null,null,null,null,null,null,null,null,null,{"$f":"\"直後ﾒｲﾝの「種別：魔」「単体」ｽｷﾙを「範囲(選択)」に変更。+8MPで「全体(選択)」に変更\"","v":"直後ﾒｲﾝの「種別：魔」「単体」ｽｷﾙを「範囲(選択)」に変更。+8MPで「全体(選択)」に変更"}]
[null,null,"プロテクション","防","サブ","自陣","範囲()","自動","17MP",3,null,null,null,null,null,null,null,null,null,null,null,null,null,null,null,null,null,null,null,null,null,null,null,null,null,null,null,null,null,null,null,null,null,null,null,null,null,null,null,null,null,null,null,null,null,null,null,null,null,null,null,null,null,null,null,null,"2ﾒｲﾝ間、【回避】の回避判定に失敗して攻撃命中時、30%被D0\n1戦闘2回制限"]
[null,null,"マジックウォール","防","サブ","自陣","範囲()","自動","17MP",3,null,null,null,null,null,null,null,null,null,null,null,null,null,null,null,null,null,null,null,null,null,null,null,null,null,null,null,null,null,null,null,null,null,null,null,null,null,null,null,null,null,null,null,null,null,null,null,null,null,null,null,null,null,null,null,null,"2ﾒｲﾝ間、【抵抗】の回避判定に失敗して攻撃命中時、30%被D0\n1戦闘2回制限"]
[null,null,"インパクター","支","サブ","―","自身","自動","4MP",2,null,null,null,null,null,null,null,null,null,null,null,null,null,null,null,null,null,null,null,null,null,null,null,null,null,null,null,null,null,null,null,null,null,null,null,null,null,null,null,null,null,null,null,null,null,null,null,null,null,null,null,null,null,null,null,null,{"$f":"\"直後ﾒｲﾝの攻撃での〈近〉〈遠〉属性\n与D+\"&SL*6","v":"直後ﾒｲﾝの攻撃での〈近〉〈遠〉属性\n与D+0"}]
[null,null,"高速発動","支","(サブ)","―","自身","自動","N×5\nMP","N",null,null,null,null,null,null,null,null,null,null,null,null,null,null,null,null,null,null,null,null,null,null,null,null,null,null,null,null,null,null,null,null,null,null,null,null,null,null,null,null,null,null,null,null,null,null,null,null,null,null,null,null,null,null,null,null,{"$f":"\"直後ﾒｲﾝでの「種別：魔」「ｺｽﾄ：(N)→Y」ｽｷﾙを「ｺｽﾄ：Y」として使用\"","v":"直後ﾒｲﾝでの「種別：魔」「ｺｽﾄ：(N)→Y」ｽｷﾙを「ｺｽﾄ：Y」として使用"}]
[null,null,"ワイドスプレッド","支","サブ","―","自身","自動","2MP",2,null,null,null,null,null,null,null,null,null,null,null,null,null,null,null,null,null,null,null,null,null,null,null,null,null,null,null,null,null,null,null,null,null,null,null,null,null,null,null,null,null,null,null,null,null,null,null,null,null,null,null,null,null,null,null,null,{"$f":"\"直後ﾒｲﾝの「種別：近」「対象：単体」ｽｷﾙを「対象：範囲(選択)」に変更\n1戦闘\"&SL&\"回制限\"","v":"直後ﾒｲﾝの「種別：近」「対象：単体」ｽｷﾙを「対象：範囲(選択)」に変更\n1戦闘回制限"}]
[null,null,"ダブルバレット","支","サブ","―","自身","自動","6MP",2,null,null,null,null,null,null,null,null,null,null,null,null,null,null,null,null,null,null,null,null,null,null,null,null,null,null,null,null,null,null,null,null,null,null,null,null,null,null,null,null,null,null,null,null,null,null,null,null,null,null,null,null,null,null,null,null,{"$f":"\"直後ﾒｲﾝの「種別：射」「対象：単体」ｽｷﾙを「対象：2体」に変更\n1戦闘\"&SL&\"回制限\"","v":"直後ﾒｲﾝの「種別：射」「対象：単体」ｽｷﾙを「対象：2体」に変更\n1戦闘回制限"}]
[null,"汎用\n5","ウェポンアタック","近","メイン","超至近","単体","近接","5MP",8,null,null,null,null,null,null,null,null,null,null,null,null,null,null,null,null,null,null,null,null,null,null,null,null,null,null,null,null,null,null,null,null,null,null,null,null,null,null,null,null,null,null,null,null,null,null,null,null,null,null,null,null,null,null,null,null,{"$f":"\"〈\"&ｽﾀｲﾙVL用!H52&\"〉属性近接攻撃 与D+\"&SL*5","v":"〈近〉属性近接攻撃 与D+0"}]
[null,null,"バレットシュート","射","メイン","遠隔","単体","射撃","5MP",10,null,null,null,null,null,null,null,null,null,null,null,null,null,null,null,null,null,null,null,null,null,null,null,null,null,null,null,null,null,null,null,null,null,null,null,null,null,null,null,null,null,null,null,null,null,null,null,null,null,null,null,null,null,null,null,null,{"$f":"\"〈\"&CS!Y18&\"〉属性射撃攻撃 与D+\"&SL*5","v":"〈近〉属性射撃攻撃 与D+0"}]
[null,null,"○○の一撃","近","メイン","超至近","単体","近接","6MP",8,null,null,null,null,null,null,null,null,null,null,null,null,null,null,null,null,null,null,null,null,null,null,null,null,null,null,null,null,null,null,null,null,null,null,null,null,null,null,null,null,null,null,null,null,null,null,null,null,null,null,null,null,null,null,null,null,"○○の内容で攻撃属性変化\n火炎：〈炎〉 凍結：〈氷〉 激流：〈水〉\n雷鳴：〈雷〉 烈風：〈風〉 閃光：〈光〉"]
[null,null,"○○の一射","近","メイン","超至近","単体","近接","6MP",8,null,null,null,null,null,null,null,null,null,null,null,null,null,null,null,null,null,null,null,null,null,null,null,null,null,null,null,null,null,null,null,null,null,null,null,null,null,null,null,null,null,null,null,null,null,null,null,null,null,null,null,null,null,null,null,null,"○○の内容で攻撃属性変化\n火炎：〈炎〉 凍結：〈氷〉 激流：〈水〉\n雷鳴：〈雷〉 烈風：〈風〉 閃光：〈光〉"]
[null,null,"火炎の一撃","近","メイン","超至近","単体","近接","6MP",8,null,null,null,null,null,null,null,null,null,null,null,null,null,null,null,null,null,null,null,null,null,null,null,null,null,null,null,null,null,null,null,null,null,null,null,null,null,null,null,null,null,null,null,null,null,null,null,null,null,null,null,null,null,null,null,null,{"$f":"\"〈炎〉属性近接攻撃 与D+\"&SL*5","v":"〈炎〉属性近接攻撃 与D+0"}]
[null,null,"火炎の一射","射","メイン","遠隔","単体","射撃","6MP",10,null,null,null,null,null,null,null,null,null,null,null,null,null,null,null,null,null,null,null,null,null,null,null,null,null,null,null,null,null,null,null,null,null,null,null,null,null,null,null,null,null,null,null,null,null,null,null,null,null,null,null,null,null,null,null,null,{"$f":"\"〈炎〉属性射撃攻撃 与D+\"&SL*5","v":"〈炎〉属性射撃攻撃 与D+0"}]
[null,null,"凍結の一撃","近","メイン","超至近","単体","近接","6MP",8,null,null,null,null,null,null,null,null,null,null,null,null,null,null,null,null,null,null,null,null,null,null,null,null,null,null,null,null,null,null,null,null,null,null,null,null,null,null,null,null,null,null,null,null,null,null,null,null,null,null,null,null,null,null,null,null,{"$f":"\"〈氷〉属性近接攻撃 与D+\"&SL*5","v":"〈氷〉属性近接攻撃 与D+0"}]
[null,null,"凍結の一射","射","メイン","遠隔","単体","射撃","6MP",10,null,null,null,null,null,null,null,null,null,null,null,null,null,null,null,null,null,null,null,null,null,null,null,null,null,null,null,null,null,null,null,null,null,null,null,null,null,null,null,null,null,null,null,null,null,null,null,null,null,null,null,null,null,null,null,null,{"$f":"\"〈氷〉属性射撃攻撃 与D+\"&SL*5","v":"〈氷〉属性射撃攻撃 与D+0"}]
[null,null,"激流の一撃","近","メイン","超至近","単体","近接","6MP",8,null,null,null,null,null,null,null,null,null,null,null,null,null,null,null,null,null,null,null,null,null,null,null,null,null,null,null,null,null,null,null,null,null,null,null,null,null,null,null,null,null,null,null,null,null,null,null,null,null,null,null,null,null,null,null,null,{"$f":"\"〈水〉属性近接攻撃 与D+\"&SL*5","v":"〈水〉属性近接攻撃 与D+0"}]
[null,null,"激流の一射","射","メイン","遠隔","単体","射撃","6MP",10,null,null,null,null,null,null,null,null,null,null,null,null,null,null,null,null,null,null,null,null,null,null,null,null,null,null,null,null,null,null,null,null,null,null,null,null,null,null,null,null,null,null,null,null,null,null,null,null,null,null,null,null,null,null,null,null,{"$f":"\"〈水〉属性射撃攻撃 与D+\"&SL*5","v":"〈水〉属性射撃攻撃 与D+0"}]
[null,null,"雷鳴の一撃","近","メイン","超至近","単体","近接","6MP",8,null,null,null,null,null,null,null,null,null,null,null,null,null,null,null,null,null,null,null,null,null,null,null,null,null,null,null,null,null,null,null,null,null,null,null,null,null,null,null,null,null,null,null,null,null,null,null,null,null,null,null,null,null,null,null,null,{"$f":"\"〈雷〉属性近接攻撃 与D+\"&SL*5","v":"〈雷〉属性近接攻撃 与D+0"}]
[null,null,"雷鳴の一射","射","メイン","遠隔","単体","射撃","6MP",10,null,null,null,null,null,null,null,null,null,null,null,null,null,null,null,null,null,null,null,null,null,null,null,null,null,null,null,null,null,null,null,null,null,null,null,null,null,null,null,null,null,null,null,null,null,null,null,null,null,null,null,null,null,null,null,null,{"$f":"\"〈雷〉属性射撃攻撃 与D+\"&SL*5","v":"〈雷〉属性射撃攻撃 与D+0"}]
[null,null,"烈風の一撃","近","メイン","超至近","単体","近接","6MP",8,null,null,null,null,null,null,null,null,null,null,null,null,null,null,null,null,null,null,null,null,null,null,null,null,null,null,null,null,null,null,null,null,null,null,null,null,null,null,null,null,null,null,null,null,null,null,null,null,null,null,null,null,null,null,null,null,{"$f":"\"〈風〉属性近接攻撃 与D+\"&SL*5","v":"〈風〉属性近接攻撃 与D+0"}]
[null,null,"烈風の一射","射","メイン","遠隔","単体","射撃","6MP",10,null,null,null,null,null,null,null,null,null,null,null,null,null,null,null,null,null,null,null,null,null,null,null,null,null,null,null,null,null,null,null,null,null,null,null,null,null,null,null,null,null,null,null,null,null,null,null,null,null,null,null,null,null,null,null,null,{"$f":"\"〈風〉属性射撃攻撃 与D+\"&SL*5","v":"〈風〉属性射撃攻撃 与D+0"}]
[null,null,"閃光の一撃","近","メイン","超至近","単体","近接","6MP",8,null,null,null,null,null,null,null,null,null,null,null,null,null,null,null,null,null,null,null,null,null,null,null,null,null,null,null,null,null,null,null,null,null,null,null,null,null,null,null,null,null,null,null,null,null,null,null,null,null,null,null,null,null,null,null,null,{"$f":"\"〈光〉属性近接攻撃 与D+\"&SL*5","v":"〈光〉属性近接攻撃 与D+0"}]
[null,null,"閃光の一射","射","メイン","遠隔","単体","射撃","6MP",10,null,null,null,null,null,null,null,null,null,null,null,null,null,null,null,null,null,null,null,null,null,null,null,null,null,null,null,null,null,null,null,null,null,null,null,null,null,null,null,null,null,null,null,null,null,null,null,null,null,null,null,null,null,null,null,null,{"$f":"\"〈光〉属性射撃攻撃 与D+\"&SL*5","v":"〈光〉属性射撃攻撃 与D+0"}]
[null,null,"ファイアボール","魔","メイン","中距離","単体","魔術","8MP","(4)→6",null,null,null,null,null,null,null,null,null,null,null,null,null,null,null,null,null,null,null,null,null,null,null,null,null,null,null,null,null,null,null,null,null,null,null,null,null,null,null,null,null,null,null,null,null,null,null,null,null,null,null,null,null,null,null,null,{"$f":"\"〈炎〉属性[\"&SL*6+魔攻&\"+3D10]ﾀﾞﾒｰｼﾞの攻撃\n攻撃命中対象の 20%火傷(\"&CL+5&\")付与\"","v":"〈炎〉属性[6+3D10]ﾀﾞﾒｰｼﾞの攻撃\n攻撃命中対象の 20%火傷(5)付与"}]
[null,null,"FB：アポロン","魔","メイン","中距離","単体","魔術","9MP","(4)→9",null,null,null,null,null,null,null,null,null,null,null,null,null,null,null,null,null,null,null,null,null,null,null,null,null,null,null,null,null,null,null,null,null,null,null,null,null,null,null,null,null,null,null,null,null,null,null,null,null,null,null,null,null,null,null,null,{"$f":"\"〈炎〉属性[\"&SL*9+魔攻&\"+4D10]ﾀﾞﾒｰｼﾞの攻撃\n攻撃対象以外の全敵に〈炎〉\"&SL*5&\"ﾀﾞﾒｰｼﾞ付与\"","v":"〈炎〉属性[6+4D10]ﾀﾞﾒｰｼﾞの攻撃\n攻撃対象以外の全敵に〈炎〉0ﾀﾞﾒｰｼﾞ付与"}]
[null,null,"アイスボール","魔","メイン","中距離","単体","魔術","8MP","(4)→6",null,null,null,null,null,null,null,null,null,null,null,null,null,null,null,null,null,null,null,null,null,null,null,null,null,null,null,null,null,null,null,null,null,null,null,null,null,null,null,null,null,null,null,null,null,null,null,null,null,null,null,null,null,null,null,null,{"$f":"\"〈氷〉属性[\"&SL*6+魔攻&\"+3D10]ﾀﾞﾒｰｼﾞの攻撃\n攻撃命中対象の 20%凍結付与\"","v":"〈氷〉属性[6+3D10]ﾀﾞﾒｰｼﾞの攻撃\n攻撃命中対象の 20%凍結付与"}]
[null,null,"IB：ヘル","魔","メイン","中距離","単体","魔術","9MP","(4)→9",null,null,null,null,null,null,null,null,null,null,null,null,null,null,null,null,null,null,null,null,null,null,null,null,null,null,null,null,null,null,null,null,null,null,null,null,null,null,null,null,null,null,null,null,null,null,null,null,null,null,null,null,null,null,null,null,{"$f":"\"〈氷〉属性[\"&SL*9+魔攻&\"+4D10]ﾀﾞﾒｰｼﾞの攻撃\n攻撃対象以外の全敵に〈氷〉\"&SL*5&\"ﾀﾞﾒｰｼﾞ付与\"","v":"〈氷〉属性[6+4D10]ﾀﾞﾒｰｼﾞの攻撃\n攻撃対象以外の全敵に〈氷〉0ﾀﾞﾒｰｼﾞ付与"}]
[null,null,"リクィッドボール","魔","メイン","中距離","単体","魔術","8MP","(4)→6",null,null,null,null,null,null,null,null,null,null,null,null,null,null,null,null,null,null,null,null,null,null,null,null,null,null,null,null,null,null,null,null,null,null,null,null,null,null,null,null,null,null,null,null,null,null,null,null,null,null,null,null,null,null,null,null,{"$f":"\"〈水〉属性[\"&SL*6+魔攻&\"+3D10]ﾀﾞﾒｰｼﾞの攻撃\n攻撃命中対象の 20%睡眠付与\"","v":"〈水〉属性[6+3D10]ﾀﾞﾒｰｼﾞの攻撃\n攻撃命中対象の 20%睡眠付与"}]
[null,null,"LB：ポセイドン","魔","メイン","中距離","単体","魔術","9MP","(4)→9",null,null,null,null,null,null,null,null,null,null,null,null,null,null,null,null,null,null,null,null,null,null,null,null,null,null,null,null,null,null,null,null,null,null,null,null,null,null,null,null,null,null,null,null,null,null,null,null,null,null,null,null,null,null,null,null,{"$f":"\"〈水〉属性[\"&SL*9+魔攻&\"+4D10]ﾀﾞﾒｰｼﾞの攻撃\n攻撃対象以外の全敵に〈水〉\"&SL*5&\"ﾀﾞﾒｰｼﾞ付与\"","v":"〈水〉属性[6+4D10]ﾀﾞﾒｰｼﾞの攻撃\n攻撃対象以外の全敵に〈水〉0ﾀﾞﾒｰｼﾞ付与"}]
[null,"汎用\n6","サンダーボール","魔","メイン","中距離","単体","魔術","8MP","(4)→6",null,null,null,null,null,null,null,null,null,null,null,null,null,null,null,null,null,null,null,null,null,null,null,null,null,null,null,null,null,null,null,null,null,null,null,null,null,null,null,null,null,null,null,null,null,null,null,null,null,null,null,null,null,null,null,null,{"$f":"\"〈雷〉属性[\"&SL*6+魔攻&\"+3D10]ﾀﾞﾒｰｼﾞの攻撃\n攻撃命中対象の 20%マヒ付与\"","v":"〈雷〉属性[6+3D10]ﾀﾞﾒｰｼﾞの攻撃\n攻撃命中対象の 20%マヒ付与"}]
[null,null,"TB：トール","魔","メイン","中距離","単体","魔術","9MP","(4)→9",null,null,null,null,null,null,null,null,null,null,null,null,null,null,null,null,null,null,null,null,null,null,null,null,null,null,null,null,null,null,null,null,null,null,null,null,null,null,null,null,null,null,null,null,null,null,null,null,null,null,null,null,null,null,null,null,{"$f":"\"〈雷〉属性[\"&SL*9+魔攻&\"+4D10]ﾀﾞﾒｰｼﾞの攻撃\n攻撃対象以外の全敵に〈雷〉\"&SL*5&\"ﾀﾞﾒｰｼﾞ付与\"","v":"〈雷〉属性[6+4D10]ﾀﾞﾒｰｼﾞの攻撃\n攻撃対象以外の全敵に〈雷〉0ﾀﾞﾒｰｼﾞ付与"}]
[null,null,"ウィンドボール","魔","メイン","中距離","単体","魔術","8MP","(4)→6",null,null,null,null,null,null,null,null,null,null,null,null,null,null,null,null,null,null,null,null,null,null,null,null,null,null,null,null,null,null,null,null,null,null,null,null,null,null,null,null,null,null,null,null,null,null,null,null,null,null,null,null,null,null,null,null,{"$f":"\"〈風〉属性[\"&SL*6+魔攻&\"+3D10]ﾀﾞﾒｰｼﾞの攻撃\n攻撃命中対象の 20%疲労付与\"","v":"〈風〉属性[6+3D10]ﾀﾞﾒｰｼﾞの攻撃\n攻撃命中対象の 20%疲労付与"}]
[null,null,"WB：ゼピュロス","魔","メイン","中距離","単体","魔術","9MP","(4)→9",null,null,null,null,null,null,null,null,null,null,null,null,null,null,null,null,null,null,null,null,null,null,null,null,null,null,null,null,null,null,null,null,null,null,null,null,null,null,null,null,null,null,null,null,null,null,null,null,null,null,null,null,null,null,null,null,{"$f":"\"〈風〉属性[\"&SL*9+魔攻&\"+4D10]ﾀﾞﾒｰｼﾞの攻撃\n攻撃対象以外の全敵に〈風〉\"&SL*5&\"ﾀﾞﾒｰｼﾞ付与\"","v":"〈風〉属性[6+4D10]ﾀﾞﾒｰｼﾞの攻撃\n攻撃対象以外の全敵に〈風〉0ﾀﾞﾒｰｼﾞ付与"}]
[null,null,"セイントボール","魔","メイン","中距離","単体","魔術","8MP","(4)→6",null,null,null,null,null,null,null,null,null,null,null,null,null,null,null,null,null,null,null,null,null,null,null,null,null,null,null,null,null,null,null,null,null,null,null,null,null,null,null,null,null,null,null,null,null,null,null,null,null,null,null,null,null,null,null,null,{"$f":"\"〈光〉属性[\"&SL*6+魔攻&\"+3D10]ﾀﾞﾒｰｼﾞの攻撃\n攻撃命中対象の 20%封印付与\"","v":"〈光〉属性[6+3D10]ﾀﾞﾒｰｼﾞの攻撃\n攻撃命中対象の 20%封印付与"}]
[null,null,"SB：アマテラス","魔","メイン","中距離","単体","魔術","9MP","(4)→9",null,null,null,null,null,null,null,null,null,null,null,null,null,null,null,null,null,null,null,null,null,null,null,null,null,null,null,null,null,null,null,null,null,null,null,null,null,null,null,null,null,null,null,null,null,null,null,null,null,null,null,null,null,null,null,null,{"$f":"\"〈光〉属性[\"&SL*9+魔攻&\"+4D10]ﾀﾞﾒｰｼﾞの攻撃\n攻撃対象以外の全敵に〈光〉\"&SL*5&\"ﾀﾞﾒｰｼﾞ付与\"","v":"〈光〉属性[6+4D10]ﾀﾞﾒｰｼﾞの攻撃\n攻撃対象以外の全敵に〈光〉0ﾀﾞﾒｰｼﾞ付与"}]
[null,null,"ギビング○○","支","オート","自陣","単体","自動","7MP",1,null,null,null,null,null,null,null,null,null,null,null,null,null,null,null,null,null,null,null,null,null,null,null,null,null,null,null,null,null,null,null,null,null,null,null,null,null,null,null,null,null,null,null,null,null,null,null,null,null,null,null,null,null,null,null,null,"○○の内容で攻撃属性変化\nﾌﾚｲﾑ：〈炎〉 ﾌﾘｰｽﾞ：〈氷〉 ｱｸｱ：〈水〉\nｽﾊﾟｰｸ：〈雷〉 ｴｱﾛ：〈風〉 ｼｬｲﾝ：〈光〉"]
[null,null,"ギビングフレイム","支","オート","自陣","単体","自動","7MP",1,null,null,null,null,null,null,null,null,null,null,null,null,null,null,null,null,null,null,null,null,null,null,null,null,null,null,null,null,null,null,null,null,null,null,null,null,null,null,null,null,null,null,null,null,null,null,null,null,null,null,null,null,null,null,null,null,"対象の攻撃宣言時、攻撃属性を〈炎〉に変更"]
[null,null,"ギビングフリーズ","支","オート","自陣","単体","自動","7MP",1,null,null,null,null,null,null,null,null,null,null,null,null,null,null,null,null,null,null,null,null,null,null,null,null,null,null,null,null,null,null,null,null,null,null,null,null,null,null,null,null,null,null,null,null,null,null,null,null,null,null,null,null,null,null,null,null,"対象の攻撃宣言時、攻撃属性を〈氷〉に変更"]
[null,null,"ギビングアクア","支","オート","自陣","単体","自動","7MP",1,null,null,null,null,null,null,null,null,null,null,null,null,null,null,null,null,null,null,null,null,null,null,null,null,null,null,null,null,null,null,null,null,null,null,null,null,null,null,null,null,null,null,null,null,null,null,null,null,null,null,null,null,null,null,null,null,"対象の攻撃宣言時、攻撃属性を〈水〉に変更"]
[null,null,"ギビングスパーク","支","オート","自陣","単体","自動","7MP",1,null,null,null,null,null,null,null,null,null,null,null,null,null,null,null,null,null,null,null,null,null,null,null,null,null,null,null,null,null,null,null,null,null,null,null,null,null,null,null,null,null,null,null,null,null,null,null,null,null,null,null,null,null,null,null,null,"対象の攻撃宣言時、攻撃属性を〈雷〉に変更"]
[null,null,"ギビングエアロ","支","オート","自陣","単体","自動","7MP",1,null,null,null,null,null,null,null,null,null,null,null,null,null,null,null,null,null,null,null,null,null,null,null,null,null,null,null,null,null,null,null,null,null,null,null,null,null,null,null,null,null,null,null,null,null,null,null,null,null,null,null,null,null,null,null,null,"対象の攻撃宣言時、攻撃属性を〈風〉に変更"]
[null,null,"ギビングシャイン","支","オート","自陣","単体","自動","7MP",1,null,null,null,null,null,null,null,null,null,null,null,null,null,null,null,null,null,null,null,null,null,null,null,null,null,null,null,null,null,null,null,null,null,null,null,null,null,null,null,null,null,null,null,null,null,null,null,null,null,null,null,null,null,null,null,null,"対象の攻撃宣言時、攻撃属性を〈光〉に変更"]
[null,null,"セカンドチャンス","基、支","オート","―","自身","自動","3MP",3,null,null,null,null,null,null,null,null,null,null,null,null,null,null,null,null,null,null,null,null,null,null,null,null,null,null,null,null,null,null,null,null,null,null,null,null,null,null,null,null,null,null,null,null,null,null,null,null,null,null,null,null,null,null,null,null,{"$f":"\"判定直後使用可 判定振り直し\n戦闘外で使用時、調査F値\"&IF(データ管理!R29+4<=MAX(データ管理!T29,9),データ管理!R29+4,MAX(データ管理!T29,9))&\"\n1戦闘\"&ｽﾀｲﾙVL用!C78&\"回制限\"","v":"判定直後使用可 判定振り直し\n戦闘外で使用時、調査F値9\n1戦闘0回制限"}]
[null,null,"サポートムーブ","支","オート","自陣","単体",0.7,"7MP",3,null,null,null,null,null,null,null,null,null,null,null,null,null,null,null,null,null,null,null,null,null,null,null,null,null,null,null,null,null,null,null,null,null,null,null,null,null,null,null,null,null,null,null,null,null,null,null,null,null,null,null,null,null,null,null,null,"判定直後使用可 判定達成値+3\n1ﾒｲﾝ1回制限"]
[null,null,"ジャミング","妨","オート","遠隔","単体",0.7,"7MP",3,null,null,null,null,null,null,null,null,null,null,null,null,null,null,null,null,null,null,null,null,null,null,null,null,null,null,null,null,null,null,null,null,null,null,null,null,null,null,null,null,null,null,null,null,null,null,null,null,null,null,null,null,null,null,null,null,"判定直後使用可 判定達成値-3\n1ﾒｲﾝ1回制限"]
[null,"汎用\n7","オミットカース","支","オート","自陣","単体","自動","2BP",3,null,null,null,null,null,null,null,null,null,null,null,null,null,null,null,null,null,null,null,null,null,null,null,null,null,null,null,null,null,null,null,null,null,null,null,null,null,null,null,null,null,null,null,null,null,null,null,null,null,null,null,null,null,null,null,null,{"$f":"\"BSを受けるときに使用可 BS付与無効\"&IF(CL>=15,\"\n「代償：16MP」使用可\",\"\")&\"\n1ﾒｲﾝ1回制限\"","v":"BSを受けるときに使用可 BS付与無効\n1ﾒｲﾝ1回制限"}]
[null,null,"エナジー変換","支","オート","―","自身","自動","2BP",0,null,null,null,null,null,null,null,null,null,null,null,null,null,null,null,null,null,null,null,null,null,null,null,null,null,null,null,null,null,null,null,null,null,null,null,null,null,null,null,null,null,null,null,null,null,null,null,null,null,null,null,null,null,null,null,null,"MP代償ｽｷﾙを「代償：なし」で使用可\n1戦闘各ｽｷﾙに対して1回使用可"]
[null,null,"覚醒化","支","オート","―","自身","自動","2BP",0,null,null,null,null,null,null,null,null,null,null,null,null,null,null,null,null,null,null,null,null,null,null,null,null,null,null,null,null,null,null,null,null,null,null,null,null,null,null,null,null,null,null,null,null,null,null,null,null,null,null,null,null,null,null,null,null,"ｶｳﾝﾄ開始時、覚醒付与"]
[null,null,"浮遊魔法","支","オート","―","自身","自動","1BP",0,null,null,null,null,null,null,null,null,null,null,null,null,null,null,null,null,null,null,null,null,null,null,null,null,null,null,null,null,null,null,null,null,null,null,null,null,null,null,null,null,null,null,null,null,null,null,null,null,null,null,null,null,null,null,null,null,"ｶｳﾝﾄ開始時、飛行付与"]
[null,null,"パワーリブート","支","オート","―","自身","自動","4BP",3,null,null,null,null,null,null,null,null,null,null,null,null,null,null,null,null,null,null,null,null,null,null,null,null,null,null,null,null,null,null,null,null,null,null,null,null,null,null,null,null,null,null,null,null,null,null,null,null,null,null,null,null,null,null,null,null,"ｶｳﾝﾄ開始時、【MP】全回復"]
[null,null,"精神統一","支","オート","―","自身","自動","6BP",3,null,null,null,null,null,null,null,null,null,null,null,null,null,null,null,null,null,null,null,null,null,null,null,null,null,null,null,null,null,null,null,null,null,null,null,null,null,null,null,null,null,null,null,null,null,null,null,null,null,null,null,null,null,null,null,null,{"$f":"\"ｶｳﾝﾄ開始時、【HP】全回復 \"&\"\n【MP】\"&INT(CS!AE47/2)&\"回復\"","v":"ｶｳﾝﾄ開始時、【HP】全回復 \n【MP】6回復"}]
[null,null,"チャンスブレイク","妨","オート","遠隔","単体","自動","2BP","X",null,null,null,null,null,null,null,null,null,null,null,null,null,null,null,null,null,null,null,null,null,null,null,null,null,null,null,null,null,null,null,null,null,null,null,null,null,null,null,null,null,null,null,null,null,null,null,null,null,null,null,null,null,null,null,null,"対象の判定振り直し効果を無効化\nX：ｽｷﾙ使用回数の3倍"]
[null,null,"ガードアシスト","防","ダメロ","遠隔","単体","自動","6MP",2,null,null,null,null,null,null,null,null,null,null,null,null,null,null,null,null,null,null,null,null,null,null,null,null,null,null,null,null,null,null,null,null,null,null,null,null,null,null,null,null,null,null,null,null,null,null,null,null,null,null,null,null,null,null,null,null,{"$f":"\"対象の被D[\"&CL&\"+3D10]点軽減\n1戦闘3回制限\"","v":"対象の被D[0+3D10]点軽減\n1戦闘3回制限"}]
[null,null,"カバーリング","庇","ダメロ","自マス","単体","自動","3MP",1,null,null,null,null,null,null,null,null,null,null,null,null,null,null,null,null,null,null,null,null,null,null,null,null,null,null,null,null,null,null,null,null,null,null,null,null,null,null,null,null,null,null,null,null,null,null,null,null,null,null,null,null,null,null,null,null,{"$f":"\"対象への攻撃ﾀﾞﾒｰｼﾞと攻撃で付与するBSを引き受ける\n1ﾒｲﾝ\"&IF(CS!$AP$26=\"ブロッカー\",3,2)&\"回制限\"","v":"対象への攻撃ﾀﾞﾒｰｼﾞと攻撃で付与するBSを引き受ける\n1ﾒｲﾝ2回制限"}]
[null,null,"ロングレンジカバー","庇","ダメロ","自陣","単体","自動","4MP",2,null,null,null,null,null,null,null,null,null,null,null,null,null,null,null,null,null,null,null,null,null,null,null,null,null,null,null,null,null,null,null,null,null,null,null,null,null,null,null,null,null,null,null,null,null,null,null,null,null,null,null,null,null,null,null,null,{"$f":"\"対象への攻撃ﾀﾞﾒｰｼﾞを引き受ける\n1ﾒｲﾝ\"&IF(CS!$AP$26=\"ブロッカー\",3,2)&\"回制限\"","v":"対象への攻撃ﾀﾞﾒｰｼﾞを引き受ける\n1ﾒｲﾝ2回制限"}]
[null,"上級汎用\n","不沈の盾","―","常時","―","自身","―","―","―",null,null,null,null,null,null,null,null,null,null,null,null,null,null,null,null,null,null,50,-50,null,null,null,null,null,null,null,null,null,null,null,null,null,null,null,null,null,null,null,null,null,null,null,null,null,null,null,null,null,null,null,null,null,null,null,null,{"$f":"IF(CS!AE47<=50,\"取得不可\",\"【耐久】+50 【精神】-50\")","v":"取得不可"}]
[null,null,"ダブルストライク","―","常時","―","自身","―","―","―",null,null,null,null,null,null,null,null,null,null,null,null,null,null,null,null,null,null,null,null,null,null,null,null,null,null,null,null,null,null,null,null,null,null,null,null,null,null,null,null,null,null,null,null,null,null,null,null,null,null,null,null,null,null,null,null,"攻撃ｽｷﾙ代償を2倍にし、攻撃の命中達成値+1 与D+[N×4]可能\nN：追加で支払った【MP】量"]
[null,null,"武器修練Ex","―","常時","―","自身","―","―","―",null,null,null,null,null,null,null,null,null,null,null,null,null,null,null,null,null,null,null,null,null,null,null,null,null,null,null,null,null,null,null,null,null,null,null,null,null,null,null,null,null,null,null,null,null,null,null,null,null,null,null,null,null,null,null,null,"通常攻撃の命中達成値+2"]
[null,null,"Powered - ZP","―","常時","―","自身","―","―","―",null,null,null,null,null,null,null,null,null,null,null,null,null,null,null,null,null,null,null,-30,null,null,null,null,null,null,null,null,null,null,null,null,null,null,null,null,null,null,null,null,null,null,null,null,null,null,null,null,null,null,null,null,null,null,null,null,{"$f":"IF(CS!AE47<=30,\"取得不可\",\"【精神】-30\n戦闘中判定達成値+1\n戦闘外判定達成値+5\")","v":"取得不可"}]
[null,null,"パーフェクトバリア","防","サブ","―","自身","自動","30MP",0,null,null,null,null,null,null,null,null,null,null,null,null,null,null,null,null,null,null,null,null,null,null,null,null,null,null,null,null,null,null,null,null,null,null,null,null,null,null,null,null,null,null,null,null,null,null,null,null,null,null,null,null,null,null,null,null,"1ﾒｲﾝ間、敵からの攻撃被D0\n効果中あらゆるBS無効\n1戦闘2回制限"]
[null,null,"エンパワーリング","支","サブ","自陣","単体","自動","1BP",3,null,null,null,null,null,null,null,null,null,null,null,null,null,null,null,null,null,null,null,null,null,null,null,null,null,null,null,null,null,null,null,null,null,null,null,null,null,null,null,null,null,null,null,null,null,null,null,null,null,null,null,null,null,null,null,null,{"$f":"\"自身の【MP】を[0～\"&SL*10&\"]支払い、\nその分だけ対象の【MP】を回復\"","v":"自身の【MP】を[0～0]支払い、\nその分だけ対象の【MP】を回復"}]
[null,null,"ハルマゲドン","攻","メイン","遠隔","全体()","武器\n+3","44MP",16,null,null,null,null,null,null,null,null,null,null,null,null,null,null,null,null,null,null,null,null,null,null,null,null,null,null,null,null,null,null,null,null,null,null,null,null,null,null,null,null,null,null,null,null,null,null,null,null,null,null,null,null,null,null,null,null,{"$f":"\"〈無〉属性[\"&CL*10&\"+7D10]ﾀﾞﾒｰｼﾞの攻撃\n攻撃命中対象に怯み(3)付与\n[連続x]\"","v":"〈無〉属性[0+7D10]ﾀﾞﾒｰｼﾞの攻撃\n攻撃命中対象に怯み(3)付与\n[連続x]"}]
[null,null,"トライブラスター","攻","メイン","遠隔","範囲()",{"$f":"\"対決\n+\"&2+データ管理!AB29","v":"対決\n+2"},"36MP",12,null,null,null,null,null,null,null,null,null,null,null,null,null,null,null,null,null,null,null,null,null,null,null,null,null,null,null,null,null,null,null,null,null,null,null,null,null,null,null,null,null,null,null,null,null,null,null,null,null,null,null,null,null,null,null,null,{"$f":"\"[\"&EL*28&\"+6D10]ﾀﾞﾒｰｼﾞの攻撃\n攻撃属性は最高値の耐性から1つ選択　[連続x]\"","v":"[0+6D10]ﾀﾞﾒｰｼﾞの攻撃\n攻撃属性は最高値の耐性から1つ選択　[連続x]"}]
[null,null,"リザレクション","回","オート","自陣","単体","自動","50MP",3,null,null,null,null,null,null,null,null,null,null,null,null,null,null,null,null,null,null,null,null,null,null,null,null,null,null,null,null,null,null,null,null,null,null,null,null,null,null,null,null,null,null,null,null,null,null,null,null,null,null,null,null,null,null,null,null,{"$f":"\"【HP】0になった瞬間使用可\n【HP】を1にし、【HP】[\"&CL*5&\"+3D10]回復\n1戦闘2回制限\"","v":"【HP】0になった瞬間使用可\n【HP】を1にし、【HP】[0+3D10]回復\n1戦闘2回制限"}]
[null,null,"スペルブレイク","防","オート","―","自身","自動","30MP",3,null,null,null,null,null,null,null,null,null,null,null,null,null,null,null,null,null,null,null,null,null,null,null,null,null,null,null,null,null,null,null,null,null,null,null,null,null,null,null,null,null,null,null,null,null,null,null,null,null,null,null,null,null,null,null,null,"「判定値：【魔術】」の攻撃命中直後に使用可。被Dを0にする。\n1戦闘2回制限"]

{"sheet":"種族VL用","index":3,"n_rows":56,"n_cols":66,"rows_kept":56,"cut":false,"hidden":true,"merged":[]}
[null,"種族","肉体","反射","集中","知識","感覚","意志","洞察","幸運","近接","射撃","回避","魔術","抵抗","敏捷","物攻","魔攻","物防","魔防","耐久","精神","近","遠","炎","氷","水","雷","風","光","種族特典","スキル名","種別","タイミング","判定","射程","対象","代償","コスト","効果","命C","命C↑","命C↓","命F","命F↑","命F↓","回C","回C↑","回C↓","回F","回F↑","回F↓","調C","調C↑","調C↓","調F","調F↑","調F↓","BP","SMC","SMC↑","SMC↓","MMC","MMC↑","MMC↓","対決"]
[10,"人間",10,9,17,10,6,11,7,10,5,5,3,4,3,10,{"$f":"6+CL","v":6},{"$f":"6+CL","v":6},{"$f":"2+CL*2","v":2},{"$f":"CL*2","v":0},{"$f":"20+CL*7","v":20},{"$f":"13+CL*3","v":13},{"$f":"ROUNDUP(CL*0.2,0)","v":0},{"$f":"ROUNDUP(CL*0.2,0)","v":0},{"$f":"ROUNDUP(CL*-0.2,0)","v":0},0,-1,{"$f":"INT(CL*-0.2)","v":0},1,0,"常時C値-1 (下限値：16) <適用済>","起死回生","自","オート","自動","―","自身","5BP",0,"判定直後使用、出目を両方9にする。命中判定の場合、対する回避C値20固定。",-1,null,16,null,null,null,-1,null,16,null,null,null,-1,null,16]
[10,"天使A",5,7,10,17,9,6,16,10,4,4,3,5,3,12,{"$f":"CL","v":0},{"$f":"2+CL*2","v":2},{"$f":"CL","v":0},{"$f":"3+CL*3","v":3},{"$f":"16+CL*6","v":16},{"$f":"18+CL*3","v":18},{"$f":"ROUNDUP(1+CL*0.2,0)","v":1},1,0,1,0,{"$f":"ROUNDUP(-1-CL*0.2,0)","v":-1},{"$f":"ROUNDUP(-2-0.4*CL,0)","v":-2},{"$f":"ROUNDUP(3+CL*0.2,0)","v":3},{"$f":"\"封印無効 ｸﾘﾃｨｶﾙする度にMP10点回復\"","v":"封印無効 ｸﾘﾃｨｶﾙする度にMP10点回復"},"天使の祝福","自","(サブ)","自動","自陣","[単体]","2BP",2,{"$f":"\"対象のMPを\"&CL&\"点回復。その後、対象のスキルの使用回数を1回回復。\"","v":"対象のMPを0点回復。その後、対象のスキルの使用回数を1回回復。"}]
[11,"天使B",5,7,10,17,9,6,16,10,4,3,4,5,4,8,{"$f":"5+CL*2","v":5},{"$f":"5+CL*2","v":5},{"$f":"8+CL*2","v":8},{"$f":"8+CL*2","v":8},{"$f":"13+CL*5","v":13},{"$f":"10+CL*4","v":10},-1,-1,{"$f":"ROUNDUP(2+CL*0.2,0)","v":2},{"$f":"ROUNDUP(2+CL*0.2,0)","v":2},0,2,-2,{"$f":"ROUNDUP(-2-CL*0.4,0)","v":-2},"呪い無効 ﾌｧﾝﾌﾞﾙする度にBP1点回復","堕天使の祝福","自","(サブ)","自動","単体","遠隔","2BP",0,"対象が次に行う判定の達成値に+5。その判定のF値は10に固定される。"]
[11,"悪魔A",14,8,7,16,8,8,12,7,3,3,2,3,3,5,{"$f":"5+CL*2","v":5},{"$f":"7+CL*2","v":7},{"$f":"2+CL*2","v":2},{"$f":"6+CL*2","v":6},{"$f":"36+CL*7","v":36},{"$f":"22+CL*3","v":22},{"$f":"ROUNDUP(2+CL*0.2,0)","v":2},{"$f":"ROUNDUP(2+CL*0.2,0)","v":2},2,2,{"$f":"ROUNDUP(-CL*0.2,0)","v":0},0,0,{"$f":"ROUNDUP(-4-CL*0.2,0)","v":-4},"通常攻撃の命中達成値+2 「種別：魔」の攻撃のBS無効","増幅する苦痛","自","オート","自動","場面()","遠隔","4BP",3,"敵がﾀﾞﾒｰｼﾞを受けた時使用。〈無〉[その半分のﾀﾞﾒｰｼﾞ](↓)と無効不可の怯み(3)を付与。"]
[12,"悪魔B",14,8,7,16,8,8,12,7,3,4,4,3,2,7,{"$f":"7+CL","v":7},{"$f":"5+CL","v":5},{"$f":"2+CL","v":2},{"$f":"2+CL","v":2},{"$f":"26+CL*6","v":26},{"$f":"17+CL*5","v":17},{"$f":"ROUNDUP(CL*0.2,0)","v":0},{"$f":"ROUNDUP(CL*0.2,0)","v":0},2,2,2,-1,{"$f":"ROUNDUP(-3-CL*0.2,0)","v":-3},{"$f":"ROUNDUP(-2-CL*0.2,0)","v":-2},"睡眠無効 攻撃でBS付与した敵ごとにMP2点回復","ナイトメアフォール","自、攻","メイン","対決+3","範囲()","遠隔","4BP",9,{"$f":"\"対象に〈無〉[\"&CL*6&\"+6D10+【物攻】or【魔攻】]点のﾀﾞﾒｰｼﾞ+睡眠付与 [連続使用不可]\"","v":"対象に〈無〉[0+6D10+【物攻】or【魔攻】]点のﾀﾞﾒｰｼﾞ+睡眠付与 [連続使用不可]"}]
[12,"妖精A",6,13,10,9,16,7,10,9,3,5,4,3,4,11,{"$f":"7+CL","v":7},{"$f":"4+CL","v":4},{"$f":"3+CL","v":3},{"$f":"10+CL*2","v":10},{"$f":"15+CL*7","v":15},{"$f":"18+CL*3","v":18},{"$f":"ROUNDUP(-2-CL*0.2,0)","v":-2},{"$f":"ROUNDUP(-2-CL*0.2,0)","v":-2},{"$f":"ROUNDUP(1+CL*0.1,0)","v":1},{"$f":"ROUNDUP(1+CL*0.1,0)","v":1},{"$f":"ROUNDUP(1+CL*0.1,0)","v":1},0,{"$f":"ROUNDUP(1+CL*0.1,0)","v":1},0,{"$f":"\"行動手番開始時に\"&ROUNDUP(CL/3,0)&\"MP支払い、ｻﾌﾞｱｸｼｮﾝを2回行える\"","v":"行動手番開始時に0MP支払い、ｻﾌﾞｱｸｼｮﾝを2回行える"},"マナフォース","自","(サブ)","自動","単体","自陣","2BP",0,"対象が次に行う攻撃の属性が〈炎〉～〈風〉から選択した属性に変更される。"]
[13,"妖精B",6,13,10,9,16,7,10,9,3,3,3,5,3,10,{"$f":"6+CL","v":6},{"$f":"2+CL*2","v":2},{"$f":"CL*2","v":0},{"$f":"4+CL*2","v":4},{"$f":"20+CL*5","v":20},{"$f":"23+CL*3","v":23},{"$f":"ROUNDUP(-2-CL*0.2,0)","v":-2},{"$f":"ROUNDUP(-4-CL*0.2,0)","v":-4},2,2,{"$f":"ROUNDUP(2+CL*0.2,0)","v":2},0,{"$f":"ROUNDUP(2+CL*0.2,0)","v":2},0,"「種別：魔」の攻撃を20%の確率で回避ｸﾘﾃｨｶﾙする","マナシールド","自、防","サブ","自動","3体","自陣","NBP",0,{"$f":"\"N=1～5。 2ﾒｲﾝｱｸｼｮﾝ間、〈炎〉～〈光〉から選択した[N+1]個の属性ﾀﾞﾒｰｼﾞを\"&CL*2+5&\"点軽減。\"","v":"N=1～5。 2ﾒｲﾝｱｸｼｮﾝ間、〈炎〉～〈光〉から選択した[N+1]個の属性ﾀﾞﾒｰｼﾞを5点軽減。"}]
[13,"獣人A",12,18,5,6,16,6,9,8,5,3,2,4,4,6,{"$f":"15+CL","v":15},{"$f":"12+CL","v":12},{"$f":"11+CL*2","v":11},{"$f":"6+CL","v":6},{"$f":"25+CL*8","v":25},{"$f":"7+CL*2","v":7},{"$f":"ROUNDUP(1+CL*0.2,0)","v":1},{"$f":"ROUNDUP(1+CL*0.2,0)","v":1},{"$f":"ROUNDUP(-1-CL*0.4,0)","v":-1},{"$f":"ROUNDUP(CL*0.2,0)","v":0},0,{"$f":"ROUNDUP(-1-CL*0.4,0)","v":-1},0,{"$f":"ROUNDUP(CL*0.2,0)","v":0},"命中C値-1(下限値：15) 命中・調査F値を3固定 <適用済>","ワイルドラッシュ","自","オート","自動","―","自身","6BP",2,"行動手番終了時使用可。直ちに攻撃orﾒｲﾝｱｸｼｮﾝの攻撃ｽｷﾙを「ｺｽﾄ：0」で使用する。",-1,null,15]
[14,"獣人B",12,18,5,6,16,6,9,8,3,3,5,3,5,14,{"$f":"3+CL","v":3},{"$f":"2+CL","v":2},{"$f":"3+CL","v":3},{"$f":"6+CL","v":6},{"$f":"31+CL*5","v":31},{"$f":"13+CL*3","v":13},1,-2,{"$f":"ROUNDUP(-1-CL*0.2,0)","v":-1},{"$f":"ROUNDUP(CL*0.2,0)","v":0},0,{"$f":"ROUNDUP(-1-CL*0.2,0)","v":-1},{"$f":"ROUNDUP(2+CL*0.2,0)","v":2},1,"回避C値-1(下限値：15) 回避・調査F値を3固定 <適用済>","音速疾駆","自","オート","自陣","単体","自身","2BP",2,"回避判定直前使用。対象は「あなたの回避判定値」で判定。自身使用時は回避達成値+4",null,null,null,null,null,null,-1,null,15]
[14,"鳥人A",11,17,9,7,12,7,11,8,4,4,3,4,3,16,{"$f":"4+CL*2","v":4},{"$f":"4+CL*2","v":4},{"$f":"7+CL","v":7},{"$f":"7+CL","v":7},{"$f":"24+CL*7","v":24},{"$f":"14+CL*2","v":14},{"$f":"ROUNDUP(2+CL*0.2,0)","v":2},{"$f":"ROUNDUP(-3-CL*0.2,0)","v":-3},0,{"$f":"ROUNDUP(-2-CL*0.2,0)","v":-2},0,{"$f":"ROUNDUP(-3-CL*0.2,0)","v":-3},{"$f":"ROUNDUP(2+CL*0.4,0)","v":2},0,"戦闘開始から最初に【HP】0になるまで、常時飛行を得る","エアグライド","自","サブ","自動","―","自身","4BP",0,"次行動手番まで、回避C値14固定。また判定毎に1度振り直し可能(他効果で振り直し不可)"]
[15,"鳥人B",11,17,9,7,12,7,11,8,4,4,5,5,4,13,{"$f":"2+CL","v":2},{"$f":"2+CL","v":2},{"$f":"5+CL","v":5},{"$f":"2+CL","v":2},{"$f":"20+CL*5","v":20},{"$f":"17+CL*2","v":17},{"$f":"ROUNDUP(1+CL*0.2,0)","v":1},{"$f":"ROUNDUP(-1-CL*0.2,0)","v":-1},{"$f":"ROUNDUP(-2-CL*0.2,0)","v":-2},{"$f":"ROUNDUP(CL*-0.2,0)","v":0},{"$f":"ROUNDUP(CL*0.2,0)","v":0},{"$f":"ROUNDUP(-2-CL*0.2,0)","v":-2},{"$f":"ROUNDUP(2+CL*0.2,0)","v":2},1,"ｻﾌﾞ移動ｺｽﾄ-1<適用済> BSを受けていない時、先制","ソニックムーブ","自","オート","自動","―","自身","2BP",0,"[配置ｶｳﾝﾄ-現ｶｳﾝﾄ]<20 であるカウント開始時使用可。直ちに行動手番を得る。",null,null,null,null,null,null,null,null,null,null,null,null,null,null,null,null,null,null,null,-1]
[15,"竜人A",19,7,8,13,9,8,9,7,5,4,2,4,4,2,{"$f":"14+CL*2","v":14},{"$f":"13+CL*2","v":13},{"$f":"7+CL*2","v":7},{"$f":"5+CL*2","v":5},{"$f":"33+CL*8","v":33},{"$f":"9+CL*2","v":9},{"$f":"ROUNDUP(3+CL*0.2,0)","v":3},1,{"$f":"ROUNDUP(1+CL*0.2,0)","v":1},{"$f":"ROUNDUP(1+CL*0.2,0)","v":1},{"$f":"ROUNDUP(-2-CL*0.3,0)","v":-2},1,1,{"$f":"ROUNDUP(-2-CL*0.3,0)","v":-2},"常時F値+3 (上限値：10) 移動コスト+2<適用済>","ドラゴンフォース","自","スタート","自動","―","自身","NBP",0,{"$f":"\"この戦闘中の攻撃で与えるダメージ+[10+(N×\"&INT(CL/3)&\")] (N=1～10)\"","v":"この戦闘中の攻撃で与えるダメージ+[10+(N×0)] (N=1～10)"},null,null,null,3,10,null,null,null,null,3,10,null,null,null,null,3,10,null,null,2,null,null,2]
[16,"竜人B",19,7,8,13,9,8,9,7,5,5,4,5,4,16,{"$f":"8+CL","v":8},{"$f":"6+CL","v":6},{"$f":"4+CL","v":4},{"$f":"2+CL","v":2},{"$f":"26+CL*7","v":26},{"$f":"8+CL*2","v":8},{"$f":"ROUNDUP(2+CL*0.2,0)","v":2},{"$f":"ROUNDUP(-2-CL*0.2,0)","v":-2},{"$f":"ROUNDUP(2+CL*0.2,0)","v":2},-1,0,{"$f":"ROUNDUP(-2-CL*0.2,0)","v":-2},1,0,"常時F値+3 (上限値：10) <適用済>","ドラゴンフォース","自","スタート","自動","―","自身","NBP",0,{"$f":"\"この戦闘中の攻撃で与えるダメージ+[10+(N×\"&INT(CL/3)&\")] (N=1～10)\"","v":"この戦闘中の攻撃で与えるダメージ+[10+(N×0)] (N=1～10)"},null,null,null,3,10,null,null,null,null,3,10,null,null,null,null,3,10]
[16,"魔法人形A",10,11,12,12,9,7,7,12,4,3,3,4,3,10,{"$f":"6+CL","v":6},{"$f":"10+CL*2","v":10},{"$f":"4+CL","v":4},{"$f":"6+CL*3","v":6},{"$f":"15+CL*4","v":15},{"$f":"24+CL*4","v":24},{"$f":"ROUNDUP(-2-CL*0.2,0)","v":-2},{"$f":"ROUNDUP(-2-CL*0.2,0)","v":-2},{"$f":"ROUNDUP(2+CL*0.2,0)","v":2},{"$f":"ROUNDUP(2+CL*0.2,0)","v":2},{"$f":"ROUNDUP(2+CL*0.2,0)","v":2},{"$f":"ROUNDUP(2+CL*0.2,0)","v":2},{"$f":"ROUNDUP(2+CL*0.2,0)","v":2},{"$f":"ROUNDUP(2+CL*0.2,0)","v":2},"戦闘開始時、覚醒を自身に付与","エナジーバースト","自","オート","自動","―","自身","6BP",0,{"$f":"\"ｶｳﾝﾄ開始時使用可。ｶｳﾝﾄ中判定達成値+4。最初の攻撃ﾀﾞﾒｰｼﾞ+\"&MAX(CS!$AE$37,CS!$AE$39)+CL*3&\" ｶｳﾝﾄ終了時【HP】1。\"","v":"ｶｳﾝﾄ開始時使用可。ｶｳﾝﾄ中判定達成値+4。最初の攻撃ﾀﾞﾒｰｼﾞ+11 ｶｳﾝﾄ終了時【HP】1。"}]
[17,"魔法人形B",10,11,12,12,9,7,7,12,4,4,4,4,3,12,{"$f":"7+CL*2","v":7},{"$f":"5+CL*2","v":5},{"$f":"8+CL*2","v":8},{"$f":"9+CL*2","v":9},{"$f":"10+CL*6","v":10},{"$f":"17+CL*3","v":17},2,2,{"$f":"ROUNDUP(1+CL*0.1,0)","v":1},{"$f":"ROUNDUP(1+CL*0.1,0)","v":1},{"$f":"ROUNDUP(1+CL*0.1,0)","v":1},{"$f":"ROUNDUP(1+CL*0.1,0)","v":1},0,{"$f":"ROUNDUP(-3-CL*0.2,0)","v":-3},{"$f":"\"毒、マヒ無効 【HP】が\"&CL*2&\"点以下のとき、全判定達成値+1\"","v":"毒、マヒ無効 【HP】が0点以下のとき、全判定達成値+1"},"エナジーバースト","自","オート","自動","―","自身","6BP",0,{"$f":"\"ｶｳﾝﾄ開始時使用可。ｶｳﾝﾄ中判定達成値+4。最初の攻撃ﾀﾞﾒｰｼﾞ+\"&MAX(CS!$AE$37,CS!$AE$39)+CL*3&\" ｶｳﾝﾄ終了時【HP】1。\"","v":"ｶｳﾝﾄ開始時使用可。ｶｳﾝﾄ中判定達成値+4。最初の攻撃ﾀﾞﾒｰｼﾞ+11 ｶｳﾝﾄ終了時【HP】1。"}]
[17,"神格A",8,7,13,13,16,7,9,7,4,4,4,4,4,4,{"$f":"CL*2+2","v":2},{"$f":"CL*2+2","v":2},{"$f":"4+CL","v":4},{"$f":"1+CL*2","v":1},{"$f":"32+CL*7","v":32},{"$f":"21+CL*2","v":21},3,3,-2,-2,-2,-2,-2,4,"敵から攻撃でﾀﾞﾒｰｼﾞを受けた場合、その敵に怯み(1)付与","Paranormal Power","自","スタート","自動","―","自身","2BP",1,{"$f":"\"戦闘中、①全達成値+1 ②命中・回避C値-1(下限15) ③与ﾀﾞﾒｰｼﾞ+\"&CL+5&\"のいずれかを得る\"","v":"戦闘中、①全達成値+1 ②命中・回避C値-1(下限15) ③与ﾀﾞﾒｰｼﾞ+5のいずれかを得る"}]
[18,"神格B",8,7,13,13,16,7,9,7,3,3,4,3,4,6,{"$f":"CL+4","v":4},{"$f":"CL+4","v":4},{"$f":"1+CL*2","v":1},{"$f":"CL*2+1","v":1},{"$f":"27+CL*6","v":27},{"$f":"18+CL*3","v":18},{"$f":"ROUNDUP(-CL*0.4,0)","v":0},{"$f":"ROUNDUP(-CL*0.4,0)","v":0},{"$f":"ROUNDUP(CL*0.2,0)","v":0},0,{"$f":"ROUNDUP(CL*0.2,0)","v":0},{"$f":"ROUNDUP(CL*0.2,0)","v":0},{"$f":"ROUNDUP(CL*0.2,0)","v":0},0,"[BP上限値]+2 <適用済> 1戦闘3回振り直し可能","信仰の力","自","スタート","自動","―","自身","3BP",0,"戦闘中、1戦闘2回振り直し可能。回避成功の度に、使用可能回数+1 (上限使用回数3回)",null,null,null,null,null,null,null,null,null,null,null,null,null,null,null,null,null,null,2]
[18,"花姫A",6,7,14,14,11,10,7,11,3,3,5,3,4,12,{"$f":"CL+7","v":7},{"$f":"11+CL","v":11},{"$f":"2+CL","v":2},{"$f":"2+CL","v":2},{"$f":"18+CL*6","v":18},{"$f":"25+CL*3","v":25},0,{"$f":"ROUNDUP(1+CL*0.2,0)","v":1},{"$f":"ROUNDUP(-3-CL*0.2,0)","v":-3},{"$f":"ROUNDUP(-CL*0.2,0)","v":0},2,-1,-2,{"$f":"ROUNDUP(3+CL*0.2,0)","v":3},{"$f":"\"毒無効 攻撃が命中した対象に毒(\"&CL&\")を付与\"","v":"毒無効 攻撃が命中した対象に毒(0)を付与"},"フルブルーム","自","オート","自動","―","自身","3BP",0,{"$f":"\"ｶｳﾝﾄ開始時に使用可能。【HP】\"&CL*5+10&\"点回復 以降、ｻﾌﾞｽｷﾙ使用毎にHP\"&INT(CL/2)+3&\"回復 (最大3重複)\"","v":"ｶｳﾝﾄ開始時に使用可能。【HP】10点回復 以降、ｻﾌﾞｽｷﾙ使用毎にHP3回復 (最大3重複)"}]
[19,"花姫B",6,7,14,14,11,10,7,11,3,3,2,4,5,6,{"$f":"CL*2+2","v":2},{"$f":"CL*2+4","v":4},{"$f":"CL+6","v":6},{"$f":"CL+4","v":4},{"$f":"CL*7+32","v":32},{"$f":"15+CL*2","v":15},1,1,{"$f":"ROUNDUP(-3-CL*0.2,0)","v":-3},0,{"$f":"ROUNDUP(3+CL*0.2,0)","v":3},0,{"$f":"ROUNDUP(-2-CL*0.2,0)","v":-2},{"$f":"ROUNDUP(+CL*0.2,0)","v":0},{"$f":"\"攻撃を命中させた場合、HPを\"&CL+5&\"点回復する\"","v":"攻撃を命中させた場合、HPを5点回復する"},"フルブルーム","自","オート","自動","―","自身","3BP",0,{"$f":"\"ｶｳﾝﾄ開始時に使用可能。【HP】\"&CL*5+10&\"点回復 以降、ｻﾌﾞｽｷﾙ使用毎にHP\"&INT(CL/2)+3&\"回復 (最大3重複)\"","v":"ｶｳﾝﾄ開始時に使用可能。【HP】10点回復 以降、ｻﾌﾞｽｷﾙ使用毎にHP3回復 (最大3重複)"}]
[19]
[20]
[20]
[21]
[21]
[22]
[23]
[24]
[25]
[26]
[27]
[28]
[29]
[]
[3]
[3]
[4]
[4]
[5]
[5]
[6]
[6]
[7]
[7]
[8]
[8]
[9]
[9]
[10]
[10]
[11]
[11]
[12]
[12]
[13]
[13]

{"sheet":"ﾀｲﾌﾟVL用","index":4,"n_rows":34,"n_cols":40,"rows_kept":34,"cut":false,"hidden":true,"merged":[]}
[]
[null,"クラス","TL","近接","射撃","回避","魔術","抵抗","敏捷","物攻","魔攻","物防","魔防","命C","命C↑","命C↓","命F","命F↑","命F↓","回C","回C↑","回C↓","回F","回F↑","回F↓","調C","調C↑","調C↓","調F","調F↑","調F↓","BP","SMC","SMC↑","SMC↓","MMC","MMC↑","MMC↓","対決","特典"]
[3,"―",0,0,0,0,0,0,0,0,0,0,0,null,null,null,null,null,null,null,null,null,null,null,null,null,null,null,null,null,null,null,null,null,null,null,null,null,null,{"$f":"\"\"","v":""}]
[3,"アトミックブラスター",{"$f":"IF(CS!$D$11=ﾀｲﾌﾟVL用!B4,ML,0)+IF(CS!$D$12=ﾀｲﾌﾟVL用!B4,SL,0)+IF(CS!$D$13=ﾀｲﾌﾟVL用!B4,EL,0)","v":0},4,4,0,4,0,5,8,8,0,0,null,null,null,null,null,null,null,null,null,null,null,null,null,null,null,null,null,null,null,null,null,null,null,null,null,null,"封印80%無効 後衛時、命中達成値-2 回避達成値+3"]
[4,"オルタネイトウォーリアー",{"$f":"IF(CS!$D$11=ﾀｲﾌﾟVL用!B5,ML,0)+IF(CS!$D$12=ﾀｲﾌﾟVL用!B5,SL,0)+IF(CS!$D$13=ﾀｲﾌﾟVL用!B5,EL,0)","v":0},3,3,1,4,1,4,6,6,3,3,null,null,null,null,null,null,null,null,null,null,null,null,null,null,null,null,null,null,null,null,null,null,null,null,null,null,"1戦闘3回、「代償:NMP」のｽｷﾙを「代償:[N×6]HP」として使用できる。"]
[4,"ブラッディコントラクター",{"$f":"IF(CS!$D$11=ﾀｲﾌﾟVL用!B6,ML,0)+IF(CS!$D$12=ﾀｲﾌﾟVL用!B6,SL,0)+IF(CS!$D$13=ﾀｲﾌﾟVL用!B6,EL,0)","v":0},2,2,2,2,4,3,5,5,0,3,null,null,null,null,null,null,null,null,null,null,null,null,null,null,null,null,null,null,null,null,null,null,null,null,null,null,{"$f":"\"耐久+\"&C6+5&\" <適用済> 攻撃命中ごとにHPを\"&CL&\"点回復\"","v":"耐久+5 <適用済> 攻撃命中ごとにHPを0点回復"}]
[5,"カラーインファイター",{"$f":"IF(CS!$D$11=ﾀｲﾌﾟVL用!B7,ML,0)+IF(CS!$D$12=ﾀｲﾌﾟVL用!B7,SL,0)+IF(CS!$D$13=ﾀｲﾌﾟVL用!B7,EL,0)","v":0},3,0,3,2,3,7,6,3,0,0,null,null,null,null,null,null,null,null,null,null,null,null,null,null,null,null,null,null,null,null,null,null,null,null,null,null,"全耐性+1 <適用済> 後衛に居る場合、命中F値+2 (上限10)"]
[5,"カオストリックスター",{"$f":"IF(CS!$D$11=ﾀｲﾌﾟVL用!B8,ML,0)+IF(CS!$D$12=ﾀｲﾌﾟVL用!B8,SL,0)+IF(CS!$D$13=ﾀｲﾌﾟVL用!B8,EL,0)","v":0},2,2,4,2,2,6,6,6,3,0,null,null,null,null,null,null,null,null,null,null,null,null,null,null,null,null,null,null,null,null,null,null,null,null,null,null,"戦闘中の消費ｱｲﾃﾑの消費を30%で無効"]
[6,"エレクトロエンフォーサー",{"$f":"IF(CS!$D$11=ﾀｲﾌﾟVL用!B9,ML,0)+IF(CS!$D$12=ﾀｲﾌﾟVL用!B9,SL,0)+IF(CS!$D$13=ﾀｲﾌﾟVL用!B9,EL,0)","v":0},3,3,2,2,2,6,2,5,3,3,null,null,null,null,null,null,null,null,null,null,null,null,null,null,null,null,null,null,null,null,null,null,null,null,null,null,"マヒ80%無効 1戦闘1回自身の判定を振り直せる"]
[6,"フリーズキャッスル",{"$f":"IF(CS!$D$11=ﾀｲﾌﾟVL用!B10,ML,0)+IF(CS!$D$12=ﾀｲﾌﾟVL用!B10,SL,0)+IF(CS!$D$13=ﾀｲﾌﾟVL用!B10,EL,0)","v":0},2,2,4,3,2,2,4,4,4,6,null,null,null,null,null,null,null,null,null,null,null,null,null,null,null,null,null,null,null,null,null,null,null,null,null,null,{"$f":"\"凍結80%無効 氷水風耐性+\"&ROUNDUP(C10/6,0)&\" 炎耐性-\"&ROUNDUP(C10/2,0)&\" <適用済>\"","v":"凍結80%無効 氷水風耐性+0 炎耐性-0 <適用済>"}]
[7,"フレイムソーサラー",{"$f":"IF(CS!$D$11=ﾀｲﾌﾟVL用!B11,ML,0)+IF(CS!$D$12=ﾀｲﾌﾟVL用!B11,SL,0)+IF(CS!$D$13=ﾀｲﾌﾟVL用!B11,EL,0)","v":0},3,3,2,3,2,5,6,6,0,2,-1,null,16,1,8,null,null,null,null,null,null,null,null,null,null,null,null,null,null,null,null,null,null,null,null,null,{"$f":"\"命中C値-1(下限16) 命中F値+1(上限8) 炎氷耐性+\"&ROUNDUP(C11/4,0)&\" 水耐性-\"&ROUNDUP(C11/2,0)&\" <適用済>\"","v":"命中C値-1(下限16) 命中F値+1(上限8) 炎氷耐性+0 水耐性-0 <適用済>"}]
[7,"レーザースニッパー",{"$f":"IF(CS!$D$11=ﾀｲﾌﾟVL用!B12,ML,0)+IF(CS!$D$12=ﾀｲﾌﾟVL用!B12,SL,0)+IF(CS!$D$13=ﾀｲﾌﾟVL用!B12,EL,0)","v":0},2,3,2,2,2,7,8,5,0,5,null,null,null,null,null,null,null,null,null,null,null,null,null,null,null,null,null,null,null,null,null,null,null,null,null,null,"攻撃命中時、20%で全攻撃対象の物防・魔防・全耐性を0として算出"]
[8,"マジックエキスパート",{"$f":"IF(CS!$D$11=ﾀｲﾌﾟVL用!B13,ML,0)+IF(CS!$D$12=ﾀｲﾌﾟVL用!B13,SL,0)+IF(CS!$D$13=ﾀｲﾌﾟVL用!B13,EL,0)","v":0},2,2,3,3,3,3,4,8,0,3,null,null,null,null,null,null,null,null,null,null,null,null,null,null,null,null,null,null,null,null,null,null,null,null,null,null,"攻撃が1体以上の敵に命中した場合、20%で覚醒自身に付与"]
[8,"マインドバニッシャー",{"$f":"IF(CS!$D$11=ﾀｲﾌﾟVL用!B14,ML,0)+IF(CS!$D$12=ﾀｲﾌﾟVL用!B14,SL,0)+IF(CS!$D$13=ﾀｲﾌﾟVL用!B14,EL,0)","v":0},2,3,2,3,3,8,1,1,1,1,null,null,null,null,null,null,null,null,null,null,null,null,null,null,null,null,null,null,null,null,null,null,null,null,null,null,{"$f":"\"攻撃によるBS付与を無効にして、〈無〉\"&C14+CL+3&\"点を与えてもよい\"","v":"攻撃によるBS付与を無効にして、〈無〉3点を与えてもよい"}]
[9,"オブジェクトコマンダー",{"$f":"IF(CS!$D$11=ﾀｲﾌﾟVL用!B15,ML,0)+IF(CS!$D$12=ﾀｲﾌﾟVL用!B15,SL,0)+IF(CS!$D$13=ﾀｲﾌﾟVL用!B15,EL,0)","v":0},4,4,1,4,1,2,0,0,3,0,null,null,null,null,null,null,null,null,null,null,null,null,null,null,null,null,null,null,null,null,null,null,null,null,null,null,"戦闘中、自身の配置ﾕﾆｯﾄ消滅時、20%で同名ﾕﾆｯﾄを同マス再配置"]
[9,"オパルスナイト",{"$f":"IF(CS!$D$11=ﾀｲﾌﾟVL用!B16,ML,0)+IF(CS!$D$12=ﾀｲﾌﾟVL用!B16,SL,0)+IF(CS!$D$13=ﾀｲﾌﾟVL用!B16,EL,0)","v":0},3,3,3,3,3,4,0,0,0,0,null,null,null,null,null,null,null,null,null,null,null,null,null,null,null,null,null,null,null,null,null,null,null,null,null,null,{"$f":"\"BPを消費するたびに、HPを\"&CL&\"点、MPを\"&ROUNDDOWN(C16/2,0)&\"点回復する\"","v":"BPを消費するたびに、HPを0点、MPを0点回復する"}]
[10,"ルーンデコーダー",{"$f":"IF(CS!$D$11=ﾀｲﾌﾟVL用!B17,ML,0)+IF(CS!$D$12=ﾀｲﾌﾟVL用!B17,SL,0)+IF(CS!$D$13=ﾀｲﾌﾟVL用!B17,EL,0)","v":0},3,3,0,3,3,3,3,7,2,4,null,null,null,null,null,null,null,null,null,null,null,null,null,null,null,null,null,null,null,null,null,null,null,null,null,null,{"$f":"\"命中した攻撃属性の敵耐性が負の場合、与ﾀﾞﾒｰｼﾞ+\"&C17*3","v":"命中した攻撃属性の敵耐性が負の場合、与ﾀﾞﾒｰｼﾞ+0"}]
[10,"サムライソウル",{"$f":"IF(CS!$D$11=ﾀｲﾌﾟVL用!B18,ML,0)+IF(CS!$D$12=ﾀｲﾌﾟVL用!B18,SL,0)+IF(CS!$D$13=ﾀｲﾌﾟVL用!B18,EL,0)","v":0},3,3,3,3,0,7,12,10,-5,-5,null,null,null,null,null,null,null,null,null,null,null,null,null,null,null,null,null,null,null,null,null,null,null,null,null,null,{"$f":"\"【耐久】-\"&C18*2&\" 【精神】+\"&C18&\" <適用済> [剣]装備時、敵前衛への与ダメージ+\"&CL","v":"【耐久】-0 【精神】+0 <適用済> [剣]装備時、敵前衛への与ダメージ+0"}]
[11,"タイムドリフター",{"$f":"IF(CS!$D$11=ﾀｲﾌﾟVL用!B19,ML,0)+IF(CS!$D$12=ﾀｲﾌﾟVL用!B19,SL,0)+IF(CS!$D$13=ﾀｲﾌﾟVL用!B19,EL,0)","v":0},2,3,0,4,3,7,3,6,1,1,null,null,null,null,null,null,-1,null,17,null,null,null,null,null,null,null,null,null,null,null,null,null,null,null,null,null,"回避C値-1 (下限値：17) <適用済>"]
[11,"ヴォイドクリエイター",{"$f":"IF(CS!$D$11=ﾀｲﾌﾟVL用!B20,ML,0)+IF(CS!$D$12=ﾀｲﾌﾟVL用!B20,SL,0)+IF(CS!$D$13=ﾀｲﾌﾟVL用!B20,EL,0)","v":0},2,2,2,2,2,7,3,9,4,0,null,null,null,null,null,null,null,null,null,null,null,null,null,null,null,null,null,null,null,null,null,null,null,null,null,null,{"$f":"\"【精神】+\"&C20+10&\" <適用済> 〈無〉ﾀﾞﾒｰｼﾞで【HP】0となった場合、【HP】1にする。\"","v":"【精神】+10 <適用済> 〈無〉ﾀﾞﾒｰｼﾞで【HP】0となった場合、【HP】1にする。"}]
[12,"ヴァイタルミュール",{"$f":"IF(CS!$D$11=ﾀｲﾌﾟVL用!B21,ML,0)+IF(CS!$D$12=ﾀｲﾌﾟVL用!B21,SL,0)+IF(CS!$D$13=ﾀｲﾌﾟVL用!B21,EL,0)","v":0},2,2,2,2,4,6,0,0,5,5,null,null,null,null,null,null,null,null,null,null,null,null,null,null,null,null,null,null,null,null,null,null,null,null,null,null,"「種別：回」ｽｷﾙ使用の行動手番中の命中達成値+2"]
[12,"ウィンドルーラー",{"$f":"IF(CS!$D$11=ﾀｲﾌﾟVL用!B22,ML,0)+IF(CS!$D$12=ﾀｲﾌﾟVL用!B22,SL,0)+IF(CS!$D$13=ﾀｲﾌﾟVL用!B22,EL,0)","v":0},2,2,3,2,3,10,1,1,0,0,null,null,null,null,null,null,null,null,null,null,null,null,null,null,null,null,null,null,null,null,null,null,-2,null,5,null,"ﾒｲﾝｱｸｼｮﾝの移動ｺｽﾄ-2 (下限5) <適用済> 疲労80%無効"]
[13,"ウォーターチューナー",{"$f":"IF(CS!$D$11=ﾀｲﾌﾟVL用!B23,ML,0)+IF(CS!$D$12=ﾀｲﾌﾟVL用!B23,SL,0)+IF(CS!$D$13=ﾀｲﾌﾟVL用!B23,EL,0)","v":0},2,2,2,3,2,3,6,4,4,1,2,20,null,null,null,null,-1,null,16,null,null,null,null,null,null,null,null,null,null,null,null,null,null,null,null,null,"命中C値+2 (上限20) 回避C値-1 (下限16)<適用済> 10C終了までﾀﾞﾒｰｼﾞ無効"]
[13]
[14]
[14]
[15]
[16]
[17]
[18]
[19]
[20]
[21]
[22]

{"sheet":"選択リスト","index":5,"n_rows":160,"n_cols":7,"rows_kept":160,"cut":false,"hidden":false,"merged":[[2,3,9,3],[47,3,127,3],[11,3,22,3],[24,3,34,3],[36,3,45,3]]}
[]
[null,null,null,null,"スキル選択リスト"]
[null,{"$f":"IF(種族=種族VL用!$B$2,スキルVL用!C12,IF(種族=種族VL用!$B$3,スキルVL用!C20,IF(種族=種族VL用!$B$4,スキルVL用!C20,IF(種族=種族VL用!$B$5,スキルVL用!C28,IF(種族=種族VL用!$B$6,スキルVL用!C28,IF(種族=種族VL用!$B$7,スキルVL用!C36,IF(種族=種族VL用!$B$8,スキルVL用!C36,IF(種族=種族VL用!$B$9,スキルVL用!C44,IF(種族=種族VL用!$B$10,スキルVL用!C44,IF(種族=種族VL用!$B$11,スキルVL用!C52,IF(種族=種族VL用!$B$12,スキルVL用!C52,IF(種族=種族VL用!$B$13,スキルVL用!C60,IF(種族=種族VL用!$B$14,スキルVL用!C60,IF(種族=種族VL用!$B$15,スキルVL用!C68,IF(種族=種族VL用!$B$16,スキルVL用!C68,IF(種族=種族VL用!$B$17,スキルVL用!C76,IF(種族=種族VL用!$B$18,スキルVL用!C76,IF(種族=種族VL用!$B$19,スキルVL用!C84,IF(種族=種族VL用!$B$20,スキルVL用!C84,)))))))))))))))))))","v":"起死回生"},{"$f":"VLOOKUP(B3,スキルVL用!$C$1:$BO$500,2,)","v":"自"},"種族","■種族スキル■",null,{"$f":"E3","v":"■種族スキル■"}]
[null,{"$f":"IF(種族=種族VL用!$B$2,スキルVL用!C13,IF(種族=種族VL用!$B$3,スキルVL用!C21,IF(種族=種族VL用!$B$4,スキルVL用!C21,IF(種族=種族VL用!$B$5,スキルVL用!C29,IF(種族=種族VL用!$B$6,スキルVL用!C29,IF(種族=種族VL用!$B$7,スキルVL用!C37,IF(種族=種族VL用!$B$8,スキルVL用!C37,IF(種族=種族VL用!$B$9,スキルVL用!C45,IF(種族=種族VL用!$B$10,スキルVL用!C45,IF(種族=種族VL用!$B$11,スキルVL用!C53,IF(種族=種族VL用!$B$12,スキルVL用!C53,IF(種族=種族VL用!$B$13,スキルVL用!C61,IF(種族=種族VL用!$B$14,スキルVL用!C61,IF(種族=種族VL用!$B$15,スキルVL用!C69,IF(種族=種族VL用!$B$16,スキルVL用!C69,IF(種族=種族VL用!$B$17,スキルVL用!C77,IF(種族=種族VL用!$B$18,スキルVL用!C77,IF(種族=種族VL用!$B$19,スキルVL用!C85,IF(種族=種族VL用!$B$20,スキルVL用!C85,)))))))))))))))))))","v":"ネイティブスピリット"},{"$f":"VLOOKUP(B4,スキルVL用!$C$1:$BO$500,2,)","v":"―"},null,{"$f":"B4","v":"ネイティブスピリット"},null,{"$f":"IF(COUNTIFS($C$4,\"*自*\")=1,E5,E4)","v":"ネイティブスピリット"}]
[null,{"$f":"IF(種族=種族VL用!$B$2,スキルVL用!C14,IF(種族=種族VL用!$B$3,スキルVL用!C22,IF(種族=種族VL用!$B$4,スキルVL用!C22,IF(種族=種族VL用!$B$5,スキルVL用!C30,IF(種族=種族VL用!$B$6,スキルVL用!C30,IF(種族=種族VL用!$B$7,スキルVL用!C38,IF(種族=種族VL用!$B$8,スキルVL用!C38,IF(種族=種族VL用!$B$9,スキルVL用!C46,IF(種族=種族VL用!$B$10,スキルVL用!C46,IF(種族=種族VL用!$B$11,スキルVL用!C54,IF(種族=種族VL用!$B$12,スキルVL用!C54,IF(種族=種族VL用!$B$13,スキルVL用!C62,IF(種族=種族VL用!$B$14,スキルVL用!C62,IF(種族=種族VL用!$B$15,スキルVL用!C70,IF(種族=種族VL用!$B$16,スキルVL用!C70,IF(種族=種族VL用!$B$17,スキルVL用!C78,IF(種族=種族VL用!$B$18,スキルVL用!C78,IF(種族=種族VL用!$B$19,スキルVL用!C86,IF(種族=種族VL用!$B$20,スキルVL用!C86,)))))))))))))))))))","v":"ミラクルフォース"},null,null,{"$f":"B5","v":"ミラクルフォース"},null,{"$f":"IF(COUNTIFS($C$4,\"*自*\")=1,E6,E5)","v":"ミラクルフォース"}]
[null,{"$f":"IF(種族=種族VL用!$B$2,スキルVL用!C15,IF(種族=種族VL用!$B$3,スキルVL用!C23,IF(種族=種族VL用!$B$4,スキルVL用!C23,IF(種族=種族VL用!$B$5,スキルVL用!C31,IF(種族=種族VL用!$B$6,スキルVL用!C31,IF(種族=種族VL用!$B$7,スキルVL用!C39,IF(種族=種族VL用!$B$8,スキルVL用!C39,IF(種族=種族VL用!$B$9,スキルVL用!C47,IF(種族=種族VL用!$B$10,スキルVL用!C47,IF(種族=種族VL用!$B$11,スキルVL用!C55,IF(種族=種族VL用!$B$12,スキルVL用!C55,IF(種族=種族VL用!$B$13,スキルVL用!C63,IF(種族=種族VL用!$B$14,スキルVL用!C63,IF(種族=種族VL用!$B$15,スキルVL用!C71,IF(種族=種族VL用!$B$16,スキルVL用!C71,IF(種族=種族VL用!$B$17,スキルVL用!C79,IF(種族=種族VL用!$B$18,スキルVL用!C79,IF(種族=種族VL用!$B$19,スキルVL用!C87,IF(種族=種族VL用!$B$20,スキルVL用!C87,)))))))))))))))))))","v":"ZPC適合者"},null,null,"ZPC適合者",null,"ZPC適合者"]
[null,{"$f":"IF(種族=種族VL用!$B$2,スキルVL用!C16,IF(種族=種族VL用!$B$3,スキルVL用!C24,IF(種族=種族VL用!$B$4,スキルVL用!C24,IF(種族=種族VL用!$B$5,スキルVL用!C32,IF(種族=種族VL用!$B$6,スキルVL用!C32,IF(種族=種族VL用!$B$7,スキルVL用!C40,IF(種族=種族VL用!$B$8,スキルVL用!C40,IF(種族=種族VL用!$B$9,スキルVL用!C48,IF(種族=種族VL用!$B$10,スキルVL用!C48,IF(種族=種族VL用!$B$11,スキルVL用!C56,IF(種族=種族VL用!$B$12,スキルVL用!C56,IF(種族=種族VL用!$B$13,スキルVL用!C64,IF(種族=種族VL用!$B$14,スキルVL用!C64,IF(種族=種族VL用!$B$15,スキルVL用!C72,IF(種族=種族VL用!$B$16,スキルVL用!C72,IF(種族=種族VL用!$B$17,スキルVL用!C80,IF(種族=種族VL用!$B$18,スキルVL用!C80,IF(種族=種族VL用!$B$19,スキルVL用!C88,IF(種族=種族VL用!$B$20,スキルVL用!C88,)))))))))))))))))))","v":"超集中"},null,null,"超集中",null,"超集中"]
[null,{"$f":"IF(種族=種族VL用!$B$2,スキルVL用!C17,IF(種族=種族VL用!$B$3,スキルVL用!C25,IF(種族=種族VL用!$B$4,スキルVL用!C25,IF(種族=種族VL用!$B$5,スキルVL用!C33,IF(種族=種族VL用!$B$6,スキルVL用!C33,IF(種族=種族VL用!$B$7,スキルVL用!C41,IF(種族=種族VL用!$B$8,スキルVL用!C41,IF(種族=種族VL用!$B$9,スキルVL用!C49,IF(種族=種族VL用!$B$10,スキルVL用!C49,IF(種族=種族VL用!$B$11,スキルVL用!C57,IF(種族=種族VL用!$B$12,スキルVL用!C57,IF(種族=種族VL用!$B$13,スキルVL用!C65,IF(種族=種族VL用!$B$14,スキルVL用!C65,IF(種族=種族VL用!$B$15,スキルVL用!C73,IF(種族=種族VL用!$B$16,スキルVL用!C73,IF(種族=種族VL用!$B$17,スキルVL用!C81,IF(種族=種族VL用!$B$18,スキルVL用!C81,IF(種族=種族VL用!$B$19,スキルVL用!C89,IF(種族=種族VL用!$B$20,スキルVL用!C89,)))))))))))))))))))","v":"九死に一生"},null,null,"九死に一生",null,"九死に一生"]
[null,{"$f":"IF(種族=種族VL用!$B$2,スキルVL用!C18,IF(種族=種族VL用!$B$3,スキルVL用!C26,IF(種族=種族VL用!$B$4,スキルVL用!C26,IF(種族=種族VL用!$B$5,スキルVL用!C34,IF(種族=種族VL用!$B$6,スキルVL用!C34,IF(種族=種族VL用!$B$7,スキルVL用!C42,IF(種族=種族VL用!$B$8,スキルVL用!C42,IF(種族=種族VL用!$B$9,スキルVL用!C50,IF(種族=種族VL用!$B$10,スキルVL用!C50,IF(種族=種族VL用!$B$11,スキルVL用!C58,IF(種族=種族VL用!$B$12,スキルVL用!C58,IF(種族=種族VL用!$B$13,スキルVL用!C66,IF(種族=種族VL用!$B$14,スキルVL用!C66,IF(種族=種族VL用!$B$15,スキルVL用!C74,IF(種族=種族VL用!$B$16,スキルVL用!C74,IF(種族=種族VL用!$B$17,スキルVL用!C82,IF(種族=種族VL用!$B$18,スキルVL用!C82,IF(種族=種族VL用!$B$19,スキルVL用!C90,IF(種族=種族VL用!$B$20,スキルVL用!C90,)))))))))))))))))))","v":"オーバーロード"},null,null,"オーバーロード",null,"オーバーロード"]
[null,{"$f":"IF(種族=種族VL用!$B$2,スキルVL用!C19,IF(種族=種族VL用!$B$3,スキルVL用!C27,IF(種族=種族VL用!$B$4,スキルVL用!C27,IF(種族=種族VL用!$B$5,スキルVL用!C35,IF(種族=種族VL用!$B$6,スキルVL用!C35,IF(種族=種族VL用!$B$7,スキルVL用!C43,IF(種族=種族VL用!$B$8,スキルVL用!C43,IF(種族=種族VL用!$B$9,スキルVL用!C51,IF(種族=種族VL用!$B$10,スキルVL用!C51,IF(種族=種族VL用!$B$11,スキルVL用!C59,IF(種族=種族VL用!$B$12,スキルVL用!C59,IF(種族=種族VL用!$B$13,スキルVL用!C67,IF(種族=種族VL用!$B$14,スキルVL用!C67,IF(種族=種族VL用!$B$15,スキルVL用!C75,IF(種族=種族VL用!$B$16,スキルVL用!C75,IF(種族=種族VL用!$B$17,スキルVL用!C83,IF(種族=種族VL用!$B$18,スキルVL用!C83,IF(種族=種族VL用!$B$19,スキルVL用!C91,IF(種族=種族VL用!$B$20,スキルVL用!C91,)))))))))))))))))))","v":"ボンドパワー"},null,null,"ボンドパワー",null,"ボンドパワー"]
[null,null,null,null,"■メインタイプ■",null,"■メインタイプ■"]
[null,{"$f":"IF(MC=ﾀｲﾌﾟVL用!$B$4,スキルVL用!C92,IF(MC=ﾀｲﾌﾟVL用!$B$5,スキルVL用!C104,IF(MC=ﾀｲﾌﾟVL用!$B$6,スキルVL用!C116,IF(MC=ﾀｲﾌﾟVL用!$B$7,スキルVL用!C128,IF(MC=ﾀｲﾌﾟVL用!$B$8,スキルVL用!C140,IF(MC=ﾀｲﾌﾟVL用!$B$9,スキルVL用!C152,IF(MC=ﾀｲﾌﾟVL用!$B$10,スキルVL用!C164,IF(MC=ﾀｲﾌﾟVL用!$B$11,スキルVL用!C176,IF(MC=ﾀｲﾌﾟVL用!$B$12,スキルVL用!C188,IF(MC=ﾀｲﾌﾟVL用!$B$13,スキルVL用!C200,IF(MC=ﾀｲﾌﾟVL用!$B$14,スキルVL用!C212,IF(MC=ﾀｲﾌﾟVL用!$B$15,スキルVL用!C224,IF(MC=ﾀｲﾌﾟVL用!$B$16,スキルVL用!C236,IF(MC=ﾀｲﾌﾟVL用!$B$17,スキルVL用!C248,IF(MC=ﾀｲﾌﾟVL用!$B$18,スキルVL用!C260,IF(MC=ﾀｲﾌﾟVL用!$B$19,スキルVL用!C272,IF(MC=ﾀｲﾌﾟVL用!$B$20,スキルVL用!C284,IF(MC=ﾀｲﾌﾟVL用!$B$21,スキルVL用!C296,IF(MC=ﾀｲﾌﾟVL用!$B$22,スキルVL用!C308,IF(MC=ﾀｲﾌﾟVL用!$B$23,スキルVL用!C320,\"\"))))))))))))))))))))","v":""},null,"メイン\nタイプ",{"$f":"B12","v":""},null,""]
[null,{"$f":"IF(MC=ﾀｲﾌﾟVL用!$B$4,スキルVL用!C93,IF(MC=ﾀｲﾌﾟVL用!$B$5,スキルVL用!C105,IF(MC=ﾀｲﾌﾟVL用!$B$6,スキルVL用!C117,IF(MC=ﾀｲﾌﾟVL用!$B$7,スキルVL用!C129,IF(MC=ﾀｲﾌﾟVL用!$B$8,スキルVL用!C141,IF(MC=ﾀｲﾌﾟVL用!$B$9,スキルVL用!C153,IF(MC=ﾀｲﾌﾟVL用!$B$10,スキルVL用!C165,IF(MC=ﾀｲﾌﾟVL用!$B$11,スキルVL用!C177,IF(MC=ﾀｲﾌﾟVL用!$B$12,スキルVL用!C189,IF(MC=ﾀｲﾌﾟVL用!$B$13,スキルVL用!C201,IF(MC=ﾀｲﾌﾟVL用!$B$14,スキルVL用!C213,IF(MC=ﾀｲﾌﾟVL用!$B$15,スキルVL用!C225,IF(MC=ﾀｲﾌﾟVL用!$B$16,スキルVL用!C237,IF(MC=ﾀｲﾌﾟVL用!$B$17,スキルVL用!C249,IF(MC=ﾀｲﾌﾟVL用!$B$18,スキルVL用!C261,IF(MC=ﾀｲﾌﾟVL用!$B$19,スキルVL用!C273,IF(MC=ﾀｲﾌﾟVL用!$B$20,スキルVL用!C285,IF(MC=ﾀｲﾌﾟVL用!$B$21,スキルVL用!C297,IF(MC=ﾀｲﾌﾟVL用!$B$22,スキルVL用!C309,IF(MC=ﾀｲﾌﾟVL用!$B$23,スキルVL用!C321,\"\"))))))))))))))))))))","v":""},null,null,{"$f":"B13","v":""},null,""]
[null,{"$f":"IF(MC=ﾀｲﾌﾟVL用!$B$4,スキルVL用!C94,IF(MC=ﾀｲﾌﾟVL用!$B$5,スキルVL用!C106,IF(MC=ﾀｲﾌﾟVL用!$B$6,スキルVL用!C118,IF(MC=ﾀｲﾌﾟVL用!$B$7,スキルVL用!C130,IF(MC=ﾀｲﾌﾟVL用!$B$8,スキルVL用!C142,IF(MC=ﾀｲﾌﾟVL用!$B$9,スキルVL用!C154,IF(MC=ﾀｲﾌﾟVL用!$B$10,スキルVL用!C166,IF(MC=ﾀｲﾌﾟVL用!$B$11,スキルVL用!C178,IF(MC=ﾀｲﾌﾟVL用!$B$12,スキルVL用!C190,IF(MC=ﾀｲﾌﾟVL用!$B$13,スキルVL用!C202,IF(MC=ﾀｲﾌﾟVL用!$B$14,スキルVL用!C214,IF(MC=ﾀｲﾌﾟVL用!$B$15,スキルVL用!C226,IF(MC=ﾀｲﾌﾟVL用!$B$16,スキルVL用!C238,IF(MC=ﾀｲﾌﾟVL用!$B$17,スキルVL用!C250,IF(MC=ﾀｲﾌﾟVL用!$B$18,スキルVL用!C262,IF(MC=ﾀｲﾌﾟVL用!$B$19,スキルVL用!C274,IF(MC=ﾀｲﾌﾟVL用!$B$20,スキルVL用!C286,IF(MC=ﾀｲﾌﾟVL用!$B$21,スキルVL用!C298,IF(MC=ﾀｲﾌﾟVL用!$B$22,スキルVL用!C310,IF(MC=ﾀｲﾌﾟVL用!$B$23,スキルVL用!C322,\"\"))))))))))))))))))))","v":""},null,null,"",null,""]
[null,{"$f":"IF(MC=ﾀｲﾌﾟVL用!$B$4,スキルVL用!C95,IF(MC=ﾀｲﾌﾟVL用!$B$5,スキルVL用!C107,IF(MC=ﾀｲﾌﾟVL用!$B$6,スキルVL用!C119,IF(MC=ﾀｲﾌﾟVL用!$B$7,スキルVL用!C131,IF(MC=ﾀｲﾌﾟVL用!$B$8,スキルVL用!C143,IF(MC=ﾀｲﾌﾟVL用!$B$9,スキルVL用!C155,IF(MC=ﾀｲﾌﾟVL用!$B$10,スキルVL用!C167,IF(MC=ﾀｲﾌﾟVL用!$B$11,スキルVL用!C179,IF(MC=ﾀｲﾌﾟVL用!$B$12,スキルVL用!C191,IF(MC=ﾀｲﾌﾟVL用!$B$13,スキルVL用!C203,IF(MC=ﾀｲﾌﾟVL用!$B$14,スキルVL用!C215,IF(MC=ﾀｲﾌﾟVL用!$B$15,スキルVL用!C227,IF(MC=ﾀｲﾌﾟVL用!$B$16,スキルVL用!C239,IF(MC=ﾀｲﾌﾟVL用!$B$17,スキルVL用!C251,IF(MC=ﾀｲﾌﾟVL用!$B$18,スキルVL用!C263,IF(MC=ﾀｲﾌﾟVL用!$B$19,スキルVL用!C275,IF(MC=ﾀｲﾌﾟVL用!$B$20,スキルVL用!C287,IF(MC=ﾀｲﾌﾟVL用!$B$21,スキルVL用!C299,IF(MC=ﾀｲﾌﾟVL用!$B$22,スキルVL用!C311,IF(MC=ﾀｲﾌﾟVL用!$B$23,スキルVL用!C323,\"\"))))))))))))))))))))","v":""},null,null,"",null,""]
[null,{"$f":"IF(MC=ﾀｲﾌﾟVL用!$B$4,スキルVL用!C96,IF(MC=ﾀｲﾌﾟVL用!$B$5,スキルVL用!C108,IF(MC=ﾀｲﾌﾟVL用!$B$6,スキルVL用!C120,IF(MC=ﾀｲﾌﾟVL用!$B$7,スキルVL用!C132,IF(MC=ﾀｲﾌﾟVL用!$B$8,スキルVL用!C144,IF(MC=ﾀｲﾌﾟVL用!$B$9,スキルVL用!C156,IF(MC=ﾀｲﾌﾟVL用!$B$10,スキルVL用!C168,IF(MC=ﾀｲﾌﾟVL用!$B$11,スキルVL用!C180,IF(MC=ﾀｲﾌﾟVL用!$B$12,スキルVL用!C192,IF(MC=ﾀｲﾌﾟVL用!$B$13,スキルVL用!C204,IF(MC=ﾀｲﾌﾟVL用!$B$14,スキルVL用!C216,IF(MC=ﾀｲﾌﾟVL用!$B$15,スキルVL用!C228,IF(MC=ﾀｲﾌﾟVL用!$B$16,スキルVL用!C240,IF(MC=ﾀｲﾌﾟVL用!$B$17,スキルVL用!C252,IF(MC=ﾀｲﾌﾟVL用!$B$18,スキルVL用!C264,IF(MC=ﾀｲﾌﾟVL用!$B$19,スキルVL用!C276,IF(MC=ﾀｲﾌﾟVL用!$B$20,スキルVL用!C288,IF(MC=ﾀｲﾌﾟVL用!$B$21,スキルVL用!C300,IF(MC=ﾀｲﾌﾟVL用!$B$22,スキルVL用!C312,IF(MC=ﾀｲﾌﾟVL用!$B$23,スキルVL用!C324,\"\"))))))))))))))))))))","v":""},null,null,"",null,""]
[null,{"$f":"IF(MC=ﾀｲﾌﾟVL用!$B$4,スキルVL用!C97,IF(MC=ﾀｲﾌﾟVL用!$B$5,スキルVL用!C109,IF(MC=ﾀｲﾌﾟVL用!$B$6,スキルVL用!C121,IF(MC=ﾀｲﾌﾟVL用!$B$7,スキルVL用!C133,IF(MC=ﾀｲﾌﾟVL用!$B$8,スキルVL用!C145,IF(MC=ﾀｲﾌﾟVL用!$B$9,スキルVL用!C157,IF(MC=ﾀｲﾌﾟVL用!$B$10,スキルVL用!C169,IF(MC=ﾀｲﾌﾟVL用!$B$11,スキルVL用!C181,IF(MC=ﾀｲﾌﾟVL用!$B$12,スキルVL用!C193,IF(MC=ﾀｲﾌﾟVL用!$B$13,スキルVL用!C205,IF(MC=ﾀｲﾌﾟVL用!$B$14,スキルVL用!C217,IF(MC=ﾀｲﾌﾟVL用!$B$15,スキルVL用!C229,IF(MC=ﾀｲﾌﾟVL用!$B$16,スキルVL用!C241,IF(MC=ﾀｲﾌﾟVL用!$B$17,スキルVL用!C253,IF(MC=ﾀｲﾌﾟVL用!$B$18,スキルVL用!C265,IF(MC=ﾀｲﾌﾟVL用!$B$19,スキルVL用!C277,IF(MC=ﾀｲﾌﾟVL用!$B$20,スキルVL用!C289,IF(MC=ﾀｲﾌﾟVL用!$B$21,スキルVL用!C301,IF(MC=ﾀｲﾌﾟVL用!$B$22,スキルVL用!C313,IF(MC=ﾀｲﾌﾟVL用!$B$23,スキルVL用!C325,\"\"))))))))))))))))))))","v":""},null,null,"",null,""]
[null,{"$f":"IF(MC=ﾀｲﾌﾟVL用!$B$4,スキルVL用!C98,IF(MC=ﾀｲﾌﾟVL用!$B$5,スキルVL用!C110,IF(MC=ﾀｲﾌﾟVL用!$B$6,スキルVL用!C122,IF(MC=ﾀｲﾌﾟVL用!$B$7,スキルVL用!C134,IF(MC=ﾀｲﾌﾟVL用!$B$8,スキルVL用!C146,IF(MC=ﾀｲﾌﾟVL用!$B$9,スキルVL用!C158,IF(MC=ﾀｲﾌﾟVL用!$B$10,スキルVL用!C170,IF(MC=ﾀｲﾌﾟVL用!$B$11,スキルVL用!C182,IF(MC=ﾀｲﾌﾟVL用!$B$12,スキルVL用!C194,IF(MC=ﾀｲﾌﾟVL用!$B$13,スキルVL用!C206,IF(MC=ﾀｲﾌﾟVL用!$B$14,スキルVL用!C218,IF(MC=ﾀｲﾌﾟVL用!$B$15,スキルVL用!C230,IF(MC=ﾀｲﾌﾟVL用!$B$16,スキルVL用!C242,IF(MC=ﾀｲﾌﾟVL用!$B$17,スキルVL用!C254,IF(MC=ﾀｲﾌﾟVL用!$B$18,スキルVL用!C266,IF(MC=ﾀｲﾌﾟVL用!$B$19,スキルVL用!C278,IF(MC=ﾀｲﾌﾟVL用!$B$20,スキルVL用!C290,IF(MC=ﾀｲﾌﾟVL用!$B$21,スキルVL用!C302,IF(MC=ﾀｲﾌﾟVL用!$B$22,スキルVL用!C314,IF(MC=ﾀｲﾌﾟVL用!$B$23,スキルVL用!C326,\"\"))))))))))))))))))))","v":""},null,null,"",null,""]
[null,{"$f":"IF(MC=ﾀｲﾌﾟVL用!$B$4,スキルVL用!C99,IF(MC=ﾀｲﾌﾟVL用!$B$5,スキルVL用!C111,IF(MC=ﾀｲﾌﾟVL用!$B$6,スキルVL用!C123,IF(MC=ﾀｲﾌﾟVL用!$B$7,スキルVL用!C135,IF(MC=ﾀｲﾌﾟVL用!$B$8,スキルVL用!C147,IF(MC=ﾀｲﾌﾟVL用!$B$9,スキルVL用!C159,IF(MC=ﾀｲﾌﾟVL用!$B$10,スキルVL用!C171,IF(MC=ﾀｲﾌﾟVL用!$B$11,スキルVL用!C183,IF(MC=ﾀｲﾌﾟVL用!$B$12,スキルVL用!C195,IF(MC=ﾀｲﾌﾟVL用!$B$13,スキルVL用!C207,IF(MC=ﾀｲﾌﾟVL用!$B$14,スキルVL用!C219,IF(MC=ﾀｲﾌﾟVL用!$B$15,スキルVL用!C231,IF(MC=ﾀｲﾌﾟVL用!$B$16,スキルVL用!C243,IF(MC=ﾀｲﾌﾟVL用!$B$17,スキルVL用!C255,IF(MC=ﾀｲﾌﾟVL用!$B$18,スキルVL用!C267,IF(MC=ﾀｲﾌﾟVL用!$B$19,スキルVL用!C279,IF(MC=ﾀｲﾌﾟVL用!$B$20,スキルVL用!C291,IF(MC=ﾀｲﾌﾟVL用!$B$21,スキルVL用!C303,IF(MC=ﾀｲﾌﾟVL用!$B$22,スキルVL用!C315,IF(MC=ﾀｲﾌﾟVL用!$B$23,スキルVL用!C327,\"\"))))))))))))))))))))","v":""},null,null,"",null,""]
[null,{"$f":"IF(MC=ﾀｲﾌﾟVL用!$B$4,スキルVL用!C100,IF(MC=ﾀｲﾌﾟVL用!$B$5,スキルVL用!C112,IF(MC=ﾀｲﾌﾟVL用!$B$6,スキルVL用!C124,IF(MC=ﾀｲﾌﾟVL用!$B$7,スキルVL用!C136,IF(MC=ﾀｲﾌﾟVL用!$B$8,スキルVL用!C148,IF(MC=ﾀｲﾌﾟVL用!$B$9,スキルVL用!C160,IF(MC=ﾀｲﾌﾟVL用!$B$10,スキルVL用!C172,IF(MC=ﾀｲﾌﾟVL用!$B$11,スキルVL用!C184,IF(MC=ﾀｲﾌﾟVL用!$B$12,スキルVL用!C196,IF(MC=ﾀｲﾌﾟVL用!$B$13,スキルVL用!C208,IF(MC=ﾀｲﾌﾟVL用!$B$14,スキルVL用!C220,IF(MC=ﾀｲﾌﾟVL用!$B$15,スキルVL用!C232,IF(MC=ﾀｲﾌﾟVL用!$B$16,スキルVL用!C244,IF(MC=ﾀｲﾌﾟVL用!$B$17,スキルVL用!C256,IF(MC=ﾀｲﾌﾟVL用!$B$18,スキルVL用!C268,IF(MC=ﾀｲﾌﾟVL用!$B$19,スキルVL用!C280,IF(MC=ﾀｲﾌﾟVL用!$B$20,スキルVL用!C292,IF(MC=ﾀｲﾌﾟVL用!$B$21,スキルVL用!C304,IF(MC=ﾀｲﾌﾟVL用!$B$22,スキルVL用!C316,IF(MC=ﾀｲﾌﾟVL用!$B$23,スキルVL用!C328,\"\"))))))))))))))))))))","v":""},null,null,"",null,""]
[null,{"$f":"IF(MC=ﾀｲﾌﾟVL用!$B$4,スキルVL用!C101,IF(MC=ﾀｲﾌﾟVL用!$B$5,スキルVL用!C113,IF(MC=ﾀｲﾌﾟVL用!$B$6,スキルVL用!C125,IF(MC=ﾀｲﾌﾟVL用!$B$7,スキルVL用!C137,IF(MC=ﾀｲﾌﾟVL用!$B$8,スキルVL用!C149,IF(MC=ﾀｲﾌﾟVL用!$B$9,スキルVL用!C161,IF(MC=ﾀｲﾌﾟVL用!$B$10,スキルVL用!C173,IF(MC=ﾀｲﾌﾟVL用!$B$11,スキルVL用!C185,IF(MC=ﾀｲﾌﾟVL用!$B$12,スキルVL用!C197,IF(MC=ﾀｲﾌﾟVL用!$B$13,スキルVL用!C209,IF(MC=ﾀｲﾌﾟVL用!$B$14,スキルVL用!C221,IF(MC=ﾀｲﾌﾟVL用!$B$15,スキルVL用!C233,IF(MC=ﾀｲﾌﾟVL用!$B$16,スキルVL用!C245,IF(MC=ﾀｲﾌﾟVL用!$B$17,スキルVL用!C257,IF(MC=ﾀｲﾌﾟVL用!$B$18,スキルVL用!C269,IF(MC=ﾀｲﾌﾟVL用!$B$19,スキルVL用!C281,IF(MC=ﾀｲﾌﾟVL用!$B$20,スキルVL用!C293,IF(MC=ﾀｲﾌﾟVL用!$B$21,スキルVL用!C305,IF(MC=ﾀｲﾌﾟVL用!$B$22,スキルVL用!C317,IF(MC=ﾀｲﾌﾟVL用!$B$23,スキルVL用!C329,\"\"))))))))))))))))))))","v":""},null,null,"",null,""]
[null,{"$f":"IF(MC=ﾀｲﾌﾟVL用!$B$4,スキルVL用!C102,IF(MC=ﾀｲﾌﾟVL用!$B$5,スキルVL用!C114,IF(MC=ﾀｲﾌﾟVL用!$B$6,スキルVL用!C126,IF(MC=ﾀｲﾌﾟVL用!$B$7,スキルVL用!C138,IF(MC=ﾀｲﾌﾟVL用!$B$8,スキルVL用!C150,IF(MC=ﾀｲﾌﾟVL用!$B$9,スキルVL用!C162,IF(MC=ﾀｲﾌﾟVL用!$B$10,スキルVL用!C174,IF(MC=ﾀｲﾌﾟVL用!$B$11,スキルVL用!C186,IF(MC=ﾀｲﾌﾟVL用!$B$12,スキルVL用!C198,IF(MC=ﾀｲﾌﾟVL用!$B$13,スキルVL用!C210,IF(MC=ﾀｲﾌﾟVL用!$B$14,スキルVL用!C222,IF(MC=ﾀｲﾌﾟVL用!$B$15,スキルVL用!C234,IF(MC=ﾀｲﾌﾟVL用!$B$16,スキルVL用!C246,IF(MC=ﾀｲﾌﾟVL用!$B$17,スキルVL用!C258,IF(MC=ﾀｲﾌﾟVL用!$B$18,スキルVL用!C270,IF(MC=ﾀｲﾌﾟVL用!$B$19,スキルVL用!C282,IF(MC=ﾀｲﾌﾟVL用!$B$20,スキルVL用!C294,IF(MC=ﾀｲﾌﾟVL用!$B$21,スキルVL用!C306,IF(MC=ﾀｲﾌﾟVL用!$B$22,スキルVL用!C318,IF(MC=ﾀｲﾌﾟVL用!$B$23,スキルVL用!C330,\"\"))))))))))))))))))))","v":""},null,null,"",null,""]
[null,{"$f":"IF(MC=ﾀｲﾌﾟVL用!$B$4,スキルVL用!C103,IF(MC=ﾀｲﾌﾟVL用!$B$5,スキルVL用!C115,IF(MC=ﾀｲﾌﾟVL用!$B$6,スキルVL用!C127,IF(MC=ﾀｲﾌﾟVL用!$B$7,スキルVL用!C139,IF(MC=ﾀｲﾌﾟVL用!$B$8,スキルVL用!C151,IF(MC=ﾀｲﾌﾟVL用!$B$9,スキルVL用!C163,IF(MC=ﾀｲﾌﾟVL用!$B$10,スキルVL用!C175,IF(MC=ﾀｲﾌﾟVL用!$B$11,スキルVL用!C187,IF(MC=ﾀｲﾌﾟVL用!$B$12,スキルVL用!C199,IF(MC=ﾀｲﾌﾟVL用!$B$13,スキルVL用!C211,IF(MC=ﾀｲﾌﾟVL用!$B$14,スキルVL用!C223,IF(MC=ﾀｲﾌﾟVL用!$B$15,スキルVL用!C235,IF(MC=ﾀｲﾌﾟVL用!$B$16,スキルVL用!C247,IF(MC=ﾀｲﾌﾟVL用!$B$17,スキルVL用!C259,IF(MC=ﾀｲﾌﾟVL用!$B$18,スキルVL用!C271,IF(MC=ﾀｲﾌﾟVL用!$B$19,スキルVL用!C283,IF(MC=ﾀｲﾌﾟVL用!$B$20,スキルVL用!C295,IF(MC=ﾀｲﾌﾟVL用!$B$21,スキルVL用!C307,IF(MC=ﾀｲﾌﾟVL用!$B$22,スキルVL用!C319,IF(MC=ﾀｲﾌﾟVL用!$B$23,スキルVL用!C331,\"\"))))))))))))))))))))","v":""},null,null,"",null,""]
[null,null,null,null,"■サブタイプ■",null,"■サブタイプ■"]
[null,{"$f":"IF(SC=ﾀｲﾌﾟVL用!$B$4,スキルVL用!C92,IF(SC=ﾀｲﾌﾟVL用!$B$5,スキルVL用!C104,IF(SC=ﾀｲﾌﾟVL用!$B$6,スキルVL用!C116,IF(SC=ﾀｲﾌﾟVL用!$B$7,スキルVL用!C128,IF(SC=ﾀｲﾌﾟVL用!$B$8,スキルVL用!C140,IF(SC=ﾀｲﾌﾟVL用!$B$9,スキルVL用!C152,IF(SC=ﾀｲﾌﾟVL用!$B$10,スキルVL用!C164,IF(SC=ﾀｲﾌﾟVL用!$B$11,スキルVL用!C176,IF(SC=ﾀｲﾌﾟVL用!$B$12,スキルVL用!C188,IF(SC=ﾀｲﾌﾟVL用!$B$13,スキルVL用!C200,IF(SC=ﾀｲﾌﾟVL用!$B$14,スキルVL用!C212,IF(SC=ﾀｲﾌﾟVL用!$B$15,スキルVL用!C224,IF(SC=ﾀｲﾌﾟVL用!$B$16,スキルVL用!C236,IF(SC=ﾀｲﾌﾟVL用!$B$17,スキルVL用!C248,IF(SC=ﾀｲﾌﾟVL用!$B$18,スキルVL用!C260,IF(SC=ﾀｲﾌﾟVL用!$B$19,スキルVL用!C272,IF(SC=ﾀｲﾌﾟVL用!$B$20,スキルVL用!C284,IF(SC=ﾀｲﾌﾟVL用!$B$21,スキルVL用!C296,IF(SC=ﾀｲﾌﾟVL用!$B$22,スキルVL用!C308,IF(SC=ﾀｲﾌﾟVL用!$B$23,スキルVL用!C320,\"\"))))))))))))))))))))","v":""},null,"サブ\nタイプ",{"$f":"B25","v":""},null,""]
[null,{"$f":"IF(SC=ﾀｲﾌﾟVL用!$B$4,スキルVL用!C93,IF(SC=ﾀｲﾌﾟVL用!$B$5,スキルVL用!C105,IF(SC=ﾀｲﾌﾟVL用!$B$6,スキルVL用!C117,IF(SC=ﾀｲﾌﾟVL用!$B$7,スキルVL用!C129,IF(SC=ﾀｲﾌﾟVL用!$B$8,スキルVL用!C141,IF(SC=ﾀｲﾌﾟVL用!$B$9,スキルVL用!C153,IF(SC=ﾀｲﾌﾟVL用!$B$10,スキルVL用!C165,IF(SC=ﾀｲﾌﾟVL用!$B$11,スキルVL用!C177,IF(SC=ﾀｲﾌﾟVL用!$B$12,スキルVL用!C189,IF(SC=ﾀｲﾌﾟVL用!$B$13,スキルVL用!C201,IF(SC=ﾀｲﾌﾟVL用!$B$14,スキルVL用!C213,IF(SC=ﾀｲﾌﾟVL用!$B$15,スキルVL用!C225,IF(SC=ﾀｲﾌﾟVL用!$B$16,スキルVL用!C237,IF(SC=ﾀｲﾌﾟVL用!$B$17,スキルVL用!C249,IF(SC=ﾀｲﾌﾟVL用!$B$18,スキルVL用!C261,IF(SC=ﾀｲﾌﾟVL用!$B$19,スキルVL用!C273,IF(SC=ﾀｲﾌﾟVL用!$B$20,スキルVL用!C285,IF(SC=ﾀｲﾌﾟVL用!$B$21,スキルVL用!C297,IF(SC=ﾀｲﾌﾟVL用!$B$22,スキルVL用!C309,IF(SC=ﾀｲﾌﾟVL用!$B$23,スキルVL用!C321,\"\"))))))))))))))))))))","v":""},null,null,{"$f":"B26","v":""},null,""]
[null,{"$f":"IF(SC=ﾀｲﾌﾟVL用!$B$4,スキルVL用!C94,IF(SC=ﾀｲﾌﾟVL用!$B$5,スキルVL用!C106,IF(SC=ﾀｲﾌﾟVL用!$B$6,スキルVL用!C118,IF(SC=ﾀｲﾌﾟVL用!$B$7,スキルVL用!C130,IF(SC=ﾀｲﾌﾟVL用!$B$8,スキルVL用!C142,IF(SC=ﾀｲﾌﾟVL用!$B$9,スキルVL用!C154,IF(SC=ﾀｲﾌﾟVL用!$B$10,スキルVL用!C166,IF(SC=ﾀｲﾌﾟVL用!$B$11,スキルVL用!C178,IF(SC=ﾀｲﾌﾟVL用!$B$12,スキルVL用!C190,IF(SC=ﾀｲﾌﾟVL用!$B$13,スキルVL用!C202,IF(SC=ﾀｲﾌﾟVL用!$B$14,スキルVL用!C214,IF(SC=ﾀｲﾌﾟVL用!$B$15,スキルVL用!C226,IF(SC=ﾀｲﾌﾟVL用!$B$16,スキルVL用!C238,IF(SC=ﾀｲﾌﾟVL用!$B$17,スキルVL用!C250,IF(SC=ﾀｲﾌﾟVL用!$B$18,スキルVL用!C262,IF(SC=ﾀｲﾌﾟVL用!$B$19,スキルVL用!C274,IF(SC=ﾀｲﾌﾟVL用!$B$20,スキルVL用!C286,IF(SC=ﾀｲﾌﾟVL用!$B$21,スキルVL用!C298,IF(SC=ﾀｲﾌﾟVL用!$B$22,スキルVL用!C310,IF(SC=ﾀｲﾌﾟVL用!$B$23,スキルVL用!C322,\"\"))))))))))))))))))))","v":""},null,null,"",null,""]
[null,{"$f":"IF(SC=ﾀｲﾌﾟVL用!$B$4,スキルVL用!C95,IF(SC=ﾀｲﾌﾟVL用!$B$5,スキルVL用!C107,IF(SC=ﾀｲﾌﾟVL用!$B$6,スキルVL用!C119,IF(SC=ﾀｲﾌﾟVL用!$B$7,スキルVL用!C131,IF(SC=ﾀｲﾌﾟVL用!$B$8,スキルVL用!C143,IF(SC=ﾀｲﾌﾟVL用!$B$9,スキルVL用!C155,IF(SC=ﾀｲﾌﾟVL用!$B$10,スキルVL用!C167,IF(SC=ﾀｲﾌﾟVL用!$B$11,スキルVL用!C179,IF(SC=ﾀｲﾌﾟVL用!$B$12,スキルVL用!C191,IF(SC=ﾀｲﾌﾟVL用!$B$13,スキルVL用!C203,IF(SC=ﾀｲﾌﾟVL用!$B$14,スキルVL用!C215,IF(SC=ﾀｲﾌﾟVL用!$B$15,スキルVL用!C227,IF(SC=ﾀｲﾌﾟVL用!$B$16,スキルVL用!C239,IF(SC=ﾀｲﾌﾟVL用!$B$17,スキルVL用!C251,IF(SC=ﾀｲﾌﾟVL用!$B$18,スキルVL用!C263,IF(SC=ﾀｲﾌﾟVL用!$B$19,スキルVL用!C275,IF(SC=ﾀｲﾌﾟVL用!$B$20,スキルVL用!C287,IF(SC=ﾀｲﾌﾟVL用!$B$21,スキルVL用!C299,IF(SC=ﾀｲﾌﾟVL用!$B$22,スキルVL用!C311,IF(SC=ﾀｲﾌﾟVL用!$B$23,スキルVL用!C323,\"\"))))))))))))))))))))","v":""},null,null,"",null,""]
[null,{"$f":"IF(SC=ﾀｲﾌﾟVL用!$B$4,スキルVL用!C96,IF(SC=ﾀｲﾌﾟVL用!$B$5,スキルVL用!C108,IF(SC=ﾀｲﾌﾟVL用!$B$6,スキルVL用!C120,IF(SC=ﾀｲﾌﾟVL用!$B$7,スキルVL用!C132,IF(SC=ﾀｲﾌﾟVL用!$B$8,スキルVL用!C144,IF(SC=ﾀｲﾌﾟVL用!$B$9,スキルVL用!C156,IF(SC=ﾀｲﾌﾟVL用!$B$10,スキルVL用!C168,IF(SC=ﾀｲﾌﾟVL用!$B$11,スキルVL用!C180,IF(SC=ﾀｲﾌﾟVL用!$B$12,スキルVL用!C192,IF(SC=ﾀｲﾌﾟVL用!$B$13,スキルVL用!C204,IF(SC=ﾀｲﾌﾟVL用!$B$14,スキルVL用!C216,IF(SC=ﾀｲﾌﾟVL用!$B$15,スキルVL用!C228,IF(SC=ﾀｲﾌﾟVL用!$B$16,スキルVL用!C240,IF(SC=ﾀｲﾌﾟVL用!$B$17,スキルVL用!C252,IF(SC=ﾀｲﾌﾟVL用!$B$18,スキルVL用!C264,IF(SC=ﾀｲﾌﾟVL用!$B$19,スキルVL用!C276,IF(SC=ﾀｲﾌﾟVL用!$B$20,スキルVL用!C288,IF(SC=ﾀｲﾌﾟVL用!$B$21,スキルVL用!C300,IF(SC=ﾀｲﾌﾟVL用!$B$22,スキルVL用!C312,IF(SC=ﾀｲﾌﾟVL用!$B$23,スキルVL用!C324,\"\"))))))))))))))))))))","v":""},null,null,"",null,""]
[null,{"$f":"IF(SC=ﾀｲﾌﾟVL用!$B$4,スキルVL用!C97,IF(SC=ﾀｲﾌﾟVL用!$B$5,スキルVL用!C109,IF(SC=ﾀｲﾌﾟVL用!$B$6,スキルVL用!C121,IF(SC=ﾀｲﾌﾟVL用!$B$7,スキルVL用!C133,IF(SC=ﾀｲﾌﾟVL用!$B$8,スキルVL用!C145,IF(SC=ﾀｲﾌﾟVL用!$B$9,スキルVL用!C157,IF(SC=ﾀｲﾌﾟVL用!$B$10,スキルVL用!C169,IF(SC=ﾀｲﾌﾟVL用!$B$11,スキルVL用!C181,IF(SC=ﾀｲﾌﾟVL用!$B$12,スキルVL用!C193,IF(SC=ﾀｲﾌﾟVL用!$B$13,スキルVL用!C205,IF(SC=ﾀｲﾌﾟVL用!$B$14,スキルVL用!C217,IF(SC=ﾀｲﾌﾟVL用!$B$15,スキルVL用!C229,IF(SC=ﾀｲﾌﾟVL用!$B$16,スキルVL用!C241,IF(SC=ﾀｲﾌﾟVL用!$B$17,スキルVL用!C253,IF(SC=ﾀｲﾌﾟVL用!$B$18,スキルVL用!C265,IF(SC=ﾀｲﾌﾟVL用!$B$19,スキルVL用!C277,IF(SC=ﾀｲﾌﾟVL用!$B$20,スキルVL用!C289,IF(SC=ﾀｲﾌﾟVL用!$B$21,スキルVL用!C301,IF(SC=ﾀｲﾌﾟVL用!$B$22,スキルVL用!C313,IF(SC=ﾀｲﾌﾟVL用!$B$23,スキルVL用!C325,\"\"))))))))))))))))))))","v":""},null,null,"",null,""]
[null,{"$f":"IF(SC=ﾀｲﾌﾟVL用!$B$4,スキルVL用!C98,IF(SC=ﾀｲﾌﾟVL用!$B$5,スキルVL用!C110,IF(SC=ﾀｲﾌﾟVL用!$B$6,スキルVL用!C122,IF(SC=ﾀｲﾌﾟVL用!$B$7,スキルVL用!C134,IF(SC=ﾀｲﾌﾟVL用!$B$8,スキルVL用!C146,IF(SC=ﾀｲﾌﾟVL用!$B$9,スキルVL用!C158,IF(SC=ﾀｲﾌﾟVL用!$B$10,スキルVL用!C170,IF(SC=ﾀｲﾌﾟVL用!$B$11,スキルVL用!C182,IF(SC=ﾀｲﾌﾟVL用!$B$12,スキルVL用!C194,IF(SC=ﾀｲﾌﾟVL用!$B$13,スキルVL用!C206,IF(SC=ﾀｲﾌﾟVL用!$B$14,スキルVL用!C218,IF(SC=ﾀｲﾌﾟVL用!$B$15,スキルVL用!C230,IF(SC=ﾀｲﾌﾟVL用!$B$16,スキルVL用!C242,IF(SC=ﾀｲﾌﾟVL用!$B$17,スキルVL用!C254,IF(SC=ﾀｲﾌﾟVL用!$B$18,スキルVL用!C266,IF(SC=ﾀｲﾌﾟVL用!$B$19,スキルVL用!C278,IF(SC=ﾀｲﾌﾟVL用!$B$20,スキルVL用!C290,IF(SC=ﾀｲﾌﾟVL用!$B$21,スキルVL用!C302,IF(SC=ﾀｲﾌﾟVL用!$B$22,スキルVL用!C314,IF(SC=ﾀｲﾌﾟVL用!$B$23,スキルVL用!C326,\"\"))))))))))))))))))))","v":""},null,null,"",null,""]
[null,{"$f":"IF(SC=ﾀｲﾌﾟVL用!$B$4,スキルVL用!C99,IF(SC=ﾀｲﾌﾟVL用!$B$5,スキルVL用!C111,IF(SC=ﾀｲﾌﾟVL用!$B$6,スキルVL用!C123,IF(SC=ﾀｲﾌﾟVL用!$B$7,スキルVL用!C135,IF(SC=ﾀｲﾌﾟVL用!$B$8,スキルVL用!C147,IF(SC=ﾀｲﾌﾟVL用!$B$9,スキルVL用!C159,IF(SC=ﾀｲﾌﾟVL用!$B$10,スキルVL用!C171,IF(SC=ﾀｲﾌﾟVL用!$B$11,スキルVL用!C183,IF(SC=ﾀｲﾌﾟVL用!$B$12,スキルVL用!C195,IF(SC=ﾀｲﾌﾟVL用!$B$13,スキルVL用!C207,IF(SC=ﾀｲﾌﾟVL用!$B$14,スキルVL用!C219,IF(SC=ﾀｲﾌﾟVL用!$B$15,スキルVL用!C231,IF(SC=ﾀｲﾌﾟVL用!$B$16,スキルVL用!C243,IF(SC=ﾀｲﾌﾟVL用!$B$17,スキルVL用!C255,IF(SC=ﾀｲﾌﾟVL用!$B$18,スキルVL用!C267,IF(SC=ﾀｲﾌﾟVL用!$B$19,スキルVL用!C279,IF(SC=ﾀｲﾌﾟVL用!$B$20,スキルVL用!C291,IF(SC=ﾀｲﾌﾟVL用!$B$21,スキルVL用!C303,IF(SC=ﾀｲﾌﾟVL用!$B$22,スキルVL用!C315,IF(SC=ﾀｲﾌﾟVL用!$B$23,スキルVL用!C327,\"\"))))))))))))))))))))","v":""},null,null,"",null,""]
[null,{"$f":"IF(SC=ﾀｲﾌﾟVL用!$B$4,スキルVL用!C100,IF(SC=ﾀｲﾌﾟVL用!$B$5,スキルVL用!C112,IF(SC=ﾀｲﾌﾟVL用!$B$6,スキルVL用!C124,IF(SC=ﾀｲﾌﾟVL用!$B$7,スキルVL用!C136,IF(SC=ﾀｲﾌﾟVL用!$B$8,スキルVL用!C148,IF(SC=ﾀｲﾌﾟVL用!$B$9,スキルVL用!C160,IF(SC=ﾀｲﾌﾟVL用!$B$10,スキルVL用!C172,IF(SC=ﾀｲﾌﾟVL用!$B$11,スキルVL用!C184,IF(SC=ﾀｲﾌﾟVL用!$B$12,スキルVL用!C196,IF(SC=ﾀｲﾌﾟVL用!$B$13,スキルVL用!C208,IF(SC=ﾀｲﾌﾟVL用!$B$14,スキルVL用!C220,IF(SC=ﾀｲﾌﾟVL用!$B$15,スキルVL用!C232,IF(SC=ﾀｲﾌﾟVL用!$B$16,スキルVL用!C244,IF(SC=ﾀｲﾌﾟVL用!$B$17,スキルVL用!C256,IF(SC=ﾀｲﾌﾟVL用!$B$18,スキルVL用!C268,IF(SC=ﾀｲﾌﾟVL用!$B$19,スキルVL用!C280,IF(SC=ﾀｲﾌﾟVL用!$B$20,スキルVL用!C292,IF(SC=ﾀｲﾌﾟVL用!$B$21,スキルVL用!C304,IF(SC=ﾀｲﾌﾟVL用!$B$22,スキルVL用!C316,IF(SC=ﾀｲﾌﾟVL用!$B$23,スキルVL用!C328,\"\"))))))))))))))))))))","v":""},null,null,"",null,""]
[null,{"$f":"IF(SC=ﾀｲﾌﾟVL用!$B$4,スキルVL用!C101,IF(SC=ﾀｲﾌﾟVL用!$B$5,スキルVL用!C113,IF(SC=ﾀｲﾌﾟVL用!$B$6,スキルVL用!C125,IF(SC=ﾀｲﾌﾟVL用!$B$7,スキルVL用!C137,IF(SC=ﾀｲﾌﾟVL用!$B$8,スキルVL用!C149,IF(SC=ﾀｲﾌﾟVL用!$B$9,スキルVL用!C161,IF(SC=ﾀｲﾌﾟVL用!$B$10,スキルVL用!C173,IF(SC=ﾀｲﾌﾟVL用!$B$11,スキルVL用!C185,IF(SC=ﾀｲﾌﾟVL用!$B$12,スキルVL用!C197,IF(SC=ﾀｲﾌﾟVL用!$B$13,スキルVL用!C209,IF(SC=ﾀｲﾌﾟVL用!$B$14,スキルVL用!C221,IF(SC=ﾀｲﾌﾟVL用!$B$15,スキルVL用!C233,IF(SC=ﾀｲﾌﾟVL用!$B$16,スキルVL用!C245,IF(SC=ﾀｲﾌﾟVL用!$B$17,スキルVL用!C257,IF(SC=ﾀｲﾌﾟVL用!$B$18,スキルVL用!C269,IF(SC=ﾀｲﾌﾟVL用!$B$19,スキルVL用!C281,IF(SC=ﾀｲﾌﾟVL用!$B$20,スキルVL用!C293,IF(SC=ﾀｲﾌﾟVL用!$B$21,スキルVL用!C305,IF(SC=ﾀｲﾌﾟVL用!$B$22,スキルVL用!C317,IF(SC=ﾀｲﾌﾟVL用!$B$23,スキルVL用!C329,\"\"))))))))))))))))))))","v":""},null,null,"",null,{"$f":"IF(COUNTIFS($C$4,\"*自*\")=1,E35,E34)","v":""}]
[null,{"$f":"IF(SL<=5,\"\",IF(SC=ﾀｲﾌﾟVL用!$B$4,スキルVL用!C102,IF(SC=ﾀｲﾌﾟVL用!$B$5,スキルVL用!C114,IF(SC=ﾀｲﾌﾟVL用!$B$6,スキルVL用!C126,IF(SC=ﾀｲﾌﾟVL用!$B$7,スキルVL用!C138,IF(SC=ﾀｲﾌﾟVL用!$B$8,スキルVL用!C150,IF(SC=ﾀｲﾌﾟVL用!$B$9,スキルVL用!C162,IF(SC=ﾀｲﾌﾟVL用!$B$10,スキルVL用!C174,IF(SC=ﾀｲﾌﾟVL用!$B$11,スキルVL用!C186,IF(SC=ﾀｲﾌﾟVL用!$B$12,スキルVL用!C198,IF(SC=ﾀｲﾌﾟVL用!$B$13,スキルVL用!C210,IF(SC=ﾀｲﾌﾟVL用!$B$14,スキルVL用!C222,IF(SC=ﾀｲﾌﾟVL用!$B$15,スキルVL用!C234,IF(SC=ﾀｲﾌﾟVL用!$B$16,スキルVL用!C246,IF(SC=ﾀｲﾌﾟVL用!$B$17,スキルVL用!C258,IF(SC=ﾀｲﾌﾟVL用!$B$18,スキルVL用!C270,IF(SC=ﾀｲﾌﾟVL用!$B$19,スキルVL用!C282,IF(SC=ﾀｲﾌﾟVL用!$B$20,スキルVL用!C294,IF(SC=ﾀｲﾌﾟVL用!$B$21,スキルVL用!C306,IF(SC=ﾀｲﾌﾟVL用!$B$22,スキルVL用!C318,IF(SC=ﾀｲﾌﾟVL用!$B$23,スキルVL用!C330,\"\")))))))))))))))))))))","v":""},null,null,"",null,{"$f":"IF(COUNTIFS($C$4,\"*自*\")=1,E36,E35)","v":""}]
[null,null,null,null,"■エキストラタイプ■",null,{"$f":"IF(COUNTIFS($C$4,\"*自*\")=1,IF(EC=\"―\",E47,E37),IF(EC=\"―\",E47,E36))","v":"■汎用スキル■"}]
[null,{"$f":"IF(EC=ﾀｲﾌﾟVL用!$B$4,スキルVL用!C92,IF(EC=ﾀｲﾌﾟVL用!$B$5,スキルVL用!C104,IF(EC=ﾀｲﾌﾟVL用!$B$6,スキルVL用!C116,IF(EC=ﾀｲﾌﾟVL用!$B$7,スキルVL用!C128,IF(EC=ﾀｲﾌﾟVL用!$B$8,スキルVL用!C140,IF(EC=ﾀｲﾌﾟVL用!$B$9,スキルVL用!C152,IF(EC=ﾀｲﾌﾟVL用!$B$10,スキルVL用!C164,IF(EC=ﾀｲﾌﾟVL用!$B$11,スキルVL用!C176,IF(EC=ﾀｲﾌﾟVL用!$B$12,スキルVL用!C188,IF(EC=ﾀｲﾌﾟVL用!$B$13,スキルVL用!C200,IF(EC=ﾀｲﾌﾟVL用!$B$14,スキルVL用!C212,IF(EC=ﾀｲﾌﾟVL用!$B$15,スキルVL用!C224,IF(EC=ﾀｲﾌﾟVL用!$B$16,スキルVL用!C236,IF(EC=ﾀｲﾌﾟVL用!$B$17,スキルVL用!C248,IF(EC=ﾀｲﾌﾟVL用!$B$18,スキルVL用!C260,IF(EC=ﾀｲﾌﾟVL用!$B$19,スキルVL用!C272,IF(EC=ﾀｲﾌﾟVL用!$B$20,スキルVL用!C284,IF(EC=ﾀｲﾌﾟVL用!$B$21,スキルVL用!C296,IF(EC=ﾀｲﾌﾟVL用!$B$22,スキルVL用!C308,IF(EC=ﾀｲﾌﾟVL用!$B$23,スキルVL用!C320,\"\"))))))))))))))))))))","v":""},null,"Ex\nタイプ",{"$f":"B37","v":""},null,"近接強化"]
[null,{"$f":"IF(EC=ﾀｲﾌﾟVL用!$B$4,スキルVL用!C93,IF(EC=ﾀｲﾌﾟVL用!$B$5,スキルVL用!C105,IF(EC=ﾀｲﾌﾟVL用!$B$6,スキルVL用!C117,IF(EC=ﾀｲﾌﾟVL用!$B$7,スキルVL用!C129,IF(EC=ﾀｲﾌﾟVL用!$B$8,スキルVL用!C141,IF(EC=ﾀｲﾌﾟVL用!$B$9,スキルVL用!C153,IF(EC=ﾀｲﾌﾟVL用!$B$10,スキルVL用!C165,IF(EC=ﾀｲﾌﾟVL用!$B$11,スキルVL用!C177,IF(EC=ﾀｲﾌﾟVL用!$B$12,スキルVL用!C189,IF(EC=ﾀｲﾌﾟVL用!$B$13,スキルVL用!C201,IF(EC=ﾀｲﾌﾟVL用!$B$14,スキルVL用!C213,IF(EC=ﾀｲﾌﾟVL用!$B$15,スキルVL用!C225,IF(EC=ﾀｲﾌﾟVL用!$B$16,スキルVL用!C237,IF(EC=ﾀｲﾌﾟVL用!$B$17,スキルVL用!C249,IF(EC=ﾀｲﾌﾟVL用!$B$18,スキルVL用!C261,IF(EC=ﾀｲﾌﾟVL用!$B$19,スキルVL用!C273,IF(EC=ﾀｲﾌﾟVL用!$B$20,スキルVL用!C285,IF(EC=ﾀｲﾌﾟVL用!$B$21,スキルVL用!C297,IF(EC=ﾀｲﾌﾟVL用!$B$22,スキルVL用!C309,IF(EC=ﾀｲﾌﾟVL用!$B$23,スキルVL用!C321,\"\"))))))))))))))))))))","v":""},null,null,{"$f":"B38","v":""},null,"射撃強化"]
[null,{"$f":"IF(EC=ﾀｲﾌﾟVL用!$B$4,スキルVL用!C94,IF(EC=ﾀｲﾌﾟVL用!$B$5,スキルVL用!C106,IF(EC=ﾀｲﾌﾟVL用!$B$6,スキルVL用!C118,IF(EC=ﾀｲﾌﾟVL用!$B$7,スキルVL用!C130,IF(EC=ﾀｲﾌﾟVL用!$B$8,スキルVL用!C142,IF(EC=ﾀｲﾌﾟVL用!$B$9,スキルVL用!C154,IF(EC=ﾀｲﾌﾟVL用!$B$10,スキルVL用!C166,IF(EC=ﾀｲﾌﾟVL用!$B$11,スキルVL用!C178,IF(EC=ﾀｲﾌﾟVL用!$B$12,スキルVL用!C190,IF(EC=ﾀｲﾌﾟVL用!$B$13,スキルVL用!C202,IF(EC=ﾀｲﾌﾟVL用!$B$14,スキルVL用!C214,IF(EC=ﾀｲﾌﾟVL用!$B$15,スキルVL用!C226,IF(EC=ﾀｲﾌﾟVL用!$B$16,スキルVL用!C238,IF(EC=ﾀｲﾌﾟVL用!$B$17,スキルVL用!C250,IF(EC=ﾀｲﾌﾟVL用!$B$18,スキルVL用!C262,IF(EC=ﾀｲﾌﾟVL用!$B$19,スキルVL用!C274,IF(EC=ﾀｲﾌﾟVL用!$B$20,スキルVL用!C286,IF(EC=ﾀｲﾌﾟVL用!$B$21,スキルVL用!C298,IF(EC=ﾀｲﾌﾟVL用!$B$22,スキルVL用!C310,IF(EC=ﾀｲﾌﾟVL用!$B$23,スキルVL用!C322,\"\"))))))))))))))))))))","v":""},null,null,"",null,"魔術強化"]
[null,{"$f":"IF(EC=ﾀｲﾌﾟVL用!$B$4,スキルVL用!C95,IF(EC=ﾀｲﾌﾟVL用!$B$5,スキルVL用!C107,IF(EC=ﾀｲﾌﾟVL用!$B$6,スキルVL用!C119,IF(EC=ﾀｲﾌﾟVL用!$B$7,スキルVL用!C131,IF(EC=ﾀｲﾌﾟVL用!$B$8,スキルVL用!C143,IF(EC=ﾀｲﾌﾟVL用!$B$9,スキルVL用!C155,IF(EC=ﾀｲﾌﾟVL用!$B$10,スキルVL用!C167,IF(EC=ﾀｲﾌﾟVL用!$B$11,スキルVL用!C179,IF(EC=ﾀｲﾌﾟVL用!$B$12,スキルVL用!C191,IF(EC=ﾀｲﾌﾟVL用!$B$13,スキルVL用!C203,IF(EC=ﾀｲﾌﾟVL用!$B$14,スキルVL用!C215,IF(EC=ﾀｲﾌﾟVL用!$B$15,スキルVL用!C227,IF(EC=ﾀｲﾌﾟVL用!$B$16,スキルVL用!C239,IF(EC=ﾀｲﾌﾟVL用!$B$17,スキルVL用!C251,IF(EC=ﾀｲﾌﾟVL用!$B$18,スキルVL用!C263,IF(EC=ﾀｲﾌﾟVL用!$B$19,スキルVL用!C275,IF(EC=ﾀｲﾌﾟVL用!$B$20,スキルVL用!C287,IF(EC=ﾀｲﾌﾟVL用!$B$21,スキルVL用!C299,IF(EC=ﾀｲﾌﾟVL用!$B$22,スキルVL用!C311,IF(EC=ﾀｲﾌﾟVL用!$B$23,スキルVL用!C323,\"\"))))))))))))))))))))","v":""},null,null,"",null,"回避強化"]
[null,{"$f":"IF(EC=ﾀｲﾌﾟVL用!$B$4,スキルVL用!C96,IF(EC=ﾀｲﾌﾟVL用!$B$5,スキルVL用!C108,IF(EC=ﾀｲﾌﾟVL用!$B$6,スキルVL用!C120,IF(EC=ﾀｲﾌﾟVL用!$B$7,スキルVL用!C132,IF(EC=ﾀｲﾌﾟVL用!$B$8,スキルVL用!C144,IF(EC=ﾀｲﾌﾟVL用!$B$9,スキルVL用!C156,IF(EC=ﾀｲﾌﾟVL用!$B$10,スキルVL用!C168,IF(EC=ﾀｲﾌﾟVL用!$B$11,スキルVL用!C180,IF(EC=ﾀｲﾌﾟVL用!$B$12,スキルVL用!C192,IF(EC=ﾀｲﾌﾟVL用!$B$13,スキルVL用!C204,IF(EC=ﾀｲﾌﾟVL用!$B$14,スキルVL用!C216,IF(EC=ﾀｲﾌﾟVL用!$B$15,スキルVL用!C228,IF(EC=ﾀｲﾌﾟVL用!$B$16,スキルVL用!C240,IF(EC=ﾀｲﾌﾟVL用!$B$17,スキルVL用!C252,IF(EC=ﾀｲﾌﾟVL用!$B$18,スキルVL用!C264,IF(EC=ﾀｲﾌﾟVL用!$B$19,スキルVL用!C276,IF(EC=ﾀｲﾌﾟVL用!$B$20,スキルVL用!C288,IF(EC=ﾀｲﾌﾟVL用!$B$21,スキルVL用!C300,IF(EC=ﾀｲﾌﾟVL用!$B$22,スキルVL用!C312,IF(EC=ﾀｲﾌﾟVL用!$B$23,スキルVL用!C324,\"\"))))))))))))))))))))","v":""},null,null,"",null,"抵抗強化"]
[null,{"$f":"IF(EC=ﾀｲﾌﾟVL用!$B$4,スキルVL用!C97,IF(EC=ﾀｲﾌﾟVL用!$B$5,スキルVL用!C109,IF(EC=ﾀｲﾌﾟVL用!$B$6,スキルVL用!C121,IF(EC=ﾀｲﾌﾟVL用!$B$7,スキルVL用!C133,IF(EC=ﾀｲﾌﾟVL用!$B$8,スキルVL用!C145,IF(EC=ﾀｲﾌﾟVL用!$B$9,スキルVL用!C157,IF(EC=ﾀｲﾌﾟVL用!$B$10,スキルVL用!C169,IF(EC=ﾀｲﾌﾟVL用!$B$11,スキルVL用!C181,IF(EC=ﾀｲﾌﾟVL用!$B$12,スキルVL用!C193,IF(EC=ﾀｲﾌﾟVL用!$B$13,スキルVL用!C205,IF(EC=ﾀｲﾌﾟVL用!$B$14,スキルVL用!C217,IF(EC=ﾀｲﾌﾟVL用!$B$15,スキルVL用!C229,IF(EC=ﾀｲﾌﾟVL用!$B$16,スキルVL用!C241,IF(EC=ﾀｲﾌﾟVL用!$B$17,スキルVL用!C253,IF(EC=ﾀｲﾌﾟVL用!$B$18,スキルVL用!C265,IF(EC=ﾀｲﾌﾟVL用!$B$19,スキルVL用!C277,IF(EC=ﾀｲﾌﾟVL用!$B$20,スキルVL用!C289,IF(EC=ﾀｲﾌﾟVL用!$B$21,スキルVL用!C301,IF(EC=ﾀｲﾌﾟVL用!$B$22,スキルVL用!C313,IF(EC=ﾀｲﾌﾟVL用!$B$23,スキルVL用!C325,\"\"))))))))))))))))))))","v":""},null,null,"",null,"敏捷強化"]
[null,{"$f":"IF(EC=ﾀｲﾌﾟVL用!$B$4,スキルVL用!C98,IF(EC=ﾀｲﾌﾟVL用!$B$5,スキルVL用!C110,IF(EC=ﾀｲﾌﾟVL用!$B$6,スキルVL用!C122,IF(EC=ﾀｲﾌﾟVL用!$B$7,スキルVL用!C134,IF(EC=ﾀｲﾌﾟVL用!$B$8,スキルVL用!C146,IF(EC=ﾀｲﾌﾟVL用!$B$9,スキルVL用!C158,IF(EC=ﾀｲﾌﾟVL用!$B$10,スキルVL用!C170,IF(EC=ﾀｲﾌﾟVL用!$B$11,スキルVL用!C182,IF(EC=ﾀｲﾌﾟVL用!$B$12,スキルVL用!C194,IF(EC=ﾀｲﾌﾟVL用!$B$13,スキルVL用!C206,IF(EC=ﾀｲﾌﾟVL用!$B$14,スキルVL用!C218,IF(EC=ﾀｲﾌﾟVL用!$B$15,スキルVL用!C230,IF(EC=ﾀｲﾌﾟVL用!$B$16,スキルVL用!C242,IF(EC=ﾀｲﾌﾟVL用!$B$17,スキルVL用!C254,IF(EC=ﾀｲﾌﾟVL用!$B$18,スキルVL用!C266,IF(EC=ﾀｲﾌﾟVL用!$B$19,スキルVL用!C278,IF(EC=ﾀｲﾌﾟVL用!$B$20,スキルVL用!C290,IF(EC=ﾀｲﾌﾟVL用!$B$21,スキルVL用!C302,IF(EC=ﾀｲﾌﾟVL用!$B$22,スキルVL用!C314,IF(EC=ﾀｲﾌﾟVL用!$B$23,スキルVL用!C326,\"\"))))))))))))))))))))","v":""},null,null,"",null,"耐久強化"]
[null,{"$f":"IF(EC=ﾀｲﾌﾟVL用!$B$4,スキルVL用!C99,IF(EC=ﾀｲﾌﾟVL用!$B$5,スキルVL用!C111,IF(EC=ﾀｲﾌﾟVL用!$B$6,スキルVL用!C123,IF(EC=ﾀｲﾌﾟVL用!$B$7,スキルVL用!C135,IF(EC=ﾀｲﾌﾟVL用!$B$8,スキルVL用!C147,IF(EC=ﾀｲﾌﾟVL用!$B$9,スキルVL用!C159,IF(EC=ﾀｲﾌﾟVL用!$B$10,スキルVL用!C171,IF(EC=ﾀｲﾌﾟVL用!$B$11,スキルVL用!C183,IF(EC=ﾀｲﾌﾟVL用!$B$12,スキルVL用!C195,IF(EC=ﾀｲﾌﾟVL用!$B$13,スキルVL用!C207,IF(EC=ﾀｲﾌﾟVL用!$B$14,スキルVL用!C219,IF(EC=ﾀｲﾌﾟVL用!$B$15,スキルVL用!C231,IF(EC=ﾀｲﾌﾟVL用!$B$16,スキルVL用!C243,IF(EC=ﾀｲﾌﾟVL用!$B$17,スキルVL用!C255,IF(EC=ﾀｲﾌﾟVL用!$B$18,スキルVL用!C267,IF(EC=ﾀｲﾌﾟVL用!$B$19,スキルVL用!C279,IF(EC=ﾀｲﾌﾟVL用!$B$20,スキルVL用!C291,IF(EC=ﾀｲﾌﾟVL用!$B$21,スキルVL用!C303,IF(EC=ﾀｲﾌﾟVL用!$B$22,スキルVL用!C315,IF(EC=ﾀｲﾌﾟVL用!$B$23,スキルVL用!C327,\"\"))))))))))))))))))))","v":""},null,null,"",null,"精神強化"]
[null,{"$f":"IF(EC=ﾀｲﾌﾟVL用!$B$4,スキルVL用!C100,IF(EC=ﾀｲﾌﾟVL用!$B$5,スキルVL用!C112,IF(EC=ﾀｲﾌﾟVL用!$B$6,スキルVL用!C124,IF(EC=ﾀｲﾌﾟVL用!$B$7,スキルVL用!C136,IF(EC=ﾀｲﾌﾟVL用!$B$8,スキルVL用!C148,IF(EC=ﾀｲﾌﾟVL用!$B$9,スキルVL用!C160,IF(EC=ﾀｲﾌﾟVL用!$B$10,スキルVL用!C172,IF(EC=ﾀｲﾌﾟVL用!$B$11,スキルVL用!C184,IF(EC=ﾀｲﾌﾟVL用!$B$12,スキルVL用!C196,IF(EC=ﾀｲﾌﾟVL用!$B$13,スキルVL用!C208,IF(EC=ﾀｲﾌﾟVL用!$B$14,スキルVL用!C220,IF(EC=ﾀｲﾌﾟVL用!$B$15,スキルVL用!C232,IF(EC=ﾀｲﾌﾟVL用!$B$16,スキルVL用!C244,IF(EC=ﾀｲﾌﾟVL用!$B$17,スキルVL用!C256,IF(EC=ﾀｲﾌﾟVL用!$B$18,スキルVL用!C268,IF(EC=ﾀｲﾌﾟVL用!$B$19,スキルVL用!C280,IF(EC=ﾀｲﾌﾟVL用!$B$20,スキルVL用!C292,IF(EC=ﾀｲﾌﾟVL用!$B$21,スキルVL用!C304,IF(EC=ﾀｲﾌﾟVL用!$B$22,スキルVL用!C316,IF(EC=ﾀｲﾌﾟVL用!$B$23,スキルVL用!C328,\"\"))))))))))))))))))))","v":""},null,null,"",null,"攻撃強化"]
[null,{"$f":"IF(EC=ﾀｲﾌﾟVL用!$B$4,スキルVL用!C101,IF(EC=ﾀｲﾌﾟVL用!$B$5,スキルVL用!C113,IF(EC=ﾀｲﾌﾟVL用!$B$6,スキルVL用!C125,IF(EC=ﾀｲﾌﾟVL用!$B$7,スキルVL用!C137,IF(EC=ﾀｲﾌﾟVL用!$B$8,スキルVL用!C149,IF(EC=ﾀｲﾌﾟVL用!$B$9,スキルVL用!C161,IF(EC=ﾀｲﾌﾟVL用!$B$10,スキルVL用!C173,IF(EC=ﾀｲﾌﾟVL用!$B$11,スキルVL用!C185,IF(EC=ﾀｲﾌﾟVL用!$B$12,スキルVL用!C197,IF(EC=ﾀｲﾌﾟVL用!$B$13,スキルVL用!C209,IF(EC=ﾀｲﾌﾟVL用!$B$14,スキルVL用!C221,IF(EC=ﾀｲﾌﾟVL用!$B$15,スキルVL用!C233,IF(EC=ﾀｲﾌﾟVL用!$B$16,スキルVL用!C245,IF(EC=ﾀｲﾌﾟVL用!$B$17,スキルVL用!C257,IF(EC=ﾀｲﾌﾟVL用!$B$18,スキルVL用!C269,IF(EC=ﾀｲﾌﾟVL用!$B$19,スキルVL用!C281,IF(EC=ﾀｲﾌﾟVL用!$B$20,スキルVL用!C293,IF(EC=ﾀｲﾌﾟVL用!$B$21,スキルVL用!C305,IF(EC=ﾀｲﾌﾟVL用!$B$22,スキルVL用!C317,IF(EC=ﾀｲﾌﾟVL用!$B$23,スキルVL用!C329,\"\"))))))))))))))))))))","v":""},null,null,"",null,"防御強化"]
[null,null,null,null,"■汎用スキル■",null,"灼熱耐性+"]
[null,"近接強化",null,"汎用",{"$f":"B48","v":"近接強化"},null,"吹雪耐性+"]
[null,"射撃強化",null,null,{"$f":"B49","v":"射撃強化"},null,"激流耐性+"]
[null,"魔術強化",null,null,"魔術強化",null,"雷撃耐性+"]
[null,"回避強化",null,null,"回避強化",null,"風刃耐性+"]
[null,"抵抗強化",null,null,"抵抗強化",null,"閃光耐性+"]
[null,"敏捷強化",null,null,"敏捷強化",null,"回復強化"]
[null,"耐久強化",null,null,"耐久強化",null,"物理強化"]
[null,"精神強化",null,null,"精神強化",null,"ライフハッカー"]
[null,"攻撃強化",null,null,"攻撃強化",null,"武器適応"]
[null,"防御強化",null,null,"防御強化",null,"諸刃の剣"]
[null,"灼熱耐性+",null,null,"灼熱耐性+",null,"適応者"]
[null,"吹雪耐性+",null,null,"吹雪耐性+",null,"ピンチブーストA"]
[null,"激流耐性+",null,null,"激流耐性+",null,"ピンチブーストB"]
[null,"雷撃耐性+",null,null,"雷撃耐性+",null,"攻撃集中"]
[null,"風刃耐性+",null,null,"風刃耐性+",null,"パワーチャージ"]
[null,"閃光耐性+",null,null,"閃光耐性+",null,"ヒーリング"]
[null,"回復強化",null,null,"回復強化",null,"ワイドヒール"]
[null,"物理強化",null,null,"物理強化",null,"自己修復"]
[null,"ライフハッカー",null,null,"ライフハッカー",null,"精神集中"]
[null,"武器適応",null,null,"武器適応",null,"リフレッシュ"]
[null,"諸刃の剣",null,null,"諸刃の剣",null,{"$f":"IF(COUNTIFS($C$4,\"*自*\")=1,IF(EC=\"―\",E79,E69),IF(EC=\"―\",E79,E68))","v":"スプレッドパワー"}]
[null,"適応者",null,null,"適応者",null,"圧縮魔術"]
[null,"ピンチブーストA",null,null,"ピンチブーストA",null,"拡散魔術"]
[null,"ピンチブーストB",null,null,"ピンチブーストB",null,"プロテクション"]
[null,"攻撃集中",null,null,"攻撃集中",null,"マジックウォール"]
[null,"パワーチャージ",null,null,"パワーチャージ",null,"インパクター"]
[null,"ヒーリング",null,null,"ヒーリング",null,"高速発動"]
[null,"ワイドヒール",null,null,"ワイドヒール",null,"ワイドスプレッド"]
[null,"自己修復",null,null,"自己修復",null,"ダブルバレット"]
[null,"精神集中",null,null,"精神集中",null,"ウェポンアタック"]
[null,"リフレッシュ",null,null,"リフレッシュ",null,"バレットシュート"]
[null,"スプレッドパワー",null,null,"スプレッドパワー",null,"○○の一撃"]
[null,"圧縮魔術",null,null,"圧縮魔術",null,"○○の一射"]
[null,"拡散魔術",null,null,"拡散魔術",null,"ファイアボール"]
[null,"プロテクション",null,null,"プロテクション",null,"FB：アポロン"]
[null,"マジックウォール",null,null,"マジックウォール",null,"アイスボール"]
[null,"インパクター",null,null,"インパクター",null,"IB：ヘル"]
[null,"高速発動",null,null,"高速発動",null,"リクィッドボール"]
[null,"ワイドスプレッド",null,null,"ワイドスプレッド",null,"LB：ポセイドン"]
[null,"ダブルバレット",null,null,"ダブルバレット",null,"サンダーボール"]
[null,"ウェポンアタック",null,null,"ウェポンアタック",null,"TB：トール"]
[null,"バレットシュート",null,null,"バレットシュート",null,"ウィンドボール"]
[null,"○○の一撃",null,null,"○○の一撃",null,"WB：ゼピュロス"]
[null,"○○の一射",null,null,"○○の一射",null,"セイントボール"]
[null,"ファイアボール",null,null,"ファイアボール",null,"SB：アマテラス"]
[null,"FB：アポロン",null,null,"FB：アポロン",null,"ギビング○○"]
[null,"アイスボール",null,null,"アイスボール",null,"セカンドチャンス"]
[null,"IB：ヘル",null,null,"IB：ヘル",null,"サポートムーブ"]
[null,"リクィッドボール",null,null,"リクィッドボール",null,"ジャミング"]
[null,"LB：ポセイドン",null,null,"LB：ポセイドン",null,"オミットカース"]
[null,"サンダーボール",null,null,"サンダーボール",null,"エナジー変換"]
[null,"TB：トール",null,null,"TB：トール",null,"覚醒化"]
[null,"ウィンドボール",null,null,"ウィンドボール",null,{"$f":"IF(COUNTIFS($C$4,\"*自*\")=1,IF(EC=\"―\",E111,E101),IF(EC=\"―\",E111,E100))","v":"浮遊魔法"}]
[null,"WB：ゼピュロス",null,null,"WB：ゼピュロス",null,"パワーリブート"]
[null,"セイントボール",null,null,"セイントボール",null,"精神統一"]
[null,"SB：アマテラス",null,null,"SB：アマテラス",null,"チャンスブレイク"]
[null,"ギビング○○",null,null,"ギビング○○",null,"ガードアシスト"]
[null,"セカンドチャンス",null,null,"セカンドチャンス",null,"カバーリング"]
[null,"サポートムーブ",null,null,"サポートムーブ",null,"ロングレンジカバー"]
[null,"ジャミング",null,null,"ジャミング",null,"■上級汎用スキル■"]
[null,"オミットカース",null,null,"オミットカース",null,"不沈の盾"]
[null,"エナジー変換",null,null,"エナジー変換",null,"ダブルストライク"]
[null,"覚醒化",null,null,"覚醒化",null,"武器修練Ex"]
[null,"浮遊魔法",null,null,"浮遊魔法",null,"Powered - ZP"]
[null,"パワーリブート",null,null,"パワーリブート",null,"パーフェクトバリア"]
[null,"精神統一",null,null,{"$f":"B113","v":"精神統一"},null,"エンパワーリング"]
[null,"チャンスブレイク",null,null,"チャンスブレイク",null,"ハルマゲドン"]
[null,"ガードアシスト",null,null,"ガードアシスト",null,"トライブラスター"]
[null,"カバーリング",null,null,"カバーリング",null,"リザレクション"]
[null,"ロングレンジカバー",null,null,"ロングレンジカバー",null,"スペルブレイク"]
[null,null,null,null,"■上級汎用スキル■",null,""]
[null,"不沈の盾",null,null,"不沈の盾",null,""]
[null,"ダブルストライク",null,null,"ダブルストライク",null,""]
[null,"武器修練Ex",null,null,"武器修練Ex",null,""]
[null,"Powered - ZP",null,null,"Powered - ZP",null,""]
[null,"パーフェクトバリア",null,null,"パーフェクトバリア",null,""]
[null,"エンパワーリング",null,null,"エンパワーリング",null,""]
[null,"ハルマゲドン",null,null,"ハルマゲドン",null,""]
[null,"トライブラスター",null,null,"トライブラスター",null,""]
[null,"リザレクション",null,null,"リザレクション",null,""]
[null,"スペルブレイク",null,null,"スペルブレイク",null,""]
[null,{"$f":"\"\"","v":""},null,null,""]
[null,{"$f":"\"\"","v":""},null,null,""]
[null,{"$f":"\"\"","v":""},null,null,""]
[null,{"$f":"\"\"","v":""},null,null,""]
[null,{"$f":"\"\"","v":""},null,null,""]
[null,{"$f":"\"\"","v":""},null,null,""]
[null,{"$f":"\"\"","v":""},null,null,""]
[null,{"$f":"\"\"","v":""},null,null,""]
[null,{"$f":"\"\"","v":""},null,null,""]
[null,{"$f":"\"\"","v":""},null,null,""]
[null,{"$f":"\"\"","v":""},null,null,""]
[null,{"$f":"\"\"","v":""},null,null,""]
[null,{"$f":"\"\"","v":""},null,null,""]
[null,{"$f":"\"\"","v":""},null,null,""]
[null,{"$f":"\"\"","v":""},null,null,""]
[null,{"$f":"\"\"","v":""},null,null,""]
[null,{"$f":"\"\"","v":""},null,null,""]
[null,{"$f":"\"\"","v":""},null,null,""]
[null,{"$f":"\"\"","v":""},null,null,""]
[null,{"$f":"\"\"","v":""},null,null,""]
[null,{"$f":"\"\"","v":""},null,null,""]
[null,{"$f":"\"\"","v":""},null,null,""]
[null,{"$f":"\"\"","v":""},null,null,""]
[null,{"$f":"\"\"","v":""},null,null,""]
[null,{"$f":"\"\"","v":""},null,null,""]
[null,{"$f":"\"\"","v":""},null,null,""]
[null,{"$f":"\"\"","v":""},null,null,""]
[null,{"$f":"\"\"","v":""},null,null,""]
[null,{"$f":"\"\"","v":""},null,null,""]
[null,{"$f":"\"\"","v":""},null,null,""]
[null,{"$f":"\"\"","v":""},null,null,{"$f":"\"\"","v":""}]
[null,null,null,null,{"$f":"\"\"","v":""}]

{"sheet":"ｽﾀｲﾙVL用","index":6,"n_rows":78,"n_cols":9,"rows_kept":78,"cut":false,"hidden":false,"merged":[[58,1,58,2]]}
[]
[null,"スタイル","効果"]
[null,"アタッカー",{"$f":"\"攻撃で与えるダメージに+[2D10\"&IF(CL-10=0,\"\",\"+\"&CL-10)&\"] 命中C値-1 (下限15)\"","v":"攻撃で与えるダメージに+[2D10+-10] 命中C値-1 (下限15)"}]
[null,"ヒットマン","近接・射撃・魔術+1　命中F値-1 (下限3)"]
[null,"アヴォイダー","回避+2　回避C値-1(下限16) 回避F値-1(下限3)"]
[null,"レジスター","抵抗+2　敵からの攻撃によるBS30%無効"]
[null,"ロバストネス",{"$f":"\"耐久+\"&CL+10","v":"耐久+10"}]
[null,"カレイジャス",{"$f":"\"精神+\"&CL+3","v":"精神+3"}]
[null,"ブロッカー",{"$f":"\"【物防】【魔防】+\"&INT(CL/3)&\" 「種別：庇」ｽｷﾙ 3/Main使用可 自身への「種別：回」のHP回復量+\"&CL","v":"【物防】【魔防】+0 「種別：庇」ｽｷﾙ 3/Main使用可 自身への「種別：回」のHP回復量+0"}]
[null,"ギャンブラー","1戦闘2回、判定直後に自身の判定を振り直せる"]
[null,"スピードスター","敏捷+8　移動コスト-1(ｻﾌﾞ下限1 ﾒｲﾝ下限5)"]
[null,"ヒーロー","BP上限値+2　全F値-2(下限3)"]
[]
[]
[null,"属性","値","修正"]
[null,"耐久",{"$f":"IF(MC=ﾀｲﾌﾟVL用!B6,ﾀｲﾌﾟVL用!C6+5,0)+IF(AND(SL>=3,SC=ﾀｲﾌﾟVL用!B6)=TRUE,ﾀｲﾌﾟVL用!C6+5,0)\n-IF(MC=ﾀｲﾌﾟVL用!B18,ﾀｲﾌﾟVL用!C18*2,0)-IF(AND(SL>=3,SC=ﾀｲﾌﾟVL用!B18)=TRUE,ﾀｲﾌﾟVL用!C18*2,0)","v":0},{"$f":"IF(C16=0,\"\",C16)","v":""}]
[null,"精神",{"$f":"IF(MC=ﾀｲﾌﾟVL用!B18,ﾀｲﾌﾟVL用!C18,0)+IF(AND(SL>=3,SC=ﾀｲﾌﾟVL用!B18)=TRUE,ﾀｲﾌﾟVL用!C18,0)\n+IF(MC=ﾀｲﾌﾟVL用!B20,ﾀｲﾌﾟVL用!C20+10,0)+IF(AND(SL>=3,SC=ﾀｲﾌﾟVL用!B20)=TRUE,ﾀｲﾌﾟVL用!C20+10,0)","v":0},""]
[null,"近",{"$f":"IF(MC=ﾀｲﾌﾟVL用!B7,1,0)+IF(AND(SL>=3,SC=ﾀｲﾌﾟVL用!B7)=TRUE,1,0)","v":0},""]
[null,"遠",{"$f":"IF(MC=ﾀｲﾌﾟVL用!B7,1,0)+IF(AND(SL>=3,SC=ﾀｲﾌﾟVL用!B7)=TRUE,1,0)","v":0},""]
[null,"炎",{"$f":"IF(MC=ﾀｲﾌﾟVL用!B10,-ROUNDUP(ﾀｲﾌﾟVL用!C10/2,0),0)+IF(AND(SL>=3,SC=ﾀｲﾌﾟVL用!B10)=TRUE,-ROUNDUP(ﾀｲﾌﾟVL用!C10/2,0),0)\n+IF(MC=ﾀｲﾌﾟVL用!B11,ROUNDUP(ﾀｲﾌﾟVL用!C11/4,0),0)+IF(AND(SL>=3,SC=ﾀｲﾌﾟVL用!B11)=TRUE,ROUNDUP(ﾀｲﾌﾟVL用!C11/4,0),0)\n+IF(MC=ﾀｲﾌﾟVL用!B7,1,0)+IF(AND(SL>=3,SC=ﾀｲﾌﾟVL用!B7)=TRUE,1,0)","v":0},""]
[null,"氷",{"$f":"IF(MC=ﾀｲﾌﾟVL用!B10,ROUNDUP(ﾀｲﾌﾟVL用!C10/6,0),0)+IF(AND(SL>=3,SC=ﾀｲﾌﾟVL用!B10)=TRUE,ROUNDUP(ﾀｲﾌﾟVL用!C10/6,0),0)\n+IF(MC=ﾀｲﾌﾟVL用!B11,ROUNDUP(ﾀｲﾌﾟVL用!C11/4,0),0)+IF(AND(SL>=3,SC=ﾀｲﾌﾟVL用!B11)=TRUE,ROUNDUP(ﾀｲﾌﾟVL用!C11/4,0),0)\n+IF(MC=ﾀｲﾌﾟVL用!B7,1,0)+IF(AND(SL>=3,SC=ﾀｲﾌﾟVL用!B7)=TRUE,1,0)","v":0},""]
[null,"水",{"$f":"IF(MC=ﾀｲﾌﾟVL用!B10,ROUNDUP(ﾀｲﾌﾟVL用!C10/6,0),0)+IF(AND(SL>=3,SC=ﾀｲﾌﾟVL用!B10)=TRUE,ROUNDUP(ﾀｲﾌﾟVL用!C10/6,0),0)\n+IF(MC=ﾀｲﾌﾟVL用!B11,-ROUNDUP(ﾀｲﾌﾟVL用!C11/2,0),0)+IF(AND(SL>=3,SC=ﾀｲﾌﾟVL用!B11)=TRUE,-ROUNDUP(ﾀｲﾌﾟVL用!C11/2,0),0)\n+IF(MC=ﾀｲﾌﾟVL用!B7,1,0)+IF(AND(SL>=3,SC=ﾀｲﾌﾟVL用!B7)=TRUE,1,0)","v":0},""]
[null,"雷",{"$f":"IF(MC=ﾀｲﾌﾟVL用!B7,1,0)+IF(AND(SL>=3,SC=ﾀｲﾌﾟVL用!B7)=TRUE,1,0)","v":0},""]
[null,"風",{"$f":"IF(MC=ﾀｲﾌﾟVL用!B10,ROUNDUP(ﾀｲﾌﾟVL用!C10/6,0),0)+IF(AND(SL>=3,SC=ﾀｲﾌﾟVL用!B10)=TRUE,ROUNDUP(ﾀｲﾌﾟVL用!C10/6,0),0)\n+IF(MC=ﾀｲﾌﾟVL用!B7,1,0)+IF(AND(SL>=3,SC=ﾀｲﾌﾟVL用!B7)=TRUE,1,0)","v":0},""]
[null,"光",{"$f":"IF(MC=ﾀｲﾌﾟVL用!B7,1,0)+IF(AND(SL>=3,SC=ﾀｲﾌﾟVL用!B7)=TRUE,1,0)","v":0},""]
[]
[]
[null,"種別","個数","判定"]
[null,"核",{"$f":"COUNTIF(CS!$AW$28:$AY$56,\"*\"&B29&\"*\")","v":0},{"$f":"IF(C29*2>ﾀｲﾌﾟVL用!C4,\"×\",\"○\")","v":"○"}]
[null,"交",{"$f":"COUNTIF(CS!$AW$28:$AY$56,\"*\"&B30&\"*\")","v":0},{"$f":"IF(C30*2>ﾀｲﾌﾟVL用!C5,\"×\",\"○\")","v":"○"}]
[null,"血",{"$f":"COUNTIF(CS!$AW$28:$AY$56,\"*\"&B31&\"*\")","v":0},{"$f":"IF(C31*2>ﾀｲﾌﾟVL用!C6,\"×\",\"○\")","v":"○"}]
[null,"色",{"$f":"COUNTIF(CS!$AW$28:$AY$56,\"*\"&B32&\"*\")","v":0},{"$f":"IF(C32*2>ﾀｲﾌﾟVL用!C7,\"×\",\"○\")","v":"○"}]
[null,"混",{"$f":"COUNTIF(CS!$AW$28:$AY$56,\"*\"&B33&\"*\")","v":0},{"$f":"IF(C33*2>ﾀｲﾌﾟVL用!C8,\"×\",\"○\")","v":"○"}]
[null,"雷",{"$f":"COUNTIF(CS!$AW$28:$AY$56,\"*\"&B34&\"*\")","v":0},{"$f":"IF(C34*2>ﾀｲﾌﾟVL用!C9,\"×\",\"○\")","v":"○"}]
[null,"氷",{"$f":"COUNTIF(CS!$AW$28:$AY$56,\"*\"&B35&\"*\")","v":0},{"$f":"IF(C35*2>ﾀｲﾌﾟVL用!C10,\"×\",\"○\")","v":"○"}]
[null,"炎",{"$f":"COUNTIF(CS!$AW$28:$AY$56,\"*\"&B36&\"*\")","v":0},{"$f":"IF(C36*2>ﾀｲﾌﾟVL用!C11,\"×\",\"○\")","v":"○"}]
[null,"光",{"$f":"COUNTIF(CS!$AW$28:$AY$56,\"*\"&B37&\"*\")","v":0},{"$f":"IF(C37*2>ﾀｲﾌﾟVL用!C12,\"×\",\"○\")","v":"○"}]
[null,"専",{"$f":"COUNTIF(CS!$AW$28:$AY$56,\"*\"&B38&\"*\")","v":0},{"$f":"IF(C38*2>ﾀｲﾌﾟVL用!C13,\"×\",\"○\")","v":"○"}]
[null,"幻",{"$f":"COUNTIF(CS!$AW$28:$AY$56,\"*\"&B39&\"*\")","v":0},{"$f":"IF(C39*2>ﾀｲﾌﾟVL用!C14,\"×\",\"○\")","v":"○"}]
[null,"物",{"$f":"COUNTIF(CS!$AW$28:$AY$56,\"*\"&B40&\"*\")","v":0},{"$f":"IF(C40*2>ﾀｲﾌﾟVL用!C15,\"×\",\"○\")","v":"○"}]
[null,"宝",{"$f":"COUNTIF(CS!$AW$28:$AY$56,\"*\"&B41&\"*\")","v":0},{"$f":"IF(C41*2>ﾀｲﾌﾟVL用!C16,\"×\",\"○\")","v":"○"}]
[null,"印",{"$f":"COUNTIF(CS!$AW$28:$AY$56,\"*\"&B42&\"*\")","v":0},{"$f":"IF(C42*2>ﾀｲﾌﾟVL用!C17,\"×\",\"○\")","v":"○"}]
[null,"士",{"$f":"COUNTIF(CS!$AW$28:$AY$56,\"*\"&B43&\"*\")","v":0},{"$f":"IF(C43*2>ﾀｲﾌﾟVL用!C18,\"×\",\"○\")","v":"○"}]
[null,"時",{"$f":"COUNTIF(CS!$AW$28:$AY$56,\"*\"&B44&\"*\")","v":0},{"$f":"IF(C44*2>ﾀｲﾌﾟVL用!C19,\"×\",\"○\")","v":"○"}]
[null,"虚",{"$f":"COUNTIF(CS!$AW$28:$AY$56,\"*\"&B45&\"*\")","v":0},{"$f":"IF(C45*2>ﾀｲﾌﾟVL用!C20,\"×\",\"○\")","v":"○"}]
[null,"命",{"$f":"COUNTIF(CS!$AW$28:$AY$56,\"*\"&B46&\"*\")","v":0},{"$f":"IF(C46*2>ﾀｲﾌﾟVL用!C21,\"×\",\"○\")","v":"○"}]
[null,"風",{"$f":"COUNTIF(CS!$AW$28:$AY$56,\"*\"&B47&\"*\")","v":0},{"$f":"IF(C47*2>ﾀｲﾌﾟVL用!C22,\"×\",\"○\")","v":"○"}]
[null,"水",{"$f":"COUNTIF(CS!$AW$28:$AY$56,\"*\"&B48&\"*\")","v":0},{"$f":"IF(C48*2>ﾀｲﾌﾟVL用!C23,\"×\",\"○\")","v":"○"}]
[]
[]
[null,"加護属性",{"$f":"IF(COUNTIFS(CS!AP28:AP57,\"*(炎)\")=1,\"炎\",IF(COUNTIFS(CS!AP28:AP57,\"*(氷)\")=1,\"氷\",IF(COUNTIFS(CS!AP28:AP57,\"*(水)\")=1,\"水\",IF(COUNTIFS(CS!AP28:AP57,\"*(雷)\")=1,\"雷\",IF(COUNTIFS(CS!AP28:AP57,\"*(風)\")=1,\"風\",IF(COUNTIFS(CS!AP28:AP57,\"*(光)\")=1,\"光\",\"●\"))))))","v":"●"},null,null,"射近","射程","属性","コスト"]
[null,"CI近",{"$f":"COUNTIFS(CS!$AP$28:$AV$57,スキルVL用!C129)","v":0},null,"近接武器",{"$f":"IF(OR(武器名=\"四方手裏剣\",武器名=\"飛苦無\")=TRUE,\"○\",\"×\")","v":"×"},{"$f":"IF($F$52=\"×\",CS!V18,\"至近\")","v":"超至近"},{"$f":"IF($F$52=\"×\",CS!Y18,\"近\")","v":"近"},{"$f":"IF($F$52=\"×\",CS!AB18,10)","v":8}]
[null,"CI炎",{"$f":"COUNTIFS(CS!$AP$28:$AV$57,スキルVL用!C130)","v":0}]
[null,"CI氷",{"$f":"COUNTIFS(CS!$AP$28:$AV$57,スキルVL用!C131)","v":0}]
[null,"CI水",{"$f":"COUNTIFS(CS!$AP$28:$AV$57,スキルVL用!C132)","v":0}]
[null,"CI雷",{"$f":"COUNTIFS(CS!$AP$28:$AV$57,スキルVL用!C133)","v":0}]
[null,"CI風",{"$f":"COUNTIFS(CS!$AP$28:$AV$57,スキルVL用!C134)","v":0}]
[null,"CI光",{"$f":"COUNTIFS(CS!$AP$28:$AV$57,スキルVL用!C135)","v":0}]
[null,{"$f":"IF(C52=1,\"〈近〉\",\"\")&IF(C53=1,\"〈炎〉\",\"\")&IF(C54=1,\"〈氷〉\",\"\")&IF(C55=1,\"〈水〉\",\"\")&IF(C56=1,\"〈雷〉\",\"\")&IF(C57=1,\"〈風〉\",\"\")&IF(C58=1,\"〈光〉\",\"\")","v":""}]
[]
[null,"基本スキル","個数","番号"]
[null,"近接強化",{"$f":"COUNTIFS(CS!$AP$28:$AV$57,ｽﾀｲﾙVL用!B62)","v":0},{"$f":"IF(CS!$AP$28=ｽﾀｲﾙVL用!B62,1,IF(CS!$AP$30=ｽﾀｲﾙVL用!B62,2,IF(CS!$AP$32=ｽﾀｲﾙVL用!B62,3,IF(CS!$AP$34=ｽﾀｲﾙVL用!B62,4,IF(CS!$AP$36=ｽﾀｲﾙVL用!B62,5,IF(CS!$AP$38=ｽﾀｲﾙVL用!B62,6,IF(CS!$AP$40=ｽﾀｲﾙVL用!B62,7,IF(CS!$AP$42=ｽﾀｲﾙVL用!B62,8,IF(CS!$AP$44=ｽﾀｲﾙVL用!B62,9,IF(CS!$AP$46=ｽﾀｲﾙVL用!B62,10,IF(CS!$AP$48=ｽﾀｲﾙVL用!B62,11,IF(CS!$AP$50=ｽﾀｲﾙVL用!B62,12,IF(CS!$AP$52=ｽﾀｲﾙVL用!B62,13,IF(CS!$AP$54=ｽﾀｲﾙVL用!B62,14,IF(CS!$AP$56=ｽﾀｲﾙVL用!B62,15,)))))))))))))))","v":0}]
[null,"射撃強化",{"$f":"COUNTIFS(CS!$AP$28:$AV$57,ｽﾀｲﾙVL用!B63)","v":0},{"$f":"IF(CS!$AP$28=ｽﾀｲﾙVL用!B63,1,IF(CS!$AP$30=ｽﾀｲﾙVL用!B63,2,IF(CS!$AP$32=ｽﾀｲﾙVL用!B63,3,IF(CS!$AP$34=ｽﾀｲﾙVL用!B63,4,IF(CS!$AP$36=ｽﾀｲﾙVL用!B63,5,IF(CS!$AP$38=ｽﾀｲﾙVL用!B63,6,IF(CS!$AP$40=ｽﾀｲﾙVL用!B63,7,IF(CS!$AP$42=ｽﾀｲﾙVL用!B63,8,IF(CS!$AP$44=ｽﾀｲﾙVL用!B63,9,IF(CS!$AP$46=ｽﾀｲﾙVL用!B63,10,IF(CS!$AP$48=ｽﾀｲﾙVL用!B63,11,IF(CS!$AP$50=ｽﾀｲﾙVL用!B63,12,IF(CS!$AP$52=ｽﾀｲﾙVL用!B63,13,IF(CS!$AP$54=ｽﾀｲﾙVL用!B63,14,IF(CS!$AP$56=ｽﾀｲﾙVL用!B63,15,)))))))))))))))","v":0}]
[null,"魔術強化",{"$f":"COUNTIFS(CS!$AP$28:$AV$57,ｽﾀｲﾙVL用!B64)","v":0},{"$f":"IF(CS!$AP$28=ｽﾀｲﾙVL用!B64,1,IF(CS!$AP$30=ｽﾀｲﾙVL用!B64,2,IF(CS!$AP$32=ｽﾀｲﾙVL用!B64,3,IF(CS!$AP$34=ｽﾀｲﾙVL用!B64,4,IF(CS!$AP$36=ｽﾀｲﾙVL用!B64,5,IF(CS!$AP$38=ｽﾀｲﾙVL用!B64,6,IF(CS!$AP$40=ｽﾀｲﾙVL用!B64,7,IF(CS!$AP$42=ｽﾀｲﾙVL用!B64,8,IF(CS!$AP$44=ｽﾀｲﾙVL用!B64,9,IF(CS!$AP$46=ｽﾀｲﾙVL用!B64,10,IF(CS!$AP$48=ｽﾀｲﾙVL用!B64,11,IF(CS!$AP$50=ｽﾀｲﾙVL用!B64,12,IF(CS!$AP$52=ｽﾀｲﾙVL用!B64,13,IF(CS!$AP$54=ｽﾀｲﾙVL用!B64,14,IF(CS!$AP$56=ｽﾀｲﾙVL用!B64,15,)))))))))))))))","v":0}]
[null,"回避強化",{"$f":"COUNTIFS(CS!$AP$28:$AV$57,ｽﾀｲﾙVL用!B65)","v":0},{"$f":"IF(CS!$AP$28=ｽﾀｲﾙVL用!B65,1,IF(CS!$AP$30=ｽﾀｲﾙVL用!B65,2,IF(CS!$AP$32=ｽﾀｲﾙVL用!B65,3,IF(CS!$AP$34=ｽﾀｲﾙVL用!B65,4,IF(CS!$AP$36=ｽﾀｲﾙVL用!B65,5,IF(CS!$AP$38=ｽﾀｲﾙVL用!B65,6,IF(CS!$AP$40=ｽﾀｲﾙVL用!B65,7,IF(CS!$AP$42=ｽﾀｲﾙVL用!B65,8,IF(CS!$AP$44=ｽﾀｲﾙVL用!B65,9,IF(CS!$AP$46=ｽﾀｲﾙVL用!B65,10,IF(CS!$AP$48=ｽﾀｲﾙVL用!B65,11,IF(CS!$AP$50=ｽﾀｲﾙVL用!B65,12,IF(CS!$AP$52=ｽﾀｲﾙVL用!B65,13,IF(CS!$AP$54=ｽﾀｲﾙVL用!B65,14,IF(CS!$AP$56=ｽﾀｲﾙVL用!B65,15,)))))))))))))))","v":0}]
[null,"抵抗強化",{"$f":"COUNTIFS(CS!$AP$28:$AV$57,ｽﾀｲﾙVL用!B66)","v":0},{"$f":"IF(CS!$AP$28=ｽﾀｲﾙVL用!B66,1,IF(CS!$AP$30=ｽﾀｲﾙVL用!B66,2,IF(CS!$AP$32=ｽﾀｲﾙVL用!B66,3,IF(CS!$AP$34=ｽﾀｲﾙVL用!B66,4,IF(CS!$AP$36=ｽﾀｲﾙVL用!B66,5,IF(CS!$AP$38=ｽﾀｲﾙVL用!B66,6,IF(CS!$AP$40=ｽﾀｲﾙVL用!B66,7,IF(CS!$AP$42=ｽﾀｲﾙVL用!B66,8,IF(CS!$AP$44=ｽﾀｲﾙVL用!B66,9,IF(CS!$AP$46=ｽﾀｲﾙVL用!B66,10,IF(CS!$AP$48=ｽﾀｲﾙVL用!B66,11,IF(CS!$AP$50=ｽﾀｲﾙVL用!B66,12,IF(CS!$AP$52=ｽﾀｲﾙVL用!B66,13,IF(CS!$AP$54=ｽﾀｲﾙVL用!B66,14,IF(CS!$AP$56=ｽﾀｲﾙVL用!B66,15,)))))))))))))))","v":0}]
[null,"敏捷強化",{"$f":"COUNTIFS(CS!$AP$28:$AV$57,ｽﾀｲﾙVL用!B67)","v":0},{"$f":"IF(CS!$AP$28=ｽﾀｲﾙVL用!B67,1,IF(CS!$AP$30=ｽﾀｲﾙVL用!B67,2,IF(CS!$AP$32=ｽﾀｲﾙVL用!B67,3,IF(CS!$AP$34=ｽﾀｲﾙVL用!B67,4,IF(CS!$AP$36=ｽﾀｲﾙVL用!B67,5,IF(CS!$AP$38=ｽﾀｲﾙVL用!B67,6,IF(CS!$AP$40=ｽﾀｲﾙVL用!B67,7,IF(CS!$AP$42=ｽﾀｲﾙVL用!B67,8,IF(CS!$AP$44=ｽﾀｲﾙVL用!B67,9,IF(CS!$AP$46=ｽﾀｲﾙVL用!B67,10,IF(CS!$AP$48=ｽﾀｲﾙVL用!B67,11,IF(CS!$AP$50=ｽﾀｲﾙVL用!B67,12,IF(CS!$AP$52=ｽﾀｲﾙVL用!B67,13,IF(CS!$AP$54=ｽﾀｲﾙVL用!B67,14,IF(CS!$AP$56=ｽﾀｲﾙVL用!B67,15,)))))))))))))))","v":0}]
[null,"耐久強化",{"$f":"COUNTIFS(CS!$AP$28:$AV$57,ｽﾀｲﾙVL用!B68)","v":0},{"$f":"IF(CS!$AP$28=ｽﾀｲﾙVL用!B68,1,IF(CS!$AP$30=ｽﾀｲﾙVL用!B68,2,IF(CS!$AP$32=ｽﾀｲﾙVL用!B68,3,IF(CS!$AP$34=ｽﾀｲﾙVL用!B68,4,IF(CS!$AP$36=ｽﾀｲﾙVL用!B68,5,IF(CS!$AP$38=ｽﾀｲﾙVL用!B68,6,IF(CS!$AP$40=ｽﾀｲﾙVL用!B68,7,IF(CS!$AP$42=ｽﾀｲﾙVL用!B68,8,IF(CS!$AP$44=ｽﾀｲﾙVL用!B68,9,IF(CS!$AP$46=ｽﾀｲﾙVL用!B68,10,IF(CS!$AP$48=ｽﾀｲﾙVL用!B68,11,IF(CS!$AP$50=ｽﾀｲﾙVL用!B68,12,IF(CS!$AP$52=ｽﾀｲﾙVL用!B68,13,IF(CS!$AP$54=ｽﾀｲﾙVL用!B68,14,IF(CS!$AP$56=ｽﾀｲﾙVL用!B68,15,)))))))))))))))","v":0}]
[null,"精神強化",{"$f":"COUNTIFS(CS!$AP$28:$AV$57,ｽﾀｲﾙVL用!B69)","v":0},{"$f":"IF(CS!$AP$28=ｽﾀｲﾙVL用!B69,1,IF(CS!$AP$30=ｽﾀｲﾙVL用!B69,2,IF(CS!$AP$32=ｽﾀｲﾙVL用!B69,3,IF(CS!$AP$34=ｽﾀｲﾙVL用!B69,4,IF(CS!$AP$36=ｽﾀｲﾙVL用!B69,5,IF(CS!$AP$38=ｽﾀｲﾙVL用!B69,6,IF(CS!$AP$40=ｽﾀｲﾙVL用!B69,7,IF(CS!$AP$42=ｽﾀｲﾙVL用!B69,8,IF(CS!$AP$44=ｽﾀｲﾙVL用!B69,9,IF(CS!$AP$46=ｽﾀｲﾙVL用!B69,10,IF(CS!$AP$48=ｽﾀｲﾙVL用!B69,11,IF(CS!$AP$50=ｽﾀｲﾙVL用!B69,12,IF(CS!$AP$52=ｽﾀｲﾙVL用!B69,13,IF(CS!$AP$54=ｽﾀｲﾙVL用!B69,14,IF(CS!$AP$56=ｽﾀｲﾙVL用!B69,15,)))))))))))))))","v":0}]
[null,"攻撃強化",{"$f":"COUNTIFS(CS!$AP$28:$AV$57,ｽﾀｲﾙVL用!B70)","v":0},{"$f":"IF(CS!$AP$28=ｽﾀｲﾙVL用!B70,1,IF(CS!$AP$30=ｽﾀｲﾙVL用!B70,2,IF(CS!$AP$32=ｽﾀｲﾙVL用!B70,3,IF(CS!$AP$34=ｽﾀｲﾙVL用!B70,4,IF(CS!$AP$36=ｽﾀｲﾙVL用!B70,5,IF(CS!$AP$38=ｽﾀｲﾙVL用!B70,6,IF(CS!$AP$40=ｽﾀｲﾙVL用!B70,7,IF(CS!$AP$42=ｽﾀｲﾙVL用!B70,8,IF(CS!$AP$44=ｽﾀｲﾙVL用!B70,9,IF(CS!$AP$46=ｽﾀｲﾙVL用!B70,10,IF(CS!$AP$48=ｽﾀｲﾙVL用!B70,11,IF(CS!$AP$50=ｽﾀｲﾙVL用!B70,12,IF(CS!$AP$52=ｽﾀｲﾙVL用!B70,13,IF(CS!$AP$54=ｽﾀｲﾙVL用!B70,14,IF(CS!$AP$56=ｽﾀｲﾙVL用!B70,15,)))))))))))))))","v":0}]
[null,"防御強化",{"$f":"COUNTIFS(CS!$AP$28:$AV$57,ｽﾀｲﾙVL用!B71)","v":0},{"$f":"IF(CS!$AP$28=ｽﾀｲﾙVL用!B71,1,IF(CS!$AP$30=ｽﾀｲﾙVL用!B71,2,IF(CS!$AP$32=ｽﾀｲﾙVL用!B71,3,IF(CS!$AP$34=ｽﾀｲﾙVL用!B71,4,IF(CS!$AP$36=ｽﾀｲﾙVL用!B71,5,IF(CS!$AP$38=ｽﾀｲﾙVL用!B71,6,IF(CS!$AP$40=ｽﾀｲﾙVL用!B71,7,IF(CS!$AP$42=ｽﾀｲﾙVL用!B71,8,IF(CS!$AP$44=ｽﾀｲﾙVL用!B71,9,IF(CS!$AP$46=ｽﾀｲﾙVL用!B71,10,IF(CS!$AP$48=ｽﾀｲﾙVL用!B71,11,IF(CS!$AP$50=ｽﾀｲﾙVL用!B71,12,IF(CS!$AP$52=ｽﾀｲﾙVL用!B71,13,IF(CS!$AP$54=ｽﾀｲﾙVL用!B71,14,IF(CS!$AP$56=ｽﾀｲﾙVL用!B71,15,)))))))))))))))","v":0}]
[null,"灼熱耐性+",{"$f":"COUNTIFS(CS!$AP$28:$AV$57,ｽﾀｲﾙVL用!B72)","v":0},{"$f":"IF(CS!$AP$28=ｽﾀｲﾙVL用!B72,1,IF(CS!$AP$30=ｽﾀｲﾙVL用!B72,2,IF(CS!$AP$32=ｽﾀｲﾙVL用!B72,3,IF(CS!$AP$34=ｽﾀｲﾙVL用!B72,4,IF(CS!$AP$36=ｽﾀｲﾙVL用!B72,5,IF(CS!$AP$38=ｽﾀｲﾙVL用!B72,6,IF(CS!$AP$40=ｽﾀｲﾙVL用!B72,7,IF(CS!$AP$42=ｽﾀｲﾙVL用!B72,8,IF(CS!$AP$44=ｽﾀｲﾙVL用!B72,9,IF(CS!$AP$46=ｽﾀｲﾙVL用!B72,10,IF(CS!$AP$48=ｽﾀｲﾙVL用!B72,11,IF(CS!$AP$50=ｽﾀｲﾙVL用!B72,12,IF(CS!$AP$52=ｽﾀｲﾙVL用!B72,13,IF(CS!$AP$54=ｽﾀｲﾙVL用!B72,14,IF(CS!$AP$56=ｽﾀｲﾙVL用!B72,15,)))))))))))))))","v":0}]
[null,"吹雪耐性+",{"$f":"COUNTIFS(CS!$AP$28:$AV$57,ｽﾀｲﾙVL用!B73)","v":0},{"$f":"IF(CS!$AP$28=ｽﾀｲﾙVL用!B73,1,IF(CS!$AP$30=ｽﾀｲﾙVL用!B73,2,IF(CS!$AP$32=ｽﾀｲﾙVL用!B73,3,IF(CS!$AP$34=ｽﾀｲﾙVL用!B73,4,IF(CS!$AP$36=ｽﾀｲﾙVL用!B73,5,IF(CS!$AP$38=ｽﾀｲﾙVL用!B73,6,IF(CS!$AP$40=ｽﾀｲﾙVL用!B73,7,IF(CS!$AP$42=ｽﾀｲﾙVL用!B73,8,IF(CS!$AP$44=ｽﾀｲﾙVL用!B73,9,IF(CS!$AP$46=ｽﾀｲﾙVL用!B73,10,IF(CS!$AP$48=ｽﾀｲﾙVL用!B73,11,IF(CS!$AP$50=ｽﾀｲﾙVL用!B73,12,IF(CS!$AP$52=ｽﾀｲﾙVL用!B73,13,IF(CS!$AP$54=ｽﾀｲﾙVL用!B73,14,IF(CS!$AP$56=ｽﾀｲﾙVL用!B73,15,)))))))))))))))","v":0}]
[null,"激流耐性+",{"$f":"COUNTIFS(CS!$AP$28:$AV$57,ｽﾀｲﾙVL用!B74)","v":0},{"$f":"IF(CS!$AP$28=ｽﾀｲﾙVL用!B74,1,IF(CS!$AP$30=ｽﾀｲﾙVL用!B74,2,IF(CS!$AP$32=ｽﾀｲﾙVL用!B74,3,IF(CS!$AP$34=ｽﾀｲﾙVL用!B74,4,IF(CS!$AP$36=ｽﾀｲﾙVL用!B74,5,IF(CS!$AP$38=ｽﾀｲﾙVL用!B74,6,IF(CS!$AP$40=ｽﾀｲﾙVL用!B74,7,IF(CS!$AP$42=ｽﾀｲﾙVL用!B74,8,IF(CS!$AP$44=ｽﾀｲﾙVL用!B74,9,IF(CS!$AP$46=ｽﾀｲﾙVL用!B74,10,IF(CS!$AP$48=ｽﾀｲﾙVL用!B74,11,IF(CS!$AP$50=ｽﾀｲﾙVL用!B74,12,IF(CS!$AP$52=ｽﾀｲﾙVL用!B74,13,IF(CS!$AP$54=ｽﾀｲﾙVL用!B74,14,IF(CS!$AP$56=ｽﾀｲﾙVL用!B74,15,)))))))))))))))","v":0}]
[null,"雷撃耐性+",{"$f":"COUNTIFS(CS!$AP$28:$AV$57,ｽﾀｲﾙVL用!B75)","v":0},{"$f":"IF(CS!$AP$28=ｽﾀｲﾙVL用!B75,1,IF(CS!$AP$30=ｽﾀｲﾙVL用!B75,2,IF(CS!$AP$32=ｽﾀｲﾙVL用!B75,3,IF(CS!$AP$34=ｽﾀｲﾙVL用!B75,4,IF(CS!$AP$36=ｽﾀｲﾙVL用!B75,5,IF(CS!$AP$38=ｽﾀｲﾙVL用!B75,6,IF(CS!$AP$40=ｽﾀｲﾙVL用!B75,7,IF(CS!$AP$42=ｽﾀｲﾙVL用!B75,8,IF(CS!$AP$44=ｽﾀｲﾙVL用!B75,9,IF(CS!$AP$46=ｽﾀｲﾙVL用!B75,10,IF(CS!$AP$48=ｽﾀｲﾙVL用!B75,11,IF(CS!$AP$50=ｽﾀｲﾙVL用!B75,12,IF(CS!$AP$52=ｽﾀｲﾙVL用!B75,13,IF(CS!$AP$54=ｽﾀｲﾙVL用!B75,14,IF(CS!$AP$56=ｽﾀｲﾙVL用!B75,15,)))))))))))))))","v":0}]
[null,"風刃耐性+",{"$f":"COUNTIFS(CS!$AP$28:$AV$57,ｽﾀｲﾙVL用!B76)","v":0},{"$f":"IF(CS!$AP$28=ｽﾀｲﾙVL用!B76,1,IF(CS!$AP$30=ｽﾀｲﾙVL用!B76,2,IF(CS!$AP$32=ｽﾀｲﾙVL用!B76,3,IF(CS!$AP$34=ｽﾀｲﾙVL用!B76,4,IF(CS!$AP$36=ｽﾀｲﾙVL用!B76,5,IF(CS!$AP$38=ｽﾀｲﾙVL用!B76,6,IF(CS!$AP$40=ｽﾀｲﾙVL用!B76,7,IF(CS!$AP$42=ｽﾀｲﾙVL用!B76,8,IF(CS!$AP$44=ｽﾀｲﾙVL用!B76,9,IF(CS!$AP$46=ｽﾀｲﾙVL用!B76,10,IF(CS!$AP$48=ｽﾀｲﾙVL用!B76,11,IF(CS!$AP$50=ｽﾀｲﾙVL用!B76,12,IF(CS!$AP$52=ｽﾀｲﾙVL用!B76,13,IF(CS!$AP$54=ｽﾀｲﾙVL用!B76,14,IF(CS!$AP$56=ｽﾀｲﾙVL用!B76,15,)))))))))))))))","v":0}]
[null,"閃光耐性+",{"$f":"COUNTIFS(CS!$AP$28:$AV$57,ｽﾀｲﾙVL用!B77)","v":0},{"$f":"IF(CS!$AP$28=ｽﾀｲﾙVL用!B77,1,IF(CS!$AP$30=ｽﾀｲﾙVL用!B77,2,IF(CS!$AP$32=ｽﾀｲﾙVL用!B77,3,IF(CS!$AP$34=ｽﾀｲﾙVL用!B77,4,IF(CS!$AP$36=ｽﾀｲﾙVL用!B77,5,IF(CS!$AP$38=ｽﾀｲﾙVL用!B77,6,IF(CS!$AP$40=ｽﾀｲﾙVL用!B77,7,IF(CS!$AP$42=ｽﾀｲﾙVL用!B77,8,IF(CS!$AP$44=ｽﾀｲﾙVL用!B77,9,IF(CS!$AP$46=ｽﾀｲﾙVL用!B77,10,IF(CS!$AP$48=ｽﾀｲﾙVL用!B77,11,IF(CS!$AP$50=ｽﾀｲﾙVL用!B77,12,IF(CS!$AP$52=ｽﾀｲﾙVL用!B77,13,IF(CS!$AP$54=ｽﾀｲﾙVL用!B77,14,IF(CS!$AP$56=ｽﾀｲﾙVL用!B77,15,)))))))))))))))","v":0}]
[null,"セカンドチャンス",{"$f":"COUNTIFS(CS!$AP$28:$AV$57,ｽﾀｲﾙVL用!B78)","v":0},{"$f":"IF(CS!$AP$28=ｽﾀｲﾙVL用!B78,1,IF(CS!$AP$30=ｽﾀｲﾙVL用!B78,2,IF(CS!$AP$32=ｽﾀｲﾙVL用!B78,3,IF(CS!$AP$34=ｽﾀｲﾙVL用!B78,4,IF(CS!$AP$36=ｽﾀｲﾙVL用!B78,5,IF(CS!$AP$38=ｽﾀｲﾙVL用!B78,6,IF(CS!$AP$40=ｽﾀｲﾙVL用!B78,7,IF(CS!$AP$42=ｽﾀｲﾙVL用!B78,8,IF(CS!$AP$44=ｽﾀｲﾙVL用!B78,9,IF(CS!$AP$46=ｽﾀｲﾙVL用!B78,10,IF(CS!$AP$48=ｽﾀｲﾙVL用!B78,11,IF(CS!$AP$50=ｽﾀｲﾙVL用!B78,12,IF(CS!$AP$52=ｽﾀｲﾙVL用!B78,13,IF(CS!$AP$54=ｽﾀｲﾙVL用!B78,14,IF(CS!$AP$56=ｽﾀｲﾙVL用!B78,15,)))))))))))))))","v":0}]

{"sheet":"武器VL用","index":7,"n_rows":86,"n_cols":51,"rows_kept":86,"cut":false,"hidden":true,"merged":[]}
[null,"武器","種別","射程","属性","価格","Cost","肉体","反射","集中","知識","感覚","意志","洞察","幸運","近接","射撃","回避","魔術","抵抗","敏捷","物攻","魔攻","物防","魔防","耐久","精神","近","遠","炎","氷","水","雷","風","光","命C","命C↑","命C↓","命F","命F↑","命F↓","回C","回C↑","回C↓","回F","回F↑","回F↓","対決","回復","配置","特殊効果"]
[null,"素手","近接","超至近","近",0,8,null,null,null,null,null,null,null,null,-2,null,null,-2,null,null,5,null,null,null,null,null,null,null,null,null,null,null,null,null,null,null,null,null,null,null,null,null,null,null,null,null,null,null,null,"[素手武器] 武器未装備時の参照データ"]
[null,"アイアンソード","近接","超至近","近",10,9,null,null,null,null,null,null,null,null,null,null,null,null,null,null,10,null,null,null,null,null,1,-1,null,null,null,null,null,null,null,null,null,null,null,null,null,null,null,null,null,null,null,null,null,"[剣]"]
[null,"バスタードソード","近接","超至近","近",10,10,3,null,null,null,null,null,null,null,-2,null,null,-2,null,-1,26,13,null,null,null,null,1,-1,null,null,null,null,null,null,null,null,null,null,null,null,null,null,null,null,null,null,null,null,null,"[剣] 【肉体】+3 <適用済>"]
[null,"スペルグローブ","近接","超至近","近",10,10,null,null,null,null,null,null,null,null,null,null,null,null,null,null,7,4,null,null,null,null,null,null,null,null,null,null,null,null,null,null,null,null,null,null,null,null,null,null,null,null,null,null,null,"[魔法武器(遠隔/遠)]"]
[null,"ロングソード","近接","至近","近",15,11,2,null,null,null,null,null,null,null,-1,null,null,-1,null,-2,20,9,null,null,null,null,1,null,null,null,null,null,null,null,null,null,null,null,null,null,null,null,null,null,null,null,null,null,null,"[剣] 【肉体】+2 <適用済>"]
[null,"マジックシールド","近接","至近","近",20,10,null,null,2,-2,null,null,null,null,null,null,null,null,1,-4,12,4,6,4,null,null,1,1,1,1,null,null,null,null,null,null,null,null,null,null,null,null,null,null,null,null,null,null,null,"【集中】+2 【知識】+2 <適用済>"]
[null,"メタルクロー","近接","超至近","近",20,10,3,null,null,null,null,null,null,null,null,null,null,null,null,1,15,5,null,null,null,null,1,null,null,null,null,-1,null,null,null,null,null,null,null,null,null,null,null,null,null,null,null,null,null,"[素手武器] 【肉体】+3 <適用済>"]
[null,"パワードナックル","近接","超至近","近",20,10,1,null,null,null,null,null,null,null,-1,null,null,-1,null,2,24,15,null,null,null,null,1,null,null,null,null,null,null,null,null,null,null,null,null,null,null,null,null,null,null,null,null,null,null,"[素手武器] 【肉体】+1 <適用済>"]
[null,"鉄槌","近接","超至近","近",20,11,null,null,null,null,null,null,null,null,-2,null,-1,-2,null,-4,33,22,null,null,null,null,1,-1,null,null,null,null,null,null,-1,null,16,null,null,null,null,null,null,null,null,null,null,null,null,"命中C値-1(下限16)<適用済>"]
[null,"バトルウィップ","近接","至近","近",20,10,null,null,null,null,null,null,null,null,null,null,null,null,null,1,14,7,null,null,null,null,null,null,null,null,null,null,null,null,null,null,null,null,null,null,null,null,null,null,null,null,null,null,null,"通常攻撃時5MPで「射程：遠隔」に変更可"]
[null,"マジックワンド","近接","超至近","近",20,10,null,null,null,null,null,null,null,null,-1,null,null,null,null,3,10,16,null,null,null,null,null,null,null,null,null,null,null,null,null,null,null,null,null,null,null,null,null,null,null,null,null,null,null,"[魔法武器(遠隔/遠)]"]
[null,"ファイアワンド","近接","超至近","近",25,10,null,null,null,null,null,null,null,null,-1,null,null,1,null,null,6,10,null,null,null,3,null,null,2,1,-2,null,null,null,null,null,null,null,null,null,null,null,null,null,null,null,null,null,null,"[魔法武器(遠隔/炎)]"]
[null,"フリーズワンド","近接","超至近","近",25,10,null,null,null,null,null,null,null,null,-1,null,null,1,null,null,6,10,null,null,5,null,null,null,-2,1,1,null,null,null,null,null,null,null,null,null,null,null,null,null,null,null,null,null,null,"[魔法武器(遠隔/氷)]"]
[null,"サンダーワンド","近接","超至近","近",25,10,null,null,null,null,null,null,null,null,-1,null,null,1,null,2,6,10,null,null,null,null,null,null,null,null,null,2,-2,null,null,null,null,null,null,null,null,null,null,null,null,null,null,null,null,"[魔法武器(遠隔/雷)]"]
[null,"鋼鉄剣 -玉鋼-","近接","超至近","近",30,10,2,null,2,null,null,null,null,null,null,null,null,null,null,-2,19,9,null,null,3,null,1,1,null,null,null,null,null,null,null,null,null,null,null,null,null,null,null,null,null,null,null,null,null,"[剣] 【肉体】+2 【集中】+2 ＜済＞"]
[null,"マン・ゴーシュ","近接","至近","近",30,9,null,4,null,null,null,null,null,null,null,null,1,null,null,2,14,6,null,null,null,null,null,null,null,null,null,null,null,null,null,null,null,null,null,null,null,null,null,null,null,null,null,null,null,"[剣] 【反射】+4 ＜済＞"]
[null,"デスサイズ","近接","至近","近",30,12,null,null,3,null,null,null,null,null,null,null,-1,null,null,-3,20,11,null,null,null,null,1,2,null,null,null,null,null,null,null,null,null,null,null,null,null,null,null,null,null,null,null,null,null,"通常攻撃の与ダメージ+2D10 【集中】+3＜済＞"]
[null,"強化対魔護符","近接","至近","近",30,10,null,null,null,null,null,null,null,null,null,null,null,null,null,1,12,15,null,null,null,null,-1,-1,null,null,null,null,null,2,null,null,null,null,null,null,null,null,null,null,null,null,null,null,null,"[魔法武器(遠隔/遠)] 封印無効"]
[null,"祝福の杖","近接","至近","近",35,11,null,null,null,null,null,null,null,null,null,null,null,null,null,-2,17,15,null,null,null,4,null,null,null,null,null,null,null,2,null,null,null,-1,null,4,null,null,null,null,null,null,null,null,null,"[魔法武器(遠隔/遠)] 命中F値-1(下限4)＜済＞"]
[null,"業物：烈風","近接","超至近","風",40,10,null,null,3,null,null,null,null,null,null,null,null,null,null,2,21,11,null,null,null,null,1,null,null,null,null,-2,3,null,null,null,null,null,null,null,null,null,null,null,null,null,null,null,null,"[剣] 【集中】+3 ＜済＞"]
[null,"モーニングスター","近接","至近","遠",40,10,null,null,null,null,null,null,null,null,null,null,null,null,null,null,17,16,null,null,null,null,1,1,null,null,null,null,null,null,null,null,null,null,null,null,null,null,null,null,null,null,1,null,null,"「判定値：対決」の判定達成値+1 ＜済＞"]
[null,"ホーリーワンド","近接","至近","光",40,11,null,null,null,null,null,null,null,null,null,null,null,1,null,1,12,10,null,null,null,null,null,null,null,null,null,null,null,3,null,null,null,null,null,null,null,null,null,null,null,null,null,5,null,"[魔法武器(遠隔/光)] 回ｽｷﾙ回復量+5 ＜済＞"]
[null,"ルーンランス","近接","至近","光",45,12,null,null,null,null,null,null,null,null,null,null,-1,null,null,null,22,5,null,null,null,null,null,null,1,1,1,1,1,1,null,null,null,null,null,null,null,null,null,null,null,null,null,null,null,"「種別：魔」ｽｷﾙによる攻撃の与ダメージ+2D10"]
[null,"アンプリファー","近接","超至近","近",45,12,null,null,null,null,null,null,null,null,null,null,null,1,null,null,20,23,null,null,null,6,-1,-1,-1,-1,-1,-1,-1,-1,null,null,null,2,8,null,null,null,null,null,null,null,null,null,null,"[魔法武器(遠隔/遠)] 命中F値+2(上限8)＜済＞"]
[null,"魔法剣アスタリスク","近接","超至近","近",50,11,null,null,3,null,null,null,null,null,null,null,null,null,1,null,25,18,null,null,null,3,1,1,1,1,null,1,null,null,null,null,null,null,null,null,null,null,null,null,null,null,null,null,null,"[剣] [魔法武器(遠隔/近)] 【集中】+3 ＜済＞"]
[null,"紫電","近接","超至近","雷",50,8,null,3,null,null,null,null,null,null,1,null,null,null,null,2,18,13,null,null,null,null,-1,-2,null,null,null,3,-3,1,null,null,null,null,null,null,null,null,null,null,null,null,null,null,null,"【反射】+3 ＜済＞"]
[null,"魔断チェーンソー","近接","超至近","近",55,14,4,null,null,null,null,null,null,null,null,null,-1,null,null,-3,32,21,null,null,5,null,2,1,null,null,null,null,null,null,-1,null,16,2,8,null,null,null,null,null,null,null,null,null,null,"【肉体】+4 命中C値-1(下限16)F値+2(上限8)<済>"]
[null,"ジュエルスタッフ","近接","超至近","近",55,12,null,null,null,null,null,null,null,null,null,null,null,2,null,null,14,9,null,null,null,3,-1,-1,null,null,null,null,null,null,null,null,null,null,null,null,null,null,null,null,null,null,null,null,null,"[魔法武器(遠隔/遠)]"]
[null,"コールドフィスト","近接","超至近","氷",60,9,2,null,null,null,null,null,null,null,-1,null,null,null,null,2,38,25,null,null,null,null,1,-1,-3,3,1,null,null,null,null,null,null,null,null,null,null,null,null,null,null,null,null,null,null,"[素手武器] 【肉体】+2 ＜済＞"]
[null,"スターセイバー","近接","超至近","光",60,10,null,null,null,null,null,null,null,null,null,null,null,null,null,null,30,18,null,null,null,null,1,null,null,null,null,1,null,2,null,null,null,null,null,null,null,null,null,null,null,null,null,null,null,"[剣] 呪い無効"]
[null,"フレアアックス","近接","超至近","炎",60,11,null,null,null,null,null,null,null,null,null,null,null,null,null,-2,33,19,null,null,null,null,null,null,2,2,-3,null,null,null,null,null,null,null,null,null,null,null,null,null,null,null,null,null,null,"凍結無効"]
[null,"スターティンクル","近接","超至近","光",65,12,null,null,null,2,null,null,null,-2,null,null,null,1,null,1,12,24,null,null,null,null,null,null,null,null,null,null,1,1,null,null,null,null,null,null,null,null,null,null,null,null,null,null,null,"【知識】+2　【幸運】+2 ＜済＞"]
[null,"神秘の水球","近接","超至近","光",70,12,null,null,null,null,null,null,null,null,null,null,1,1,null,null,6,26,null,null,null,null,-2,null,1,1,3,null,null,null,null,null,null,null,null,null,null,null,null,null,null,null,null,null,null,"[魔法武器(遠隔/水)] 1戦闘1回、BS付与無効"]
[null,"マジカルタロット","近接","超至近","近",70,12,null,null,null,null,null,null,null,null,1,null,null,1,null,null,13,22,null,10,null,null,null,null,null,null,null,null,null,null,null,null,null,null,null,null,null,null,null,null,null,null,null,null,null,"[魔法武器(中距離/近)]"]
[null,"名刀 -桜花-","近接","超至近","近",75,11,null,null,null,null,null,null,null,null,1,null,null,null,null,null,26,23,null,null,null,null,2,null,null,null,null,null,1,null,null,null,null,null,null,null,null,null,null,null,null,null,null,null,null,"[剣] 戦闘で最初の攻撃の命中判定の達成値+4"]
[null,"天雷杖","近接","超至近","雷",80,12,null,null,null,null,null,null,null,null,null,null,null,1,null,2,12,21,null,null,null,null,-1,-1,null,null,null,2,null,2,null,null,null,null,null,null,null,null,null,null,null,null,null,null,null,"[魔法武器(超遠隔/雷)] 通常攻撃のﾀﾞﾒｰｼﾞ+4D10"]
[null,"アゾット剣","近接","超至近","近",80,12,2,2,2,2,2,2,2,2,null,null,null,1,1,1,26,19,null,null,null,10,1,-2,1,1,null,1,null,null,null,null,null,null,null,null,null,null,null,null,null,null,null,null,null,"[剣] [魔法武器(至近/近)] 全基本能力値+2 ＜済＞"]
[null,"飛竜の槍","近接","至近","近",85,10,null,null,null,null,null,null,null,null,null,null,null,null,null,4,35,20,null,null,6,null,3,1,1,1,1,1,1,1,null,null,null,-1,null,4,null,null,null,null,null,null,null,null,null,"命中F値-1 (下限値：4) <済>"]
[null,"クリスタルロッド","近接","超至近","近",90,11,null,null,null,null,null,null,null,null,null,null,null,1,null,null,10,27,null,null,null,-5,-2,-2,1,1,1,1,1,1,null,null,null,null,null,null,null,null,null,null,null,null,null,null,null,"[魔法武器(遠隔/遠)] 全ｽｷﾙ代償-1MP(下限4MP)"]
[null,"ディバインロッド","近接","超至近","光",90,11,null,null,null,null,null,null,null,null,null,null,null,1,1,null,11,29,null,null,null,4,1,1,null,null,null,null,null,3,null,null,null,null,null,null,null,null,null,null,null,null,null,10,null,"[魔法武器(遠隔/光)]　回ｽｷﾙ回復量+10 ＜済＞"]
[null,"デュエリングシールド","近接","超至近","近",100,14,null,null,null,null,null,null,null,null,null,null,1,null,null,-4,30,20,8,6,10,null,2,2,null,null,null,null,null,null,null,null,null,null,null,null,null,null,null,null,null,null,null,null,null,"特殊効果なし"]
[null,"風魔槍 -鎌鼬-","近接","至近","風",100,11,null,null,null,null,null,null,null,null,1,null,null,null,null,4,29,16,null,null,null,null,1,1,null,null,null,-3,3,null,null,null,null,null,null,null,null,null,null,null,null,null,null,null,null,"通常攻撃時5MPで「射程：遠隔」に変更可"]
[null,"大業物：皆中","近接","超至近","近",100,14,null,null,7,null,null,null,null,null,2,null,null,null,null,null,20,11,null,null,null,null,2,2,null,null,null,null,null,null,null,null,null,null,null,null,null,null,null,null,null,null,null,null,null,"[剣] 【集中】+7 <済>"]
[null,"ウィンドブーメラン","近接","遠隔","風",100,13,null,null,null,null,null,null,null,null,1,null,null,1,null,2,31,23,null,null,null,null,-2,3,null,null,1,-3,3,null,null,null,null,null,null,null,null,null,null,null,null,null,null,null,null,"疲労無効"]
[null,"ゴッドハンド","近接","超至近","近",110,9,3,3,null,null,null,null,3,null,-1,null,null,-1,null,6,41,null,null,null,null,null,2,-2,1,1,1,1,1,2,null,null,null,null,null,null,null,null,null,null,null,null,null,null,null,"[素手武器] 【肉体】【反射】【洞察】+3 <済>"]
[null,"灼火のアミュレット","近接","超至近","炎",110,12,null,null,null,null,null,null,null,null,null,null,1,null,1,null,16,37,null,null,null,5,null,null,3,3,-4,null,null,null,null,null,null,null,null,null,null,null,null,null,null,null,null,null,null,"[魔法武器(遠隔/炎)] 火傷(X)無効"]
[null,"ディープロッド","近接","超至近","水",110,12,null,null,null,null,null,null,null,null,null,null,null,1,1,null,17,35,null,null,null,3,-1,-1,2,2,3,-2,null,null,null,null,null,null,null,null,null,null,null,null,null,null,null,null,null,"[魔法武器(遠隔/水)] 睡眠無効"]
[null,"トールハンマー","近接","超至近","雷",115,10,null,null,null,null,null,null,null,null,-1,null,-1,null,null,-3,49,32,null,null,null,null,2,-1,null,null,-2,5,-2,null,null,null,null,null,null,null,null,null,null,null,null,null,null,null,null,"マヒ無効"]
[null,"極光の神槍","近接","至近","氷光",120,12,null,null,null,null,null,null,null,null,2,null,null,2,null,null,27,17,null,null,null,null,null,null,null,3,null,null,null,3,null,null,null,null,null,null,null,null,null,null,null,null,null,null,null,"特殊効果なし"]
[null,"狂気の魔剣","近接","超至近","近",120,13,null,null,null,null,null,null,null,null,1,1,null,1,null,-10,55,48,null,null,-30,-25,4,4,-3,-3,-3,-3,-3,-6,null,null,null,null,null,null,null,null,null,4,10,null,null,null,null,"[剣] [魔法武器(遠隔/近)] 回避F値+4(上限10)<済>"]
[null,"エクリプスデイ","近接","超至近","近",130,12,null,null,null,null,null,null,null,null,null,null,null,2,2,null,12,31,null,null,null,10,1,1,null,null,null,null,null,3,null,null,null,null,null,null,null,null,null,null,null,null,null,null,null,"[魔法武器(遠隔/近遠光)]"]
[null,"インフィニティロッド","近接","超至近","近",130,13,null,null,null,null,null,null,null,null,-2,-2,2,-3,2,-3,8,45,null,null,null,10,2,2,1,1,1,1,1,2,null,null,null,null,null,null,null,null,null,null,null,null,null,null,null,"[魔法武器(遠隔/炎)] 1戦闘3回判定振り直し可能"]
[null,"ドラゴンズブレード","近接","至近","近",130,9,2,2,2,2,2,2,2,2,null,null,null,null,null,null,49,33,null,null,null,null,1,1,2,2,null,null,1,null,null,null,null,null,null,null,null,null,null,null,null,null,null,null,null,"[剣] 全基本能力値+2 ＜済＞"]
[null,"サイバーセイバー","近接","超至近","近",140,10,null,null,null,null,null,null,null,null,2,null,null,null,null,2,31,16,null,null,null,null,2,2,null,null,null,null,null,null,-1,null,15,null,null,null,null,null,null,null,null,null,null,null,null,"[剣] 命中C値-1 (下限値：15) <済>"]
[null,"七色の法典","近接","超至近","風",150,12,null,null,null,null,null,null,null,null,null,null,1,2,1,2,10,37,null,null,null,null,null,null,2,1,2,-2,null,null,null,null,null,null,null,null,null,null,null,null,null,null,null,null,null,"[魔法武器(遠隔/風)] 全ｽｷﾙ代償-1MP(下限4MP)"]
[null,"EXCALIBER-C","近接","超至近","近",170,12,null,null,null,null,null,null,null,null,1,null,null,1,1,null,51,42,null,null,15,5,3,2,1,1,1,1,1,1,null,null,null,null,null,null,null,null,null,null,null,null,null,null,null,{"$f":"\"[剣] [魔法武器(遠隔/光)] 命中時、HP\"&CL+10&\"点回復\"","v":"[剣] [魔法武器(遠隔/光)] 命中時、HP10点回復"}]
[null,"―射撃武器―",{"$f":"\"\"","v":""},{"$f":"\"\"","v":""},{"$f":"\"\"","v":""},{"$f":"\"\"","v":""},null,null,null,null,null,null,null,null,null,null,null,null,null,null,null,null,null,null,null,null,null,null,null,null,null,null,null,null,null,null,null,null,null,null,null,null,null,null,null,null,null,null,null,null,{"$f":"\"\"","v":""}]
[null,"9mm拳銃","射撃","遠隔","遠",10,10,null,null,null,null,null,null,null,null,null,-1,null,null,null,null,17,8,null,null,null,null,null,null,null,null,null,null,null,null,null,null,null,null,null,null,null,null,null,null,null,null,null,null,null,"特殊効果なし"]
[null,"スローイングダガー","射撃","遠隔x","遠",10,10,2,null,2,null,null,null,null,null,null,null,null,null,null,1,11,null,null,null,null,null,null,null,null,null,null,null,null,null,null,null,null,null,null,null,null,null,null,null,null,null,null,null,null,"【肉体】【集中】+2 <済>"]
[null,"スリングショット","射撃","遠隔","遠",15,10,null,null,null,null,null,null,null,null,null,null,null,null,null,null,16,8,null,null,null,null,null,null,null,null,null,null,null,null,null,null,null,2,9,null,null,null,null,null,null,null,null,null,null,"命中F値+2 上限値：9) <済>"]
[null,"ハードボウ","射撃","遠隔x","遠",20,11,null,null,3,null,null,null,null,null,null,1,null,null,null,-2,8,null,null,null,null,null,null,null,null,null,null,null,null,null,null,null,null,null,null,null,null,null,null,null,null,null,null,null,null,"【集中】+3 <済>"]
[null,"マグナム","射撃","遠隔","遠",20,10,null,null,null,null,null,null,null,null,null,null,null,null,null,null,15,10,null,null,null,null,null,null,null,null,null,null,null,null,null,null,null,null,null,null,null,null,null,null,null,null,null,null,null,"特殊効果なし"]
[null,"散弾銃","射撃","中距離","遠",30,11,null,null,null,null,null,null,null,null,null,1,null,null,null,-6,16,11,null,null,null,null,null,null,null,null,null,null,null,null,null,null,null,null,null,null,null,null,null,null,null,null,null,null,null,{"$f":"\"敵後衛に攻撃を行う場合、与ダメージ-\"&CL","v":"敵後衛に攻撃を行う場合、与ダメージ-0"}]
[null,"チャクラム","射撃","遠隔","遠",30,10,null,null,null,null,null,null,null,null,null,null,null,null,null,null,17,11,null,null,null,null,1,null,null,null,null,null,null,null,null,null,null,null,null,null,null,null,null,null,null,null,null,null,null,{"$f":"\"クリティカルした攻撃の与ﾀﾞﾒｰｼﾞ+\"&CL","v":"クリティカルした攻撃の与ﾀﾞﾒｰｼﾞ+0"}]
[null,"ハードボウ弐式","射撃","遠隔x","遠",35,11,null,null,2,null,null,2,null,null,null,1,null,null,null,-2,12,null,null,null,null,null,null,null,null,null,null,null,null,null,null,null,null,null,null,null,null,null,null,null,null,null,null,null,null,"【集中】【意志】+2 <済>"]
[null,"エッジヨーヨー","射撃","中距離","遠",35,11,null,null,null,null,null,null,null,null,null,null,null,null,null,2,18,12,null,null,null,-6,null,null,null,null,null,null,null,null,null,null,null,null,null,null,null,null,null,null,null,null,null,null,null,"特殊効果なし"]
[null,"ワイヤースタンガン","射撃","中距離","雷",40,11,null,null,null,null,null,null,null,null,null,null,null,null,null,null,20,11,null,null,null,null,null,null,null,null,-2,2,null,null,null,null,null,null,null,null,null,null,null,null,null,null,null,null,null,"通常攻撃命中時、攻撃後に30%マヒ付与"]
[null,"飛苦無","射撃","中距離","遠",45,10,null,null,null,null,null,null,null,null,null,1,null,null,null,null,14,9,null,null,null,null,null,null,null,null,null,null,null,null,null,null,null,null,null,null,null,null,null,null,null,null,null,null,null,"[近接武器(至近/近)]"]
[null,"四方手裏剣","射撃","遠隔","遠",45,10,null,null,null,null,null,null,null,null,null,null,null,null,null,null,22,13,null,null,null,null,-1,-1,null,null,null,null,null,null,null,null,null,null,null,null,null,null,null,null,null,null,null,null,null,"[近接武器(至近/近)]"]
[null,"マジック砲 -MC2-","射撃","遠隔x","遠",45,12,null,null,null,null,null,null,null,null,null,null,null,null,null,-2,23,16,null,null,null,null,1,1,null,null,null,null,null,null,null,null,null,null,null,null,null,null,null,null,null,null,null,null,null,"[魔法武器(遠隔x/遠)] "]
[null,"Mスーパーボール","射撃","中距離","遠",45,10,null,null,null,null,null,null,null,null,null,null,null,1,null,null,22,13,null,null,null,null,-1,null,null,null,null,null,null,null,null,null,null,null,null,null,null,null,null,null,null,null,null,null,null,"特殊効果なし"]
[null,"バーナーキャノン","射撃","遠隔","炎",50,12,null,null,null,null,null,null,null,null,null,null,null,null,null,null,24,15,null,null,null,null,1,2,3,-2,-2,-2,null,null,null,null,null,null,null,null,null,null,null,null,null,null,null,null,null,"特殊効果なし"]
[null,"風刃砲","射撃","遠隔","風",50,11,null,null,null,null,null,null,null,null,null,null,null,null,null,4,20,14,null,null,null,null,null,1,null,null,null,-1,3,null,null,null,null,null,null,null,null,null,null,null,null,null,null,null,null,{"$f":"\"命中判定出目18以上の攻撃で与ダメージ+\"&CL","v":"命中判定出目18以上の攻撃で与ダメージ+0"}]
[null,"魔法銃 MG-7","射撃","遠隔","遠",50,11,null,null,null,null,null,null,null,null,null,1,null,1,null,null,17,11,null,null,null,null,1,null,null,null,null,null,null,null,null,null,null,null,null,null,null,null,null,null,null,null,null,null,null,"[魔法武器(遠隔/遠)]"]
[null,"フリスビーシールド","射撃","中距離","遠",55,11,3,null,3,null,null,null,null,null,null,null,null,null,null,-3,23,null,null,null,10,null,2,2,1,1,1,1,1,1,null,null,null,null,null,null,null,null,null,null,null,null,null,null,null,"【肉体】【集中】+3 <済>"]
[null,"フリーズキャノン","射撃","遠隔","氷",60,12,null,null,null,null,null,null,null,null,null,null,-1,null,null,-4,33,18,null,null,null,null,1,null,-2,1,1,null,null,null,null,null,null,null,null,null,null,null,null,null,null,null,null,null,null,"凍結無効"]
[null,"レーザーサック","射撃","中距離","光",70,11,null,null,3,null,null,null,null,null,null,null,null,null,null,null,27,24,null,null,null,null,null,null,null,null,null,null,null,2,null,null,null,null,null,null,null,null,null,null,null,null,null,null,null,"【集中】+3 <済>"]
[null,"ハイドロガン","射撃","遠隔","水",80,11,null,null,null,null,null,null,null,null,null,null,null,null,null,-2,32,26,null,null,null,null,null,-2,2,1,1,null,null,null,null,null,null,null,null,null,null,null,null,null,null,null,null,null,null,"クリティカルした攻撃が命中した対象に怯み(2)付与"]
[null,"小型電磁砲","射撃","遠隔","遠",90,11,null,null,null,null,null,null,null,null,null,1,-1,1,null,-2,28,22,null,null,null,null,1,1,null,null,null,-2,null,null,null,null,null,null,null,null,null,null,null,null,null,null,null,null,null,"特殊効果なし"]
[null,"スナイパーライフル","射撃","遠隔x","遠",100,12,null,null,null,null,null,null,null,null,null,1,null,null,null,-3,38,29,null,null,null,null,null,null,null,null,null,null,null,null,null,null,null,null,null,null,null,null,null,null,null,null,null,null,null,"ｻﾌﾞｱｸｼｮﾝを消費した行動手番中の攻撃不可"]
[null,"SMG","射撃","遠隔","遠",110,10,null,null,2,null,null,3,null,null,null,1,null,null,null,1,32,24,null,null,null,null,null,null,null,null,null,null,null,null,null,null,null,null,null,null,null,null,null,null,null,null,null,null,null,"【集中】+2 【意志】+3 <済>"]
[null,"ブラックボウガン","射撃","遠隔x","遠",120,12,null,null,null,null,null,null,null,null,null,1,-1,null,1,-4,34,26,null,null,null,null,-2,null,1,1,1,1,null,2,-1,null,16,null,null,null,null,null,null,null,null,null,null,null,null,"命中C値-1 (下限値：16) <済>"]
[null,"雷神砲","射撃","遠隔","雷",140,11,null,null,null,null,null,null,null,null,null,1,-2,1,-1,-5,45,37,null,null,null,null,-1,-1,null,null,null,4,-2,2,null,null,null,null,null,null,null,null,null,2,8,null,null,null,null,"回避F値+2 (上限値：8) <済>"]
[null,"対物ライフル","射撃","遠隔","遠",160,11,null,null,null,null,null,null,null,null,null,1,-1,1,null,-3,50,42,null,null,null,null,-1,-1,null,null,null,null,null,null,null,null,null,null,null,null,null,null,null,null,null,null,null,null,null,"ｻﾌﾞｱｸｼｮﾝを消費した行動手番中の攻撃不可"]
[null,"ネオアサルト","射撃","遠隔","遠",200,10,null,null,null,null,null,null,null,null,null,2,-1,null,null,null,53,44,null,null,null,null,1,null,null,null,null,null,null,null,-1,null,16,null,null,null,null,null,null,null,null,null,null,null,null,"[魔法武器(遠隔/遠)] 命中C値-1 (下限：16)<済>"]

{"sheet":"防具VL用","index":8,"n_rows":43,"n_cols":23,"rows_kept":43,"cut":false,"hidden":true,"merged":[]}
[null,"防具","価格","近接","射撃","回避","魔術","抵抗","敏捷","物攻","魔攻","物防","魔防","耐久","精神","近","遠","炎","氷","水","雷","風","光"]
[3,"一般服",0,null,null,null,null,null,null,null,null,null,null,null,null,-2,-2,-2,-2,-2,-2,-2,-2]
[3,"防寒具",5,null,null,null,null,null,null,null,null,2,null,null,null,-1,null,null,1]
[4,"チェインフード",10,null,null,null,null,null,null,null,null,3,2]
[4,"プレートコート",10,null,null,null,null,null,-2,null,null,4,3]
[5,"アイアンメイル",20,null,null,null,null,null,-2,null,null,6,4]
[5,"ハーフアーマー",20,null,null,null,null,null,1,null,null,3,2]
[6,"スペルローブ",20,null,null,null,null,null,null,null,null,1,6,null,2]
[6,"ウィンドクロス",25,null,null,1,null,null,1,null,null,1,1,-5,null,-1,-1,-2,null,-2,2]
[7,"ハードメイル",30,null,null,-1,null,null,-4,null,null,10,7,5]
[7,"リングメイル",30,null,null,-1,null,null,-2,null,null,8,6,null,null,1]
[8,"フェアリーローブ",30,null,null,null,null,1,null,null,null,2,4,null,3]
[8,"ブライトドレス",30,null,null,null,null,1,-2,null,null,2,2,5,2,null,-1,null,null,null,null,null,3]
[9,"五芒星の法衣",35,null,null,null,null,null,-2,null,4,null,4,null,null,null,null,1,1,null,1,null,-3]
[9,"六芒星の法衣",35,null,null,null,null,1,-2,null,null,2,5,null,null,1,1,-1,-1,-1,-1,-1,3]
[10,"フェザースーツ",35,null,null,null,null,null,4,null,null,3,3,null,null,null,null,null,null,null,-2,2]
[10,"ヘヴィメイル",35,null,null,-2,null,null,-4,null,null,12,10,15]
[11,"マジカルコート",40,null,null,null,null,null,null,null,null,2,12,null,2,-1,-1,1,1,null,1]
[11,"マジックインバネス",40,null,null,null,null,1,null,null,null,4,4,null,4]
[12,"呪詛の鎧",40,-1,-1,-1,-1,-1,null,10,10,10,10,10,10,1,1]
[12,"ライフアーマー",45,null,null,null,null,null,-3,null,null,7,5,13]
[13,"防弾チョッキ",45,null,null,null,null,null,-2,null,null,11,6,null,null,null,3]
[13,"カーボンスーツ",50,null,null,null,null,null,2,null,null,7,5,null,null,1,1]
[14,"ラバーメイル",50,null,null,null,null,null,-1,null,null,10,8,5,null,null,-1,-2,null,null,4]
[14,"バトルフォーム",50,1,null,null,null,null,null,null,null,2,2,null,null,2,-2]
[15,"魔力供給装甲",50,null,null,null,null,null,-5,7,7,3,5,5,10]
[16,"カモフラージュセット",60,null,1,null,null,null,null,2,null,7,6,null,null,1,1]
[17,"スカーレットドレス",60,null,null,1,null,null,-5,2,2,12,15,null,6,null,null,5,null,-5]
[18,"ティンクルガウン",65,null,null,null,null,2,null,null,null,1,6,5,5,-1,-1,null,null,null,null,null,4]
[19,"シノビスーツ",70,null,null,2,null,null,4,null,null,4,2]
[20,"ワイバーンコート",70,null,null,null,null,1,null,null,null,12,11,null,6,2,1,2,-3,-1,-1,2,-2]
[21,"ホワイトナイトコート",70,null,null,null,null,1,null,null,null,8,15,9,null,null,2,-3,2,2,2,-3,-3]
[22,"ブラックヴェーラー",80,null,null,1,null,1,null,null,null,4,4,null,8,-1,-1,1,1,1,1,1,-3]
[null,"ウェイブメイル",80,null,null,1,null,null,null,null,null,10,8,16,null,4,2,-1,-1,-1,-1,null,-2]
[null,"ギアテックコート",80,null,null,1,null,1,-7,8,8,15,14,10,null,2,3,null,null,-3,-3,2]
[null,"マジックプロテクター",90,null,null,null,2,null,null,null,null,2,10,null,-8,-2,-2]
[null,"ソルジャーメイル",90,1,null,null,null,null,-3,null,null,14,10,10,null,2,1,null,null,null,-3]
[null,"精霊の鎧",100,null,null,1,null,1,3,5,5,6,13,null,7,1,1,1,1,1,1,1]
[null,"邪神の鎧",110,-1,-1,-2,-1,-2,null,15,15,18,18,15,20]
[null,"エナジーシャツ",120,null,null,null,null,null,null,12,12,14,16,10,null,2,2]
[null,"ダイヤモンドメイル",140,null,null,1,null,1,3,null,null,18,14,null,null,2,2,2,-2,-2,-2,1,1]
[null,"ドラゴンアーマー",160,null,null,-1,null,null,-2,null,null,26,24]
[null,"パワードスーツ",200,1,1,1,1,1,-3,8,8,25,25,20,10,null,null,2,2,-3,-3,null,2]

{"sheet":"アクセVL用","index":9,"n_rows":135,"n_cols":60,"rows_kept":135,"cut":false,"hidden":false,"merged":[]}
[null,"アクセサリ","価格","肉体","反射","集中","知識","感覚","意志","洞察","幸運","近接","射撃","回避","魔術","抵抗","敏捷","物攻","魔攻","物防","魔防","耐久","精神","近","遠","炎","氷","水","雷","風","光","命C","命C↑","命C↓","命F","命F↑","命F↓","回C","回C↑","回C↓","回F","回F↑","回F↓","調C","調C↑","調C↓","調F","調F↑","調F↓","BP","SMC","SMC↑","SMC↓","MMC","MMC↑","MMC↓","対決","回復","配置","特殊効果"]
[11,"なし",0,null,null,null,null,null,null,null,null,null,null,null,null,null,null,null,null,null,null,null,null,null,null,null,null,null,null,null,null,null,null,null,null,null,null,null,null,null,null,null,null,null,null,null,null,null,null,null,null,null,null,null,null,null,null,null,null,""]
[11,"水晶の指輪",10,null,null,null,null,null,null,null,null,null,null,null,null,null,null,null,null,null,null,null,3,null,null,null,null,null,null,null,null,null,null,null,null,null,null,null,null,null,null,null,null,null,null,null,null,null,null,null,null,null,null,null,null,null,null,null,null,"特殊効果なし"]
[12,"ニーサポーター",10,null,null,null,null,null,null,null,null,null,null,null,null,null,null,null,null,null,null,5,null,null,null,null,null,null,null,null,null,null,null,null,null,null,null,null,null,null,null,null,null,null,null,null,null,null,null,null,null,null,null,null,null,null,null,null,null,"特殊効果なし"]
[12,"青銅の籠手",10,null,null,null,null,null,null,null,null,null,null,null,null,null,null,null,null,3,null,null,null,null,null,null,null,null,null,null,null,null,null,null,null,null,null,null,null,null,null,null,null,null,null,null,null,null,null,null,null,null,null,null,null,null,null,null,null,"特殊効果なし"]
[13,"防災頭巾",10,null,null,null,null,null,null,null,null,null,null,null,null,null,null,null,null,null,null,1,null,null,null,2,null,null,null,null,null,null,null,null,null,null,null,null,null,null,null,null,null,null,null,null,null,null,null,null,null,null,null,null,null,null,null,null,null,"特殊効果なし"]
[13,"手袋カイロ",10,null,null,null,null,null,null,null,null,null,null,null,null,null,null,null,null,null,null,1,null,null,null,null,2,null,null,null,null,null,null,null,null,null,null,null,null,null,null,null,null,null,null,null,null,null,null,null,null,null,null,null,null,null,null,null,null,"特殊効果なし"]
[14,"撥水コート",10,null,null,null,null,null,null,null,null,null,null,null,null,null,null,null,null,null,null,1,null,null,null,null,null,2,null,null,null,null,null,null,null,null,null,null,null,null,null,null,null,null,null,null,null,null,null,null,null,null,null,null,null,null,null,null,null,"特殊効果なし"]
[14,"ミニ避雷針",10,null,null,null,null,null,null,null,null,null,null,null,null,null,null,null,null,null,null,1,null,null,null,null,null,null,2,null,null,null,null,null,null,null,null,null,null,null,null,null,null,null,null,null,null,null,null,null,null,null,null,null,null,null,null,null,null,"特殊効果なし"]
[15,"防塵ゴーグル",10,null,null,null,null,null,null,null,null,null,null,null,null,null,null,null,null,null,null,1,null,null,null,null,null,null,null,2,null,null,null,null,null,null,null,null,null,null,null,null,null,null,null,null,null,null,null,null,null,null,null,null,null,null,null,null,null,"特殊効果なし"]
[15,"サングラス",10,null,null,null,null,null,null,null,null,null,null,null,null,null,null,null,null,null,null,1,null,null,null,null,null,null,null,null,2,null,null,null,null,null,null,null,null,null,null,null,null,null,null,null,null,null,null,null,null,null,null,null,null,null,null,null,null,"特殊効果なし"]
[16,"ブラッドストーン",10,5,null,null,null,null,null,null,null,null,null,null,null,null,null,null,null,null,null,2,null,null,null,null,null,null,null,null,null,null,null,null,null,null,null,null,null,null,null,null,null,null,null,null,-1,null,3,null,null,null,null,null,null,null,null,null,null,"【肉体】+5 調査F値-1 (下限値：3) <済>"]
[16,"カーネリアン",10,null,5,null,null,null,null,null,null,null,null,null,null,null,null,null,null,null,null,2,null,null,null,null,null,null,null,null,null,null,null,null,null,null,null,null,null,null,null,null,null,null,null,null,-1,null,3,null,null,null,null,null,null,null,null,null,null,"【反射】+5 調査F値-1 (下限値：3) <済>"]
[17,"アズロマラカイト",10,null,null,5,null,null,null,null,null,null,null,null,null,null,null,null,null,null,null,2,null,null,null,null,null,null,null,null,null,null,null,null,null,null,null,null,null,null,null,null,null,null,null,null,-1,null,3,null,null,null,null,null,null,null,null,null,null,"【集中】+5 調査F値-1 (下限値：3) <済>"]
[17,"ソーダライト",10,null,null,null,5,null,null,null,null,null,null,null,null,null,null,null,null,null,null,2,null,null,null,null,null,null,null,null,null,null,null,null,null,null,null,null,null,null,null,null,null,null,null,null,-1,null,3,null,null,null,null,null,null,null,null,null,null,"【知識】+5 調査F値-1 (下限値：3) <済>"]
[18,"ラピスラズリ",10,null,null,null,null,5,null,null,null,null,null,null,null,null,null,null,null,null,null,2,null,null,null,null,null,null,null,null,null,null,null,null,null,null,null,null,null,null,null,null,null,null,null,null,-1,null,3,null,null,null,null,null,null,null,null,null,null,"【感覚】+5 調査F値-1 (下限値：3) <済>"]
[18,"オニキス",10,null,null,null,null,null,5,null,null,null,null,null,null,null,null,null,null,null,null,2,null,null,null,null,null,null,null,null,null,null,null,null,null,null,null,null,null,null,null,null,null,null,null,null,-1,null,3,null,null,null,null,null,null,null,null,null,null,"【意志】+5 調査F値-1 (下限値：3) <済>"]
[19,"アクアマリン",10,null,null,null,null,null,null,5,null,null,null,null,null,null,null,null,null,null,null,2,null,null,null,null,null,null,null,null,null,null,null,null,null,null,null,null,null,null,null,null,null,null,null,null,-1,null,3,null,null,null,null,null,null,null,null,null,null,"【洞察】+5 調査F値-1 (下限値：3) <済>"]
[19,"アマゾナイト",10,null,null,null,null,null,null,null,5,null,null,null,null,null,null,null,null,null,null,2,null,null,null,null,null,null,null,null,null,null,null,null,null,null,null,null,null,null,null,null,null,null,null,null,-1,null,3,null,null,null,null,null,null,null,null,null,null,"【幸運】+5 調査F値-1 (下限値：3) <済>"]
[20,"レッドメノウ",10,null,null,null,null,null,null,null,null,null,null,null,null,null,null,2,null,null,null,null,null,null,null,null,null,null,null,null,null,null,null,null,null,null,null,null,null,null,null,null,null,null,null,null,null,null,null,null,null,null,null,null,null,null,null,null,null,"特殊効果なし"]
[20,"カイヤナイト",10,null,null,null,null,null,null,null,null,null,null,null,null,null,null,null,2,null,null,null,null,null,null,null,null,null,null,null,null,null,null,null,null,null,null,null,null,null,null,null,null,null,null,null,null,null,null,null,null,null,null,null,null,null,null,null,null,"特殊効果なし"]
[21,"フェザーブーツ",15,null,null,null,null,null,null,null,null,null,null,null,null,null,2,null,null,null,null,null,null,null,null,null,null,null,null,null,null,null,null,null,null,null,null,null,null,null,null,null,null,null,null,null,null,null,null,null,null,null,null,null,null,null,null,null,null,"特殊効果なし"]
[21,"重力石",20,null,null,null,null,null,null,null,null,1,null,null,null,null,null,null,null,null,null,-8,-5,-2,-2,null,null,null,null,null,null,null,null,null,null,null,null,null,null,null,null,null,null,null,null,null,null,null,null,null,null,null,null,null,null,null,null,null,null,"特殊効果なし"]
[22,"ポインター",20,null,null,null,null,null,null,null,null,null,1,null,null,null,null,null,null,null,null,-8,-5,-2,-2,null,null,null,null,null,null,null,null,null,null,null,null,null,null,null,null,null,null,null,null,null,null,null,null,null,null,null,null,null,null,null,null,null,null,"特殊効果なし"]
[22,"バトルメガネ",20,null,null,null,null,null,null,null,null,null,null,1,null,null,null,null,null,null,null,-8,-5,-2,-2,null,null,null,null,null,null,null,null,null,null,null,null,null,null,null,null,null,null,null,null,null,null,null,null,null,null,null,null,null,null,null,null,null,null,"特殊効果なし"]
[23,"高等魔術書",20,null,null,null,null,null,null,null,null,null,null,null,1,null,null,null,null,null,null,-8,-5,-2,-2,null,null,null,null,null,null,null,null,null,null,null,null,null,null,null,null,null,null,null,null,null,null,null,null,null,null,null,null,null,null,null,null,null,null,"特殊効果なし"]
[24,"ディバインピース",20,null,null,null,null,null,null,null,null,null,null,null,null,1,null,null,null,null,null,-8,-5,-2,-2,null,null,null,null,null,null,null,null,null,null,null,null,null,null,null,null,null,null,null,null,null,null,null,null,null,null,null,null,null,null,null,null,null,null,"特殊効果なし"]
[25,"編み笠",20,null,null,null,null,null,null,null,null,null,null,null,null,null,null,3,3,null,null,null,null,null,null,null,null,null,null,null,null,null,null,null,null,null,null,null,null,null,null,null,null,null,null,null,null,null,null,null,null,null,null,null,null,null,null,null,null,"特殊効果なし"]
[26,"マグマーナ",20,null,null,null,null,null,null,null,null,null,null,null,null,null,null,null,null,null,null,null,null,null,null,3,null,null,null,null,null,null,null,null,null,null,null,null,null,null,null,null,null,null,null,null,null,null,null,null,null,null,null,null,null,null,null,null,null,"火傷(X)50%無効"]
[27,"ブリザリア",20,null,null,null,null,null,null,null,null,null,null,null,null,null,null,null,null,null,null,null,null,null,null,null,3,null,null,null,null,null,null,null,null,null,null,null,null,null,null,null,null,null,null,null,null,null,null,null,null,null,null,null,null,null,null,null,null,"凍結50%無効"]
[28,"ウェーブリス",20,null,null,null,null,null,null,null,null,null,null,null,null,null,null,null,null,null,null,null,null,null,null,null,null,3,null,null,null,null,null,null,null,null,null,null,null,null,null,null,null,null,null,null,null,null,null,null,null,null,null,null,null,null,null,null,null,"睡眠50%無効"]
[29,"スパーキー",20,null,null,null,null,null,null,null,null,null,null,null,null,null,null,null,null,null,null,null,null,null,null,null,null,null,3,null,null,null,null,null,null,null,null,null,null,null,null,null,null,null,null,null,null,null,null,null,null,null,null,null,null,null,null,null,null,"マヒ50%無効"]
[30,"ストムルム",20,null,null,null,null,null,null,null,null,null,null,null,null,null,null,null,null,null,null,null,null,null,null,null,null,null,null,3,null,null,null,null,null,null,null,null,null,null,null,null,null,null,null,null,null,null,null,null,null,null,null,null,null,null,null,null,null,"疲労50%無効"]
[null,"シャイネア",20,null,null,null,null,null,null,null,null,null,null,null,null,null,null,null,null,null,null,null,null,null,null,null,null,null,null,null,3,null,null,null,null,null,null,null,null,null,null,null,null,null,null,null,null,null,null,null,null,null,null,null,null,null,null,null,null,"封印50%無効"]
[null,"シルバーリング",20,null,null,null,null,null,null,null,null,null,null,null,null,null,null,null,null,null,null,null,null,2,1,null,null,null,null,null,null,null,null,null,null,null,null,null,null,null,null,null,null,null,null,null,null,null,null,null,null,null,null,null,null,null,null,null,null,"毒(X)50%無効"]
[null,"四葉ストラップ",20,null,null,null,null,null,null,null,null,null,null,null,null,null,null,null,null,null,null,null,4,null,null,null,null,null,null,null,null,null,null,null,null,null,null,null,null,null,null,null,null,-2,null,16,null,null,null,null,null,null,null,null,null,null,null,null,null,"調査C値-2 (下限値：16) <済>"]
[null,"四葉ペンダント",20,null,null,null,null,null,null,null,null,null,null,null,null,null,null,null,null,null,null,null,4,null,null,null,null,null,null,null,null,null,null,null,null,null,null,null,null,null,null,null,null,null,null,null,-1,null,3,null,null,null,null,null,null,null,null,null,null,"調査F値-1 (下限値：3) <済>"]
[null,"アイアングローブ",20,null,null,null,null,null,null,null,null,null,null,null,null,null,-2,null,null,5,null,4,null,2,null,null,null,null,-1,null,null,null,null,null,null,null,null,null,null,null,null,null,null,null,null,null,null,null,null,null,null,null,null,null,null,null,null,null,null,"特殊効果なし"]
[null,"アイアンヘルム",20,null,null,null,null,null,null,null,null,null,null,null,null,null,-2,null,null,5,null,4,null,1,1,null,null,null,-1,null,null,null,null,null,null,null,null,null,null,null,null,null,null,null,null,null,null,null,null,null,null,null,null,null,null,null,null,null,null,"特殊効果なし"]
[null,"アイアンシューズ",20,null,null,null,null,null,null,null,null,null,null,null,null,null,-2,null,null,5,null,4,null,null,2,null,null,null,-1,null,null,null,null,null,null,null,null,null,null,null,null,null,null,null,null,null,null,null,null,null,null,null,null,null,null,null,null,null,null,"特殊効果なし"]
[null,"インカローズ",20,null,null,null,null,null,null,null,null,null,null,null,null,null,null,null,null,null,null,null,null,-1,-1,null,null,null,null,null,null,null,null,null,null,null,null,null,null,null,null,null,null,null,null,null,null,null,null,1,null,null,null,null,null,null,null,null,null,"[BP上限値]+1 <済>"]
[null,"レピドライト",20,null,null,null,null,null,null,null,null,null,null,null,null,null,null,null,null,null,null,null,2,null,null,null,null,null,null,null,null,null,null,null,null,null,null,null,null,null,null,null,null,null,null,null,null,null,null,null,null,null,null,null,null,null,null,null,null,"1ｾｯｼｮﾝ1回、判定振り直し可能"]
[null,"フェザーハット",20,null,null,null,null,null,null,null,null,null,null,null,null,null,3,null,null,null,null,2,null,null,null,null,null,null,null,null,null,null,null,null,null,null,null,null,null,null,null,null,null,null,null,null,null,null,null,null,null,null,null,null,null,null,null,null,null,"特殊効果なし"]
[null,"パワーベルト",25,null,null,null,null,null,null,null,null,null,null,null,null,null,null,5,null,null,null,null,null,null,null,null,null,null,null,null,null,null,null,null,null,null,null,null,null,null,null,null,null,null,null,null,null,null,null,null,null,null,null,null,null,null,null,null,null,"特殊効果なし"]
[null,"マジックジュエル",25,null,null,null,null,null,null,null,null,null,null,null,null,null,null,null,5,null,null,null,null,null,null,null,null,null,null,null,null,null,null,null,null,null,null,null,null,null,null,null,null,null,null,null,null,null,null,null,null,null,null,null,null,null,null,null,null,"特殊効果なし"]
[null,"ポテンシャルヘッド",25,null,null,null,null,null,null,null,null,null,null,null,null,null,null,null,null,null,null,6,3,null,null,null,null,null,null,null,null,null,null,null,null,null,null,null,null,null,null,null,null,null,null,null,null,null,null,null,null,null,null,null,null,null,null,null,null,"特殊効果なし"]
[null,"ウェポンウェイト",25,null,null,null,null,null,null,null,null,null,null,null,null,null,null,null,null,null,null,null,null,1,null,null,null,null,null,null,null,null,null,null,-1,null,3,null,null,null,null,null,null,null,null,null,null,null,null,null,null,null,null,null,null,null,null,null,null,"命中F値-1 (下限値：3) <済>"]
[null,"バトルスニーカー",30,null,null,null,null,null,null,null,null,null,null,null,null,null,null,null,null,null,null,2,2,2,null,null,null,null,null,null,null,null,null,null,null,null,null,null,null,null,null,null,null,null,null,null,null,null,null,null,-1,null,1,null,null,null,null,null,null,"ｻﾌﾞ移動コスト-1 (下限値：1) <済>"]
[null,"トライアングルギア",30,null,null,null,null,null,null,null,null,null,null,null,null,null,null,null,null,null,null,null,null,null,null,2,2,null,2,null,null,null,null,null,null,null,null,null,null,null,null,null,null,null,null,null,null,null,null,null,null,null,null,null,null,null,null,null,null,"特殊効果なし"]
[null,"スカイヘルム",30,null,null,null,null,null,null,null,null,null,null,null,null,null,null,null,null,3,3,3,2,2,null,null,null,null,null,null,null,null,null,null,null,null,null,null,null,null,null,null,null,null,null,null,null,null,null,null,null,null,null,null,null,null,null,null,null,"特殊効果なし"]
[null,"スカイグローブ",30,null,null,null,null,null,null,null,null,null,null,null,null,null,null,null,null,3,3,3,2,1,1,null,null,null,null,null,null,null,null,null,null,null,null,null,null,null,null,null,null,null,null,null,null,null,null,null,null,null,null,null,null,null,null,null,null,"特殊効果なし"]
[null,"スカイブーツ",30,null,null,null,null,null,null,null,null,null,null,null,null,null,null,null,null,3,3,3,2,null,2,null,null,null,null,null,null,null,null,null,null,null,null,null,null,null,null,null,null,null,null,null,null,null,null,null,null,null,null,null,null,null,null,null,null,"特殊効果なし"]
[null,"エナジーギア",30,null,null,null,null,null,null,null,null,null,null,null,null,null,null,null,null,null,null,null,null,1,1,null,null,null,null,null,null,null,null,null,null,null,null,null,null,null,null,null,null,null,null,null,null,null,null,null,null,null,null,null,null,null,null,null,null,"攻撃の〈近〉〈遠〉与ﾀﾞﾒｰｼﾞ+1D10"]
[null,"ルビーギア",30,null,null,null,null,null,null,null,null,null,null,null,null,null,null,null,null,null,null,null,null,-1,-1,4,null,-2,null,null,null,null,null,null,null,null,null,null,null,null,null,null,null,null,null,null,null,null,null,null,null,null,null,null,null,null,null,null,null,"攻撃の〈炎〉与ﾀﾞﾒｰｼﾞ+[1D10+5]"]
[null,"ダンブライトギア",30,null,null,null,null,null,null,null,null,null,null,null,null,null,null,null,null,null,null,null,null,-1,-1,-2,4,null,null,null,null,null,null,null,null,null,null,null,null,null,null,null,null,null,null,null,null,null,null,null,null,null,null,null,null,null,null,null,null,"攻撃の〈氷〉与ﾀﾞﾒｰｼﾞ+[1D10+5]"]
[null,"サファイアギア",30,null,null,null,null,null,null,null,null,null,null,null,null,null,null,null,null,null,null,null,null,-1,-1,null,null,4,-2,null,null,null,null,null,null,null,null,null,null,null,null,null,null,null,null,null,null,null,null,null,null,null,null,null,null,null,null,null,null,"攻撃の〈水〉与ﾀﾞﾒｰｼﾞ+[1D10+5]"]
[null,"トパーズギア",30,null,null,null,null,null,null,null,null,null,null,null,null,null,null,null,null,null,null,null,null,-1,-1,null,null,null,4,-2,null,null,null,null,null,null,null,null,null,null,null,null,null,null,null,null,null,null,null,null,null,null,null,null,null,null,null,null,null,"攻撃の〈雷〉与ﾀﾞﾒｰｼﾞ+[1D10+5]"]
[null,"エメラルドギア",30,null,null,null,null,null,null,null,null,null,null,null,null,null,null,null,null,null,null,null,null,-1,-1,null,-2,null,null,4,null,null,null,null,null,null,null,null,null,null,null,null,null,null,null,null,null,null,null,null,null,null,null,null,null,null,null,null,null,"攻撃の〈風〉与ﾀﾞﾒｰｼﾞ+[1D10+5]"]
[null,"ヘリオドールギア",30,null,null,null,null,null,null,null,null,null,null,null,null,null,null,null,null,null,null,null,null,-2,-2,null,null,null,null,null,4,null,null,null,null,null,null,null,null,null,null,null,null,null,null,null,null,null,null,null,null,null,null,null,null,null,null,null,null,"攻撃の〈光〉与ﾀﾞﾒｰｼﾞ+[1D10+5]"]
[null,"ダイスストラップ",35,null,null,null,null,null,null,null,null,null,null,null,null,null,null,null,null,null,null,null,null,null,null,null,null,null,null,null,null,null,null,null,null,null,null,null,null,null,null,null,null,null,null,null,null,null,null,null,null,null,null,null,null,null,null,null,null,"ｸﾘﾃｨｶﾙした攻撃の与ﾀﾞﾒｰｼﾞ+3D10"]
[null,"マクスソウル",35,null,null,null,null,null,null,null,null,null,null,null,null,null,null,null,null,null,null,null,null,null,null,null,null,null,null,null,null,null,null,null,null,null,null,null,null,null,null,null,null,null,null,null,null,null,null,null,null,null,null,null,null,null,null,null,null,"戦闘開始時、覚醒付与"]
[null,"ギミックギア",35,null,null,null,null,null,null,null,null,null,null,null,null,null,null,null,null,null,null,null,null,null,null,null,null,null,null,null,null,null,null,null,null,null,null,null,null,null,null,null,null,null,null,null,null,null,null,null,null,null,null,null,null,null,null,null,null,"戦闘最初の攻撃の命中達成値+4"]
[null,"ライフバイブル",35,null,null,null,null,null,null,null,null,null,null,null,null,null,null,null,null,null,null,null,3,null,null,null,null,null,null,null,null,null,null,null,null,null,null,null,null,null,null,null,null,-3,null,14,null,null,null,null,null,null,null,null,null,null,null,null,null,"調査C値-3 (下限値：14) <済>"]
[null,"鋼鉄のチョーカー",40,null,null,null,null,null,null,null,null,null,null,null,null,null,null,null,null,null,null,7,null,2,2,null,null,null,null,null,null,null,null,null,null,null,null,null,null,null,null,null,null,null,null,null,null,null,null,null,null,null,null,null,null,null,null,null,null,"即死(X)無効"]
[null,"フェアリーガード",40,null,null,null,null,null,null,null,null,null,null,null,null,null,null,null,null,2,2,null,6,null,null,null,null,1,null,1,null,null,null,null,null,null,null,null,null,null,null,null,null,null,null,null,null,null,null,null,null,null,null,null,null,null,null,null,null,"特殊効果なし"]
[null,"レッドアンバー",40,5,null,5,null,null,null,null,null,null,null,null,null,null,null,null,null,null,null,2,2,null,null,4,null,null,null,null,null,null,null,null,null,null,null,null,null,null,null,null,null,null,null,null,null,null,null,null,null,null,null,null,null,null,null,null,null,"【肉体】【集中】+5 <済>"]
[null,"タンザナイト",40,null,null,null,5,null,null,5,null,null,null,null,null,null,null,null,null,null,null,null,6,1,1,null,null,null,null,null,null,null,null,null,null,null,null,null,null,null,null,null,null,null,null,null,null,null,null,null,null,null,null,null,null,null,null,null,null,"【知識】【洞察】+5 <済>"]
[null,"八卦ブレスレット",40,null,null,null,null,null,5,null,5,null,null,null,null,null,null,null,null,null,null,4,4,null,null,null,null,null,null,null,null,null,null,null,null,null,null,null,null,null,null,null,null,null,null,null,null,null,null,null,null,null,null,null,null,null,null,null,null,"【意志】【幸運】+5 <済>"]
[null,"漆黒の魔法石",40,null,null,null,null,null,null,null,null,null,null,null,null,null,null,10,10,null,null,-20,null,null,null,null,null,null,null,null,-6,null,null,null,null,null,null,null,null,null,null,null,null,null,null,null,null,null,null,null,null,null,null,null,null,null,null,null,null,"特殊効果なし"]
[null,"ブレスブレスレット",40,null,null,null,null,null,null,null,null,null,null,null,null,null,null,null,null,null,null,null,2,null,null,null,null,null,null,null,2,null,null,null,null,null,null,null,null,null,null,null,null,null,null,null,null,null,null,null,null,null,null,null,null,null,null,{"$f":"SL+2","v":2},null,{"$f":"\"回スキル【HP】回復量+\"&SL+2&\" <済>\"","v":"回スキル【HP】回復量+2 <済>"}]
[null,"ドラゴンファング",40,null,null,null,null,null,null,null,null,null,null,null,null,null,null,null,null,null,null,12,null,1,null,null,null,null,null,null,null,null,null,null,null,null,null,null,null,null,null,null,null,null,null,null,null,null,null,null,null,null,null,null,null,null,null,null,null,"特殊効果なし"]
[null,"ダッシュシューズ",40,null,null,null,null,null,null,null,null,null,null,null,null,null,null,null,null,null,null,2,null,1,null,null,null,null,null,1,null,null,null,null,null,null,null,null,null,null,null,null,null,null,null,null,null,null,null,null,null,null,null,null,null,null,null,null,null,"超至近の武器を至近として扱える"]
[null,"プロテクター",40,null,null,null,null,null,null,null,null,null,null,null,null,null,null,null,null,null,null,null,null,1,1,null,null,null,null,null,null,null,null,null,null,null,null,null,null,null,null,null,null,null,null,null,null,null,null,null,null,null,null,null,null,null,null,null,null,{"$f":"CL&\"点以下の被ﾀﾞﾒｰｼﾞを0にする\"","v":"0点以下の被ﾀﾞﾒｰｼﾞを0にする"}]
[null,"厄払い人形",40,null,null,null,null,null,null,null,null,null,null,null,null,null,null,null,null,null,null,null,null,null,null,null,null,null,null,null,null,null,null,null,null,null,null,null,null,null,null,null,null,null,null,null,null,null,null,null,null,null,null,null,null,null,null,null,null,"1ｾｯｼｮﾝ1回、BS付与無効"]
[null,"マジックサイト",40,null,null,null,null,null,null,null,null,null,null,null,null,null,null,null,null,null,null,null,null,null,null,null,null,null,null,null,null,-1,null,15,null,null,null,null,null,null,null,null,null,null,null,null,null,null,null,null,null,null,null,null,null,null,null,null,null,"命中C値-1 (下限値：15) <済>"]
[null,"ヘキサペンダント",40,null,null,null,null,null,null,null,null,null,null,null,null,null,null,null,null,null,null,null,4,null,null,1,1,1,1,1,1,null,null,null,null,null,null,null,null,null,null,null,null,null,null,null,null,null,null,null,null,null,null,null,null,null,null,null,null,"特殊効果なし"]
[null,"ジャスパー",40,null,null,null,null,null,null,null,null,null,null,null,null,null,null,null,null,null,null,null,null,null,null,null,null,null,null,null,null,null,null,null,null,null,null,null,null,null,null,null,null,null,null,null,null,null,null,null,null,null,null,null,null,null,null,null,null,"怯み(X)50%無効"]
[null,"ヴォルテックス",40,null,null,null,null,null,null,null,null,null,null,null,null,null,4,null,null,null,null,null,6,null,null,null,null,null,-4,6,null,null,null,null,null,null,null,null,null,null,null,null,null,null,null,null,null,null,null,null,null,null,null,null,null,null,null,null,null,"特殊効果なし"]
[null,"ワイバーンの牙",50,null,null,null,null,null,null,null,null,null,null,null,null,null,null,5,null,5,null,null,null,null,null,null,null,null,null,null,null,null,null,null,null,null,null,null,null,null,null,null,null,null,null,null,null,null,null,null,null,null,null,null,null,null,null,null,null,"特殊効果なし"]
[null,"マジックハット",50,null,null,null,null,null,null,null,null,null,null,null,null,null,null,null,5,null,5,null,null,null,null,null,null,null,null,null,null,null,null,null,null,null,null,null,null,null,null,null,null,null,null,null,null,null,null,null,null,null,null,null,null,null,null,null,null,"特殊効果なし"]
[null,"ローラーシューズ",50,null,null,null,null,null,null,null,null,null,null,null,null,null,null,null,null,null,null,null,null,null,null,null,null,null,null,null,null,null,null,null,null,null,null,null,null,null,null,null,null,null,null,null,null,null,null,null,-1,null,2,-1,null,6,null,null,null,"移動ｺｽﾄ-1 (ｻﾌﾞ下限：2 ﾒｲﾝ下限：6) <済>"]
[null,"スターアミュレット",50,null,null,null,null,null,null,null,null,null,null,null,null,null,null,null,null,null,null,null,3,null,null,null,null,null,null,null,2,null,null,null,null,null,null,null,null,null,null,null,null,null,null,null,null,null,null,null,null,null,null,null,null,null,null,null,null,"1ｾｯｼｮﾝ1回、判定後に出目+1可能"]
[null,"流星の首輪",50,null,null,null,null,null,null,null,null,null,null,null,null,null,6,null,null,null,null,null,null,null,null,null,null,null,null,null,3,null,null,null,null,null,null,null,null,null,null,null,null,null,null,null,null,null,null,null,null,null,null,null,null,null,null,null,null,"特殊効果なし"]
[null,"エンハンスギア",50,null,null,null,null,null,null,null,null,null,null,null,null,null,null,null,null,null,null,null,null,null,null,null,null,null,null,null,null,null,null,null,null,null,null,null,null,null,null,null,null,null,null,null,null,null,null,null,null,null,null,null,null,null,null,null,{"$f":"CL*2","v":0},{"$f":"\"配置ﾕﾆｯﾄの【耐久】+\"&CL*2&\" <済>\"","v":"配置ﾕﾆｯﾄの【耐久】+0 <済>"}]
[null,"フェアリーバングル",50,null,null,null,null,null,null,null,null,null,null,null,null,null,null,null,null,null,null,null,3,null,null,1,1,1,1,1,null,null,null,null,null,null,null,null,null,null,null,null,null,null,null,null,null,null,null,1,null,null,null,null,null,null,null,null,null,"[BP上限値]+1 <済>"]
[null,"呪いの指輪",50,null,null,null,null,null,null,null,null,null,null,null,null,null,null,null,null,null,null,null,15,null,null,null,null,null,null,null,null,null,null,null,2,8,null,null,null,null,null,null,null,null,null,null,null,null,null,null,null,null,null,null,null,null,null,null,null,"命中F値+2 (上限値：8) <済>"]
[null,"ヘリオスブーツ",50,null,null,null,null,null,null,null,null,null,null,null,null,null,3,null,null,3,5,null,null,null,null,3,1,1,null,null,null,null,null,null,null,null,null,null,null,null,null,null,null,null,null,null,null,null,null,null,null,null,null,null,null,null,null,null,null,"特殊効果なし"]
[null,"ヘヴィメタルギア",50,null,null,null,null,null,null,null,null,-2,-2,null,-2,null,null,15,15,null,null,null,null,null,null,null,null,null,null,null,null,null,null,null,null,null,null,null,null,null,null,null,null,null,null,null,null,null,null,null,null,null,null,null,null,null,null,null,null,"特殊効果なし"]
[null,"シルバーハット",50,null,null,null,null,null,null,null,null,null,null,null,null,null,null,null,null,null,null,null,6,null,null,null,null,null,null,null,null,null,null,null,null,null,null,null,null,null,null,null,null,null,null,null,null,null,null,null,null,null,null,null,null,null,1,null,null,"「対決」の命中判定達成値+1 <済>"]
[null,"不吉な呪符",50,null,null,null,null,null,null,null,null,null,null,null,null,null,null,null,null,null,null,null,16,null,null,null,null,null,null,null,null,null,null,null,2,8,null,null,null,null,null,null,null,null,null,null,null,null,null,null,null,null,null,null,null,null,null,null,null,"命中F値+2 (上限値：8) <済>"]
[null,"鬼神の護符",50,null,null,null,null,null,null,null,null,null,null,null,null,null,null,10,null,null,null,null,null,null,null,null,null,null,null,null,null,null,null,null,null,null,null,null,null,null,null,null,null,null,null,null,null,null,null,null,null,null,null,null,null,null,null,null,null,"特殊効果なし"]
[null,"大魔女のオーブ",50,null,null,null,null,null,null,null,null,null,null,null,null,null,null,null,10,null,null,null,null,null,null,null,null,null,null,null,null,null,null,null,null,null,null,null,null,null,null,null,null,null,null,null,null,null,null,null,null,null,null,null,null,null,null,null,null,"特殊効果なし"]
[null,"チタンヘッド",55,null,null,null,null,null,null,null,null,null,null,null,null,null,null,null,null,7,5,5,null,3,1,1,null,null,-1,null,null,null,null,null,null,null,null,null,null,null,null,null,null,null,null,null,null,null,null,null,null,null,null,null,null,null,null,null,null,"特殊効果なし"]
[null,"チタンガントレット",55,null,null,null,null,null,null,null,null,null,null,null,null,null,null,null,null,7,5,5,null,2,2,1,null,null,-1,null,null,null,null,null,null,null,null,null,null,null,null,null,null,null,null,null,null,null,null,null,null,null,null,null,null,null,null,null,null,"特殊効果なし"]
[null,"チタンレガース",55,null,null,null,null,null,null,null,null,null,null,null,null,null,null,null,null,7,5,5,null,1,3,1,null,null,-1,null,null,null,null,null,null,null,null,null,null,null,null,null,null,null,null,null,null,null,null,null,null,null,null,null,null,null,null,null,null,"特殊効果なし"]
[null,"ハートクリスタル",60,null,null,null,null,null,null,null,null,null,null,null,null,null,null,null,null,null,null,5,5,null,null,null,null,null,null,null,null,null,null,null,null,null,null,null,null,null,null,null,null,null,null,null,null,null,null,2,null,null,null,null,null,null,null,null,null,"[BP上限値]+2 <済>"]
[null,"ホワイトオーブ",60,null,null,null,null,null,null,null,null,null,null,null,null,null,null,null,null,null,null,null,null,null,null,null,null,null,null,null,4,null,null,null,null,null,null,null,null,null,null,null,null,null,null,null,null,null,null,null,null,null,null,null,null,null,null,{"$f":"SL*2","v":0},null,{"$f":"\"回スキル【HP】回復量+\"&SL*2&\" <済>\"","v":"回スキル【HP】回復量+0 <済>"}]
[null,"アイスバックラー",60,null,null,null,null,null,null,null,null,null,null,null,null,null,null,null,null,5,5,null,null,2,null,-4,3,3,null,null,null,null,null,null,null,null,null,null,null,null,null,null,null,null,null,null,null,null,null,null,null,null,null,null,null,null,null,null,null,"凍結無効"]
[null,"雷神の籠手",60,null,null,null,null,null,null,null,null,null,null,null,null,null,null,null,null,5,5,null,null,1,1,null,null,null,4,-3,1,null,null,null,null,null,null,null,null,null,null,null,null,null,null,null,null,null,null,null,null,null,null,null,null,null,null,null,null,"マヒ無効"]
[null,"サイクロンブーツ",60,null,null,null,null,null,null,null,null,null,null,1,null,null,5,null,null,null,null,null,null,null,null,null,null,null,null,null,null,null,null,null,null,null,null,null,null,null,null,null,null,null,null,null,null,null,null,null,null,null,null,null,null,null,null,null,null,"特殊効果なし"]
[null,"アイテムポーチ",60,null,null,null,null,null,null,null,null,null,null,null,null,null,null,null,null,null,null,null,null,null,null,null,null,null,null,null,null,null,null,null,null,null,null,null,null,null,null,null,null,null,null,null,null,null,null,null,null,null,null,null,null,null,null,null,null,"1回のｻﾌﾞで消費ｱｲﾃﾑ2つ使用可"]
[null,"破呪の宝石",60,null,null,null,null,null,null,null,null,null,null,null,null,null,null,null,null,null,null,4,8,null,null,null,null,null,null,null,null,null,null,null,null,null,null,null,null,null,null,null,null,null,null,null,null,null,null,null,null,null,null,null,null,null,null,null,null,"呪い無効"]
[null,"真実のオーブ",70,2,2,2,2,2,2,2,2,null,null,null,null,null,null,null,null,null,null,null,10,null,null,null,null,null,null,null,null,null,null,null,null,null,null,null,null,null,null,null,null,null,null,null,-2,null,3,null,null,null,null,null,null,null,null,null,null,"全基本能力値+2 調査F値-2(下限：3) <済>"]
[null,"タングステンヘルム",70,null,null,null,null,null,null,null,null,null,null,null,null,null,null,null,null,8,8,null,null,2,null,null,null,null,null,null,null,null,null,null,null,null,null,null,null,null,null,null,null,null,null,null,null,null,null,null,null,null,null,null,null,null,null,null,null,"【肉体】+4 <済>"]
[null,"アームブースター",75,4,null,null,null,null,null,null,null,2,null,null,null,null,null,null,null,null,null,-15,-12,-2,-2,null,null,null,null,null,null,null,null,null,null,null,null,null,null,null,null,null,null,null,null,null,null,null,null,null,null,null,null,null,null,null,null,null,null,"【集中】+4 <済>"]
[null,"ロックコンタクト",75,null,null,4,null,null,null,null,null,null,2,null,null,null,null,null,null,null,null,-15,-12,-2,-2,null,null,null,null,null,null,null,null,null,null,null,null,null,null,null,null,null,null,null,null,null,null,null,null,null,null,null,null,null,null,null,null,null,null,"【反射】+4 <済>"]
[null,"フロートギア",75,null,4,null,null,null,null,null,null,null,null,2,null,null,null,null,null,null,null,-15,-12,-2,-2,null,null,null,null,null,null,null,null,null,null,null,null,null,null,null,null,null,null,null,null,null,null,null,null,null,null,null,null,null,null,null,null,null,null,"【知識】+4 <済>"]
[null,"ペンタグラム",75,null,null,null,4,null,null,null,null,null,null,null,2,null,null,null,null,null,null,-15,-12,-2,-2,null,null,null,null,null,null,null,null,null,null,null,null,null,null,null,null,null,null,null,null,null,null,null,null,null,null,null,null,null,null,null,null,null,null,"【幸運】+4 <済>"]
[null,"アンチマジック",75,null,null,null,null,null,null,null,4,null,null,null,null,2,null,null,null,null,null,-15,-12,-2,-2,null,null,null,null,null,null,null,null,null,null,null,null,null,null,null,null,null,null,null,null,null,null,null,null,null,null,null,null,null,null,null,null,null,null,"特殊効果なし"]
[null,"太陽の首輪",80,null,null,null,null,null,null,null,null,null,null,null,null,null,null,15,15,null,null,null,null,null,null,null,null,null,null,null,null,null,null,null,null,null,null,null,null,null,null,null,null,null,null,null,null,null,null,null,null,null,null,null,null,null,null,null,null,{"$f":"\"回スキル【HP】回復量+\"&CL&\" <済>\"","v":"回スキル【HP】回復量+0 <済>"}]
[null,"満月の首輪",80,null,null,null,null,null,null,null,null,null,null,null,null,null,null,null,null,null,null,null,null,null,null,null,null,null,null,null,null,null,null,null,null,null,null,null,null,null,null,null,null,null,null,null,null,null,null,null,null,null,null,null,null,null,null,{"$f":"CL","v":0},null,"特殊効果なし"]
[null,"スーパーリング",80,null,null,null,null,null,null,null,null,1,1,1,1,1,null,null,null,null,null,-15,-12,null,null,null,null,null,null,null,null,null,null,null,null,null,null,null,null,null,null,null,null,null,null,null,null,null,null,null,null,null,null,null,null,null,null,null,null,"特殊効果なし"]
[null,"パリィガントレット",80,null,null,null,null,null,null,null,null,null,null,1,null,null,null,null,null,null,null,null,null,2,2,null,null,null,null,null,null,null,null,null,null,null,null,-1,null,16,null,null,null,null,null,null,null,null,null,null,null,null,null,null,null,null,null,null,null,"回避C値-1 (下限値：16) <済>"]
[null,"全知全能の書",80,6,6,6,6,6,6,6,6,null,null,null,null,null,null,null,null,null,null,null,5,null,null,null,null,null,null,null,null,null,null,null,null,null,null,null,null,null,null,null,null,-2,null,14,null,null,null,null,null,null,null,null,null,null,null,null,null,"全基本能力値+6 調査C値-2(上限：14) <済>"]
[null,"ヘヴィメタルガード",90,null,null,null,null,null,null,null,null,null,null,-3,null,null,-7,null,null,null,null,20,null,3,3,2,2,2,2,2,null,null,null,null,null,null,null,null,null,null,2,20,null,null,null,null,null,null,null,null,null,null,null,null,null,null,null,null,null,"回避F値-2 (上限値：20) <済>"]
[null,"メテオグリーブ",90,null,null,null,null,null,null,null,null,null,null,null,null,null,-2,null,null,11,9,5,5,2,2,3,-2,-2,null,null,null,null,null,null,null,null,null,null,null,null,null,null,null,null,null,null,null,null,null,null,null,null,null,null,null,null,null,null,null,"特殊効果なし"]
[null,"竜王の指輪",100,null,null,null,null,null,null,null,null,null,null,null,null,null,null,null,null,null,null,{"$f":"MIN(CL+15,35)","v":15},null,null,null,null,null,null,null,null,null,null,null,null,null,null,null,null,null,null,null,null,null,null,null,null,null,null,null,null,null,null,null,null,null,null,null,null,null,"特殊効果なし"]
[null,"大魔女の指輪",100,null,null,null,null,null,null,null,null,null,null,null,null,null,null,null,null,null,null,null,{"$f":"MIN(CL+5,25)","v":5},null,null,null,null,null,null,null,null,null,null,null,null,null,null,null,null,null,null,null,null,null,null,null,null,null,null,null,null,null,null,null,null,null,null,null,null,"特殊効果なし"]
[null,"スターペンデュラム",100,null,null,null,null,null,null,null,null,null,null,null,null,null,null,null,null,null,null,null,null,null,null,null,null,null,null,null,null,-2,null,16,null,null,null,-2,null,16,null,null,null,-2,null,16,null,null,null,null,null,null,null,null,null,null,null,null,null,"常時C値-2 (下限値：16) <済>"]
[null,"フォーチュンリング",100,null,null,null,null,null,null,null,null,null,null,null,null,null,null,null,null,null,null,null,null,null,null,null,null,null,null,null,null,null,null,null,null,null,null,null,null,null,null,null,null,null,null,null,null,null,null,null,null,null,null,null,null,null,null,null,null,"ｸﾘﾃｨｶﾙした攻撃の与ﾀﾞﾒｰｼﾞ+7D10"]
[null,"ルビーギアEx",100,null,null,null,null,null,null,null,null,null,null,null,null,null,null,null,null,null,null,null,null,null,null,4,null,-2,null,null,null,null,null,null,null,null,null,null,null,null,null,null,null,null,null,null,null,null,null,null,null,null,null,null,null,null,null,null,null,"攻撃の〈炎〉与ﾀﾞﾒｰｼﾞ+[4D10+5]"]
[null,"ダンブライトギアEx",100,null,null,null,null,null,null,null,null,null,null,null,null,null,null,null,null,null,null,null,null,null,null,-2,4,null,null,null,null,null,null,null,null,null,null,null,null,null,null,null,null,null,null,null,null,null,null,null,null,null,null,null,null,null,null,null,null,"攻撃の〈氷〉与ﾀﾞﾒｰｼﾞ+[4D10+5]"]
[null,"サファイアギアEx",100,null,null,null,null,null,null,null,null,null,null,null,null,null,null,null,null,null,null,null,null,null,null,null,null,4,-2,null,null,null,null,null,null,null,null,null,null,null,null,null,null,null,null,null,null,null,null,null,null,null,null,null,null,null,null,null,null,"攻撃の〈水〉与ﾀﾞﾒｰｼﾞ+[4D10+5]"]
[null,"トパーズギアEx",100,null,null,null,null,null,null,null,null,null,null,null,null,null,null,null,null,null,null,null,null,null,null,null,null,null,4,-2,null,null,null,null,null,null,null,null,null,null,null,null,null,null,null,null,null,null,null,null,null,null,null,null,null,null,null,null,null,"攻撃の〈雷〉与ﾀﾞﾒｰｼﾞ+[4D10+5]"]
[null,"エメラルドギアEx",100,null,null,null,null,null,null,null,null,null,null,null,null,null,null,null,null,null,null,null,null,null,null,null,-2,null,null,4,null,null,null,null,null,null,null,null,null,null,null,null,null,null,null,null,null,null,null,null,null,null,null,null,null,null,null,null,null,"攻撃の〈風〉与ﾀﾞﾒｰｼﾞ+[4D10+5]"]
[null,"ヘリオドールギアEx",100,null,null,null,null,null,null,null,null,null,null,null,null,null,null,null,null,null,null,null,null,-1,-1,null,null,null,null,null,4,null,null,null,null,null,null,null,null,null,null,null,null,null,null,null,null,null,null,null,null,null,null,null,null,null,null,null,null,"攻撃の〈光〉与ﾀﾞﾒｰｼﾞ+[4D10+5]"]
[null,"セーフティリング",110,null,null,null,null,null,null,null,null,null,null,null,null,null,null,null,null,null,null,null,null,null,null,1,1,1,1,1,1,null,null,null,-2,null,3,null,null,null,-2,null,3,null,null,null,-2,null,3,null,null,null,null,null,null,null,null,null,null,"常時F値-2 (下限値：3) <済>"]
[null,"伝説の兜",120,null,null,null,null,null,null,null,null,null,null,null,null,null,null,null,null,15,15,9,5,null,null,null,null,null,null,null,null,null,null,null,null,null,null,null,null,null,null,null,null,null,null,null,null,null,null,null,null,null,null,null,null,null,null,null,null,"特殊効果なし"]
[null,"混沌の呪印",120,null,null,null,null,null,null,null,null,null,null,null,null,null,null,20,null,null,null,null,null,null,null,null,null,null,null,null,null,null,null,null,null,null,null,null,null,null,null,null,null,null,null,null,null,null,null,null,null,null,null,null,null,null,null,null,null,"呪い無効"]
[null,"ヘキサグラム",120,null,null,null,null,null,null,null,null,null,null,null,null,null,null,null,20,null,null,null,null,null,null,null,null,null,null,null,null,null,null,null,null,null,null,null,null,null,null,null,null,null,null,null,null,null,null,null,null,null,null,null,null,null,null,null,null,"封印無効"]
[null,"吸血鬼の心臓",120,null,null,null,null,null,null,null,null,null,null,null,null,null,null,null,null,null,null,10,null,null,null,null,null,null,null,null,-4,null,null,null,null,null,null,null,null,null,null,null,null,null,null,null,null,null,null,null,null,null,null,null,null,null,null,null,null,{"$f":"\"攻撃命中時、HPを\"&CL*2&\"点回復\"","v":"攻撃命中時、HPを0点回復"}]
[null,"祝福の輝石",120,null,null,null,null,null,null,null,null,null,null,null,null,null,null,null,null,null,null,null,null,null,null,null,null,null,null,null,null,null,null,null,null,null,null,null,null,null,null,null,null,-2,null,14,null,null,null,3,null,null,null,null,null,null,null,null,null,"[BP上限値]+3 調査C値-2 (下限：14) <済>"]
[null,"レインボーガード",150,null,null,null,null,null,null,null,null,null,null,null,null,null,null,null,null,null,null,null,25,2,2,2,2,2,2,2,2,null,null,null,null,null,null,null,null,null,null,null,null,null,null,null,null,null,null,null,null,null,null,null,null,null,null,null,null,"特殊効果なし"]
[null,"デビルグローブ",150,null,null,null,null,null,null,null,null,null,null,null,null,null,null,30,null,null,null,null,null,null,null,null,null,null,null,null,null,null,null,null,null,null,null,null,null,null,null,null,null,null,null,null,null,null,null,null,null,null,null,null,null,null,null,null,null,"特殊効果なし"]
[null,"大いなる加護印",150,null,null,null,null,null,null,null,null,null,null,null,null,null,null,null,30,null,null,null,null,null,null,null,null,null,null,null,null,null,null,null,null,null,null,null,null,null,null,null,null,null,null,null,null,null,null,null,null,null,null,null,null,null,null,null,null,"特殊効果なし"]

{"sheet":"データ管理","index":10,"n_rows":29,"n_cols":30,"rows_kept":29,"cut":false,"hidden":false,"merged":[]}
[null,"■各種修正値算出"]
[null,null,37,38,39,40,41,42,43,44,45,46,47,48,49,50,51,52,53,54,55,56,57,58,59,60,61,62,63,64]
[null,null,"命中C値","命C上限","命C下限","命中F値","命F上限","命F下限","回避C値","回C上限","回C下限","回避F値","回F上限","回F下限","調査C値","調C上限","調C下限","調査F値","調F上限","調F下限","BP上限","SMC","SMC上限","SMC下限","MMC","MMC上限","MMC下限","対決","回復","配置"]
[null,"元値",18,null,null,5,null,null,18,null,null,5,null,null,18,null,null,5,null,null,16,3,null,null,8]
[null,"種族特典",{"$f":"IF(VLOOKUP(種族,種族VL用!$B$1:$BN$20,COLUMN()+37,FALSE)=0,\"\",VLOOKUP(種族,種族VL用!$B$1:$BN$20,COLUMN()+37,FALSE))","v":-1},{"$f":"IF(VLOOKUP(種族,種族VL用!$B$1:$BN$20,COLUMN()+37,FALSE)=0,\"\",VLOOKUP(種族,種族VL用!$B$1:$BN$20,COLUMN()+37,FALSE))","v":""},{"$f":"IF(VLOOKUP(種族,種族VL用!$B$1:$BN$20,COLUMN()+37,FALSE)=0,\"\",VLOOKUP(種族,種族VL用!$B$1:$BN$20,COLUMN()+37,FALSE))","v":16},{"$f":"IF(VLOOKUP(種族,種族VL用!$B$1:$BN$20,COLUMN()+37,FALSE)=0,\"\",VLOOKUP(種族,種族VL用!$B$1:$BN$20,COLUMN()+37,FALSE))","v":""},{"$f":"IF(VLOOKUP(種族,種族VL用!$B$1:$BN$20,COLUMN()+37,FALSE)=0,\"\",VLOOKUP(種族,種族VL用!$B$1:$BN$20,COLUMN()+37,FALSE))","v":""},{"$f":"IF(VLOOKUP(種族,種族VL用!$B$1:$BN$20,COLUMN()+37,FALSE)=0,\"\",VLOOKUP(種族,種族VL用!$B$1:$BN$20,COLUMN()+37,FALSE))","v":""},{"$f":"IF(VLOOKUP(種族,種族VL用!$B$1:$BN$20,COLUMN()+37,FALSE)=0,\"\",VLOOKUP(種族,種族VL用!$B$1:$BN$20,COLUMN()+37,FALSE))","v":-1},{"$f":"IF(VLOOKUP(種族,種族VL用!$B$1:$BN$20,COLUMN()+37,FALSE)=0,\"\",VLOOKUP(種族,種族VL用!$B$1:$BN$20,COLUMN()+37,FALSE))","v":""},{"$f":"IF(VLOOKUP(種族,種族VL用!$B$1:$BN$20,COLUMN()+37,FALSE)=0,\"\",VLOOKUP(種族,種族VL用!$B$1:$BN$20,COLUMN()+37,FALSE))","v":16},{"$f":"IF(VLOOKUP(種族,種族VL用!$B$1:$BN$20,COLUMN()+37,FALSE)=0,\"\",VLOOKUP(種族,種族VL用!$B$1:$BN$20,COLUMN()+37,FALSE))","v":""},{"$f":"IF(VLOOKUP(種族,種族VL用!$B$1:$BN$20,COLUMN()+37,FALSE)=0,\"\",VLOOKUP(種族,種族VL用!$B$1:$BN$20,COLUMN()+37,FALSE))","v":""},{"$f":"IF(VLOOKUP(種族,種族VL用!$B$1:$BN$20,COLUMN()+37,FALSE)=0,\"\",VLOOKUP(種族,種族VL用!$B$1:$BN$20,COLUMN()+37,FALSE))","v":""},{"$f":"IF(VLOOKUP(種族,種族VL用!$B$1:$BN$20,COLUMN()+37,FALSE)=0,\"\",VLOOKUP(種族,種族VL用!$B$1:$BN$20,COLUMN()+37,FALSE))","v":-1},{"$f":"IF(VLOOKUP(種族,種族VL用!$B$1:$BN$20,COLUMN()+37,FALSE)=0,\"\",VLOOKUP(種族,種族VL用!$B$1:$BN$20,COLUMN()+37,FALSE))","v":""},{"$f":"IF(VLOOKUP(種族,種族VL用!$B$1:$BN$20,COLUMN()+37,FALSE)=0,\"\",VLOOKUP(種族,種族VL用!$B$1:$BN$20,COLUMN()+37,FALSE))","v":16},{"$f":"IF(VLOOKUP(種族,種族VL用!$B$1:$BN$20,COLUMN()+37,FALSE)=0,\"\",VLOOKUP(種族,種族VL用!$B$1:$BN$20,COLUMN()+37,FALSE))","v":""},{"$f":"IF(VLOOKUP(種族,種族VL用!$B$1:$BN$20,COLUMN()+37,FALSE)=0,\"\",VLOOKUP(種族,種族VL用!$B$1:$BN$20,COLUMN()+37,FALSE))","v":""},{"$f":"IF(VLOOKUP(種族,種族VL用!$B$1:$BN$20,COLUMN()+37,FALSE)=0,\"\",VLOOKUP(種族,種族VL用!$B$1:$BN$20,COLUMN()+37,FALSE))","v":""},{"$f":"IF(VLOOKUP(種族,種族VL用!$B$1:$BN$20,COLUMN()+37,FALSE)=0,\"\",VLOOKUP(種族,種族VL用!$B$1:$BN$20,COLUMN()+37,FALSE))","v":""},{"$f":"IF(VLOOKUP(種族,種族VL用!$B$1:$BN$20,COLUMN()+37,FALSE)=0,\"\",VLOOKUP(種族,種族VL用!$B$1:$BN$20,COLUMN()+37,FALSE))","v":""},{"$f":"IF(VLOOKUP(種族,種族VL用!$B$1:$BN$20,COLUMN()+37,FALSE)=0,\"\",VLOOKUP(種族,種族VL用!$B$1:$BN$20,COLUMN()+37,FALSE))","v":""},{"$f":"IF(VLOOKUP(種族,種族VL用!$B$1:$BN$20,COLUMN()+37,FALSE)=0,\"\",VLOOKUP(種族,種族VL用!$B$1:$BN$20,COLUMN()+37,FALSE))","v":""},{"$f":"IF(VLOOKUP(種族,種族VL用!$B$1:$BN$20,COLUMN()+37,FALSE)=0,\"\",VLOOKUP(種族,種族VL用!$B$1:$BN$20,COLUMN()+37,FALSE))","v":""},{"$f":"IF(VLOOKUP(種族,種族VL用!$B$1:$BN$20,COLUMN()+37,FALSE)=0,\"\",VLOOKUP(種族,種族VL用!$B$1:$BN$20,COLUMN()+37,FALSE))","v":""},{"$f":"IF(VLOOKUP(種族,種族VL用!$B$1:$BN$20,COLUMN()+37,FALSE)=0,\"\",VLOOKUP(種族,種族VL用!$B$1:$BN$20,COLUMN()+37,FALSE))","v":""},{"$f":"IF(VLOOKUP(種族,種族VL用!$B$1:$BN$20,COLUMN()+37,FALSE)=0,\"\",VLOOKUP(種族,種族VL用!$B$1:$BN$20,COLUMN()+37,FALSE))","v":""}]
[null,"Mタイプ特典",{"$f":"IF(VLOOKUP(MC,ﾀｲﾌﾟVL用!$B$2:$AN$23,COLUMN()+10,FALSE)=0,\"\",VLOOKUP(MC,ﾀｲﾌﾟVL用!$B$2:$AN$23,COLUMN()+10,FALSE))","v":""},{"$f":"IF(VLOOKUP(MC,ﾀｲﾌﾟVL用!$B$2:$AN$23,COLUMN()+10,FALSE)=0,\"\",VLOOKUP(MC,ﾀｲﾌﾟVL用!$B$2:$AN$23,COLUMN()+10,FALSE))","v":""},{"$f":"IF(VLOOKUP(MC,ﾀｲﾌﾟVL用!$B$2:$AN$23,COLUMN()+10,FALSE)=0,\"\",VLOOKUP(MC,ﾀｲﾌﾟVL用!$B$2:$AN$23,COLUMN()+10,FALSE))","v":""},{"$f":"IF(VLOOKUP(MC,ﾀｲﾌﾟVL用!$B$2:$AN$23,COLUMN()+10,FALSE)=0,\"\",VLOOKUP(MC,ﾀｲﾌﾟVL用!$B$2:$AN$23,COLUMN()+10,FALSE))","v":""},{"$f":"IF(VLOOKUP(MC,ﾀｲﾌﾟVL用!$B$2:$AN$23,COLUMN()+10,FALSE)=0,\"\",VLOOKUP(MC,ﾀｲﾌﾟVL用!$B$2:$AN$23,COLUMN()+10,FALSE))","v":""},{"$f":"IF(VLOOKUP(MC,ﾀｲﾌﾟVL用!$B$2:$AN$23,COLUMN()+10,FALSE)=0,\"\",VLOOKUP(MC,ﾀｲﾌﾟVL用!$B$2:$AN$23,COLUMN()+10,FALSE))","v":""},{"$f":"IF(VLOOKUP(MC,ﾀｲﾌﾟVL用!$B$2:$AN$23,COLUMN()+10,FALSE)=0,\"\",VLOOKUP(MC,ﾀｲﾌﾟVL用!$B$2:$AN$23,COLUMN()+10,FALSE))","v":""},{"$f":"IF(VLOOKUP(MC,ﾀｲﾌﾟVL用!$B$2:$AN$23,COLUMN()+10,FALSE)=0,\"\",VLOOKUP(MC,ﾀｲﾌﾟVL用!$B$2:$AN$23,COLUMN()+10,FALSE))","v":""},{"$f":"IF(VLOOKUP(MC,ﾀｲﾌﾟVL用!$B$2:$AN$23,COLUMN()+10,FALSE)=0,\"\",VLOOKUP(MC,ﾀｲﾌﾟVL用!$B$2:$AN$23,COLUMN()+10,FALSE))","v":""},{"$f":"IF(VLOOKUP(MC,ﾀｲﾌﾟVL用!$B$2:$AN$23,COLUMN()+10,FALSE)=0,\"\",VLOOKUP(MC,ﾀｲﾌﾟVL用!$B$2:$AN$23,COLUMN()+10,FALSE))","v":""},{"$f":"IF(VLOOKUP(MC,ﾀｲﾌﾟVL用!$B$2:$AN$23,COLUMN()+10,FALSE)=0,\"\",VLOOKUP(MC,ﾀｲﾌﾟVL用!$B$2:$AN$23,COLUMN()+10,FALSE))","v":""},{"$f":"IF(VLOOKUP(MC,ﾀｲﾌﾟVL用!$B$2:$AN$23,COLUMN()+10,FALSE)=0,\"\",VLOOKUP(MC,ﾀｲﾌﾟVL用!$B$2:$AN$23,COLUMN()+10,FALSE))","v":""},{"$f":"IF(VLOOKUP(MC,ﾀｲﾌﾟVL用!$B$2:$AN$23,COLUMN()+10,FALSE)=0,\"\",VLOOKUP(MC,ﾀｲﾌﾟVL用!$B$2:$AN$23,COLUMN()+10,FALSE))","v":""},{"$f":"IF(VLOOKUP(MC,ﾀｲﾌﾟVL用!$B$2:$AN$23,COLUMN()+10,FALSE)=0,\"\",VLOOKUP(MC,ﾀｲﾌﾟVL用!$B$2:$AN$23,COLUMN()+10,FALSE))","v":""},{"$f":"IF(VLOOKUP(MC,ﾀｲﾌﾟVL用!$B$2:$AN$23,COLUMN()+10,FALSE)=0,\"\",VLOOKUP(MC,ﾀｲﾌﾟVL用!$B$2:$AN$23,COLUMN()+10,FALSE))","v":""},{"$f":"IF(VLOOKUP(MC,ﾀｲﾌﾟVL用!$B$2:$AN$23,COLUMN()+10,FALSE)=0,\"\",VLOOKUP(MC,ﾀｲﾌﾟVL用!$B$2:$AN$23,COLUMN()+10,FALSE))","v":""},{"$f":"IF(VLOOKUP(MC,ﾀｲﾌﾟVL用!$B$2:$AN$23,COLUMN()+10,FALSE)=0,\"\",VLOOKUP(MC,ﾀｲﾌﾟVL用!$B$2:$AN$23,COLUMN()+10,FALSE))","v":""},{"$f":"IF(VLOOKUP(MC,ﾀｲﾌﾟVL用!$B$2:$AN$23,COLUMN()+10,FALSE)=0,\"\",VLOOKUP(MC,ﾀｲﾌﾟVL用!$B$2:$AN$23,COLUMN()+10,FALSE))","v":""},{"$f":"IF(VLOOKUP(MC,ﾀｲﾌﾟVL用!$B$2:$AN$23,COLUMN()+10,FALSE)=0,\"\",VLOOKUP(MC,ﾀｲﾌﾟVL用!$B$2:$AN$23,COLUMN()+10,FALSE))","v":""},{"$f":"IF(VLOOKUP(MC,ﾀｲﾌﾟVL用!$B$2:$AN$23,COLUMN()+10,FALSE)=0,\"\",VLOOKUP(MC,ﾀｲﾌﾟVL用!$B$2:$AN$23,COLUMN()+10,FALSE))","v":""},{"$f":"IF(VLOOKUP(MC,ﾀｲﾌﾟVL用!$B$2:$AN$23,COLUMN()+10,FALSE)=0,\"\",VLOOKUP(MC,ﾀｲﾌﾟVL用!$B$2:$AN$23,COLUMN()+10,FALSE))","v":""},{"$f":"IF(VLOOKUP(MC,ﾀｲﾌﾟVL用!$B$2:$AN$23,COLUMN()+10,FALSE)=0,\"\",VLOOKUP(MC,ﾀｲﾌﾟVL用!$B$2:$AN$23,COLUMN()+10,FALSE))","v":""},{"$f":"IF(VLOOKUP(MC,ﾀｲﾌﾟVL用!$B$2:$AN$23,COLUMN()+10,FALSE)=0,\"\",VLOOKUP(MC,ﾀｲﾌﾟVL用!$B$2:$AN$23,COLUMN()+10,FALSE))","v":""},{"$f":"IF(VLOOKUP(MC,ﾀｲﾌﾟVL用!$B$2:$AN$23,COLUMN()+10,FALSE)=0,\"\",VLOOKUP(MC,ﾀｲﾌﾟVL用!$B$2:$AN$23,COLUMN()+10,FALSE))","v":""},{"$f":"IF(VLOOKUP(MC,ﾀｲﾌﾟVL用!$B$2:$AN$23,COLUMN()+10,FALSE)=0,\"\",VLOOKUP(MC,ﾀｲﾌﾟVL用!$B$2:$AN$23,COLUMN()+10,FALSE))","v":""}]
[null,"Sタイプ特典",{"$f":"IF(SC>=3,IF(VLOOKUP(SC,ﾀｲﾌﾟVL用!$B$2:$AN$23,COLUMN()+10,FALSE)=0,\"\",VLOOKUP(SC,ﾀｲﾌﾟVL用!$B$2:$AN$23,COLUMN()+10,FALSE)),)","v":""},{"$f":"IF(SC>=3,IF(VLOOKUP(SC,ﾀｲﾌﾟVL用!$B$2:$AN$23,COLUMN()+10,FALSE)=0,\"\",VLOOKUP(SC,ﾀｲﾌﾟVL用!$B$2:$AN$23,COLUMN()+10,FALSE)),)","v":""},{"$f":"IF(SC>=3,IF(VLOOKUP(SC,ﾀｲﾌﾟVL用!$B$2:$AN$23,COLUMN()+10,FALSE)=0,\"\",VLOOKUP(SC,ﾀｲﾌﾟVL用!$B$2:$AN$23,COLUMN()+10,FALSE)),)","v":""},{"$f":"IF(SC>=3,IF(VLOOKUP(SC,ﾀｲﾌﾟVL用!$B$2:$AN$23,COLUMN()+10,FALSE)=0,\"\",VLOOKUP(SC,ﾀｲﾌﾟVL用!$B$2:$AN$23,COLUMN()+10,FALSE)),)","v":""},{"$f":"IF(SC>=3,IF(VLOOKUP(SC,ﾀｲﾌﾟVL用!$B$2:$AN$23,COLUMN()+10,FALSE)=0,\"\",VLOOKUP(SC,ﾀｲﾌﾟVL用!$B$2:$AN$23,COLUMN()+10,FALSE)),)","v":""},{"$f":"IF(SC>=3,IF(VLOOKUP(SC,ﾀｲﾌﾟVL用!$B$2:$AN$23,COLUMN()+10,FALSE)=0,\"\",VLOOKUP(SC,ﾀｲﾌﾟVL用!$B$2:$AN$23,COLUMN()+10,FALSE)),)","v":""},{"$f":"IF(SC>=3,IF(VLOOKUP(SC,ﾀｲﾌﾟVL用!$B$2:$AN$23,COLUMN()+10,FALSE)=0,\"\",VLOOKUP(SC,ﾀｲﾌﾟVL用!$B$2:$AN$23,COLUMN()+10,FALSE)),)","v":""},{"$f":"IF(SC>=3,IF(VLOOKUP(SC,ﾀｲﾌﾟVL用!$B$2:$AN$23,COLUMN()+10,FALSE)=0,\"\",VLOOKUP(SC,ﾀｲﾌﾟVL用!$B$2:$AN$23,COLUMN()+10,FALSE)),)","v":""},{"$f":"IF(SC>=3,IF(VLOOKUP(SC,ﾀｲﾌﾟVL用!$B$2:$AN$23,COLUMN()+10,FALSE)=0,\"\",VLOOKUP(SC,ﾀｲﾌﾟVL用!$B$2:$AN$23,COLUMN()+10,FALSE)),)","v":""},{"$f":"IF(SC>=3,IF(VLOOKUP(SC,ﾀｲﾌﾟVL用!$B$2:$AN$23,COLUMN()+10,FALSE)=0,\"\",VLOOKUP(SC,ﾀｲﾌﾟVL用!$B$2:$AN$23,COLUMN()+10,FALSE)),)","v":""},{"$f":"IF(SC>=3,IF(VLOOKUP(SC,ﾀｲﾌﾟVL用!$B$2:$AN$23,COLUMN()+10,FALSE)=0,\"\",VLOOKUP(SC,ﾀｲﾌﾟVL用!$B$2:$AN$23,COLUMN()+10,FALSE)),)","v":""},{"$f":"IF(SC>=3,IF(VLOOKUP(SC,ﾀｲﾌﾟVL用!$B$2:$AN$23,COLUMN()+10,FALSE)=0,\"\",VLOOKUP(SC,ﾀｲﾌﾟVL用!$B$2:$AN$23,COLUMN()+10,FALSE)),)","v":""},{"$f":"IF(SC>=3,IF(VLOOKUP(SC,ﾀｲﾌﾟVL用!$B$2:$AN$23,COLUMN()+10,FALSE)=0,\"\",VLOOKUP(SC,ﾀｲﾌﾟVL用!$B$2:$AN$23,COLUMN()+10,FALSE)),)","v":""},{"$f":"IF(SC>=3,IF(VLOOKUP(SC,ﾀｲﾌﾟVL用!$B$2:$AN$23,COLUMN()+10,FALSE)=0,\"\",VLOOKUP(SC,ﾀｲﾌﾟVL用!$B$2:$AN$23,COLUMN()+10,FALSE)),)","v":""},{"$f":"IF(SC>=3,IF(VLOOKUP(SC,ﾀｲﾌﾟVL用!$B$2:$AN$23,COLUMN()+10,FALSE)=0,\"\",VLOOKUP(SC,ﾀｲﾌﾟVL用!$B$2:$AN$23,COLUMN()+10,FALSE)),)","v":""},{"$f":"IF(SC>=3,IF(VLOOKUP(SC,ﾀｲﾌﾟVL用!$B$2:$AN$23,COLUMN()+10,FALSE)=0,\"\",VLOOKUP(SC,ﾀｲﾌﾟVL用!$B$2:$AN$23,COLUMN()+10,FALSE)),)","v":""},{"$f":"IF(SC>=3,IF(VLOOKUP(SC,ﾀｲﾌﾟVL用!$B$2:$AN$23,COLUMN()+10,FALSE)=0,\"\",VLOOKUP(SC,ﾀｲﾌﾟVL用!$B$2:$AN$23,COLUMN()+10,FALSE)),)","v":""},{"$f":"IF(SC>=3,IF(VLOOKUP(SC,ﾀｲﾌﾟVL用!$B$2:$AN$23,COLUMN()+10,FALSE)=0,\"\",VLOOKUP(SC,ﾀｲﾌﾟVL用!$B$2:$AN$23,COLUMN()+10,FALSE)),)","v":""},{"$f":"IF(SC>=3,IF(VLOOKUP(SC,ﾀｲﾌﾟVL用!$B$2:$AN$23,COLUMN()+10,FALSE)=0,\"\",VLOOKUP(SC,ﾀｲﾌﾟVL用!$B$2:$AN$23,COLUMN()+10,FALSE)),)","v":""},{"$f":"IF(SC>=3,IF(VLOOKUP(SC,ﾀｲﾌﾟVL用!$B$2:$AN$23,COLUMN()+10,FALSE)=0,\"\",VLOOKUP(SC,ﾀｲﾌﾟVL用!$B$2:$AN$23,COLUMN()+10,FALSE)),)","v":""},{"$f":"IF(SC>=3,IF(VLOOKUP(SC,ﾀｲﾌﾟVL用!$B$2:$AN$23,COLUMN()+10,FALSE)=0,\"\",VLOOKUP(SC,ﾀｲﾌﾟVL用!$B$2:$AN$23,COLUMN()+10,FALSE)),)","v":""},{"$f":"IF(SC>=3,IF(VLOOKUP(SC,ﾀｲﾌﾟVL用!$B$2:$AN$23,COLUMN()+10,FALSE)=0,\"\",VLOOKUP(SC,ﾀｲﾌﾟVL用!$B$2:$AN$23,COLUMN()+10,FALSE)),)","v":""},{"$f":"IF(SC>=3,IF(VLOOKUP(SC,ﾀｲﾌﾟVL用!$B$2:$AN$23,COLUMN()+10,FALSE)=0,\"\",VLOOKUP(SC,ﾀｲﾌﾟVL用!$B$2:$AN$23,COLUMN()+10,FALSE)),)","v":""},{"$f":"IF(SC>=3,IF(VLOOKUP(SC,ﾀｲﾌﾟVL用!$B$2:$AN$23,COLUMN()+10,FALSE)=0,\"\",VLOOKUP(SC,ﾀｲﾌﾟVL用!$B$2:$AN$23,COLUMN()+10,FALSE)),)","v":""},{"$f":"IF(SC>=3,IF(VLOOKUP(SC,ﾀｲﾌﾟVL用!$B$2:$AN$23,COLUMN()+10,FALSE)=0,\"\",VLOOKUP(SC,ﾀｲﾌﾟVL用!$B$2:$AN$23,COLUMN()+10,FALSE)),)","v":""}]
[null,"武器",{"$f":"IF(VLOOKUP(武器名,武器VL用!$B$1:$AY$100,COLUMN()+32,FALSE)=0,\"\",VLOOKUP(武器名,武器VL用!$B$1:$AY$100,COLUMN()+32,FALSE))","v":""},{"$f":"IF(VLOOKUP(武器名,武器VL用!$B$1:$AY$100,COLUMN()+32,FALSE)=0,\"\",VLOOKUP(武器名,武器VL用!$B$1:$AY$100,COLUMN()+32,FALSE))","v":""},{"$f":"IF(VLOOKUP(武器名,武器VL用!$B$1:$AY$100,COLUMN()+32,FALSE)=0,\"\",VLOOKUP(武器名,武器VL用!$B$1:$AY$100,COLUMN()+32,FALSE))","v":""},{"$f":"IF(VLOOKUP(武器名,武器VL用!$B$1:$AY$100,COLUMN()+32,FALSE)=0,\"\",VLOOKUP(武器名,武器VL用!$B$1:$AY$100,COLUMN()+32,FALSE))","v":""},{"$f":"IF(VLOOKUP(武器名,武器VL用!$B$1:$AY$100,COLUMN()+32,FALSE)=0,\"\",VLOOKUP(武器名,武器VL用!$B$1:$AY$100,COLUMN()+32,FALSE))","v":""},{"$f":"IF(VLOOKUP(武器名,武器VL用!$B$1:$AY$100,COLUMN()+32,FALSE)=0,\"\",VLOOKUP(武器名,武器VL用!$B$1:$AY$100,COLUMN()+32,FALSE))","v":""},{"$f":"IF(VLOOKUP(武器名,武器VL用!$B$1:$AY$100,COLUMN()+32,FALSE)=0,\"\",VLOOKUP(武器名,武器VL用!$B$1:$AY$100,COLUMN()+32,FALSE))","v":""},{"$f":"IF(VLOOKUP(武器名,武器VL用!$B$1:$AY$100,COLUMN()+32,FALSE)=0,\"\",VLOOKUP(武器名,武器VL用!$B$1:$AY$100,COLUMN()+32,FALSE))","v":""},{"$f":"IF(VLOOKUP(武器名,武器VL用!$B$1:$AY$100,COLUMN()+32,FALSE)=0,\"\",VLOOKUP(武器名,武器VL用!$B$1:$AY$100,COLUMN()+32,FALSE))","v":""},{"$f":"IF(VLOOKUP(武器名,武器VL用!$B$1:$AY$100,COLUMN()+32,FALSE)=0,\"\",VLOOKUP(武器名,武器VL用!$B$1:$AY$100,COLUMN()+32,FALSE))","v":""},{"$f":"IF(VLOOKUP(武器名,武器VL用!$B$1:$AY$100,COLUMN()+32,FALSE)=0,\"\",VLOOKUP(武器名,武器VL用!$B$1:$AY$100,COLUMN()+32,FALSE))","v":""},{"$f":"IF(VLOOKUP(武器名,武器VL用!$B$1:$AY$100,COLUMN()+32,FALSE)=0,\"\",VLOOKUP(武器名,武器VL用!$B$1:$AY$100,COLUMN()+32,FALSE))","v":""},null,null,null,null,null,null,null,null,null,null,null,null,null,{"$f":"IF(VLOOKUP(武器名,武器VL用!$B$1:$AY$100,COLUMN()+19,FALSE)=0,\"\",VLOOKUP(武器名,武器VL用!$B$1:$AY$100,COLUMN()+19,FALSE))","v":""},{"$f":"IF(VLOOKUP(武器名,武器VL用!$B$1:$AY$100,COLUMN()+19,FALSE)=0,\"\",VLOOKUP(武器名,武器VL用!$B$1:$AY$100,COLUMN()+19,FALSE))","v":""},{"$f":"IF(VLOOKUP(武器名,武器VL用!$B$1:$AY$100,COLUMN()+19,FALSE)=0,\"\",VLOOKUP(武器名,武器VL用!$B$1:$AY$100,COLUMN()+19,FALSE))","v":""}]
[null,"アクセA",{"$f":"IF(VLOOKUP(アクセA,アクセVL用!$B$1:$BH$135,COLUMN()+28,FALSE)=0,\"\",VLOOKUP(アクセA,アクセVL用!$B$1:$BH$135,COLUMN()+28,FALSE))","v":""},{"$f":"IF(VLOOKUP(アクセA,アクセVL用!$B$1:$BH$135,COLUMN()+28,FALSE)=0,\"\",VLOOKUP(アクセA,アクセVL用!$B$1:$BH$135,COLUMN()+28,FALSE))","v":""},{"$f":"IF(VLOOKUP(アクセA,アクセVL用!$B$1:$BH$135,COLUMN()+28,FALSE)=0,\"\",VLOOKUP(アクセA,アクセVL用!$B$1:$BH$135,COLUMN()+28,FALSE))","v":""},{"$f":"IF(VLOOKUP(アクセA,アクセVL用!$B$1:$BH$135,COLUMN()+28,FALSE)=0,\"\",VLOOKUP(アクセA,アクセVL用!$B$1:$BH$135,COLUMN()+28,FALSE))","v":""},{"$f":"IF(VLOOKUP(アクセA,アクセVL用!$B$1:$BH$135,COLUMN()+28,FALSE)=0,\"\",VLOOKUP(アクセA,アクセVL用!$B$1:$BH$135,COLUMN()+28,FALSE))","v":""},{"$f":"IF(VLOOKUP(アクセA,アクセVL用!$B$1:$BH$135,COLUMN()+28,FALSE)=0,\"\",VLOOKUP(アクセA,アクセVL用!$B$1:$BH$135,COLUMN()+28,FALSE))","v":""},{"$f":"IF(VLOOKUP(アクセA,アクセVL用!$B$1:$BH$135,COLUMN()+28,FALSE)=0,\"\",VLOOKUP(アクセA,アクセVL用!$B$1:$BH$135,COLUMN()+28,FALSE))","v":""},{"$f":"IF(VLOOKUP(アクセA,アクセVL用!$B$1:$BH$135,COLUMN()+28,FALSE)=0,\"\",VLOOKUP(アクセA,アクセVL用!$B$1:$BH$135,COLUMN()+28,FALSE))","v":""},{"$f":"IF(VLOOKUP(アクセA,アクセVL用!$B$1:$BH$135,COLUMN()+28,FALSE)=0,\"\",VLOOKUP(アクセA,アクセVL用!$B$1:$BH$135,COLUMN()+28,FALSE))","v":""},{"$f":"IF(VLOOKUP(アクセA,アクセVL用!$B$1:$BH$135,COLUMN()+28,FALSE)=0,\"\",VLOOKUP(アクセA,アクセVL用!$B$1:$BH$135,COLUMN()+28,FALSE))","v":""},{"$f":"IF(VLOOKUP(アクセA,アクセVL用!$B$1:$BH$135,COLUMN()+28,FALSE)=0,\"\",VLOOKUP(アクセA,アクセVL用!$B$1:$BH$135,COLUMN()+28,FALSE))","v":""},{"$f":"IF(VLOOKUP(アクセA,アクセVL用!$B$1:$BH$135,COLUMN()+28,FALSE)=0,\"\",VLOOKUP(アクセA,アクセVL用!$B$1:$BH$135,COLUMN()+28,FALSE))","v":""},{"$f":"IF(VLOOKUP(アクセA,アクセVL用!$B$1:$BH$135,COLUMN()+28,FALSE)=0,\"\",VLOOKUP(アクセA,アクセVL用!$B$1:$BH$135,COLUMN()+28,FALSE))","v":""},{"$f":"IF(VLOOKUP(アクセA,アクセVL用!$B$1:$BH$135,COLUMN()+28,FALSE)=0,\"\",VLOOKUP(アクセA,アクセVL用!$B$1:$BH$135,COLUMN()+28,FALSE))","v":""},{"$f":"IF(VLOOKUP(アクセA,アクセVL用!$B$1:$BH$135,COLUMN()+28,FALSE)=0,\"\",VLOOKUP(アクセA,アクセVL用!$B$1:$BH$135,COLUMN()+28,FALSE))","v":""},{"$f":"IF(VLOOKUP(アクセA,アクセVL用!$B$1:$BH$135,COLUMN()+28,FALSE)=0,\"\",VLOOKUP(アクセA,アクセVL用!$B$1:$BH$135,COLUMN()+28,FALSE))","v":""},{"$f":"IF(VLOOKUP(アクセA,アクセVL用!$B$1:$BH$135,COLUMN()+28,FALSE)=0,\"\",VLOOKUP(アクセA,アクセVL用!$B$1:$BH$135,COLUMN()+28,FALSE))","v":""},{"$f":"IF(VLOOKUP(アクセA,アクセVL用!$B$1:$BH$135,COLUMN()+28,FALSE)=0,\"\",VLOOKUP(アクセA,アクセVL用!$B$1:$BH$135,COLUMN()+28,FALSE))","v":""},{"$f":"IF(VLOOKUP(アクセA,アクセVL用!$B$1:$BH$135,COLUMN()+28,FALSE)=0,\"\",VLOOKUP(アクセA,アクセVL用!$B$1:$BH$135,COLUMN()+28,FALSE))","v":""},{"$f":"IF(VLOOKUP(アクセA,アクセVL用!$B$1:$BH$135,COLUMN()+28,FALSE)=0,\"\",VLOOKUP(アクセA,アクセVL用!$B$1:$BH$135,COLUMN()+28,FALSE))","v":""},{"$f":"IF(VLOOKUP(アクセA,アクセVL用!$B$1:$BH$135,COLUMN()+28,FALSE)=0,\"\",VLOOKUP(アクセA,アクセVL用!$B$1:$BH$135,COLUMN()+28,FALSE))","v":""},{"$f":"IF(VLOOKUP(アクセA,アクセVL用!$B$1:$BH$135,COLUMN()+28,FALSE)=0,\"\",VLOOKUP(アクセA,アクセVL用!$B$1:$BH$135,COLUMN()+28,FALSE))","v":""},{"$f":"IF(VLOOKUP(アクセA,アクセVL用!$B$1:$BH$135,COLUMN()+28,FALSE)=0,\"\",VLOOKUP(アクセA,アクセVL用!$B$1:$BH$135,COLUMN()+28,FALSE))","v":""},{"$f":"IF(VLOOKUP(アクセA,アクセVL用!$B$1:$BH$135,COLUMN()+28,FALSE)=0,\"\",VLOOKUP(アクセA,アクセVL用!$B$1:$BH$135,COLUMN()+28,FALSE))","v":""},{"$f":"IF(VLOOKUP(アクセA,アクセVL用!$B$1:$BH$135,COLUMN()+28,FALSE)=0,\"\",VLOOKUP(アクセA,アクセVL用!$B$1:$BH$135,COLUMN()+28,FALSE))","v":""},{"$f":"IF(VLOOKUP(アクセA,アクセVL用!$B$1:$BH$135,COLUMN()+28,FALSE)=0,\"\",VLOOKUP(アクセA,アクセVL用!$B$1:$BH$135,COLUMN()+28,FALSE))","v":""},{"$f":"IF(VLOOKUP(アクセA,アクセVL用!$B$1:$BH$135,COLUMN()+28,FALSE)=0,\"\",VLOOKUP(アクセA,アクセVL用!$B$1:$BH$135,COLUMN()+28,FALSE))","v":""},{"$f":"IF(VLOOKUP(アクセA,アクセVL用!$B$1:$BH$135,COLUMN()+28,FALSE)=0,\"\",VLOOKUP(アクセA,アクセVL用!$B$1:$BH$135,COLUMN()+28,FALSE))","v":""}]
[null,"アクセB",{"$f":"IF(VLOOKUP(アクセB,アクセVL用!$B$1:$BH$135,COLUMN()+28,FALSE)=0,\"\",VLOOKUP(アクセB,アクセVL用!$B$1:$BH$135,COLUMN()+28,FALSE))","v":""},{"$f":"IF(VLOOKUP(アクセB,アクセVL用!$B$1:$BH$135,COLUMN()+28,FALSE)=0,\"\",VLOOKUP(アクセB,アクセVL用!$B$1:$BH$135,COLUMN()+28,FALSE))","v":""},{"$f":"IF(VLOOKUP(アクセB,アクセVL用!$B$1:$BH$135,COLUMN()+28,FALSE)=0,\"\",VLOOKUP(アクセB,アクセVL用!$B$1:$BH$135,COLUMN()+28,FALSE))","v":""},{"$f":"IF(VLOOKUP(アクセB,アクセVL用!$B$1:$BH$135,COLUMN()+28,FALSE)=0,\"\",VLOOKUP(アクセB,アクセVL用!$B$1:$BH$135,COLUMN()+28,FALSE))","v":""},{"$f":"IF(VLOOKUP(アクセB,アクセVL用!$B$1:$BH$135,COLUMN()+28,FALSE)=0,\"\",VLOOKUP(アクセB,アクセVL用!$B$1:$BH$135,COLUMN()+28,FALSE))","v":""},{"$f":"IF(VLOOKUP(アクセB,アクセVL用!$B$1:$BH$135,COLUMN()+28,FALSE)=0,\"\",VLOOKUP(アクセB,アクセVL用!$B$1:$BH$135,COLUMN()+28,FALSE))","v":""},{"$f":"IF(VLOOKUP(アクセB,アクセVL用!$B$1:$BH$135,COLUMN()+28,FALSE)=0,\"\",VLOOKUP(アクセB,アクセVL用!$B$1:$BH$135,COLUMN()+28,FALSE))","v":""},{"$f":"IF(VLOOKUP(アクセB,アクセVL用!$B$1:$BH$135,COLUMN()+28,FALSE)=0,\"\",VLOOKUP(アクセB,アクセVL用!$B$1:$BH$135,COLUMN()+28,FALSE))","v":""},{"$f":"IF(VLOOKUP(アクセB,アクセVL用!$B$1:$BH$135,COLUMN()+28,FALSE)=0,\"\",VLOOKUP(アクセB,アクセVL用!$B$1:$BH$135,COLUMN()+28,FALSE))","v":""},{"$f":"IF(VLOOKUP(アクセB,アクセVL用!$B$1:$BH$135,COLUMN()+28,FALSE)=0,\"\",VLOOKUP(アクセB,アクセVL用!$B$1:$BH$135,COLUMN()+28,FALSE))","v":""},{"$f":"IF(VLOOKUP(アクセB,アクセVL用!$B$1:$BH$135,COLUMN()+28,FALSE)=0,\"\",VLOOKUP(アクセB,アクセVL用!$B$1:$BH$135,COLUMN()+28,FALSE))","v":""},{"$f":"IF(VLOOKUP(アクセB,アクセVL用!$B$1:$BH$135,COLUMN()+28,FALSE)=0,\"\",VLOOKUP(アクセB,アクセVL用!$B$1:$BH$135,COLUMN()+28,FALSE))","v":""},{"$f":"IF(VLOOKUP(アクセB,アクセVL用!$B$1:$BH$135,COLUMN()+28,FALSE)=0,\"\",VLOOKUP(アクセB,アクセVL用!$B$1:$BH$135,COLUMN()+28,FALSE))","v":""},{"$f":"IF(VLOOKUP(アクセB,アクセVL用!$B$1:$BH$135,COLUMN()+28,FALSE)=0,\"\",VLOOKUP(アクセB,アクセVL用!$B$1:$BH$135,COLUMN()+28,FALSE))","v":""},{"$f":"IF(VLOOKUP(アクセB,アクセVL用!$B$1:$BH$135,COLUMN()+28,FALSE)=0,\"\",VLOOKUP(アクセB,アクセVL用!$B$1:$BH$135,COLUMN()+28,FALSE))","v":""},{"$f":"IF(VLOOKUP(アクセB,アクセVL用!$B$1:$BH$135,COLUMN()+28,FALSE)=0,\"\",VLOOKUP(アクセB,アクセVL用!$B$1:$BH$135,COLUMN()+28,FALSE))","v":""},{"$f":"IF(VLOOKUP(アクセB,アクセVL用!$B$1:$BH$135,COLUMN()+28,FALSE)=0,\"\",VLOOKUP(アクセB,アクセVL用!$B$1:$BH$135,COLUMN()+28,FALSE))","v":""},{"$f":"IF(VLOOKUP(アクセB,アクセVL用!$B$1:$BH$135,COLUMN()+28,FALSE)=0,\"\",VLOOKUP(アクセB,アクセVL用!$B$1:$BH$135,COLUMN()+28,FALSE))","v":""},{"$f":"IF(VLOOKUP(アクセB,アクセVL用!$B$1:$BH$135,COLUMN()+28,FALSE)=0,\"\",VLOOKUP(アクセB,アクセVL用!$B$1:$BH$135,COLUMN()+28,FALSE))","v":""},{"$f":"IF(VLOOKUP(アクセB,アクセVL用!$B$1:$BH$135,COLUMN()+28,FALSE)=0,\"\",VLOOKUP(アクセB,アクセVL用!$B$1:$BH$135,COLUMN()+28,FALSE))","v":""},{"$f":"IF(VLOOKUP(アクセB,アクセVL用!$B$1:$BH$135,COLUMN()+28,FALSE)=0,\"\",VLOOKUP(アクセB,アクセVL用!$B$1:$BH$135,COLUMN()+28,FALSE))","v":""},{"$f":"IF(VLOOKUP(アクセB,アクセVL用!$B$1:$BH$135,COLUMN()+28,FALSE)=0,\"\",VLOOKUP(アクセB,アクセVL用!$B$1:$BH$135,COLUMN()+28,FALSE))","v":""},{"$f":"IF(VLOOKUP(アクセB,アクセVL用!$B$1:$BH$135,COLUMN()+28,FALSE)=0,\"\",VLOOKUP(アクセB,アクセVL用!$B$1:$BH$135,COLUMN()+28,FALSE))","v":""},{"$f":"IF(VLOOKUP(アクセB,アクセVL用!$B$1:$BH$135,COLUMN()+28,FALSE)=0,\"\",VLOOKUP(アクセB,アクセVL用!$B$1:$BH$135,COLUMN()+28,FALSE))","v":""},{"$f":"IF(VLOOKUP(アクセB,アクセVL用!$B$1:$BH$135,COLUMN()+28,FALSE)=0,\"\",VLOOKUP(アクセB,アクセVL用!$B$1:$BH$135,COLUMN()+28,FALSE))","v":""},{"$f":"IF(VLOOKUP(アクセB,アクセVL用!$B$1:$BH$135,COLUMN()+28,FALSE)=0,\"\",VLOOKUP(アクセB,アクセVL用!$B$1:$BH$135,COLUMN()+28,FALSE))","v":""},{"$f":"IF(VLOOKUP(アクセB,アクセVL用!$B$1:$BH$135,COLUMN()+28,FALSE)=0,\"\",VLOOKUP(アクセB,アクセVL用!$B$1:$BH$135,COLUMN()+28,FALSE))","v":""},{"$f":"IF(VLOOKUP(アクセB,アクセVL用!$B$1:$BH$135,COLUMN()+28,FALSE)=0,\"\",VLOOKUP(アクセB,アクセVL用!$B$1:$BH$135,COLUMN()+28,FALSE))","v":""}]
[null,"アクセC",{"$f":"IF(VLOOKUP(アクセC,アクセVL用!$B$1:$BH$135,COLUMN()+28,FALSE)=0,\"\",VLOOKUP(アクセC,アクセVL用!$B$1:$BH$135,COLUMN()+28,FALSE))","v":""},{"$f":"IF(VLOOKUP(アクセC,アクセVL用!$B$1:$BH$135,COLUMN()+28,FALSE)=0,\"\",VLOOKUP(アクセC,アクセVL用!$B$1:$BH$135,COLUMN()+28,FALSE))","v":""},{"$f":"IF(VLOOKUP(アクセC,アクセVL用!$B$1:$BH$135,COLUMN()+28,FALSE)=0,\"\",VLOOKUP(アクセC,アクセVL用!$B$1:$BH$135,COLUMN()+28,FALSE))","v":""},{"$f":"IF(VLOOKUP(アクセC,アクセVL用!$B$1:$BH$135,COLUMN()+28,FALSE)=0,\"\",VLOOKUP(アクセC,アクセVL用!$B$1:$BH$135,COLUMN()+28,FALSE))","v":""},{"$f":"IF(VLOOKUP(アクセC,アクセVL用!$B$1:$BH$135,COLUMN()+28,FALSE)=0,\"\",VLOOKUP(アクセC,アクセVL用!$B$1:$BH$135,COLUMN()+28,FALSE))","v":""},{"$f":"IF(VLOOKUP(アクセC,アクセVL用!$B$1:$BH$135,COLUMN()+28,FALSE)=0,\"\",VLOOKUP(アクセC,アクセVL用!$B$1:$BH$135,COLUMN()+28,FALSE))","v":""},{"$f":"IF(VLOOKUP(アクセC,アクセVL用!$B$1:$BH$135,COLUMN()+28,FALSE)=0,\"\",VLOOKUP(アクセC,アクセVL用!$B$1:$BH$135,COLUMN()+28,FALSE))","v":""},{"$f":"IF(VLOOKUP(アクセC,アクセVL用!$B$1:$BH$135,COLUMN()+28,FALSE)=0,\"\",VLOOKUP(アクセC,アクセVL用!$B$1:$BH$135,COLUMN()+28,FALSE))","v":""},{"$f":"IF(VLOOKUP(アクセC,アクセVL用!$B$1:$BH$135,COLUMN()+28,FALSE)=0,\"\",VLOOKUP(アクセC,アクセVL用!$B$1:$BH$135,COLUMN()+28,FALSE))","v":""},{"$f":"IF(VLOOKUP(アクセC,アクセVL用!$B$1:$BH$135,COLUMN()+28,FALSE)=0,\"\",VLOOKUP(アクセC,アクセVL用!$B$1:$BH$135,COLUMN()+28,FALSE))","v":""},{"$f":"IF(VLOOKUP(アクセC,アクセVL用!$B$1:$BH$135,COLUMN()+28,FALSE)=0,\"\",VLOOKUP(アクセC,アクセVL用!$B$1:$BH$135,COLUMN()+28,FALSE))","v":""},{"$f":"IF(VLOOKUP(アクセC,アクセVL用!$B$1:$BH$135,COLUMN()+28,FALSE)=0,\"\",VLOOKUP(アクセC,アクセVL用!$B$1:$BH$135,COLUMN()+28,FALSE))","v":""},{"$f":"IF(VLOOKUP(アクセC,アクセVL用!$B$1:$BH$135,COLUMN()+28,FALSE)=0,\"\",VLOOKUP(アクセC,アクセVL用!$B$1:$BH$135,COLUMN()+28,FALSE))","v":""},{"$f":"IF(VLOOKUP(アクセC,アクセVL用!$B$1:$BH$135,COLUMN()+28,FALSE)=0,\"\",VLOOKUP(アクセC,アクセVL用!$B$1:$BH$135,COLUMN()+28,FALSE))","v":""},{"$f":"IF(VLOOKUP(アクセC,アクセVL用!$B$1:$BH$135,COLUMN()+28,FALSE)=0,\"\",VLOOKUP(アクセC,アクセVL用!$B$1:$BH$135,COLUMN()+28,FALSE))","v":""},{"$f":"IF(VLOOKUP(アクセC,アクセVL用!$B$1:$BH$135,COLUMN()+28,FALSE)=0,\"\",VLOOKUP(アクセC,アクセVL用!$B$1:$BH$135,COLUMN()+28,FALSE))","v":""},{"$f":"IF(VLOOKUP(アクセC,アクセVL用!$B$1:$BH$135,COLUMN()+28,FALSE)=0,\"\",VLOOKUP(アクセC,アクセVL用!$B$1:$BH$135,COLUMN()+28,FALSE))","v":""},{"$f":"IF(VLOOKUP(アクセC,アクセVL用!$B$1:$BH$135,COLUMN()+28,FALSE)=0,\"\",VLOOKUP(アクセC,アクセVL用!$B$1:$BH$135,COLUMN()+28,FALSE))","v":""},{"$f":"IF(VLOOKUP(アクセC,アクセVL用!$B$1:$BH$135,COLUMN()+28,FALSE)=0,\"\",VLOOKUP(アクセC,アクセVL用!$B$1:$BH$135,COLUMN()+28,FALSE))","v":""},{"$f":"IF(VLOOKUP(アクセC,アクセVL用!$B$1:$BH$135,COLUMN()+28,FALSE)=0,\"\",VLOOKUP(アクセC,アクセVL用!$B$1:$BH$135,COLUMN()+28,FALSE))","v":""},{"$f":"IF(VLOOKUP(アクセC,アクセVL用!$B$1:$BH$135,COLUMN()+28,FALSE)=0,\"\",VLOOKUP(アクセC,アクセVL用!$B$1:$BH$135,COLUMN()+28,FALSE))","v":""},{"$f":"IF(VLOOKUP(アクセC,アクセVL用!$B$1:$BH$135,COLUMN()+28,FALSE)=0,\"\",VLOOKUP(アクセC,アクセVL用!$B$1:$BH$135,COLUMN()+28,FALSE))","v":""},{"$f":"IF(VLOOKUP(アクセC,アクセVL用!$B$1:$BH$135,COLUMN()+28,FALSE)=0,\"\",VLOOKUP(アクセC,アクセVL用!$B$1:$BH$135,COLUMN()+28,FALSE))","v":""},{"$f":"IF(VLOOKUP(アクセC,アクセVL用!$B$1:$BH$135,COLUMN()+28,FALSE)=0,\"\",VLOOKUP(アクセC,アクセVL用!$B$1:$BH$135,COLUMN()+28,FALSE))","v":""},{"$f":"IF(VLOOKUP(アクセC,アクセVL用!$B$1:$BH$135,COLUMN()+28,FALSE)=0,\"\",VLOOKUP(アクセC,アクセVL用!$B$1:$BH$135,COLUMN()+28,FALSE))","v":""},{"$f":"IF(VLOOKUP(アクセC,アクセVL用!$B$1:$BH$135,COLUMN()+28,FALSE)=0,\"\",VLOOKUP(アクセC,アクセVL用!$B$1:$BH$135,COLUMN()+28,FALSE))","v":""},{"$f":"IF(VLOOKUP(アクセC,アクセVL用!$B$1:$BH$135,COLUMN()+28,FALSE)=0,\"\",VLOOKUP(アクセC,アクセVL用!$B$1:$BH$135,COLUMN()+28,FALSE))","v":""},{"$f":"IF(VLOOKUP(アクセC,アクセVL用!$B$1:$BH$135,COLUMN()+28,FALSE)=0,\"\",VLOOKUP(アクセC,アクセVL用!$B$1:$BH$135,COLUMN()+28,FALSE))","v":""}]
[null,"スタイル",{"$f":"IFERROR(IF(VLOOKUP(CS!$AP26,スキルVL用!$C$1:$BO$518,C$2,)=0,\"\",VLOOKUP(CS!$AP26,スキルVL用!$C$1:$BO$518,C$2,)),\"\")","v":-1},{"$f":"IFERROR(IF(VLOOKUP(CS!$AP26,スキルVL用!$C$1:$BO$518,D$2,)=0,\"\",VLOOKUP(CS!$AP26,スキルVL用!$C$1:$BO$518,D$2,)),\"\")","v":""},{"$f":"IFERROR(IF(VLOOKUP(CS!$AP26,スキルVL用!$C$1:$BO$518,E$2,)=0,\"\",VLOOKUP(CS!$AP26,スキルVL用!$C$1:$BO$518,E$2,)),\"\")","v":15},{"$f":"IFERROR(IF(VLOOKUP(CS!$AP26,スキルVL用!$C$1:$BO$518,F$2,)=0,\"\",VLOOKUP(CS!$AP26,スキルVL用!$C$1:$BO$518,F$2,)),\"\")","v":""},{"$f":"IFERROR(IF(VLOOKUP(CS!$AP26,スキルVL用!$C$1:$BO$518,G$2,)=0,\"\",VLOOKUP(CS!$AP26,スキルVL用!$C$1:$BO$518,G$2,)),\"\")","v":""},{"$f":"IFERROR(IF(VLOOKUP(CS!$AP26,スキルVL用!$C$1:$BO$518,H$2,)=0,\"\",VLOOKUP(CS!$AP26,スキルVL用!$C$1:$BO$518,H$2,)),\"\")","v":""},{"$f":"IFERROR(IF(VLOOKUP(CS!$AP26,スキルVL用!$C$1:$BO$518,I$2,)=0,\"\",VLOOKUP(CS!$AP26,スキルVL用!$C$1:$BO$518,I$2,)),\"\")","v":""},{"$f":"IFERROR(IF(VLOOKUP(CS!$AP26,スキルVL用!$C$1:$BO$518,J$2,)=0,\"\",VLOOKUP(CS!$AP26,スキルVL用!$C$1:$BO$518,J$2,)),\"\")","v":""},{"$f":"IFERROR(IF(VLOOKUP(CS!$AP26,スキルVL用!$C$1:$BO$518,K$2,)=0,\"\",VLOOKUP(CS!$AP26,スキルVL用!$C$1:$BO$518,K$2,)),\"\")","v":""},{"$f":"IFERROR(IF(VLOOKUP(CS!$AP26,スキルVL用!$C$1:$BO$518,L$2,)=0,\"\",VLOOKUP(CS!$AP26,スキルVL用!$C$1:$BO$518,L$2,)),\"\")","v":""},{"$f":"IFERROR(IF(VLOOKUP(CS!$AP26,スキルVL用!$C$1:$BO$518,M$2,)=0,\"\",VLOOKUP(CS!$AP26,スキルVL用!$C$1:$BO$518,M$2,)),\"\")","v":""},{"$f":"IFERROR(IF(VLOOKUP(CS!$AP26,スキルVL用!$C$1:$BO$518,N$2,)=0,\"\",VLOOKUP(CS!$AP26,スキルVL用!$C$1:$BO$518,N$2,)),\"\")","v":""},{"$f":"IFERROR(IF(VLOOKUP(CS!$AP26,スキルVL用!$C$1:$BO$518,O$2,)=0,\"\",VLOOKUP(CS!$AP26,スキルVL用!$C$1:$BO$518,O$2,)),\"\")","v":""},{"$f":"IFERROR(IF(VLOOKUP(CS!$AP26,スキルVL用!$C$1:$BO$518,P$2,)=0,\"\",VLOOKUP(CS!$AP26,スキルVL用!$C$1:$BO$518,P$2,)),\"\")","v":""},{"$f":"IFERROR(IF(VLOOKUP(CS!$AP26,スキルVL用!$C$1:$BO$518,Q$2,)=0,\"\",VLOOKUP(CS!$AP26,スキルVL用!$C$1:$BO$518,Q$2,)),\"\")","v":""},{"$f":"IFERROR(IF(VLOOKUP(CS!$AP26,スキルVL用!$C$1:$BO$518,R$2,)=0,\"\",VLOOKUP(CS!$AP26,スキルVL用!$C$1:$BO$518,R$2,)),\"\")","v":""},{"$f":"IFERROR(IF(VLOOKUP(CS!$AP26,スキルVL用!$C$1:$BO$518,S$2,)=0,\"\",VLOOKUP(CS!$AP26,スキルVL用!$C$1:$BO$518,S$2,)),\"\")","v":""},{"$f":"IFERROR(IF(VLOOKUP(CS!$AP26,スキルVL用!$C$1:$BO$518,T$2,)=0,\"\",VLOOKUP(CS!$AP26,スキルVL用!$C$1:$BO$518,T$2,)),\"\")","v":""},{"$f":"IFERROR(IF(VLOOKUP(CS!$AP26,スキルVL用!$C$1:$BO$518,U$2,)=0,\"\",VLOOKUP(CS!$AP26,スキルVL用!$C$1:$BO$518,U$2,)),\"\")","v":""},{"$f":"IFERROR(IF(VLOOKUP(CS!$AP26,スキルVL用!$C$1:$BO$518,V$2,)=0,\"\",VLOOKUP(CS!$AP26,スキルVL用!$C$1:$BO$518,V$2,)),\"\")","v":""},{"$f":"IFERROR(IF(VLOOKUP(CS!$AP26,スキルVL用!$C$1:$BO$518,W$2,)=0,\"\",VLOOKUP(CS!$AP26,スキルVL用!$C$1:$BO$518,W$2,)),\"\")","v":""},{"$f":"IFERROR(IF(VLOOKUP(CS!$AP26,スキルVL用!$C$1:$BO$518,X$2,)=0,\"\",VLOOKUP(CS!$AP26,スキルVL用!$C$1:$BO$518,X$2,)),\"\")","v":""},{"$f":"IFERROR(IF(VLOOKUP(CS!$AP26,スキルVL用!$C$1:$BO$518,Y$2,)=0,\"\",VLOOKUP(CS!$AP26,スキルVL用!$C$1:$BO$518,Y$2,)),\"\")","v":""},{"$f":"IFERROR(IF(VLOOKUP(CS!$AP26,スキルVL用!$C$1:$BO$518,Z$2,)=0,\"\",VLOOKUP(CS!$AP26,スキルVL用!$C$1:$BO$518,Z$2,)),\"\")","v":""},{"$f":"IFERROR(IF(VLOOKUP(CS!$AP26,スキルVL用!$C$1:$BO$518,AA$2,)=0,\"\",VLOOKUP(CS!$AP26,スキルVL用!$C$1:$BO$518,AA$2,)),\"\")","v":""},{"$f":"IFERROR(IF(VLOOKUP(CS!$AP26,スキルVL用!$C$1:$BO$518,AB$2,)=0,\"\",VLOOKUP(CS!$AP26,スキルVL用!$C$1:$BO$518,AB$2,)),\"\")","v":""},{"$f":"IFERROR(IF(VLOOKUP(CS!$AP26,スキルVL用!$C$1:$BO$518,AC$2,)=0,\"\",VLOOKUP(CS!$AP26,スキルVL用!$C$1:$BO$518,AC$2,)),\"\")","v":""},{"$f":"IFERROR(IF(VLOOKUP(CS!$AP26,スキルVL用!$C$1:$BO$518,AD$2,)=0,\"\",VLOOKUP(CS!$AP26,スキルVL用!$C$1:$BO$518,AD$2,)),\"\")","v":""}]
[null,"スキル1",{"$f":"IFERROR(IF(VLOOKUP(CS!$AP28,スキルVL用!$C$1:$BO$518,C$2,)=0,\"\",VLOOKUP(CS!$AP28,スキルVL用!$C$1:$BO$518,C$2,)),\"\")","v":""},{"$f":"IFERROR(IF(VLOOKUP(CS!$AP28,スキルVL用!$C$1:$BO$518,D$2,)=0,\"\",VLOOKUP(CS!$AP28,スキルVL用!$C$1:$BO$518,D$2,)),\"\")","v":""},{"$f":"IFERROR(IF(VLOOKUP(CS!$AP28,スキルVL用!$C$1:$BO$518,E$2,)=0,\"\",VLOOKUP(CS!$AP28,スキルVL用!$C$1:$BO$518,E$2,)),\"\")","v":""},{"$f":"IFERROR(IF(VLOOKUP(CS!$AP28,スキルVL用!$C$1:$BO$518,F$2,)=0,\"\",VLOOKUP(CS!$AP28,スキルVL用!$C$1:$BO$518,F$2,)),\"\")","v":""},{"$f":"IFERROR(IF(VLOOKUP(CS!$AP28,スキルVL用!$C$1:$BO$518,G$2,)=0,\"\",VLOOKUP(CS!$AP28,スキルVL用!$C$1:$BO$518,G$2,)),\"\")","v":""},{"$f":"IFERROR(IF(VLOOKUP(CS!$AP28,スキルVL用!$C$1:$BO$518,H$2,)=0,\"\",VLOOKUP(CS!$AP28,スキルVL用!$C$1:$BO$518,H$2,)),\"\")","v":""},{"$f":"IFERROR(IF(VLOOKUP(CS!$AP28,スキルVL用!$C$1:$BO$518,I$2,)=0,\"\",VLOOKUP(CS!$AP28,スキルVL用!$C$1:$BO$518,I$2,)),\"\")","v":""},{"$f":"IFERROR(IF(VLOOKUP(CS!$AP28,スキルVL用!$C$1:$BO$518,J$2,)=0,\"\",VLOOKUP(CS!$AP28,スキルVL用!$C$1:$BO$518,J$2,)),\"\")","v":""},{"$f":"IFERROR(IF(VLOOKUP(CS!$AP28,スキルVL用!$C$1:$BO$518,K$2,)=0,\"\",VLOOKUP(CS!$AP28,スキルVL用!$C$1:$BO$518,K$2,)),\"\")","v":""},{"$f":"IFERROR(IF(VLOOKUP(CS!$AP28,スキルVL用!$C$1:$BO$518,L$2,)=0,\"\",VLOOKUP(CS!$AP28,スキルVL用!$C$1:$BO$518,L$2,)),\"\")","v":""},{"$f":"IFERROR(IF(VLOOKUP(CS!$AP28,スキルVL用!$C$1:$BO$518,M$2,)=0,\"\",VLOOKUP(CS!$AP28,スキルVL用!$C$1:$BO$518,M$2,)),\"\")","v":""},{"$f":"IFERROR(IF(VLOOKUP(CS!$AP28,スキルVL用!$C$1:$BO$518,N$2,)=0,\"\",VLOOKUP(CS!$AP28,スキルVL用!$C$1:$BO$518,N$2,)),\"\")","v":""},{"$f":"IFERROR(IF(VLOOKUP(CS!$AP28,スキルVL用!$C$1:$BO$518,O$2,)=0,\"\",VLOOKUP(CS!$AP28,スキルVL用!$C$1:$BO$518,O$2,)),\"\")","v":""},{"$f":"IFERROR(IF(VLOOKUP(CS!$AP28,スキルVL用!$C$1:$BO$518,P$2,)=0,\"\",VLOOKUP(CS!$AP28,スキルVL用!$C$1:$BO$518,P$2,)),\"\")","v":""},{"$f":"IFERROR(IF(VLOOKUP(CS!$AP28,スキルVL用!$C$1:$BO$518,Q$2,)=0,\"\",VLOOKUP(CS!$AP28,スキルVL用!$C$1:$BO$518,Q$2,)),\"\")","v":""},{"$f":"IFERROR(IF(VLOOKUP(CS!$AP28,スキルVL用!$C$1:$BO$518,R$2,)=0,\"\",VLOOKUP(CS!$AP28,スキルVL用!$C$1:$BO$518,R$2,)),\"\")","v":""},{"$f":"IFERROR(IF(VLOOKUP(CS!$AP28,スキルVL用!$C$1:$BO$518,S$2,)=0,\"\",VLOOKUP(CS!$AP28,スキルVL用!$C$1:$BO$518,S$2,)),\"\")","v":""},{"$f":"IFERROR(IF(VLOOKUP(CS!$AP28,スキルVL用!$C$1:$BO$518,T$2,)=0,\"\",VLOOKUP(CS!$AP28,スキルVL用!$C$1:$BO$518,T$2,)),\"\")","v":""},{"$f":"IFERROR(IF(VLOOKUP(CS!$AP28,スキルVL用!$C$1:$BO$518,U$2,)=0,\"\",VLOOKUP(CS!$AP28,スキルVL用!$C$1:$BO$518,U$2,)),\"\")","v":""},{"$f":"IFERROR(IF(VLOOKUP(CS!$AP28,スキルVL用!$C$1:$BO$518,V$2,)=0,\"\",VLOOKUP(CS!$AP28,スキルVL用!$C$1:$BO$518,V$2,)),\"\")","v":""},{"$f":"IFERROR(IF(VLOOKUP(CS!$AP28,スキルVL用!$C$1:$BO$518,W$2,)=0,\"\",VLOOKUP(CS!$AP28,スキルVL用!$C$1:$BO$518,W$2,)),\"\")","v":""},{"$f":"IFERROR(IF(VLOOKUP(CS!$AP28,スキルVL用!$C$1:$BO$518,X$2,)=0,\"\",VLOOKUP(CS!$AP28,スキルVL用!$C$1:$BO$518,X$2,)),\"\")","v":""},{"$f":"IFERROR(IF(VLOOKUP(CS!$AP28,スキルVL用!$C$1:$BO$518,Y$2,)=0,\"\",VLOOKUP(CS!$AP28,スキルVL用!$C$1:$BO$518,Y$2,)),\"\")","v":""},{"$f":"IFERROR(IF(VLOOKUP(CS!$AP28,スキルVL用!$C$1:$BO$518,Z$2,)=0,\"\",VLOOKUP(CS!$AP28,スキルVL用!$C$1:$BO$518,Z$2,)),\"\")","v":""},{"$f":"IFERROR(IF(VLOOKUP(CS!$AP28,スキルVL用!$C$1:$BO$518,AA$2,)=0,\"\",VLOOKUP(CS!$AP28,スキルVL用!$C$1:$BO$518,AA$2,)),\"\")","v":""},{"$f":"IFERROR(IF(VLOOKUP(CS!$AP28,スキルVL用!$C$1:$BO$518,AB$2,)=0,\"\",VLOOKUP(CS!$AP28,スキルVL用!$C$1:$BO$518,AB$2,)),\"\")","v":""},{"$f":"IFERROR(IF(VLOOKUP(CS!$AP28,スキルVL用!$C$1:$BO$518,AC$2,)=0,\"\",VLOOKUP(CS!$AP28,スキルVL用!$C$1:$BO$518,AC$2,)),\"\")","v":""},{"$f":"IFERROR(IF(VLOOKUP(CS!$AP28,スキルVL用!$C$1:$BO$518,AD$2,)=0,\"\",VLOOKUP(CS!$AP28,スキルVL用!$C$1:$BO$518,AD$2,)),\"\")","v":""}]
[null,"スキル2",{"$f":"IFERROR(IF(VLOOKUP(CS!$AP30,スキルVL用!$C$1:$BO$518,C$2,)=0,\"\",VLOOKUP(CS!$AP30,スキルVL用!$C$1:$BO$518,C$2,)),\"\")","v":""},{"$f":"IFERROR(IF(VLOOKUP(CS!$AP30,スキルVL用!$C$1:$BO$518,D$2,)=0,\"\",VLOOKUP(CS!$AP30,スキルVL用!$C$1:$BO$518,D$2,)),\"\")","v":""},{"$f":"IFERROR(IF(VLOOKUP(CS!$AP30,スキルVL用!$C$1:$BO$518,E$2,)=0,\"\",VLOOKUP(CS!$AP30,スキルVL用!$C$1:$BO$518,E$2,)),\"\")","v":""},{"$f":"IFERROR(IF(VLOOKUP(CS!$AP30,スキルVL用!$C$1:$BO$518,F$2,)=0,\"\",VLOOKUP(CS!$AP30,スキルVL用!$C$1:$BO$518,F$2,)),\"\")","v":""},{"$f":"IFERROR(IF(VLOOKUP(CS!$AP30,スキルVL用!$C$1:$BO$518,G$2,)=0,\"\",VLOOKUP(CS!$AP30,スキルVL用!$C$1:$BO$518,G$2,)),\"\")","v":""},{"$f":"IFERROR(IF(VLOOKUP(CS!$AP30,スキルVL用!$C$1:$BO$518,H$2,)=0,\"\",VLOOKUP(CS!$AP30,スキルVL用!$C$1:$BO$518,H$2,)),\"\")","v":""},{"$f":"IFERROR(IF(VLOOKUP(CS!$AP30,スキルVL用!$C$1:$BO$518,I$2,)=0,\"\",VLOOKUP(CS!$AP30,スキルVL用!$C$1:$BO$518,I$2,)),\"\")","v":""},{"$f":"IFERROR(IF(VLOOKUP(CS!$AP30,スキルVL用!$C$1:$BO$518,J$2,)=0,\"\",VLOOKUP(CS!$AP30,スキルVL用!$C$1:$BO$518,J$2,)),\"\")","v":""},{"$f":"IFERROR(IF(VLOOKUP(CS!$AP30,スキルVL用!$C$1:$BO$518,K$2,)=0,\"\",VLOOKUP(CS!$AP30,スキルVL用!$C$1:$BO$518,K$2,)),\"\")","v":""},{"$f":"IFERROR(IF(VLOOKUP(CS!$AP30,スキルVL用!$C$1:$BO$518,L$2,)=0,\"\",VLOOKUP(CS!$AP30,スキルVL用!$C$1:$BO$518,L$2,)),\"\")","v":""},{"$f":"IFERROR(IF(VLOOKUP(CS!$AP30,スキルVL用!$C$1:$BO$518,M$2,)=0,\"\",VLOOKUP(CS!$AP30,スキルVL用!$C$1:$BO$518,M$2,)),\"\")","v":""},{"$f":"IFERROR(IF(VLOOKUP(CS!$AP30,スキルVL用!$C$1:$BO$518,N$2,)=0,\"\",VLOOKUP(CS!$AP30,スキルVL用!$C$1:$BO$518,N$2,)),\"\")","v":""},{"$f":"IFERROR(IF(VLOOKUP(CS!$AP30,スキルVL用!$C$1:$BO$518,O$2,)=0,\"\",VLOOKUP(CS!$AP30,スキルVL用!$C$1:$BO$518,O$2,)),\"\")","v":""},{"$f":"IFERROR(IF(VLOOKUP(CS!$AP30,スキルVL用!$C$1:$BO$518,P$2,)=0,\"\",VLOOKUP(CS!$AP30,スキルVL用!$C$1:$BO$518,P$2,)),\"\")","v":""},{"$f":"IFERROR(IF(VLOOKUP(CS!$AP30,スキルVL用!$C$1:$BO$518,Q$2,)=0,\"\",VLOOKUP(CS!$AP30,スキルVL用!$C$1:$BO$518,Q$2,)),\"\")","v":""},{"$f":"IFERROR(IF(VLOOKUP(CS!$AP30,スキルVL用!$C$1:$BO$518,R$2,)=0,\"\",VLOOKUP(CS!$AP30,スキルVL用!$C$1:$BO$518,R$2,)),\"\")","v":""},{"$f":"IFERROR(IF(VLOOKUP(CS!$AP30,スキルVL用!$C$1:$BO$518,S$2,)=0,\"\",VLOOKUP(CS!$AP30,スキルVL用!$C$1:$BO$518,S$2,)),\"\")","v":""},{"$f":"IFERROR(IF(VLOOKUP(CS!$AP30,スキルVL用!$C$1:$BO$518,T$2,)=0,\"\",VLOOKUP(CS!$AP30,スキルVL用!$C$1:$BO$518,T$2,)),\"\")","v":""},{"$f":"IFERROR(IF(VLOOKUP(CS!$AP30,スキルVL用!$C$1:$BO$518,U$2,)=0,\"\",VLOOKUP(CS!$AP30,スキルVL用!$C$1:$BO$518,U$2,)),\"\")","v":""},{"$f":"IFERROR(IF(VLOOKUP(CS!$AP30,スキルVL用!$C$1:$BO$518,V$2,)=0,\"\",VLOOKUP(CS!$AP30,スキルVL用!$C$1:$BO$518,V$2,)),\"\")","v":""},{"$f":"IFERROR(IF(VLOOKUP(CS!$AP30,スキルVL用!$C$1:$BO$518,W$2,)=0,\"\",VLOOKUP(CS!$AP30,スキルVL用!$C$1:$BO$518,W$2,)),\"\")","v":""},{"$f":"IFERROR(IF(VLOOKUP(CS!$AP30,スキルVL用!$C$1:$BO$518,X$2,)=0,\"\",VLOOKUP(CS!$AP30,スキルVL用!$C$1:$BO$518,X$2,)),\"\")","v":""},{"$f":"IFERROR(IF(VLOOKUP(CS!$AP30,スキルVL用!$C$1:$BO$518,Y$2,)=0,\"\",VLOOKUP(CS!$AP30,スキルVL用!$C$1:$BO$518,Y$2,)),\"\")","v":""},{"$f":"IFERROR(IF(VLOOKUP(CS!$AP30,スキルVL用!$C$1:$BO$518,Z$2,)=0,\"\",VLOOKUP(CS!$AP30,スキルVL用!$C$1:$BO$518,Z$2,)),\"\")","v":""},{"$f":"IFERROR(IF(VLOOKUP(CS!$AP30,スキルVL用!$C$1:$BO$518,AA$2,)=0,\"\",VLOOKUP(CS!$AP30,スキルVL用!$C$1:$BO$518,AA$2,)),\"\")","v":""},{"$f":"IFERROR(IF(VLOOKUP(CS!$AP30,スキルVL用!$C$1:$BO$518,AB$2,)=0,\"\",VLOOKUP(CS!$AP30,スキルVL用!$C$1:$BO$518,AB$2,)),\"\")","v":""},{"$f":"IFERROR(IF(VLOOKUP(CS!$AP30,スキルVL用!$C$1:$BO$518,AC$2,)=0,\"\",VLOOKUP(CS!$AP30,スキルVL用!$C$1:$BO$518,AC$2,)),\"\")","v":""},{"$f":"IFERROR(IF(VLOOKUP(CS!$AP30,スキルVL用!$C$1:$BO$518,AD$2,)=0,\"\",VLOOKUP(CS!$AP30,スキルVL用!$C$1:$BO$518,AD$2,)),\"\")","v":""}]
[null,"スキル3",{"$f":"IFERROR(IF(VLOOKUP(CS!$AP32,スキルVL用!$C$1:$BO$518,C$2,)=0,\"\",VLOOKUP(CS!$AP32,スキルVL用!$C$1:$BO$518,C$2,)),\"\")","v":""},{"$f":"IFERROR(IF(VLOOKUP(CS!$AP32,スキルVL用!$C$1:$BO$518,D$2,)=0,\"\",VLOOKUP(CS!$AP32,スキルVL用!$C$1:$BO$518,D$2,)),\"\")","v":""},{"$f":"IFERROR(IF(VLOOKUP(CS!$AP32,スキルVL用!$C$1:$BO$518,E$2,)=0,\"\",VLOOKUP(CS!$AP32,スキルVL用!$C$1:$BO$518,E$2,)),\"\")","v":""},{"$f":"IFERROR(IF(VLOOKUP(CS!$AP32,スキルVL用!$C$1:$BO$518,F$2,)=0,\"\",VLOOKUP(CS!$AP32,スキルVL用!$C$1:$BO$518,F$2,)),\"\")","v":""},{"$f":"IFERROR(IF(VLOOKUP(CS!$AP32,スキルVL用!$C$1:$BO$518,G$2,)=0,\"\",VLOOKUP(CS!$AP32,スキルVL用!$C$1:$BO$518,G$2,)),\"\")","v":""},{"$f":"IFERROR(IF(VLOOKUP(CS!$AP32,スキルVL用!$C$1:$BO$518,H$2,)=0,\"\",VLOOKUP(CS!$AP32,スキルVL用!$C$1:$BO$518,H$2,)),\"\")","v":""},{"$f":"IFERROR(IF(VLOOKUP(CS!$AP32,スキルVL用!$C$1:$BO$518,I$2,)=0,\"\",VLOOKUP(CS!$AP32,スキルVL用!$C$1:$BO$518,I$2,)),\"\")","v":""},{"$f":"IFERROR(IF(VLOOKUP(CS!$AP32,スキルVL用!$C$1:$BO$518,J$2,)=0,\"\",VLOOKUP(CS!$AP32,スキルVL用!$C$1:$BO$518,J$2,)),\"\")","v":""},{"$f":"IFERROR(IF(VLOOKUP(CS!$AP32,スキルVL用!$C$1:$BO$518,K$2,)=0,\"\",VLOOKUP(CS!$AP32,スキルVL用!$C$1:$BO$518,K$2,)),\"\")","v":""},{"$f":"IFERROR(IF(VLOOKUP(CS!$AP32,スキルVL用!$C$1:$BO$518,L$2,)=0,\"\",VLOOKUP(CS!$AP32,スキルVL用!$C$1:$BO$518,L$2,)),\"\")","v":""},{"$f":"IFERROR(IF(VLOOKUP(CS!$AP32,スキルVL用!$C$1:$BO$518,M$2,)=0,\"\",VLOOKUP(CS!$AP32,スキルVL用!$C$1:$BO$518,M$2,)),\"\")","v":""},{"$f":"IFERROR(IF(VLOOKUP(CS!$AP32,スキルVL用!$C$1:$BO$518,N$2,)=0,\"\",VLOOKUP(CS!$AP32,スキルVL用!$C$1:$BO$518,N$2,)),\"\")","v":""},{"$f":"IFERROR(IF(VLOOKUP(CS!$AP32,スキルVL用!$C$1:$BO$518,O$2,)=0,\"\",VLOOKUP(CS!$AP32,スキルVL用!$C$1:$BO$518,O$2,)),\"\")","v":""},{"$f":"IFERROR(IF(VLOOKUP(CS!$AP32,スキルVL用!$C$1:$BO$518,P$2,)=0,\"\",VLOOKUP(CS!$AP32,スキルVL用!$C$1:$BO$518,P$2,)),\"\")","v":""},{"$f":"IFERROR(IF(VLOOKUP(CS!$AP32,スキルVL用!$C$1:$BO$518,Q$2,)=0,\"\",VLOOKUP(CS!$AP32,スキルVL用!$C$1:$BO$518,Q$2,)),\"\")","v":""},{"$f":"IFERROR(IF(VLOOKUP(CS!$AP32,スキルVL用!$C$1:$BO$518,R$2,)=0,\"\",VLOOKUP(CS!$AP32,スキルVL用!$C$1:$BO$518,R$2,)),\"\")","v":""},{"$f":"IFERROR(IF(VLOOKUP(CS!$AP32,スキルVL用!$C$1:$BO$518,S$2,)=0,\"\",VLOOKUP(CS!$AP32,スキルVL用!$C$1:$BO$518,S$2,)),\"\")","v":""},{"$f":"IFERROR(IF(VLOOKUP(CS!$AP32,スキルVL用!$C$1:$BO$518,T$2,)=0,\"\",VLOOKUP(CS!$AP32,スキルVL用!$C$1:$BO$518,T$2,)),\"\")","v":""},{"$f":"IFERROR(IF(VLOOKUP(CS!$AP32,スキルVL用!$C$1:$BO$518,U$2,)=0,\"\",VLOOKUP(CS!$AP32,スキルVL用!$C$1:$BO$518,U$2,)),\"\")","v":""},{"$f":"IFERROR(IF(VLOOKUP(CS!$AP32,スキルVL用!$C$1:$BO$518,V$2,)=0,\"\",VLOOKUP(CS!$AP32,スキルVL用!$C$1:$BO$518,V$2,)),\"\")","v":""},{"$f":"IFERROR(IF(VLOOKUP(CS!$AP32,スキルVL用!$C$1:$BO$518,W$2,)=0,\"\",VLOOKUP(CS!$AP32,スキルVL用!$C$1:$BO$518,W$2,)),\"\")","v":""},{"$f":"IFERROR(IF(VLOOKUP(CS!$AP32,スキルVL用!$C$1:$BO$518,X$2,)=0,\"\",VLOOKUP(CS!$AP32,スキルVL用!$C$1:$BO$518,X$2,)),\"\")","v":""},{"$f":"IFERROR(IF(VLOOKUP(CS!$AP32,スキルVL用!$C$1:$BO$518,Y$2,)=0,\"\",VLOOKUP(CS!$AP32,スキルVL用!$C$1:$BO$518,Y$2,)),\"\")","v":""},{"$f":"IFERROR(IF(VLOOKUP(CS!$AP32,スキルVL用!$C$1:$BO$518,Z$2,)=0,\"\",VLOOKUP(CS!$AP32,スキルVL用!$C$1:$BO$518,Z$2,)),\"\")","v":""},{"$f":"IFERROR(IF(VLOOKUP(CS!$AP32,スキルVL用!$C$1:$BO$518,AA$2,)=0,\"\",VLOOKUP(CS!$AP32,スキルVL用!$C$1:$BO$518,AA$2,)),\"\")","v":""},{"$f":"IFERROR(IF(VLOOKUP(CS!$AP32,スキルVL用!$C$1:$BO$518,AB$2,)=0,\"\",VLOOKUP(CS!$AP32,スキルVL用!$C$1:$BO$518,AB$2,)),\"\")","v":""},{"$f":"IFERROR(IF(VLOOKUP(CS!$AP32,スキルVL用!$C$1:$BO$518,AC$2,)=0,\"\",VLOOKUP(CS!$AP32,スキルVL用!$C$1:$BO$518,AC$2,)),\"\")","v":""},{"$f":"IFERROR(IF(VLOOKUP(CS!$AP32,スキルVL用!$C$1:$BO$518,AD$2,)=0,\"\",VLOOKUP(CS!$AP32,スキルVL用!$C$1:$BO$518,AD$2,)),\"\")","v":""}]
[null,"スキル4",{"$f":"IFERROR(IF(VLOOKUP(CS!$AP34,スキルVL用!$C$1:$BO$518,C$2,)=0,\"\",VLOOKUP(CS!$AP34,スキルVL用!$C$1:$BO$518,C$2,)),\"\")","v":""},{"$f":"IFERROR(IF(VLOOKUP(CS!$AP34,スキルVL用!$C$1:$BO$518,D$2,)=0,\"\",VLOOKUP(CS!$AP34,スキルVL用!$C$1:$BO$518,D$2,)),\"\")","v":""},{"$f":"IFERROR(IF(VLOOKUP(CS!$AP34,スキルVL用!$C$1:$BO$518,E$2,)=0,\"\",VLOOKUP(CS!$AP34,スキルVL用!$C$1:$BO$518,E$2,)),\"\")","v":""},{"$f":"IFERROR(IF(VLOOKUP(CS!$AP34,スキルVL用!$C$1:$BO$518,F$2,)=0,\"\",VLOOKUP(CS!$AP34,スキルVL用!$C$1:$BO$518,F$2,)),\"\")","v":""},{"$f":"IFERROR(IF(VLOOKUP(CS!$AP34,スキルVL用!$C$1:$BO$518,G$2,)=0,\"\",VLOOKUP(CS!$AP34,スキルVL用!$C$1:$BO$518,G$2,)),\"\")","v":""},{"$f":"IFERROR(IF(VLOOKUP(CS!$AP34,スキルVL用!$C$1:$BO$518,H$2,)=0,\"\",VLOOKUP(CS!$AP34,スキルVL用!$C$1:$BO$518,H$2,)),\"\")","v":""},{"$f":"IFERROR(IF(VLOOKUP(CS!$AP34,スキルVL用!$C$1:$BO$518,I$2,)=0,\"\",VLOOKUP(CS!$AP34,スキルVL用!$C$1:$BO$518,I$2,)),\"\")","v":""},{"$f":"IFERROR(IF(VLOOKUP(CS!$AP34,スキルVL用!$C$1:$BO$518,J$2,)=0,\"\",VLOOKUP(CS!$AP34,スキルVL用!$C$1:$BO$518,J$2,)),\"\")","v":""},{"$f":"IFERROR(IF(VLOOKUP(CS!$AP34,スキルVL用!$C$1:$BO$518,K$2,)=0,\"\",VLOOKUP(CS!$AP34,スキルVL用!$C$1:$BO$518,K$2,)),\"\")","v":""},{"$f":"IFERROR(IF(VLOOKUP(CS!$AP34,スキルVL用!$C$1:$BO$518,L$2,)=0,\"\",VLOOKUP(CS!$AP34,スキルVL用!$C$1:$BO$518,L$2,)),\"\")","v":""},{"$f":"IFERROR(IF(VLOOKUP(CS!$AP34,スキルVL用!$C$1:$BO$518,M$2,)=0,\"\",VLOOKUP(CS!$AP34,スキルVL用!$C$1:$BO$518,M$2,)),\"\")","v":""},{"$f":"IFERROR(IF(VLOOKUP(CS!$AP34,スキルVL用!$C$1:$BO$518,N$2,)=0,\"\",VLOOKUP(CS!$AP34,スキルVL用!$C$1:$BO$518,N$2,)),\"\")","v":""},{"$f":"IFERROR(IF(VLOOKUP(CS!$AP34,スキルVL用!$C$1:$BO$518,O$2,)=0,\"\",VLOOKUP(CS!$AP34,スキルVL用!$C$1:$BO$518,O$2,)),\"\")","v":""},{"$f":"IFERROR(IF(VLOOKUP(CS!$AP34,スキルVL用!$C$1:$BO$518,P$2,)=0,\"\",VLOOKUP(CS!$AP34,スキルVL用!$C$1:$BO$518,P$2,)),\"\")","v":""},{"$f":"IFERROR(IF(VLOOKUP(CS!$AP34,スキルVL用!$C$1:$BO$518,Q$2,)=0,\"\",VLOOKUP(CS!$AP34,スキルVL用!$C$1:$BO$518,Q$2,)),\"\")","v":""},{"$f":"IFERROR(IF(VLOOKUP(CS!$AP34,スキルVL用!$C$1:$BO$518,R$2,)=0,\"\",VLOOKUP(CS!$AP34,スキルVL用!$C$1:$BO$518,R$2,)),\"\")","v":""},{"$f":"IFERROR(IF(VLOOKUP(CS!$AP34,スキルVL用!$C$1:$BO$518,S$2,)=0,\"\",VLOOKUP(CS!$AP34,スキルVL用!$C$1:$BO$518,S$2,)),\"\")","v":""},{"$f":"IFERROR(IF(VLOOKUP(CS!$AP34,スキルVL用!$C$1:$BO$518,T$2,)=0,\"\",VLOOKUP(CS!$AP34,スキルVL用!$C$1:$BO$518,T$2,)),\"\")","v":""},{"$f":"IFERROR(IF(VLOOKUP(CS!$AP34,スキルVL用!$C$1:$BO$518,U$2,)=0,\"\",VLOOKUP(CS!$AP34,スキルVL用!$C$1:$BO$518,U$2,)),\"\")","v":""},{"$f":"IFERROR(IF(VLOOKUP(CS!$AP34,スキルVL用!$C$1:$BO$518,V$2,)=0,\"\",VLOOKUP(CS!$AP34,スキルVL用!$C$1:$BO$518,V$2,)),\"\")","v":""},{"$f":"IFERROR(IF(VLOOKUP(CS!$AP34,スキルVL用!$C$1:$BO$518,W$2,)=0,\"\",VLOOKUP(CS!$AP34,スキルVL用!$C$1:$BO$518,W$2,)),\"\")","v":""},{"$f":"IFERROR(IF(VLOOKUP(CS!$AP34,スキルVL用!$C$1:$BO$518,X$2,)=0,\"\",VLOOKUP(CS!$AP34,スキルVL用!$C$1:$BO$518,X$2,)),\"\")","v":""},{"$f":"IFERROR(IF(VLOOKUP(CS!$AP34,スキルVL用!$C$1:$BO$518,Y$2,)=0,\"\",VLOOKUP(CS!$AP34,スキルVL用!$C$1:$BO$518,Y$2,)),\"\")","v":""},{"$f":"IFERROR(IF(VLOOKUP(CS!$AP34,スキルVL用!$C$1:$BO$518,Z$2,)=0,\"\",VLOOKUP(CS!$AP34,スキルVL用!$C$1:$BO$518,Z$2,)),\"\")","v":""},{"$f":"IFERROR(IF(VLOOKUP(CS!$AP34,スキルVL用!$C$1:$BO$518,AA$2,)=0,\"\",VLOOKUP(CS!$AP34,スキルVL用!$C$1:$BO$518,AA$2,)),\"\")","v":""},{"$f":"IFERROR(IF(VLOOKUP(CS!$AP34,スキルVL用!$C$1:$BO$518,AB$2,)=0,\"\",VLOOKUP(CS!$AP34,スキルVL用!$C$1:$BO$518,AB$2,)),\"\")","v":""},{"$f":"IFERROR(IF(VLOOKUP(CS!$AP34,スキルVL用!$C$1:$BO$518,AC$2,)=0,\"\",VLOOKUP(CS!$AP34,スキルVL用!$C$1:$BO$518,AC$2,)),\"\")","v":""},{"$f":"IFERROR(IF(VLOOKUP(CS!$AP34,スキルVL用!$C$1:$BO$518,AD$2,)=0,\"\",VLOOKUP(CS!$AP34,スキルVL用!$C$1:$BO$518,AD$2,)),\"\")","v":""}]
[null,"スキル5",{"$f":"IFERROR(IF(VLOOKUP(CS!$AP36,スキルVL用!$C$1:$BO$518,C$2,)=0,\"\",VLOOKUP(CS!$AP36,スキルVL用!$C$1:$BO$518,C$2,)),\"\")","v":""},{"$f":"IFERROR(IF(VLOOKUP(CS!$AP36,スキルVL用!$C$1:$BO$518,D$2,)=0,\"\",VLOOKUP(CS!$AP36,スキルVL用!$C$1:$BO$518,D$2,)),\"\")","v":""},{"$f":"IFERROR(IF(VLOOKUP(CS!$AP36,スキルVL用!$C$1:$BO$518,E$2,)=0,\"\",VLOOKUP(CS!$AP36,スキルVL用!$C$1:$BO$518,E$2,)),\"\")","v":""},{"$f":"IFERROR(IF(VLOOKUP(CS!$AP36,スキルVL用!$C$1:$BO$518,F$2,)=0,\"\",VLOOKUP(CS!$AP36,スキルVL用!$C$1:$BO$518,F$2,)),\"\")","v":""},{"$f":"IFERROR(IF(VLOOKUP(CS!$AP36,スキルVL用!$C$1:$BO$518,G$2,)=0,\"\",VLOOKUP(CS!$AP36,スキルVL用!$C$1:$BO$518,G$2,)),\"\")","v":""},{"$f":"IFERROR(IF(VLOOKUP(CS!$AP36,スキルVL用!$C$1:$BO$518,H$2,)=0,\"\",VLOOKUP(CS!$AP36,スキルVL用!$C$1:$BO$518,H$2,)),\"\")","v":""},{"$f":"IFERROR(IF(VLOOKUP(CS!$AP36,スキルVL用!$C$1:$BO$518,I$2,)=0,\"\",VLOOKUP(CS!$AP36,スキルVL用!$C$1:$BO$518,I$2,)),\"\")","v":""},{"$f":"IFERROR(IF(VLOOKUP(CS!$AP36,スキルVL用!$C$1:$BO$518,J$2,)=0,\"\",VLOOKUP(CS!$AP36,スキルVL用!$C$1:$BO$518,J$2,)),\"\")","v":""},{"$f":"IFERROR(IF(VLOOKUP(CS!$AP36,スキルVL用!$C$1:$BO$518,K$2,)=0,\"\",VLOOKUP(CS!$AP36,スキルVL用!$C$1:$BO$518,K$2,)),\"\")","v":""},{"$f":"IFERROR(IF(VLOOKUP(CS!$AP36,スキルVL用!$C$1:$BO$518,L$2,)=0,\"\",VLOOKUP(CS!$AP36,スキルVL用!$C$1:$BO$518,L$2,)),\"\")","v":""},{"$f":"IFERROR(IF(VLOOKUP(CS!$AP36,スキルVL用!$C$1:$BO$518,M$2,)=0,\"\",VLOOKUP(CS!$AP36,スキルVL用!$C$1:$BO$518,M$2,)),\"\")","v":""},{"$f":"IFERROR(IF(VLOOKUP(CS!$AP36,スキルVL用!$C$1:$BO$518,N$2,)=0,\"\",VLOOKUP(CS!$AP36,スキルVL用!$C$1:$BO$518,N$2,)),\"\")","v":""},{"$f":"IFERROR(IF(VLOOKUP(CS!$AP36,スキルVL用!$C$1:$BO$518,O$2,)=0,\"\",VLOOKUP(CS!$AP36,スキルVL用!$C$1:$BO$518,O$2,)),\"\")","v":""},{"$f":"IFERROR(IF(VLOOKUP(CS!$AP36,スキルVL用!$C$1:$BO$518,P$2,)=0,\"\",VLOOKUP(CS!$AP36,スキルVL用!$C$1:$BO$518,P$2,)),\"\")","v":""},{"$f":"IFERROR(IF(VLOOKUP(CS!$AP36,スキルVL用!$C$1:$BO$518,Q$2,)=0,\"\",VLOOKUP(CS!$AP36,スキルVL用!$C$1:$BO$518,Q$2,)),\"\")","v":""},{"$f":"IFERROR(IF(VLOOKUP(CS!$AP36,スキルVL用!$C$1:$BO$518,R$2,)=0,\"\",VLOOKUP(CS!$AP36,スキルVL用!$C$1:$BO$518,R$2,)),\"\")","v":""},{"$f":"IFERROR(IF(VLOOKUP(CS!$AP36,スキルVL用!$C$1:$BO$518,S$2,)=0,\"\",VLOOKUP(CS!$AP36,スキルVL用!$C$1:$BO$518,S$2,)),\"\")","v":""},{"$f":"IFERROR(IF(VLOOKUP(CS!$AP36,スキルVL用!$C$1:$BO$518,T$2,)=0,\"\",VLOOKUP(CS!$AP36,スキルVL用!$C$1:$BO$518,T$2,)),\"\")","v":""},{"$f":"IFERROR(IF(VLOOKUP(CS!$AP36,スキルVL用!$C$1:$BO$518,U$2,)=0,\"\",VLOOKUP(CS!$AP36,スキルVL用!$C$1:$BO$518,U$2,)),\"\")","v":""},{"$f":"IFERROR(IF(VLOOKUP(CS!$AP36,スキルVL用!$C$1:$BO$518,V$2,)=0,\"\",VLOOKUP(CS!$AP36,スキルVL用!$C$1:$BO$518,V$2,)),\"\")","v":""},{"$f":"IFERROR(IF(VLOOKUP(CS!$AP36,スキルVL用!$C$1:$BO$518,W$2,)=0,\"\",VLOOKUP(CS!$AP36,スキルVL用!$C$1:$BO$518,W$2,)),\"\")","v":""},{"$f":"IFERROR(IF(VLOOKUP(CS!$AP36,スキルVL用!$C$1:$BO$518,X$2,)=0,\"\",VLOOKUP(CS!$AP36,スキルVL用!$C$1:$BO$518,X$2,)),\"\")","v":""},{"$f":"IFERROR(IF(VLOOKUP(CS!$AP36,スキルVL用!$C$1:$BO$518,Y$2,)=0,\"\",VLOOKUP(CS!$AP36,スキルVL用!$C$1:$BO$518,Y$2,)),\"\")","v":""},{"$f":"IFERROR(IF(VLOOKUP(CS!$AP36,スキルVL用!$C$1:$BO$518,Z$2,)=0,\"\",VLOOKUP(CS!$AP36,スキルVL用!$C$1:$BO$518,Z$2,)),\"\")","v":""},{"$f":"IFERROR(IF(VLOOKUP(CS!$AP36,スキルVL用!$C$1:$BO$518,AA$2,)=0,\"\",VLOOKUP(CS!$AP36,スキルVL用!$C$1:$BO$518,AA$2,)),\"\")","v":""},{"$f":"IFERROR(IF(VLOOKUP(CS!$AP36,スキルVL用!$C$1:$BO$518,AB$2,)=0,\"\",VLOOKUP(CS!$AP36,スキルVL用!$C$1:$BO$518,AB$2,)),\"\")","v":""},{"$f":"IFERROR(IF(VLOOKUP(CS!$AP36,スキルVL用!$C$1:$BO$518,AC$2,)=0,\"\",VLOOKUP(CS!$AP36,スキルVL用!$C$1:$BO$518,AC$2,)),\"\")","v":""},{"$f":"IFERROR(IF(VLOOKUP(CS!$AP36,スキルVL用!$C$1:$BO$518,AD$2,)=0,\"\",VLOOKUP(CS!$AP36,スキルVL用!$C$1:$BO$518,AD$2,)),\"\")","v":""}]
[null,"スキル6",{"$f":"IFERROR(IF(VLOOKUP(CS!$AP38,スキルVL用!$C$1:$BO$518,C$2,)=0,\"\",VLOOKUP(CS!$AP38,スキルVL用!$C$1:$BO$518,C$2,)),\"\")","v":""},{"$f":"IFERROR(IF(VLOOKUP(CS!$AP38,スキルVL用!$C$1:$BO$518,D$2,)=0,\"\",VLOOKUP(CS!$AP38,スキルVL用!$C$1:$BO$518,D$2,)),\"\")","v":""},{"$f":"IFERROR(IF(VLOOKUP(CS!$AP38,スキルVL用!$C$1:$BO$518,E$2,)=0,\"\",VLOOKUP(CS!$AP38,スキルVL用!$C$1:$BO$518,E$2,)),\"\")","v":""},{"$f":"IFERROR(IF(VLOOKUP(CS!$AP38,スキルVL用!$C$1:$BO$518,F$2,)=0,\"\",VLOOKUP(CS!$AP38,スキルVL用!$C$1:$BO$518,F$2,)),\"\")","v":""},{"$f":"IFERROR(IF(VLOOKUP(CS!$AP38,スキルVL用!$C$1:$BO$518,G$2,)=0,\"\",VLOOKUP(CS!$AP38,スキルVL用!$C$1:$BO$518,G$2,)),\"\")","v":""},{"$f":"IFERROR(IF(VLOOKUP(CS!$AP38,スキルVL用!$C$1:$BO$518,H$2,)=0,\"\",VLOOKUP(CS!$AP38,スキルVL用!$C$1:$BO$518,H$2,)),\"\")","v":""},{"$f":"IFERROR(IF(VLOOKUP(CS!$AP38,スキルVL用!$C$1:$BO$518,I$2,)=0,\"\",VLOOKUP(CS!$AP38,スキルVL用!$C$1:$BO$518,I$2,)),\"\")","v":""},{"$f":"IFERROR(IF(VLOOKUP(CS!$AP38,スキルVL用!$C$1:$BO$518,J$2,)=0,\"\",VLOOKUP(CS!$AP38,スキルVL用!$C$1:$BO$518,J$2,)),\"\")","v":""},{"$f":"IFERROR(IF(VLOOKUP(CS!$AP38,スキルVL用!$C$1:$BO$518,K$2,)=0,\"\",VLOOKUP(CS!$AP38,スキルVL用!$C$1:$BO$518,K$2,)),\"\")","v":""},{"$f":"IFERROR(IF(VLOOKUP(CS!$AP38,スキルVL用!$C$1:$BO$518,L$2,)=0,\"\",VLOOKUP(CS!$AP38,スキルVL用!$C$1:$BO$518,L$2,)),\"\")","v":""},{"$f":"IFERROR(IF(VLOOKUP(CS!$AP38,スキルVL用!$C$1:$BO$518,M$2,)=0,\"\",VLOOKUP(CS!$AP38,スキルVL用!$C$1:$BO$518,M$2,)),\"\")","v":""},{"$f":"IFERROR(IF(VLOOKUP(CS!$AP38,スキルVL用!$C$1:$BO$518,N$2,)=0,\"\",VLOOKUP(CS!$AP38,スキルVL用!$C$1:$BO$518,N$2,)),\"\")","v":""},{"$f":"IFERROR(IF(VLOOKUP(CS!$AP38,スキルVL用!$C$1:$BO$518,O$2,)=0,\"\",VLOOKUP(CS!$AP38,スキルVL用!$C$1:$BO$518,O$2,)),\"\")","v":""},{"$f":"IFERROR(IF(VLOOKUP(CS!$AP38,スキルVL用!$C$1:$BO$518,P$2,)=0,\"\",VLOOKUP(CS!$AP38,スキルVL用!$C$1:$BO$518,P$2,)),\"\")","v":""},{"$f":"IFERROR(IF(VLOOKUP(CS!$AP38,スキルVL用!$C$1:$BO$518,Q$2,)=0,\"\",VLOOKUP(CS!$AP38,スキルVL用!$C$1:$BO$518,Q$2,)),\"\")","v":""},{"$f":"IFERROR(IF(VLOOKUP(CS!$AP38,スキルVL用!$C$1:$BO$518,R$2,)=0,\"\",VLOOKUP(CS!$AP38,スキルVL用!$C$1:$BO$518,R$2,)),\"\")","v":""},{"$f":"IFERROR(IF(VLOOKUP(CS!$AP38,スキルVL用!$C$1:$BO$518,S$2,)=0,\"\",VLOOKUP(CS!$AP38,スキルVL用!$C$1:$BO$518,S$2,)),\"\")","v":""},{"$f":"IFERROR(IF(VLOOKUP(CS!$AP38,スキルVL用!$C$1:$BO$518,T$2,)=0,\"\",VLOOKUP(CS!$AP38,スキルVL用!$C$1:$BO$518,T$2,)),\"\")","v":""},{"$f":"IFERROR(IF(VLOOKUP(CS!$AP38,スキルVL用!$C$1:$BO$518,U$2,)=0,\"\",VLOOKUP(CS!$AP38,スキルVL用!$C$1:$BO$518,U$2,)),\"\")","v":""},{"$f":"IFERROR(IF(VLOOKUP(CS!$AP38,スキルVL用!$C$1:$BO$518,V$2,)=0,\"\",VLOOKUP(CS!$AP38,スキルVL用!$C$1:$BO$518,V$2,)),\"\")","v":""},{"$f":"IFERROR(IF(VLOOKUP(CS!$AP38,スキルVL用!$C$1:$BO$518,W$2,)=0,\"\",VLOOKUP(CS!$AP38,スキルVL用!$C$1:$BO$518,W$2,)),\"\")","v":""},{"$f":"IFERROR(IF(VLOOKUP(CS!$AP38,スキルVL用!$C$1:$BO$518,X$2,)=0,\"\",VLOOKUP(CS!$AP38,スキルVL用!$C$1:$BO$518,X$2,)),\"\")","v":""},{"$f":"IFERROR(IF(VLOOKUP(CS!$AP38,スキルVL用!$C$1:$BO$518,Y$2,)=0,\"\",VLOOKUP(CS!$AP38,スキルVL用!$C$1:$BO$518,Y$2,)),\"\")","v":""},{"$f":"IFERROR(IF(VLOOKUP(CS!$AP38,スキルVL用!$C$1:$BO$518,Z$2,)=0,\"\",VLOOKUP(CS!$AP38,スキルVL用!$C$1:$BO$518,Z$2,)),\"\")","v":""},{"$f":"IFERROR(IF(VLOOKUP(CS!$AP38,スキルVL用!$C$1:$BO$518,AA$2,)=0,\"\",VLOOKUP(CS!$AP38,スキルVL用!$C$1:$BO$518,AA$2,)),\"\")","v":""},{"$f":"IFERROR(IF(VLOOKUP(CS!$AP38,スキルVL用!$C$1:$BO$518,AB$2,)=0,\"\",VLOOKUP(CS!$AP38,スキルVL用!$C$1:$BO$518,AB$2,)),\"\")","v":""},{"$f":"IFERROR(IF(VLOOKUP(CS!$AP38,スキルVL用!$C$1:$BO$518,AC$2,)=0,\"\",VLOOKUP(CS!$AP38,スキルVL用!$C$1:$BO$518,AC$2,)),\"\")","v":""},{"$f":"IFERROR(IF(VLOOKUP(CS!$AP38,スキルVL用!$C$1:$BO$518,AD$2,)=0,\"\",VLOOKUP(CS!$AP38,スキルVL用!$C$1:$BO$518,AD$2,)),\"\")","v":""}]
[null,"スキル7",{"$f":"IFERROR(IF(VLOOKUP(CS!$AP40,スキルVL用!$C$1:$BO$518,C$2,)=0,\"\",VLOOKUP(CS!$AP40,スキルVL用!$C$1:$BO$518,C$2,)),\"\")","v":""},{"$f":"IFERROR(IF(VLOOKUP(CS!$AP40,スキルVL用!$C$1:$BO$518,D$2,)=0,\"\",VLOOKUP(CS!$AP40,スキルVL用!$C$1:$BO$518,D$2,)),\"\")","v":""},{"$f":"IFERROR(IF(VLOOKUP(CS!$AP40,スキルVL用!$C$1:$BO$518,E$2,)=0,\"\",VLOOKUP(CS!$AP40,スキルVL用!$C$1:$BO$518,E$2,)),\"\")","v":""},{"$f":"IFERROR(IF(VLOOKUP(CS!$AP40,スキルVL用!$C$1:$BO$518,F$2,)=0,\"\",VLOOKUP(CS!$AP40,スキルVL用!$C$1:$BO$518,F$2,)),\"\")","v":""},{"$f":"IFERROR(IF(VLOOKUP(CS!$AP40,スキルVL用!$C$1:$BO$518,G$2,)=0,\"\",VLOOKUP(CS!$AP40,スキルVL用!$C$1:$BO$518,G$2,)),\"\")","v":""},{"$f":"IFERROR(IF(VLOOKUP(CS!$AP40,スキルVL用!$C$1:$BO$518,H$2,)=0,\"\",VLOOKUP(CS!$AP40,スキルVL用!$C$1:$BO$518,H$2,)),\"\")","v":""},{"$f":"IFERROR(IF(VLOOKUP(CS!$AP40,スキルVL用!$C$1:$BO$518,I$2,)=0,\"\",VLOOKUP(CS!$AP40,スキルVL用!$C$1:$BO$518,I$2,)),\"\")","v":""},{"$f":"IFERROR(IF(VLOOKUP(CS!$AP40,スキルVL用!$C$1:$BO$518,J$2,)=0,\"\",VLOOKUP(CS!$AP40,スキルVL用!$C$1:$BO$518,J$2,)),\"\")","v":""},{"$f":"IFERROR(IF(VLOOKUP(CS!$AP40,スキルVL用!$C$1:$BO$518,K$2,)=0,\"\",VLOOKUP(CS!$AP40,スキルVL用!$C$1:$BO$518,K$2,)),\"\")","v":""},{"$f":"IFERROR(IF(VLOOKUP(CS!$AP40,スキルVL用!$C$1:$BO$518,L$2,)=0,\"\",VLOOKUP(CS!$AP40,スキルVL用!$C$1:$BO$518,L$2,)),\"\")","v":""},{"$f":"IFERROR(IF(VLOOKUP(CS!$AP40,スキルVL用!$C$1:$BO$518,M$2,)=0,\"\",VLOOKUP(CS!$AP40,スキルVL用!$C$1:$BO$518,M$2,)),\"\")","v":""},{"$f":"IFERROR(IF(VLOOKUP(CS!$AP40,スキルVL用!$C$1:$BO$518,N$2,)=0,\"\",VLOOKUP(CS!$AP40,スキルVL用!$C$1:$BO$518,N$2,)),\"\")","v":""},{"$f":"IFERROR(IF(VLOOKUP(CS!$AP40,スキルVL用!$C$1:$BO$518,O$2,)=0,\"\",VLOOKUP(CS!$AP40,スキルVL用!$C$1:$BO$518,O$2,)),\"\")","v":""},{"$f":"IFERROR(IF(VLOOKUP(CS!$AP40,スキルVL用!$C$1:$BO$518,P$2,)=0,\"\",VLOOKUP(CS!$AP40,スキルVL用!$C$1:$BO$518,P$2,)),\"\")","v":""},{"$f":"IFERROR(IF(VLOOKUP(CS!$AP40,スキルVL用!$C$1:$BO$518,Q$2,)=0,\"\",VLOOKUP(CS!$AP40,スキルVL用!$C$1:$BO$518,Q$2,)),\"\")","v":""},{"$f":"IFERROR(IF(VLOOKUP(CS!$AP40,スキルVL用!$C$1:$BO$518,R$2,)=0,\"\",VLOOKUP(CS!$AP40,スキルVL用!$C$1:$BO$518,R$2,)),\"\")","v":""},{"$f":"IFERROR(IF(VLOOKUP(CS!$AP40,スキルVL用!$C$1:$BO$518,S$2,)=0,\"\",VLOOKUP(CS!$AP40,スキルVL用!$C$1:$BO$518,S$2,)),\"\")","v":""},{"$f":"IFERROR(IF(VLOOKUP(CS!$AP40,スキルVL用!$C$1:$BO$518,T$2,)=0,\"\",VLOOKUP(CS!$AP40,スキルVL用!$C$1:$BO$518,T$2,)),\"\")","v":""},{"$f":"IFERROR(IF(VLOOKUP(CS!$AP40,スキルVL用!$C$1:$BO$518,U$2,)=0,\"\",VLOOKUP(CS!$AP40,スキルVL用!$C$1:$BO$518,U$2,)),\"\")","v":""},{"$f":"IFERROR(IF(VLOOKUP(CS!$AP40,スキルVL用!$C$1:$BO$518,V$2,)=0,\"\",VLOOKUP(CS!$AP40,スキルVL用!$C$1:$BO$518,V$2,)),\"\")","v":""},{"$f":"IFERROR(IF(VLOOKUP(CS!$AP40,スキルVL用!$C$1:$BO$518,W$2,)=0,\"\",VLOOKUP(CS!$AP40,スキルVL用!$C$1:$BO$518,W$2,)),\"\")","v":""},{"$f":"IFERROR(IF(VLOOKUP(CS!$AP40,スキルVL用!$C$1:$BO$518,X$2,)=0,\"\",VLOOKUP(CS!$AP40,スキルVL用!$C$1:$BO$518,X$2,)),\"\")","v":""},{"$f":"IFERROR(IF(VLOOKUP(CS!$AP40,スキルVL用!$C$1:$BO$518,Y$2,)=0,\"\",VLOOKUP(CS!$AP40,スキルVL用!$C$1:$BO$518,Y$2,)),\"\")","v":""},{"$f":"IFERROR(IF(VLOOKUP(CS!$AP40,スキルVL用!$C$1:$BO$518,Z$2,)=0,\"\",VLOOKUP(CS!$AP40,スキルVL用!$C$1:$BO$518,Z$2,)),\"\")","v":""},{"$f":"IFERROR(IF(VLOOKUP(CS!$AP40,スキルVL用!$C$1:$BO$518,AA$2,)=0,\"\",VLOOKUP(CS!$AP40,スキルVL用!$C$1:$BO$518,AA$2,)),\"\")","v":""},{"$f":"IFERROR(IF(VLOOKUP(CS!$AP40,スキルVL用!$C$1:$BO$518,AB$2,)=0,\"\",VLOOKUP(CS!$AP40,スキルVL用!$C$1:$BO$518,AB$2,)),\"\")","v":""},{"$f":"IFERROR(IF(VLOOKUP(CS!$AP40,スキルVL用!$C$1:$BO$518,AC$2,)=0,\"\",VLOOKUP(CS!$AP40,スキルVL用!$C$1:$BO$518,AC$2,)),\"\")","v":""},{"$f":"IFERROR(IF(VLOOKUP(CS!$AP40,スキルVL用!$C$1:$BO$518,AD$2,)=0,\"\",VLOOKUP(CS!$AP40,スキルVL用!$C$1:$BO$518,AD$2,)),\"\")","v":""}]
[null,"スキル8",{"$f":"IFERROR(IF(VLOOKUP(CS!$AP42,スキルVL用!$C$1:$BO$518,C$2,)=0,\"\",VLOOKUP(CS!$AP42,スキルVL用!$C$1:$BO$518,C$2,)),\"\")","v":""},{"$f":"IFERROR(IF(VLOOKUP(CS!$AP42,スキルVL用!$C$1:$BO$518,D$2,)=0,\"\",VLOOKUP(CS!$AP42,スキルVL用!$C$1:$BO$518,D$2,)),\"\")","v":""},{"$f":"IFERROR(IF(VLOOKUP(CS!$AP42,スキルVL用!$C$1:$BO$518,E$2,)=0,\"\",VLOOKUP(CS!$AP42,スキルVL用!$C$1:$BO$518,E$2,)),\"\")","v":""},{"$f":"IFERROR(IF(VLOOKUP(CS!$AP42,スキルVL用!$C$1:$BO$518,F$2,)=0,\"\",VLOOKUP(CS!$AP42,スキルVL用!$C$1:$BO$518,F$2,)),\"\")","v":""},{"$f":"IFERROR(IF(VLOOKUP(CS!$AP42,スキルVL用!$C$1:$BO$518,G$2,)=0,\"\",VLOOKUP(CS!$AP42,スキルVL用!$C$1:$BO$518,G$2,)),\"\")","v":""},{"$f":"IFERROR(IF(VLOOKUP(CS!$AP42,スキルVL用!$C$1:$BO$518,H$2,)=0,\"\",VLOOKUP(CS!$AP42,スキルVL用!$C$1:$BO$518,H$2,)),\"\")","v":""},{"$f":"IFERROR(IF(VLOOKUP(CS!$AP42,スキルVL用!$C$1:$BO$518,I$2,)=0,\"\",VLOOKUP(CS!$AP42,スキルVL用!$C$1:$BO$518,I$2,)),\"\")","v":""},{"$f":"IFERROR(IF(VLOOKUP(CS!$AP42,スキルVL用!$C$1:$BO$518,J$2,)=0,\"\",VLOOKUP(CS!$AP42,スキルVL用!$C$1:$BO$518,J$2,)),\"\")","v":""},{"$f":"IFERROR(IF(VLOOKUP(CS!$AP42,スキルVL用!$C$1:$BO$518,K$2,)=0,\"\",VLOOKUP(CS!$AP42,スキルVL用!$C$1:$BO$518,K$2,)),\"\")","v":""},{"$f":"IFERROR(IF(VLOOKUP(CS!$AP42,スキルVL用!$C$1:$BO$518,L$2,)=0,\"\",VLOOKUP(CS!$AP42,スキルVL用!$C$1:$BO$518,L$2,)),\"\")","v":""},{"$f":"IFERROR(IF(VLOOKUP(CS!$AP42,スキルVL用!$C$1:$BO$518,M$2,)=0,\"\",VLOOKUP(CS!$AP42,スキルVL用!$C$1:$BO$518,M$2,)),\"\")","v":""},{"$f":"IFERROR(IF(VLOOKUP(CS!$AP42,スキルVL用!$C$1:$BO$518,N$2,)=0,\"\",VLOOKUP(CS!$AP42,スキルVL用!$C$1:$BO$518,N$2,)),\"\")","v":""},{"$f":"IFERROR(IF(VLOOKUP(CS!$AP42,スキルVL用!$C$1:$BO$518,O$2,)=0,\"\",VLOOKUP(CS!$AP42,スキルVL用!$C$1:$BO$518,O$2,)),\"\")","v":""},{"$f":"IFERROR(IF(VLOOKUP(CS!$AP42,スキルVL用!$C$1:$BO$518,P$2,)=0,\"\",VLOOKUP(CS!$AP42,スキルVL用!$C$1:$BO$518,P$2,)),\"\")","v":""},{"$f":"IFERROR(IF(VLOOKUP(CS!$AP42,スキルVL用!$C$1:$BO$518,Q$2,)=0,\"\",VLOOKUP(CS!$AP42,スキルVL用!$C$1:$BO$518,Q$2,)),\"\")","v":""},{"$f":"IFERROR(IF(VLOOKUP(CS!$AP42,スキルVL用!$C$1:$BO$518,R$2,)=0,\"\",VLOOKUP(CS!$AP42,スキルVL用!$C$1:$BO$518,R$2,)),\"\")","v":""},{"$f":"IFERROR(IF(VLOOKUP(CS!$AP42,スキルVL用!$C$1:$BO$518,S$2,)=0,\"\",VLOOKUP(CS!$AP42,スキルVL用!$C$1:$BO$518,S$2,)),\"\")","v":""},{"$f":"IFERROR(IF(VLOOKUP(CS!$AP42,スキルVL用!$C$1:$BO$518,T$2,)=0,\"\",VLOOKUP(CS!$AP42,スキルVL用!$C$1:$BO$518,T$2,)),\"\")","v":""},{"$f":"IFERROR(IF(VLOOKUP(CS!$AP42,スキルVL用!$C$1:$BO$518,U$2,)=0,\"\",VLOOKUP(CS!$AP42,スキルVL用!$C$1:$BO$518,U$2,)),\"\")","v":""},{"$f":"IFERROR(IF(VLOOKUP(CS!$AP42,スキルVL用!$C$1:$BO$518,V$2,)=0,\"\",VLOOKUP(CS!$AP42,スキルVL用!$C$1:$BO$518,V$2,)),\"\")","v":""},{"$f":"IFERROR(IF(VLOOKUP(CS!$AP42,スキルVL用!$C$1:$BO$518,W$2,)=0,\"\",VLOOKUP(CS!$AP42,スキルVL用!$C$1:$BO$518,W$2,)),\"\")","v":""},{"$f":"IFERROR(IF(VLOOKUP(CS!$AP42,スキルVL用!$C$1:$BO$518,X$2,)=0,\"\",VLOOKUP(CS!$AP42,スキルVL用!$C$1:$BO$518,X$2,)),\"\")","v":""},{"$f":"IFERROR(IF(VLOOKUP(CS!$AP42,スキルVL用!$C$1:$BO$518,Y$2,)=0,\"\",VLOOKUP(CS!$AP42,スキルVL用!$C$1:$BO$518,Y$2,)),\"\")","v":""},{"$f":"IFERROR(IF(VLOOKUP(CS!$AP42,スキルVL用!$C$1:$BO$518,Z$2,)=0,\"\",VLOOKUP(CS!$AP42,スキルVL用!$C$1:$BO$518,Z$2,)),\"\")","v":""},{"$f":"IFERROR(IF(VLOOKUP(CS!$AP42,スキルVL用!$C$1:$BO$518,AA$2,)=0,\"\",VLOOKUP(CS!$AP42,スキルVL用!$C$1:$BO$518,AA$2,)),\"\")","v":""},{"$f":"IFERROR(IF(VLOOKUP(CS!$AP42,スキルVL用!$C$1:$BO$518,AB$2,)=0,\"\",VLOOKUP(CS!$AP42,スキルVL用!$C$1:$BO$518,AB$2,)),\"\")","v":""},{"$f":"IFERROR(IF(VLOOKUP(CS!$AP42,スキルVL用!$C$1:$BO$518,AC$2,)=0,\"\",VLOOKUP(CS!$AP42,スキルVL用!$C$1:$BO$518,AC$2,)),\"\")","v":""},{"$f":"IFERROR(IF(VLOOKUP(CS!$AP42,スキルVL用!$C$1:$BO$518,AD$2,)=0,\"\",VLOOKUP(CS!$AP42,スキルVL用!$C$1:$BO$518,AD$2,)),\"\")","v":""}]
[null,"スキル9",{"$f":"IFERROR(IF(VLOOKUP(CS!$AP44,スキルVL用!$C$1:$BO$518,C$2,)=0,\"\",VLOOKUP(CS!$AP44,スキルVL用!$C$1:$BO$518,C$2,)),\"\")","v":""},{"$f":"IFERROR(IF(VLOOKUP(CS!$AP44,スキルVL用!$C$1:$BO$518,D$2,)=0,\"\",VLOOKUP(CS!$AP44,スキルVL用!$C$1:$BO$518,D$2,)),\"\")","v":""},{"$f":"IFERROR(IF(VLOOKUP(CS!$AP44,スキルVL用!$C$1:$BO$518,E$2,)=0,\"\",VLOOKUP(CS!$AP44,スキルVL用!$C$1:$BO$518,E$2,)),\"\")","v":""},{"$f":"IFERROR(IF(VLOOKUP(CS!$AP44,スキルVL用!$C$1:$BO$518,F$2,)=0,\"\",VLOOKUP(CS!$AP44,スキルVL用!$C$1:$BO$518,F$2,)),\"\")","v":""},{"$f":"IFERROR(IF(VLOOKUP(CS!$AP44,スキルVL用!$C$1:$BO$518,G$2,)=0,\"\",VLOOKUP(CS!$AP44,スキルVL用!$C$1:$BO$518,G$2,)),\"\")","v":""},{"$f":"IFERROR(IF(VLOOKUP(CS!$AP44,スキルVL用!$C$1:$BO$518,H$2,)=0,\"\",VLOOKUP(CS!$AP44,スキルVL用!$C$1:$BO$518,H$2,)),\"\")","v":""},{"$f":"IFERROR(IF(VLOOKUP(CS!$AP44,スキルVL用!$C$1:$BO$518,I$2,)=0,\"\",VLOOKUP(CS!$AP44,スキルVL用!$C$1:$BO$518,I$2,)),\"\")","v":""},{"$f":"IFERROR(IF(VLOOKUP(CS!$AP44,スキルVL用!$C$1:$BO$518,J$2,)=0,\"\",VLOOKUP(CS!$AP44,スキルVL用!$C$1:$BO$518,J$2,)),\"\")","v":""},{"$f":"IFERROR(IF(VLOOKUP(CS!$AP44,スキルVL用!$C$1:$BO$518,K$2,)=0,\"\",VLOOKUP(CS!$AP44,スキルVL用!$C$1:$BO$518,K$2,)),\"\")","v":""},{"$f":"IFERROR(IF(VLOOKUP(CS!$AP44,スキルVL用!$C$1:$BO$518,L$2,)=0,\"\",VLOOKUP(CS!$AP44,スキルVL用!$C$1:$BO$518,L$2,)),\"\")","v":""},{"$f":"IFERROR(IF(VLOOKUP(CS!$AP44,スキルVL用!$C$1:$BO$518,M$2,)=0,\"\",VLOOKUP(CS!$AP44,スキルVL用!$C$1:$BO$518,M$2,)),\"\")","v":""},{"$f":"IFERROR(IF(VLOOKUP(CS!$AP44,スキルVL用!$C$1:$BO$518,N$2,)=0,\"\",VLOOKUP(CS!$AP44,スキルVL用!$C$1:$BO$518,N$2,)),\"\")","v":""},{"$f":"IFERROR(IF(VLOOKUP(CS!$AP44,スキルVL用!$C$1:$BO$518,O$2,)=0,\"\",VLOOKUP(CS!$AP44,スキルVL用!$C$1:$BO$518,O$2,)),\"\")","v":""},{"$f":"IFERROR(IF(VLOOKUP(CS!$AP44,スキルVL用!$C$1:$BO$518,P$2,)=0,\"\",VLOOKUP(CS!$AP44,スキルVL用!$C$1:$BO$518,P$2,)),\"\")","v":""},{"$f":"IFERROR(IF(VLOOKUP(CS!$AP44,スキルVL用!$C$1:$BO$518,Q$2,)=0,\"\",VLOOKUP(CS!$AP44,スキルVL用!$C$1:$BO$518,Q$2,)),\"\")","v":""},{"$f":"IFERROR(IF(VLOOKUP(CS!$AP44,スキルVL用!$C$1:$BO$518,R$2,)=0,\"\",VLOOKUP(CS!$AP44,スキルVL用!$C$1:$BO$518,R$2,)),\"\")","v":""},{"$f":"IFERROR(IF(VLOOKUP(CS!$AP44,スキルVL用!$C$1:$BO$518,S$2,)=0,\"\",VLOOKUP(CS!$AP44,スキルVL用!$C$1:$BO$518,S$2,)),\"\")","v":""},{"$f":"IFERROR(IF(VLOOKUP(CS!$AP44,スキルVL用!$C$1:$BO$518,T$2,)=0,\"\",VLOOKUP(CS!$AP44,スキルVL用!$C$1:$BO$518,T$2,)),\"\")","v":""},{"$f":"IFERROR(IF(VLOOKUP(CS!$AP44,スキルVL用!$C$1:$BO$518,U$2,)=0,\"\",VLOOKUP(CS!$AP44,スキルVL用!$C$1:$BO$518,U$2,)),\"\")","v":""},{"$f":"IFERROR(IF(VLOOKUP(CS!$AP44,スキルVL用!$C$1:$BO$518,V$2,)=0,\"\",VLOOKUP(CS!$AP44,スキルVL用!$C$1:$BO$518,V$2,)),\"\")","v":""},{"$f":"IFERROR(IF(VLOOKUP(CS!$AP44,スキルVL用!$C$1:$BO$518,W$2,)=0,\"\",VLOOKUP(CS!$AP44,スキルVL用!$C$1:$BO$518,W$2,)),\"\")","v":""},{"$f":"IFERROR(IF(VLOOKUP(CS!$AP44,スキルVL用!$C$1:$BO$518,X$2,)=0,\"\",VLOOKUP(CS!$AP44,スキルVL用!$C$1:$BO$518,X$2,)),\"\")","v":""},{"$f":"IFERROR(IF(VLOOKUP(CS!$AP44,スキルVL用!$C$1:$BO$518,Y$2,)=0,\"\",VLOOKUP(CS!$AP44,スキルVL用!$C$1:$BO$518,Y$2,)),\"\")","v":""},{"$f":"IFERROR(IF(VLOOKUP(CS!$AP44,スキルVL用!$C$1:$BO$518,Z$2,)=0,\"\",VLOOKUP(CS!$AP44,スキルVL用!$C$1:$BO$518,Z$2,)),\"\")","v":""},{"$f":"IFERROR(IF(VLOOKUP(CS!$AP44,スキルVL用!$C$1:$BO$518,AA$2,)=0,\"\",VLOOKUP(CS!$AP44,スキルVL用!$C$1:$BO$518,AA$2,)),\"\")","v":""},{"$f":"IFERROR(IF(VLOOKUP(CS!$AP44,スキルVL用!$C$1:$BO$518,AB$2,)=0,\"\",VLOOKUP(CS!$AP44,スキルVL用!$C$1:$BO$518,AB$2,)),\"\")","v":""},{"$f":"IFERROR(IF(VLOOKUP(CS!$AP44,スキルVL用!$C$1:$BO$518,AC$2,)=0,\"\",VLOOKUP(CS!$AP44,スキルVL用!$C$1:$BO$518,AC$2,)),\"\")","v":""},{"$f":"IFERROR(IF(VLOOKUP(CS!$AP44,スキルVL用!$C$1:$BO$518,AD$2,)=0,\"\",VLOOKUP(CS!$AP44,スキルVL用!$C$1:$BO$518,AD$2,)),\"\")","v":""}]
[null,"スキル10",{"$f":"IFERROR(IF(VLOOKUP(CS!$AP46,スキルVL用!$C$1:$BO$518,C$2,)=0,\"\",VLOOKUP(CS!$AP46,スキルVL用!$C$1:$BO$518,C$2,)),\"\")","v":""},{"$f":"IFERROR(IF(VLOOKUP(CS!$AP46,スキルVL用!$C$1:$BO$518,D$2,)=0,\"\",VLOOKUP(CS!$AP46,スキルVL用!$C$1:$BO$518,D$2,)),\"\")","v":""},{"$f":"IFERROR(IF(VLOOKUP(CS!$AP46,スキルVL用!$C$1:$BO$518,E$2,)=0,\"\",VLOOKUP(CS!$AP46,スキルVL用!$C$1:$BO$518,E$2,)),\"\")","v":""},{"$f":"IFERROR(IF(VLOOKUP(CS!$AP46,スキルVL用!$C$1:$BO$518,F$2,)=0,\"\",VLOOKUP(CS!$AP46,スキルVL用!$C$1:$BO$518,F$2,)),\"\")","v":""},{"$f":"IFERROR(IF(VLOOKUP(CS!$AP46,スキルVL用!$C$1:$BO$518,G$2,)=0,\"\",VLOOKUP(CS!$AP46,スキルVL用!$C$1:$BO$518,G$2,)),\"\")","v":""},{"$f":"IFERROR(IF(VLOOKUP(CS!$AP46,スキルVL用!$C$1:$BO$518,H$2,)=0,\"\",VLOOKUP(CS!$AP46,スキルVL用!$C$1:$BO$518,H$2,)),\"\")","v":""},{"$f":"IFERROR(IF(VLOOKUP(CS!$AP46,スキルVL用!$C$1:$BO$518,I$2,)=0,\"\",VLOOKUP(CS!$AP46,スキルVL用!$C$1:$BO$518,I$2,)),\"\")","v":""},{"$f":"IFERROR(IF(VLOOKUP(CS!$AP46,スキルVL用!$C$1:$BO$518,J$2,)=0,\"\",VLOOKUP(CS!$AP46,スキルVL用!$C$1:$BO$518,J$2,)),\"\")","v":""},{"$f":"IFERROR(IF(VLOOKUP(CS!$AP46,スキルVL用!$C$1:$BO$518,K$2,)=0,\"\",VLOOKUP(CS!$AP46,スキルVL用!$C$1:$BO$518,K$2,)),\"\")","v":""},{"$f":"IFERROR(IF(VLOOKUP(CS!$AP46,スキルVL用!$C$1:$BO$518,L$2,)=0,\"\",VLOOKUP(CS!$AP46,スキルVL用!$C$1:$BO$518,L$2,)),\"\")","v":""},{"$f":"IFERROR(IF(VLOOKUP(CS!$AP46,スキルVL用!$C$1:$BO$518,M$2,)=0,\"\",VLOOKUP(CS!$AP46,スキルVL用!$C$1:$BO$518,M$2,)),\"\")","v":""},{"$f":"IFERROR(IF(VLOOKUP(CS!$AP46,スキルVL用!$C$1:$BO$518,N$2,)=0,\"\",VLOOKUP(CS!$AP46,スキルVL用!$C$1:$BO$518,N$2,)),\"\")","v":""},{"$f":"IFERROR(IF(VLOOKUP(CS!$AP46,スキルVL用!$C$1:$BO$518,O$2,)=0,\"\",VLOOKUP(CS!$AP46,スキルVL用!$C$1:$BO$518,O$2,)),\"\")","v":""},{"$f":"IFERROR(IF(VLOOKUP(CS!$AP46,スキルVL用!$C$1:$BO$518,P$2,)=0,\"\",VLOOKUP(CS!$AP46,スキルVL用!$C$1:$BO$518,P$2,)),\"\")","v":""},{"$f":"IFERROR(IF(VLOOKUP(CS!$AP46,スキルVL用!$C$1:$BO$518,Q$2,)=0,\"\",VLOOKUP(CS!$AP46,スキルVL用!$C$1:$BO$518,Q$2,)),\"\")","v":""},{"$f":"IFERROR(IF(VLOOKUP(CS!$AP46,スキルVL用!$C$1:$BO$518,R$2,)=0,\"\",VLOOKUP(CS!$AP46,スキルVL用!$C$1:$BO$518,R$2,)),\"\")","v":""},{"$f":"IFERROR(IF(VLOOKUP(CS!$AP46,スキルVL用!$C$1:$BO$518,S$2,)=0,\"\",VLOOKUP(CS!$AP46,スキルVL用!$C$1:$BO$518,S$2,)),\"\")","v":""},{"$f":"IFERROR(IF(VLOOKUP(CS!$AP46,スキルVL用!$C$1:$BO$518,T$2,)=0,\"\",VLOOKUP(CS!$AP46,スキルVL用!$C$1:$BO$518,T$2,)),\"\")","v":""},{"$f":"IFERROR(IF(VLOOKUP(CS!$AP46,スキルVL用!$C$1:$BO$518,U$2,)=0,\"\",VLOOKUP(CS!$AP46,スキルVL用!$C$1:$BO$518,U$2,)),\"\")","v":""},{"$f":"IFERROR(IF(VLOOKUP(CS!$AP46,スキルVL用!$C$1:$BO$518,V$2,)=0,\"\",VLOOKUP(CS!$AP46,スキルVL用!$C$1:$BO$518,V$2,)),\"\")","v":""},{"$f":"IFERROR(IF(VLOOKUP(CS!$AP46,スキルVL用!$C$1:$BO$518,W$2,)=0,\"\",VLOOKUP(CS!$AP46,スキルVL用!$C$1:$BO$518,W$2,)),\"\")","v":""},{"$f":"IFERROR(IF(VLOOKUP(CS!$AP46,スキルVL用!$C$1:$BO$518,X$2,)=0,\"\",VLOOKUP(CS!$AP46,スキルVL用!$C$1:$BO$518,X$2,)),\"\")","v":""},{"$f":"IFERROR(IF(VLOOKUP(CS!$AP46,スキルVL用!$C$1:$BO$518,Y$2,)=0,\"\",VLOOKUP(CS!$AP46,スキルVL用!$C$1:$BO$518,Y$2,)),\"\")","v":""},{"$f":"IFERROR(IF(VLOOKUP(CS!$AP46,スキルVL用!$C$1:$BO$518,Z$2,)=0,\"\",VLOOKUP(CS!$AP46,スキルVL用!$C$1:$BO$518,Z$2,)),\"\")","v":""},{"$f":"IFERROR(IF(VLOOKUP(CS!$AP46,スキルVL用!$C$1:$BO$518,AA$2,)=0,\"\",VLOOKUP(CS!$AP46,スキルVL用!$C$1:$BO$518,AA$2,)),\"\")","v":""},{"$f":"IFERROR(IF(VLOOKUP(CS!$AP46,スキルVL用!$C$1:$BO$518,AB$2,)=0,\"\",VLOOKUP(CS!$AP46,スキルVL用!$C$1:$BO$518,AB$2,)),\"\")","v":""},{"$f":"IFERROR(IF(VLOOKUP(CS!$AP46,スキルVL用!$C$1:$BO$518,AC$2,)=0,\"\",VLOOKUP(CS!$AP46,スキルVL用!$C$1:$BO$518,AC$2,)),\"\")","v":""},{"$f":"IFERROR(IF(VLOOKUP(CS!$AP46,スキルVL用!$C$1:$BO$518,AD$2,)=0,\"\",VLOOKUP(CS!$AP46,スキルVL用!$C$1:$BO$518,AD$2,)),\"\")","v":""}]
[null,"スキル11",{"$f":"IFERROR(IF(VLOOKUP(CS!$AP48,スキルVL用!$C$1:$BO$518,C$2,)=0,\"\",VLOOKUP(CS!$AP48,スキルVL用!$C$1:$BO$518,C$2,)),\"\")","v":""},{"$f":"IFERROR(IF(VLOOKUP(CS!$AP48,スキルVL用!$C$1:$BO$518,D$2,)=0,\"\",VLOOKUP(CS!$AP48,スキルVL用!$C$1:$BO$518,D$2,)),\"\")","v":""},{"$f":"IFERROR(IF(VLOOKUP(CS!$AP48,スキルVL用!$C$1:$BO$518,E$2,)=0,\"\",VLOOKUP(CS!$AP48,スキルVL用!$C$1:$BO$518,E$2,)),\"\")","v":""},{"$f":"IFERROR(IF(VLOOKUP(CS!$AP48,スキルVL用!$C$1:$BO$518,F$2,)=0,\"\",VLOOKUP(CS!$AP48,スキルVL用!$C$1:$BO$518,F$2,)),\"\")","v":""},{"$f":"IFERROR(IF(VLOOKUP(CS!$AP48,スキルVL用!$C$1:$BO$518,G$2,)=0,\"\",VLOOKUP(CS!$AP48,スキルVL用!$C$1:$BO$518,G$2,)),\"\")","v":""},{"$f":"IFERROR(IF(VLOOKUP(CS!$AP48,スキルVL用!$C$1:$BO$518,H$2,)=0,\"\",VLOOKUP(CS!$AP48,スキルVL用!$C$1:$BO$518,H$2,)),\"\")","v":""},{"$f":"IFERROR(IF(VLOOKUP(CS!$AP48,スキルVL用!$C$1:$BO$518,I$2,)=0,\"\",VLOOKUP(CS!$AP48,スキルVL用!$C$1:$BO$518,I$2,)),\"\")","v":""},{"$f":"IFERROR(IF(VLOOKUP(CS!$AP48,スキルVL用!$C$1:$BO$518,J$2,)=0,\"\",VLOOKUP(CS!$AP48,スキルVL用!$C$1:$BO$518,J$2,)),\"\")","v":""},{"$f":"IFERROR(IF(VLOOKUP(CS!$AP48,スキルVL用!$C$1:$BO$518,K$2,)=0,\"\",VLOOKUP(CS!$AP48,スキルVL用!$C$1:$BO$518,K$2,)),\"\")","v":""},{"$f":"IFERROR(IF(VLOOKUP(CS!$AP48,スキルVL用!$C$1:$BO$518,L$2,)=0,\"\",VLOOKUP(CS!$AP48,スキルVL用!$C$1:$BO$518,L$2,)),\"\")","v":""},{"$f":"IFERROR(IF(VLOOKUP(CS!$AP48,スキルVL用!$C$1:$BO$518,M$2,)=0,\"\",VLOOKUP(CS!$AP48,スキルVL用!$C$1:$BO$518,M$2,)),\"\")","v":""},{"$f":"IFERROR(IF(VLOOKUP(CS!$AP48,スキルVL用!$C$1:$BO$518,N$2,)=0,\"\",VLOOKUP(CS!$AP48,スキルVL用!$C$1:$BO$518,N$2,)),\"\")","v":""},{"$f":"IFERROR(IF(VLOOKUP(CS!$AP48,スキルVL用!$C$1:$BO$518,O$2,)=0,\"\",VLOOKUP(CS!$AP48,スキルVL用!$C$1:$BO$518,O$2,)),\"\")","v":""},{"$f":"IFERROR(IF(VLOOKUP(CS!$AP48,スキルVL用!$C$1:$BO$518,P$2,)=0,\"\",VLOOKUP(CS!$AP48,スキルVL用!$C$1:$BO$518,P$2,)),\"\")","v":""},{"$f":"IFERROR(IF(VLOOKUP(CS!$AP48,スキルVL用!$C$1:$BO$518,Q$2,)=0,\"\",VLOOKUP(CS!$AP48,スキルVL用!$C$1:$BO$518,Q$2,)),\"\")","v":""},{"$f":"IFERROR(IF(VLOOKUP(CS!$AP48,スキルVL用!$C$1:$BO$518,R$2,)=0,\"\",VLOOKUP(CS!$AP48,スキルVL用!$C$1:$BO$518,R$2,)),\"\")","v":""},{"$f":"IFERROR(IF(VLOOKUP(CS!$AP48,スキルVL用!$C$1:$BO$518,S$2,)=0,\"\",VLOOKUP(CS!$AP48,スキルVL用!$C$1:$BO$518,S$2,)),\"\")","v":""},{"$f":"IFERROR(IF(VLOOKUP(CS!$AP48,スキルVL用!$C$1:$BO$518,T$2,)=0,\"\",VLOOKUP(CS!$AP48,スキルVL用!$C$1:$BO$518,T$2,)),\"\")","v":""},{"$f":"IFERROR(IF(VLOOKUP(CS!$AP48,スキルVL用!$C$1:$BO$518,U$2,)=0,\"\",VLOOKUP(CS!$AP48,スキルVL用!$C$1:$BO$518,U$2,)),\"\")","v":""},{"$f":"IFERROR(IF(VLOOKUP(CS!$AP48,スキルVL用!$C$1:$BO$518,V$2,)=0,\"\",VLOOKUP(CS!$AP48,スキルVL用!$C$1:$BO$518,V$2,)),\"\")","v":""},{"$f":"IFERROR(IF(VLOOKUP(CS!$AP48,スキルVL用!$C$1:$BO$518,W$2,)=0,\"\",VLOOKUP(CS!$AP48,スキルVL用!$C$1:$BO$518,W$2,)),\"\")","v":""},{"$f":"IFERROR(IF(VLOOKUP(CS!$AP48,スキルVL用!$C$1:$BO$518,X$2,)=0,\"\",VLOOKUP(CS!$AP48,スキルVL用!$C$1:$BO$518,X$2,)),\"\")","v":""},{"$f":"IFERROR(IF(VLOOKUP(CS!$AP48,スキルVL用!$C$1:$BO$518,Y$2,)=0,\"\",VLOOKUP(CS!$AP48,スキルVL用!$C$1:$BO$518,Y$2,)),\"\")","v":""},{"$f":"IFERROR(IF(VLOOKUP(CS!$AP48,スキルVL用!$C$1:$BO$518,Z$2,)=0,\"\",VLOOKUP(CS!$AP48,スキルVL用!$C$1:$BO$518,Z$2,)),\"\")","v":""},{"$f":"IFERROR(IF(VLOOKUP(CS!$AP48,スキルVL用!$C$1:$BO$518,AA$2,)=0,\"\",VLOOKUP(CS!$AP48,スキルVL用!$C$1:$BO$518,AA$2,)),\"\")","v":""},{"$f":"IFERROR(IF(VLOOKUP(CS!$AP48,スキルVL用!$C$1:$BO$518,AB$2,)=0,\"\",VLOOKUP(CS!$AP48,スキルVL用!$C$1:$BO$518,AB$2,)),\"\")","v":""},{"$f":"IFERROR(IF(VLOOKUP(CS!$AP48,スキルVL用!$C$1:$BO$518,AC$2,)=0,\"\",VLOOKUP(CS!$AP48,スキルVL用!$C$1:$BO$518,AC$2,)),\"\")","v":""},{"$f":"IFERROR(IF(VLOOKUP(CS!$AP48,スキルVL用!$C$1:$BO$518,AD$2,)=0,\"\",VLOOKUP(CS!$AP48,スキルVL用!$C$1:$BO$518,AD$2,)),\"\")","v":""}]
[null,"スキル12",{"$f":"IFERROR(IF(VLOOKUP(CS!$AP50,スキルVL用!$C$1:$BO$518,C$2,)=0,\"\",VLOOKUP(CS!$AP50,スキルVL用!$C$1:$BO$518,C$2,)),\"\")","v":""},{"$f":"IFERROR(IF(VLOOKUP(CS!$AP50,スキルVL用!$C$1:$BO$518,D$2,)=0,\"\",VLOOKUP(CS!$AP50,スキルVL用!$C$1:$BO$518,D$2,)),\"\")","v":""},{"$f":"IFERROR(IF(VLOOKUP(CS!$AP50,スキルVL用!$C$1:$BO$518,E$2,)=0,\"\",VLOOKUP(CS!$AP50,スキルVL用!$C$1:$BO$518,E$2,)),\"\")","v":""},{"$f":"IFERROR(IF(VLOOKUP(CS!$AP50,スキルVL用!$C$1:$BO$518,F$2,)=0,\"\",VLOOKUP(CS!$AP50,スキルVL用!$C$1:$BO$518,F$2,)),\"\")","v":""},{"$f":"IFERROR(IF(VLOOKUP(CS!$AP50,スキルVL用!$C$1:$BO$518,G$2,)=0,\"\",VLOOKUP(CS!$AP50,スキルVL用!$C$1:$BO$518,G$2,)),\"\")","v":""},{"$f":"IFERROR(IF(VLOOKUP(CS!$AP50,スキルVL用!$C$1:$BO$518,H$2,)=0,\"\",VLOOKUP(CS!$AP50,スキルVL用!$C$1:$BO$518,H$2,)),\"\")","v":""},{"$f":"IFERROR(IF(VLOOKUP(CS!$AP50,スキルVL用!$C$1:$BO$518,I$2,)=0,\"\",VLOOKUP(CS!$AP50,スキルVL用!$C$1:$BO$518,I$2,)),\"\")","v":""},{"$f":"IFERROR(IF(VLOOKUP(CS!$AP50,スキルVL用!$C$1:$BO$518,J$2,)=0,\"\",VLOOKUP(CS!$AP50,スキルVL用!$C$1:$BO$518,J$2,)),\"\")","v":""},{"$f":"IFERROR(IF(VLOOKUP(CS!$AP50,スキルVL用!$C$1:$BO$518,K$2,)=0,\"\",VLOOKUP(CS!$AP50,スキルVL用!$C$1:$BO$518,K$2,)),\"\")","v":""},{"$f":"IFERROR(IF(VLOOKUP(CS!$AP50,スキルVL用!$C$1:$BO$518,L$2,)=0,\"\",VLOOKUP(CS!$AP50,スキルVL用!$C$1:$BO$518,L$2,)),\"\")","v":""},{"$f":"IFERROR(IF(VLOOKUP(CS!$AP50,スキルVL用!$C$1:$BO$518,M$2,)=0,\"\",VLOOKUP(CS!$AP50,スキルVL用!$C$1:$BO$518,M$2,)),\"\")","v":""},{"$f":"IFERROR(IF(VLOOKUP(CS!$AP50,スキルVL用!$C$1:$BO$518,N$2,)=0,\"\",VLOOKUP(CS!$AP50,スキルVL用!$C$1:$BO$518,N$2,)),\"\")","v":""},{"$f":"IFERROR(IF(VLOOKUP(CS!$AP50,スキルVL用!$C$1:$BO$518,O$2,)=0,\"\",VLOOKUP(CS!$AP50,スキルVL用!$C$1:$BO$518,O$2,)),\"\")","v":""},{"$f":"IFERROR(IF(VLOOKUP(CS!$AP50,スキルVL用!$C$1:$BO$518,P$2,)=0,\"\",VLOOKUP(CS!$AP50,スキルVL用!$C$1:$BO$518,P$2,)),\"\")","v":""},{"$f":"IFERROR(IF(VLOOKUP(CS!$AP50,スキルVL用!$C$1:$BO$518,Q$2,)=0,\"\",VLOOKUP(CS!$AP50,スキルVL用!$C$1:$BO$518,Q$2,)),\"\")","v":""},{"$f":"IFERROR(IF(VLOOKUP(CS!$AP50,スキルVL用!$C$1:$BO$518,R$2,)=0,\"\",VLOOKUP(CS!$AP50,スキルVL用!$C$1:$BO$518,R$2,)),\"\")","v":""},{"$f":"IFERROR(IF(VLOOKUP(CS!$AP50,スキルVL用!$C$1:$BO$518,S$2,)=0,\"\",VLOOKUP(CS!$AP50,スキルVL用!$C$1:$BO$518,S$2,)),\"\")","v":""},{"$f":"IFERROR(IF(VLOOKUP(CS!$AP50,スキルVL用!$C$1:$BO$518,T$2,)=0,\"\",VLOOKUP(CS!$AP50,スキルVL用!$C$1:$BO$518,T$2,)),\"\")","v":""},{"$f":"IFERROR(IF(VLOOKUP(CS!$AP50,スキルVL用!$C$1:$BO$518,U$2,)=0,\"\",VLOOKUP(CS!$AP50,スキルVL用!$C$1:$BO$518,U$2,)),\"\")","v":""},{"$f":"IFERROR(IF(VLOOKUP(CS!$AP50,スキルVL用!$C$1:$BO$518,V$2,)=0,\"\",VLOOKUP(CS!$AP50,スキルVL用!$C$1:$BO$518,V$2,)),\"\")","v":""},{"$f":"IFERROR(IF(VLOOKUP(CS!$AP50,スキルVL用!$C$1:$BO$518,W$2,)=0,\"\",VLOOKUP(CS!$AP50,スキルVL用!$C$1:$BO$518,W$2,)),\"\")","v":""},{"$f":"IFERROR(IF(VLOOKUP(CS!$AP50,スキルVL用!$C$1:$BO$518,X$2,)=0,\"\",VLOOKUP(CS!$AP50,スキルVL用!$C$1:$BO$518,X$2,)),\"\")","v":""},{"$f":"IFERROR(IF(VLOOKUP(CS!$AP50,スキルVL用!$C$1:$BO$518,Y$2,)=0,\"\",VLOOKUP(CS!$AP50,スキルVL用!$C$1:$BO$518,Y$2,)),\"\")","v":""},{"$f":"IFERROR(IF(VLOOKUP(CS!$AP50,スキルVL用!$C$1:$BO$518,Z$2,)=0,\"\",VLOOKUP(CS!$AP50,スキルVL用!$C$1:$BO$518,Z$2,)),\"\")","v":""},{"$f":"IFERROR(IF(VLOOKUP(CS!$AP50,スキルVL用!$C$1:$BO$518,AA$2,)=0,\"\",VLOOKUP(CS!$AP50,スキルVL用!$C$1:$BO$518,AA$2,)),\"\")","v":""},{"$f":"IFERROR(IF(VLOOKUP(CS!$AP50,スキルVL用!$C$1:$BO$518,AB$2,)=0,\"\",VLOOKUP(CS!$AP50,スキルVL用!$C$1:$BO$518,AB$2,)),\"\")","v":""},{"$f":"IFERROR(IF(VLOOKUP(CS!$AP50,スキルVL用!$C$1:$BO$518,AC$2,)=0,\"\",VLOOKUP(CS!$AP50,スキルVL用!$C$1:$BO$518,AC$2,)),\"\")","v":""},{"$f":"IFERROR(IF(VLOOKUP(CS!$AP50,スキルVL用!$C$1:$BO$518,AD$2,)=0,\"\",VLOOKUP(CS!$AP50,スキルVL用!$C$1:$BO$518,AD$2,)),\"\")","v":""}]
[null,"スキル13",{"$f":"IFERROR(IF(VLOOKUP(CS!$AP52,スキルVL用!$C$1:$BO$518,C$2,)=0,\"\",VLOOKUP(CS!$AP52,スキルVL用!$C$1:$BO$518,C$2,)),\"\")","v":""},{"$f":"IFERROR(IF(VLOOKUP(CS!$AP52,スキルVL用!$C$1:$BO$518,D$2,)=0,\"\",VLOOKUP(CS!$AP52,スキルVL用!$C$1:$BO$518,D$2,)),\"\")","v":""},{"$f":"IFERROR(IF(VLOOKUP(CS!$AP52,スキルVL用!$C$1:$BO$518,E$2,)=0,\"\",VLOOKUP(CS!$AP52,スキルVL用!$C$1:$BO$518,E$2,)),\"\")","v":""},{"$f":"IFERROR(IF(VLOOKUP(CS!$AP52,スキルVL用!$C$1:$BO$518,F$2,)=0,\"\",VLOOKUP(CS!$AP52,スキルVL用!$C$1:$BO$518,F$2,)),\"\")","v":""},{"$f":"IFERROR(IF(VLOOKUP(CS!$AP52,スキルVL用!$C$1:$BO$518,G$2,)=0,\"\",VLOOKUP(CS!$AP52,スキルVL用!$C$1:$BO$518,G$2,)),\"\")","v":""},{"$f":"IFERROR(IF(VLOOKUP(CS!$AP52,スキルVL用!$C$1:$BO$518,H$2,)=0,\"\",VLOOKUP(CS!$AP52,スキルVL用!$C$1:$BO$518,H$2,)),\"\")","v":""},{"$f":"IFERROR(IF(VLOOKUP(CS!$AP52,スキルVL用!$C$1:$BO$518,I$2,)=0,\"\",VLOOKUP(CS!$AP52,スキルVL用!$C$1:$BO$518,I$2,)),\"\")","v":""},{"$f":"IFERROR(IF(VLOOKUP(CS!$AP52,スキルVL用!$C$1:$BO$518,J$2,)=0,\"\",VLOOKUP(CS!$AP52,スキルVL用!$C$1:$BO$518,J$2,)),\"\")","v":""},{"$f":"IFERROR(IF(VLOOKUP(CS!$AP52,スキルVL用!$C$1:$BO$518,K$2,)=0,\"\",VLOOKUP(CS!$AP52,スキルVL用!$C$1:$BO$518,K$2,)),\"\")","v":""},{"$f":"IFERROR(IF(VLOOKUP(CS!$AP52,スキルVL用!$C$1:$BO$518,L$2,)=0,\"\",VLOOKUP(CS!$AP52,スキルVL用!$C$1:$BO$518,L$2,)),\"\")","v":""},{"$f":"IFERROR(IF(VLOOKUP(CS!$AP52,スキルVL用!$C$1:$BO$518,M$2,)=0,\"\",VLOOKUP(CS!$AP52,スキルVL用!$C$1:$BO$518,M$2,)),\"\")","v":""},{"$f":"IFERROR(IF(VLOOKUP(CS!$AP52,スキルVL用!$C$1:$BO$518,N$2,)=0,\"\",VLOOKUP(CS!$AP52,スキルVL用!$C$1:$BO$518,N$2,)),\"\")","v":""},{"$f":"IFERROR(IF(VLOOKUP(CS!$AP52,スキルVL用!$C$1:$BO$518,O$2,)=0,\"\",VLOOKUP(CS!$AP52,スキルVL用!$C$1:$BO$518,O$2,)),\"\")","v":""},{"$f":"IFERROR(IF(VLOOKUP(CS!$AP52,スキルVL用!$C$1:$BO$518,P$2,)=0,\"\",VLOOKUP(CS!$AP52,スキルVL用!$C$1:$BO$518,P$2,)),\"\")","v":""},{"$f":"IFERROR(IF(VLOOKUP(CS!$AP52,スキルVL用!$C$1:$BO$518,Q$2,)=0,\"\",VLOOKUP(CS!$AP52,スキルVL用!$C$1:$BO$518,Q$2,)),\"\")","v":""},{"$f":"IFERROR(IF(VLOOKUP(CS!$AP52,スキルVL用!$C$1:$BO$518,R$2,)=0,\"\",VLOOKUP(CS!$AP52,スキルVL用!$C$1:$BO$518,R$2,)),\"\")","v":""},{"$f":"IFERROR(IF(VLOOKUP(CS!$AP52,スキルVL用!$C$1:$BO$518,S$2,)=0,\"\",VLOOKUP(CS!$AP52,スキルVL用!$C$1:$BO$518,S$2,)),\"\")","v":""},{"$f":"IFERROR(IF(VLOOKUP(CS!$AP52,スキルVL用!$C$1:$BO$518,T$2,)=0,\"\",VLOOKUP(CS!$AP52,スキルVL用!$C$1:$BO$518,T$2,)),\"\")","v":""},{"$f":"IFERROR(IF(VLOOKUP(CS!$AP52,スキルVL用!$C$1:$BO$518,U$2,)=0,\"\",VLOOKUP(CS!$AP52,スキルVL用!$C$1:$BO$518,U$2,)),\"\")","v":""},{"$f":"IFERROR(IF(VLOOKUP(CS!$AP52,スキルVL用!$C$1:$BO$518,V$2,)=0,\"\",VLOOKUP(CS!$AP52,スキルVL用!$C$1:$BO$518,V$2,)),\"\")","v":""},{"$f":"IFERROR(IF(VLOOKUP(CS!$AP52,スキルVL用!$C$1:$BO$518,W$2,)=0,\"\",VLOOKUP(CS!$AP52,スキルVL用!$C$1:$BO$518,W$2,)),\"\")","v":""},{"$f":"IFERROR(IF(VLOOKUP(CS!$AP52,スキルVL用!$C$1:$BO$518,X$2,)=0,\"\",VLOOKUP(CS!$AP52,スキルVL用!$C$1:$BO$518,X$2,)),\"\")","v":""},{"$f":"IFERROR(IF(VLOOKUP(CS!$AP52,スキルVL用!$C$1:$BO$518,Y$2,)=0,\"\",VLOOKUP(CS!$AP52,スキルVL用!$C$1:$BO$518,Y$2,)),\"\")","v":""},{"$f":"IFERROR(IF(VLOOKUP(CS!$AP52,スキルVL用!$C$1:$BO$518,Z$2,)=0,\"\",VLOOKUP(CS!$AP52,スキルVL用!$C$1:$BO$518,Z$2,)),\"\")","v":""},{"$f":"IFERROR(IF(VLOOKUP(CS!$AP52,スキルVL用!$C$1:$BO$518,AA$2,)=0,\"\",VLOOKUP(CS!$AP52,スキルVL用!$C$1:$BO$518,AA$2,)),\"\")","v":""},{"$f":"IFERROR(IF(VLOOKUP(CS!$AP52,スキルVL用!$C$1:$BO$518,AB$2,)=0,\"\",VLOOKUP(CS!$AP52,スキルVL用!$C$1:$BO$518,AB$2,)),\"\")","v":""},{"$f":"IFERROR(IF(VLOOKUP(CS!$AP52,スキルVL用!$C$1:$BO$518,AC$2,)=0,\"\",VLOOKUP(CS!$AP52,スキルVL用!$C$1:$BO$518,AC$2,)),\"\")","v":""},{"$f":"IFERROR(IF(VLOOKUP(CS!$AP52,スキルVL用!$C$1:$BO$518,AD$2,)=0,\"\",VLOOKUP(CS!$AP52,スキルVL用!$C$1:$BO$518,AD$2,)),\"\")","v":""}]
[null,"スキル14",{"$f":"IFERROR(IF(VLOOKUP(CS!$AP54,スキルVL用!$C$1:$BO$518,C$2,)=0,\"\",VLOOKUP(CS!$AP54,スキルVL用!$C$1:$BO$518,C$2,)),\"\")","v":""},{"$f":"IFERROR(IF(VLOOKUP(CS!$AP54,スキルVL用!$C$1:$BO$518,D$2,)=0,\"\",VLOOKUP(CS!$AP54,スキルVL用!$C$1:$BO$518,D$2,)),\"\")","v":""},{"$f":"IFERROR(IF(VLOOKUP(CS!$AP54,スキルVL用!$C$1:$BO$518,E$2,)=0,\"\",VLOOKUP(CS!$AP54,スキルVL用!$C$1:$BO$518,E$2,)),\"\")","v":""},{"$f":"IFERROR(IF(VLOOKUP(CS!$AP54,スキルVL用!$C$1:$BO$518,F$2,)=0,\"\",VLOOKUP(CS!$AP54,スキルVL用!$C$1:$BO$518,F$2,)),\"\")","v":""},{"$f":"IFERROR(IF(VLOOKUP(CS!$AP54,スキルVL用!$C$1:$BO$518,G$2,)=0,\"\",VLOOKUP(CS!$AP54,スキルVL用!$C$1:$BO$518,G$2,)),\"\")","v":""},{"$f":"IFERROR(IF(VLOOKUP(CS!$AP54,スキルVL用!$C$1:$BO$518,H$2,)=0,\"\",VLOOKUP(CS!$AP54,スキルVL用!$C$1:$BO$518,H$2,)),\"\")","v":""},{"$f":"IFERROR(IF(VLOOKUP(CS!$AP54,スキルVL用!$C$1:$BO$518,I$2,)=0,\"\",VLOOKUP(CS!$AP54,スキルVL用!$C$1:$BO$518,I$2,)),\"\")","v":""},{"$f":"IFERROR(IF(VLOOKUP(CS!$AP54,スキルVL用!$C$1:$BO$518,J$2,)=0,\"\",VLOOKUP(CS!$AP54,スキルVL用!$C$1:$BO$518,J$2,)),\"\")","v":""},{"$f":"IFERROR(IF(VLOOKUP(CS!$AP54,スキルVL用!$C$1:$BO$518,K$2,)=0,\"\",VLOOKUP(CS!$AP54,スキルVL用!$C$1:$BO$518,K$2,)),\"\")","v":""},{"$f":"IFERROR(IF(VLOOKUP(CS!$AP54,スキルVL用!$C$1:$BO$518,L$2,)=0,\"\",VLOOKUP(CS!$AP54,スキルVL用!$C$1:$BO$518,L$2,)),\"\")","v":""},{"$f":"IFERROR(IF(VLOOKUP(CS!$AP54,スキルVL用!$C$1:$BO$518,M$2,)=0,\"\",VLOOKUP(CS!$AP54,スキルVL用!$C$1:$BO$518,M$2,)),\"\")","v":""},{"$f":"IFERROR(IF(VLOOKUP(CS!$AP54,スキルVL用!$C$1:$BO$518,N$2,)=0,\"\",VLOOKUP(CS!$AP54,スキルVL用!$C$1:$BO$518,N$2,)),\"\")","v":""},{"$f":"IFERROR(IF(VLOOKUP(CS!$AP54,スキルVL用!$C$1:$BO$518,O$2,)=0,\"\",VLOOKUP(CS!$AP54,スキルVL用!$C$1:$BO$518,O$2,)),\"\")","v":""},{"$f":"IFERROR(IF(VLOOKUP(CS!$AP54,スキルVL用!$C$1:$BO$518,P$2,)=0,\"\",VLOOKUP(CS!$AP54,スキルVL用!$C$1:$BO$518,P$2,)),\"\")","v":""},{"$f":"IFERROR(IF(VLOOKUP(CS!$AP54,スキルVL用!$C$1:$BO$518,Q$2,)=0,\"\",VLOOKUP(CS!$AP54,スキルVL用!$C$1:$BO$518,Q$2,)),\"\")","v":""},{"$f":"IFERROR(IF(VLOOKUP(CS!$AP54,スキルVL用!$C$1:$BO$518,R$2,)=0,\"\",VLOOKUP(CS!$AP54,スキルVL用!$C$1:$BO$518,R$2,)),\"\")","v":""},{"$f":"IFERROR(IF(VLOOKUP(CS!$AP54,スキルVL用!$C$1:$BO$518,S$2,)=0,\"\",VLOOKUP(CS!$AP54,スキルVL用!$C$1:$BO$518,S$2,)),\"\")","v":""},{"$f":"IFERROR(IF(VLOOKUP(CS!$AP54,スキルVL用!$C$1:$BO$518,T$2,)=0,\"\",VLOOKUP(CS!$AP54,スキルVL用!$C$1:$BO$518,T$2,)),\"\")","v":""},{"$f":"IFERROR(IF(VLOOKUP(CS!$AP54,スキルVL用!$C$1:$BO$518,U$2,)=0,\"\",VLOOKUP(CS!$AP54,スキルVL用!$C$1:$BO$518,U$2,)),\"\")","v":""},{"$f":"IFERROR(IF(VLOOKUP(CS!$AP54,スキルVL用!$C$1:$BO$518,V$2,)=0,\"\",VLOOKUP(CS!$AP54,スキルVL用!$C$1:$BO$518,V$2,)),\"\")","v":""},{"$f":"IFERROR(IF(VLOOKUP(CS!$AP54,スキルVL用!$C$1:$BO$518,W$2,)=0,\"\",VLOOKUP(CS!$AP54,スキルVL用!$C$1:$BO$518,W$2,)),\"\")","v":""},{"$f":"IFERROR(IF(VLOOKUP(CS!$AP54,スキルVL用!$C$1:$BO$518,X$2,)=0,\"\",VLOOKUP(CS!$AP54,スキルVL用!$C$1:$BO$518,X$2,)),\"\")","v":""},{"$f":"IFERROR(IF(VLOOKUP(CS!$AP54,スキルVL用!$C$1:$BO$518,Y$2,)=0,\"\",VLOOKUP(CS!$AP54,スキルVL用!$C$1:$BO$518,Y$2,)),\"\")","v":""},{"$f":"IFERROR(IF(VLOOKUP(CS!$AP54,スキルVL用!$C$1:$BO$518,Z$2,)=0,\"\",VLOOKUP(CS!$AP54,スキルVL用!$C$1:$BO$518,Z$2,)),\"\")","v":""},{"$f":"IFERROR(IF(VLOOKUP(CS!$AP54,スキルVL用!$C$1:$BO$518,AA$2,)=0,\"\",VLOOKUP(CS!$AP54,スキルVL用!$C$1:$BO$518,AA$2,)),\"\")","v":""},{"$f":"IFERROR(IF(VLOOKUP(CS!$AP54,スキルVL用!$C$1:$BO$518,AB$2,)=0,\"\",VLOOKUP(CS!$AP54,スキルVL用!$C$1:$BO$518,AB$2,)),\"\")","v":""},{"$f":"IFERROR(IF(VLOOKUP(CS!$AP54,スキルVL用!$C$1:$BO$518,AC$2,)=0,\"\",VLOOKUP(CS!$AP54,スキルVL用!$C$1:$BO$518,AC$2,)),\"\")","v":""},{"$f":"IFERROR(IF(VLOOKUP(CS!$AP54,スキルVL用!$C$1:$BO$518,AD$2,)=0,\"\",VLOOKUP(CS!$AP54,スキルVL用!$C$1:$BO$518,AD$2,)),\"\")","v":""}]
[null,"スキル15",{"$f":"IFERROR(IF(VLOOKUP(CS!$AP56,スキルVL用!$C$1:$BO$518,C$2,)=0,\"\",VLOOKUP(CS!$AP56,スキルVL用!$C$1:$BO$518,C$2,)),\"\")","v":""},{"$f":"IFERROR(IF(VLOOKUP(CS!$AP56,スキルVL用!$C$1:$BO$518,D$2,)=0,\"\",VLOOKUP(CS!$AP56,スキルVL用!$C$1:$BO$518,D$2,)),\"\")","v":""},{"$f":"IFERROR(IF(VLOOKUP(CS!$AP56,スキルVL用!$C$1:$BO$518,E$2,)=0,\"\",VLOOKUP(CS!$AP56,スキルVL用!$C$1:$BO$518,E$2,)),\"\")","v":""},{"$f":"IFERROR(IF(VLOOKUP(CS!$AP56,スキルVL用!$C$1:$BO$518,F$2,)=0,\"\",VLOOKUP(CS!$AP56,スキルVL用!$C$1:$BO$518,F$2,)),\"\")","v":""},{"$f":"IFERROR(IF(VLOOKUP(CS!$AP56,スキルVL用!$C$1:$BO$518,G$2,)=0,\"\",VLOOKUP(CS!$AP56,スキルVL用!$C$1:$BO$518,G$2,)),\"\")","v":""},{"$f":"IFERROR(IF(VLOOKUP(CS!$AP56,スキルVL用!$C$1:$BO$518,H$2,)=0,\"\",VLOOKUP(CS!$AP56,スキルVL用!$C$1:$BO$518,H$2,)),\"\")","v":""},{"$f":"IFERROR(IF(VLOOKUP(CS!$AP56,スキルVL用!$C$1:$BO$518,I$2,)=0,\"\",VLOOKUP(CS!$AP56,スキルVL用!$C$1:$BO$518,I$2,)),\"\")","v":""},{"$f":"IFERROR(IF(VLOOKUP(CS!$AP56,スキルVL用!$C$1:$BO$518,J$2,)=0,\"\",VLOOKUP(CS!$AP56,スキルVL用!$C$1:$BO$518,J$2,)),\"\")","v":""},{"$f":"IFERROR(IF(VLOOKUP(CS!$AP56,スキルVL用!$C$1:$BO$518,K$2,)=0,\"\",VLOOKUP(CS!$AP56,スキルVL用!$C$1:$BO$518,K$2,)),\"\")","v":""},{"$f":"IFERROR(IF(VLOOKUP(CS!$AP56,スキルVL用!$C$1:$BO$518,L$2,)=0,\"\",VLOOKUP(CS!$AP56,スキルVL用!$C$1:$BO$518,L$2,)),\"\")","v":""},{"$f":"IFERROR(IF(VLOOKUP(CS!$AP56,スキルVL用!$C$1:$BO$518,M$2,)=0,\"\",VLOOKUP(CS!$AP56,スキルVL用!$C$1:$BO$518,M$2,)),\"\")","v":""},{"$f":"IFERROR(IF(VLOOKUP(CS!$AP56,スキルVL用!$C$1:$BO$518,N$2,)=0,\"\",VLOOKUP(CS!$AP56,スキルVL用!$C$1:$BO$518,N$2,)),\"\")","v":""},{"$f":"IFERROR(IF(VLOOKUP(CS!$AP56,スキルVL用!$C$1:$BO$518,O$2,)=0,\"\",VLOOKUP(CS!$AP56,スキルVL用!$C$1:$BO$518,O$2,)),\"\")","v":""},{"$f":"IFERROR(IF(VLOOKUP(CS!$AP56,スキルVL用!$C$1:$BO$518,P$2,)=0,\"\",VLOOKUP(CS!$AP56,スキルVL用!$C$1:$BO$518,P$2,)),\"\")","v":""},{"$f":"IFERROR(IF(VLOOKUP(CS!$AP56,スキルVL用!$C$1:$BO$518,Q$2,)=0,\"\",VLOOKUP(CS!$AP56,スキルVL用!$C$1:$BO$518,Q$2,)),\"\")","v":""},{"$f":"IFERROR(IF(VLOOKUP(CS!$AP56,スキルVL用!$C$1:$BO$518,R$2,)=0,\"\",VLOOKUP(CS!$AP56,スキルVL用!$C$1:$BO$518,R$2,)),\"\")","v":""},{"$f":"IFERROR(IF(VLOOKUP(CS!$AP56,スキルVL用!$C$1:$BO$518,S$2,)=0,\"\",VLOOKUP(CS!$AP56,スキルVL用!$C$1:$BO$518,S$2,)),\"\")","v":""},{"$f":"IFERROR(IF(VLOOKUP(CS!$AP56,スキルVL用!$C$1:$BO$518,T$2,)=0,\"\",VLOOKUP(CS!$AP56,スキルVL用!$C$1:$BO$518,T$2,)),\"\")","v":""},{"$f":"IFERROR(IF(VLOOKUP(CS!$AP56,スキルVL用!$C$1:$BO$518,U$2,)=0,\"\",VLOOKUP(CS!$AP56,スキルVL用!$C$1:$BO$518,U$2,)),\"\")","v":""},{"$f":"IFERROR(IF(VLOOKUP(CS!$AP56,スキルVL用!$C$1:$BO$518,V$2,)=0,\"\",VLOOKUP(CS!$AP56,スキルVL用!$C$1:$BO$518,V$2,)),\"\")","v":""},{"$f":"IFERROR(IF(VLOOKUP(CS!$AP56,スキルVL用!$C$1:$BO$518,W$2,)=0,\"\",VLOOKUP(CS!$AP56,スキルVL用!$C$1:$BO$518,W$2,)),\"\")","v":""},{"$f":"IFERROR(IF(VLOOKUP(CS!$AP56,スキルVL用!$C$1:$BO$518,X$2,)=0,\"\",VLOOKUP(CS!$AP56,スキルVL用!$C$1:$BO$518,X$2,)),\"\")","v":""},{"$f":"IFERROR(IF(VLOOKUP(CS!$AP56,スキルVL用!$C$1:$BO$518,Y$2,)=0,\"\",VLOOKUP(CS!$AP56,スキルVL用!$C$1:$BO$518,Y$2,)),\"\")","v":""},{"$f":"IFERROR(IF(VLOOKUP(CS!$AP56,スキルVL用!$C$1:$BO$518,Z$2,)=0,\"\",VLOOKUP(CS!$AP56,スキルVL用!$C$1:$BO$518,Z$2,)),\"\")","v":""},{"$f":"IFERROR(IF(VLOOKUP(CS!$AP56,スキルVL用!$C$1:$BO$518,AA$2,)=0,\"\",VLOOKUP(CS!$AP56,スキルVL用!$C$1:$BO$518,AA$2,)),\"\")","v":""},{"$f":"IFERROR(IF(VLOOKUP(CS!$AP56,スキルVL用!$C$1:$BO$518,AB$2,)=0,\"\",VLOOKUP(CS!$AP56,スキルVL用!$C$1:$BO$518,AB$2,)),\"\")","v":""},{"$f":"IFERROR(IF(VLOOKUP(CS!$AP56,スキルVL用!$C$1:$BO$518,AC$2,)=0,\"\",VLOOKUP(CS!$AP56,スキルVL用!$C$1:$BO$518,AC$2,)),\"\")","v":""},{"$f":"IFERROR(IF(VLOOKUP(CS!$AP56,スキルVL用!$C$1:$BO$518,AD$2,)=0,\"\",VLOOKUP(CS!$AP56,スキルVL用!$C$1:$BO$518,AD$2,)),\"\")","v":""}]
[null,"その他",null,null,null,null,null,null,{"$f":"IF(ｽﾀｲﾙVL用!C67>=2,-1,\"\")","v":""},null,{"$f":"IF(ｽﾀｲﾙVL用!C67>=2,16,\"\")","v":""}]
[null,"Total",{"$f":"IF(AND(SUM(C4:C28)>D29,D29<>0)=TRUE,D29,IF(AND(SUM(C4:C28)<E29,E29<>0)=TRUE,E29,SUM(C4:C28)))","v":16},{"$f":"MAX(D4:D28)","v":0},{"$f":"IF(COUNTA(E4:E28)=0,0,MIN(E4:E28))","v":15},{"$f":"IF(種族=種族VL用!B9,3,IF(AND(SUM(F4:F28)>G29,G29<>0)=TRUE,G29,IF(AND(SUM(F4:F28)<H29,H29<>0)=TRUE,H29,SUM(F4:F28))))","v":5},{"$f":"MAX(G4:G28)","v":0},{"$f":"IF(COUNTA(H4:H28)=0,0,MIN(H4:H28))","v":0},{"$f":"IF(AND(SUM(I4:I28)>J29,J29<>0)=TRUE,J29,IF(AND(SUM(I4:I28)<K29,K29<>0)=TRUE,K29,SUM(I4:I28)))","v":17},{"$f":"MAX(J4:J28)","v":0},{"$f":"IF(COUNTA(K4:K28)=0,0,MIN(K4:K28))","v":16},{"$f":"IF(種族=種族VL用!B10,3,IF(AND(SUM(L4:L28)>M29,M29<>0)=TRUE,M29,IF(AND(SUM(L4:L28)<N29,N29<>0)=TRUE,N29,SUM(L4:L28))))","v":5},{"$f":"MAX(M4:M28)","v":0},{"$f":"IF(COUNTA(N4:N28)=0,0,MIN(N4:N28))","v":0},{"$f":"IF(AND(SUM(O4:O28)>P29,P29<>0)=TRUE,P29,IF(AND(SUM(O4:O28)<Q29,Q29<>0)=TRUE,Q29,SUM(O4:O28)))","v":17},{"$f":"MAX(P4:P28)","v":0},{"$f":"IF(COUNTA(Q4:Q28)=0,0,MIN(Q4:Q28))","v":16},{"$f":"IF(OR(種族=種族VL用!B9,種族=種族VL用!B10)=TRUE,3,IF(AND(SUM(R4:R28)>S29,S29<>0)=TRUE,S29,IF(AND(SUM(R4:R28)<T29,T29<>0)=TRUE,T29,SUM(R4:R28))))","v":5},{"$f":"MAX(S4:S28)","v":0},{"$f":"IF(COUNTA(T4:T28)=0,0,MIN(T4:T28))","v":0},{"$f":"SUM(U4:U28)","v":16},{"$f":"IF(AND(SUM(V4:V28)>W29,W29<>0)=TRUE,D29,IF(AND(SUM(V4:V28)<X29,X29<>0)=TRUE,X29,SUM(V4:V28)))","v":3},{"$f":"MAX(W4:W28)","v":0},{"$f":"IF(COUNTA(X4:X28)=0,0,MIN(X4:X28))","v":0},{"$f":"IF(AND(SUM(Y4:Y28)>Z29,Z29<>0)=TRUE,G29,IF(AND(SUM(Y4:Y28)<AA29,AA29<>0)=TRUE,AA29,SUM(Y4:Y28)))","v":8},{"$f":"MAX(Z4:Z28)","v":0},{"$f":"IF(COUNTA(AA4:AA28)=0,0,MIN(AA4:AA28))","v":0},{"$f":"IF(AND(SUM(AB4:AB28)>AC29,AC29<>0)=TRUE,I29,IF(AND(SUM(AB4:AB28)<AD29,AD29<>0)=TRUE,AD29,SUM(AB4:AB28)))","v":0},{"$f":"SUM(AC4:AC28)","v":0},{"$f":"SUM(AD4:AD28)","v":0}]

{"sheet":"データ管理2","index":11,"n_rows":19,"n_cols":30,"rows_kept":19,"cut":false,"hidden":false,"merged":[]}
[null,"■各種修正値算出"]
[null,null,9,10,11,12,13,14,15,16,17,18,19,20,21,22,23,24,25,26,27,28,29,30,31,32,33,34,35,36]
[null,null,"肉体","反射","集中","知識","感覚","意志","洞察","幸運","近接","射撃","回避","魔術","抵抗","敏捷","物攻","魔攻","物防","魔防","耐久","精神","近","遠","炎","氷","水","雷","風","光"]
[null,"スキル1",{"$f":"IFERROR(VLOOKUP(CS!$AP28,スキルVL用!$C$1:$BO$518,C$2,),\"\")","v":""},{"$f":"IFERROR(VLOOKUP(CS!$AP28,スキルVL用!$C$1:$BO$518,D$2,),\"\")","v":""},{"$f":"IFERROR(VLOOKUP(CS!$AP28,スキルVL用!$C$1:$BO$518,E$2,),\"\")","v":""},{"$f":"IFERROR(VLOOKUP(CS!$AP28,スキルVL用!$C$1:$BO$518,F$2,),\"\")","v":""},{"$f":"IFERROR(VLOOKUP(CS!$AP28,スキルVL用!$C$1:$BO$518,G$2,),\"\")","v":""},{"$f":"IFERROR(VLOOKUP(CS!$AP28,スキルVL用!$C$1:$BO$518,H$2,),\"\")","v":""},{"$f":"IFERROR(VLOOKUP(CS!$AP28,スキルVL用!$C$1:$BO$518,I$2,),\"\")","v":""},{"$f":"IFERROR(VLOOKUP(CS!$AP28,スキルVL用!$C$1:$BO$518,J$2,),\"\")","v":""},{"$f":"IFERROR(VLOOKUP(CS!$AP28,スキルVL用!$C$1:$BO$518,K$2,),\"\")","v":""},{"$f":"IFERROR(VLOOKUP(CS!$AP28,スキルVL用!$C$1:$BO$518,L$2,),\"\")","v":""},{"$f":"IFERROR(VLOOKUP(CS!$AP28,スキルVL用!$C$1:$BO$518,M$2,),\"\")","v":""},{"$f":"IFERROR(VLOOKUP(CS!$AP28,スキルVL用!$C$1:$BO$518,N$2,),\"\")","v":""},{"$f":"IFERROR(VLOOKUP(CS!$AP28,スキルVL用!$C$1:$BO$518,O$2,),\"\")","v":""},{"$f":"IFERROR(VLOOKUP(CS!$AP28,スキルVL用!$C$1:$BO$518,P$2,),\"\")","v":""},{"$f":"IFERROR(VLOOKUP(CS!$AP28,スキルVL用!$C$1:$BO$518,Q$2,),\"\")","v":""},{"$f":"IFERROR(VLOOKUP(CS!$AP28,スキルVL用!$C$1:$BO$518,R$2,),\"\")","v":""},{"$f":"IFERROR(VLOOKUP(CS!$AP28,スキルVL用!$C$1:$BO$518,S$2,),\"\")","v":""},{"$f":"IFERROR(VLOOKUP(CS!$AP28,スキルVL用!$C$1:$BO$518,T$2,),\"\")","v":""},{"$f":"IFERROR(VLOOKUP(CS!$AP28,スキルVL用!$C$1:$BO$518,U$2,),\"\")","v":""},{"$f":"IFERROR(VLOOKUP(CS!$AP28,スキルVL用!$C$1:$BO$518,V$2,),\"\")","v":""},{"$f":"IFERROR(VLOOKUP(CS!$AP28,スキルVL用!$C$1:$BO$518,W$2,),\"\")","v":""},{"$f":"IFERROR(VLOOKUP(CS!$AP28,スキルVL用!$C$1:$BO$518,X$2,),\"\")","v":""},{"$f":"IFERROR(VLOOKUP(CS!$AP28,スキルVL用!$C$1:$BO$518,Y$2,),\"\")","v":""},{"$f":"IFERROR(VLOOKUP(CS!$AP28,スキルVL用!$C$1:$BO$518,Z$2,),\"\")","v":""},{"$f":"IFERROR(VLOOKUP(CS!$AP28,スキルVL用!$C$1:$BO$518,AA$2,),\"\")","v":""},{"$f":"IFERROR(VLOOKUP(CS!$AP28,スキルVL用!$C$1:$BO$518,AB$2,),\"\")","v":""},{"$f":"IFERROR(VLOOKUP(CS!$AP28,スキルVL用!$C$1:$BO$518,AC$2,),\"\")","v":""},{"$f":"IFERROR(VLOOKUP(CS!$AP28,スキルVL用!$C$1:$BO$518,AD$2,),\"\")","v":""}]
[null,"スキル2",{"$f":"IFERROR(VLOOKUP(CS!$AP30,スキルVL用!$C$1:$BO$518,C$2,),\"\")","v":""},{"$f":"IFERROR(VLOOKUP(CS!$AP30,スキルVL用!$C$1:$BO$518,D$2,),\"\")","v":""},{"$f":"IFERROR(VLOOKUP(CS!$AP30,スキルVL用!$C$1:$BO$518,E$2,),\"\")","v":""},{"$f":"IFERROR(VLOOKUP(CS!$AP30,スキルVL用!$C$1:$BO$518,F$2,),\"\")","v":""},{"$f":"IFERROR(VLOOKUP(CS!$AP30,スキルVL用!$C$1:$BO$518,G$2,),\"\")","v":""},{"$f":"IFERROR(VLOOKUP(CS!$AP30,スキルVL用!$C$1:$BO$518,H$2,),\"\")","v":""},{"$f":"IFERROR(VLOOKUP(CS!$AP30,スキルVL用!$C$1:$BO$518,I$2,),\"\")","v":""},{"$f":"IFERROR(VLOOKUP(CS!$AP30,スキルVL用!$C$1:$BO$518,J$2,),\"\")","v":""},{"$f":"IFERROR(VLOOKUP(CS!$AP30,スキルVL用!$C$1:$BO$518,K$2,),\"\")","v":""},{"$f":"IFERROR(VLOOKUP(CS!$AP30,スキルVL用!$C$1:$BO$518,L$2,),\"\")","v":""},{"$f":"IFERROR(VLOOKUP(CS!$AP30,スキルVL用!$C$1:$BO$518,M$2,),\"\")","v":""},{"$f":"IFERROR(VLOOKUP(CS!$AP30,スキルVL用!$C$1:$BO$518,N$2,),\"\")","v":""},{"$f":"IFERROR(VLOOKUP(CS!$AP30,スキルVL用!$C$1:$BO$518,O$2,),\"\")","v":""},{"$f":"IFERROR(VLOOKUP(CS!$AP30,スキルVL用!$C$1:$BO$518,P$2,),\"\")","v":""},{"$f":"IFERROR(VLOOKUP(CS!$AP30,スキルVL用!$C$1:$BO$518,Q$2,),\"\")","v":""},{"$f":"IFERROR(VLOOKUP(CS!$AP30,スキルVL用!$C$1:$BO$518,R$2,),\"\")","v":""},{"$f":"IFERROR(VLOOKUP(CS!$AP30,スキルVL用!$C$1:$BO$518,S$2,),\"\")","v":""},{"$f":"IFERROR(VLOOKUP(CS!$AP30,スキルVL用!$C$1:$BO$518,T$2,),\"\")","v":""},{"$f":"IFERROR(VLOOKUP(CS!$AP30,スキルVL用!$C$1:$BO$518,U$2,),\"\")","v":""},{"$f":"IFERROR(VLOOKUP(CS!$AP30,スキルVL用!$C$1:$BO$518,V$2,),\"\")","v":""},{"$f":"IFERROR(VLOOKUP(CS!$AP30,スキルVL用!$C$1:$BO$518,W$2,),\"\")","v":""},{"$f":"IFERROR(VLOOKUP(CS!$AP30,スキルVL用!$C$1:$BO$518,X$2,),\"\")","v":""},{"$f":"IFERROR(VLOOKUP(CS!$AP30,スキルVL用!$C$1:$BO$518,Y$2,),\"\")","v":""},{"$f":"IFERROR(VLOOKUP(CS!$AP30,スキルVL用!$C$1:$BO$518,Z$2,),\"\")","v":""},{"$f":"IFERROR(VLOOKUP(CS!$AP30,スキルVL用!$C$1:$BO$518,AA$2,),\"\")","v":""},{"$f":"IFERROR(VLOOKUP(CS!$AP30,スキルVL用!$C$1:$BO$518,AB$2,),\"\")","v":""},{"$f":"IFERROR(VLOOKUP(CS!$AP30,スキルVL用!$C$1:$BO$518,AC$2,),\"\")","v":""},{"$f":"IFERROR(VLOOKUP(CS!$AP30,スキルVL用!$C$1:$BO$518,AD$2,),\"\")","v":""}]
[null,"スキル3",{"$f":"IFERROR(VLOOKUP(CS!$AP32,スキルVL用!$C$1:$BO$518,C$2,),\"\")","v":""},{"$f":"IFERROR(VLOOKUP(CS!$AP32,スキルVL用!$C$1:$BO$518,D$2,),\"\")","v":""},{"$f":"IFERROR(VLOOKUP(CS!$AP32,スキルVL用!$C$1:$BO$518,E$2,),\"\")","v":""},{"$f":"IFERROR(VLOOKUP(CS!$AP32,スキルVL用!$C$1:$BO$518,F$2,),\"\")","v":""},{"$f":"IFERROR(VLOOKUP(CS!$AP32,スキルVL用!$C$1:$BO$518,G$2,),\"\")","v":""},{"$f":"IFERROR(VLOOKUP(CS!$AP32,スキルVL用!$C$1:$BO$518,H$2,),\"\")","v":""},{"$f":"IFERROR(VLOOKUP(CS!$AP32,スキルVL用!$C$1:$BO$518,I$2,),\"\")","v":""},{"$f":"IFERROR(VLOOKUP(CS!$AP32,スキルVL用!$C$1:$BO$518,J$2,),\"\")","v":""},{"$f":"IFERROR(VLOOKUP(CS!$AP32,スキルVL用!$C$1:$BO$518,K$2,),\"\")","v":""},{"$f":"IFERROR(VLOOKUP(CS!$AP32,スキルVL用!$C$1:$BO$518,L$2,),\"\")","v":""},{"$f":"IFERROR(VLOOKUP(CS!$AP32,スキルVL用!$C$1:$BO$518,M$2,),\"\")","v":""},{"$f":"IFERROR(VLOOKUP(CS!$AP32,スキルVL用!$C$1:$BO$518,N$2,),\"\")","v":""},{"$f":"IFERROR(VLOOKUP(CS!$AP32,スキルVL用!$C$1:$BO$518,O$2,),\"\")","v":""},{"$f":"IFERROR(VLOOKUP(CS!$AP32,スキルVL用!$C$1:$BO$518,P$2,),\"\")","v":""},{"$f":"IFERROR(VLOOKUP(CS!$AP32,スキルVL用!$C$1:$BO$518,Q$2,),\"\")","v":""},{"$f":"IFERROR(VLOOKUP(CS!$AP32,スキルVL用!$C$1:$BO$518,R$2,),\"\")","v":""},{"$f":"IFERROR(VLOOKUP(CS!$AP32,スキルVL用!$C$1:$BO$518,S$2,),\"\")","v":""},{"$f":"IFERROR(VLOOKUP(CS!$AP32,スキルVL用!$C$1:$BO$518,T$2,),\"\")","v":""},{"$f":"IFERROR(VLOOKUP(CS!$AP32,スキルVL用!$C$1:$BO$518,U$2,),\"\")","v":""},{"$f":"IFERROR(VLOOKUP(CS!$AP32,スキルVL用!$C$1:$BO$518,V$2,),\"\")","v":""},{"$f":"IFERROR(VLOOKUP(CS!$AP32,スキルVL用!$C$1:$BO$518,W$2,),\"\")","v":""},{"$f":"IFERROR(VLOOKUP(CS!$AP32,スキルVL用!$C$1:$BO$518,X$2,),\"\")","v":""},{"$f":"IFERROR(VLOOKUP(CS!$AP32,スキルVL用!$C$1:$BO$518,Y$2,),\"\")","v":""},{"$f":"IFERROR(VLOOKUP(CS!$AP32,スキルVL用!$C$1:$BO$518,Z$2,),\"\")","v":""},{"$f":"IFERROR(VLOOKUP(CS!$AP32,スキルVL用!$C$1:$BO$518,AA$2,),\"\")","v":""},{"$f":"IFERROR(VLOOKUP(CS!$AP32,スキルVL用!$C$1:$BO$518,AB$2,),\"\")","v":""},{"$f":"IFERROR(VLOOKUP(CS!$AP32,スキルVL用!$C$1:$BO$518,AC$2,),\"\")","v":""},{"$f":"IFERROR(VLOOKUP(CS!$AP32,スキルVL用!$C$1:$BO$518,AD$2,),\"\")","v":""}]
[null,"スキル4",{"$f":"IFERROR(VLOOKUP(CS!$AP34,スキルVL用!$C$1:$BO$518,C$2,),\"\")","v":""},{"$f":"IFERROR(VLOOKUP(CS!$AP34,スキルVL用!$C$1:$BO$518,D$2,),\"\")","v":""},{"$f":"IFERROR(VLOOKUP(CS!$AP34,スキルVL用!$C$1:$BO$518,E$2,),\"\")","v":""},{"$f":"IFERROR(VLOOKUP(CS!$AP34,スキルVL用!$C$1:$BO$518,F$2,),\"\")","v":""},{"$f":"IFERROR(VLOOKUP(CS!$AP34,スキルVL用!$C$1:$BO$518,G$2,),\"\")","v":""},{"$f":"IFERROR(VLOOKUP(CS!$AP34,スキルVL用!$C$1:$BO$518,H$2,),\"\")","v":""},{"$f":"IFERROR(VLOOKUP(CS!$AP34,スキルVL用!$C$1:$BO$518,I$2,),\"\")","v":""},{"$f":"IFERROR(VLOOKUP(CS!$AP34,スキルVL用!$C$1:$BO$518,J$2,),\"\")","v":""},{"$f":"IFERROR(VLOOKUP(CS!$AP34,スキルVL用!$C$1:$BO$518,K$2,),\"\")","v":""},{"$f":"IFERROR(VLOOKUP(CS!$AP34,スキルVL用!$C$1:$BO$518,L$2,),\"\")","v":""},{"$f":"IFERROR(VLOOKUP(CS!$AP34,スキルVL用!$C$1:$BO$518,M$2,),\"\")","v":""},{"$f":"IFERROR(VLOOKUP(CS!$AP34,スキルVL用!$C$1:$BO$518,N$2,),\"\")","v":""},{"$f":"IFERROR(VLOOKUP(CS!$AP34,スキルVL用!$C$1:$BO$518,O$2,),\"\")","v":""},{"$f":"IFERROR(VLOOKUP(CS!$AP34,スキルVL用!$C$1:$BO$518,P$2,),\"\")","v":""},{"$f":"IFERROR(VLOOKUP(CS!$AP34,スキルVL用!$C$1:$BO$518,Q$2,),\"\")","v":""},{"$f":"IFERROR(VLOOKUP(CS!$AP34,スキルVL用!$C$1:$BO$518,R$2,),\"\")","v":""},{"$f":"IFERROR(VLOOKUP(CS!$AP34,スキルVL用!$C$1:$BO$518,S$2,),\"\")","v":""},{"$f":"IFERROR(VLOOKUP(CS!$AP34,スキルVL用!$C$1:$BO$518,T$2,),\"\")","v":""},{"$f":"IFERROR(VLOOKUP(CS!$AP34,スキルVL用!$C$1:$BO$518,U$2,),\"\")","v":""},{"$f":"IFERROR(VLOOKUP(CS!$AP34,スキルVL用!$C$1:$BO$518,V$2,),\"\")","v":""},{"$f":"IFERROR(VLOOKUP(CS!$AP34,スキルVL用!$C$1:$BO$518,W$2,),\"\")","v":""},{"$f":"IFERROR(VLOOKUP(CS!$AP34,スキルVL用!$C$1:$BO$518,X$2,),\"\")","v":""},{"$f":"IFERROR(VLOOKUP(CS!$AP34,スキルVL用!$C$1:$BO$518,Y$2,),\"\")","v":""},{"$f":"IFERROR(VLOOKUP(CS!$AP34,スキルVL用!$C$1:$BO$518,Z$2,),\"\")","v":""},{"$f":"IFERROR(VLOOKUP(CS!$AP34,スキルVL用!$C$1:$BO$518,AA$2,),\"\")","v":""},{"$f":"IFERROR(VLOOKUP(CS!$AP34,スキルVL用!$C$1:$BO$518,AB$2,),\"\")","v":""},{"$f":"IFERROR(VLOOKUP(CS!$AP34,スキルVL用!$C$1:$BO$518,AC$2,),\"\")","v":""},{"$f":"IFERROR(VLOOKUP(CS!$AP34,スキルVL用!$C$1:$BO$518,AD$2,),\"\")","v":""}]
[null,"スキル5",{"$f":"IFERROR(VLOOKUP(CS!$AP36,スキルVL用!$C$1:$BO$518,C$2,),\"\")","v":""},{"$f":"IFERROR(VLOOKUP(CS!$AP36,スキルVL用!$C$1:$BO$518,D$2,),\"\")","v":""},{"$f":"IFERROR(VLOOKUP(CS!$AP36,スキルVL用!$C$1:$BO$518,E$2,),\"\")","v":""},{"$f":"IFERROR(VLOOKUP(CS!$AP36,スキルVL用!$C$1:$BO$518,F$2,),\"\")","v":""},{"$f":"IFERROR(VLOOKUP(CS!$AP36,スキルVL用!$C$1:$BO$518,G$2,),\"\")","v":""},{"$f":"IFERROR(VLOOKUP(CS!$AP36,スキルVL用!$C$1:$BO$518,H$2,),\"\")","v":""},{"$f":"IFERROR(VLOOKUP(CS!$AP36,スキルVL用!$C$1:$BO$518,I$2,),\"\")","v":""},{"$f":"IFERROR(VLOOKUP(CS!$AP36,スキルVL用!$C$1:$BO$518,J$2,),\"\")","v":""},{"$f":"IFERROR(VLOOKUP(CS!$AP36,スキルVL用!$C$1:$BO$518,K$2,),\"\")","v":""},{"$f":"IFERROR(VLOOKUP(CS!$AP36,スキルVL用!$C$1:$BO$518,L$2,),\"\")","v":""},{"$f":"IFERROR(VLOOKUP(CS!$AP36,スキルVL用!$C$1:$BO$518,M$2,),\"\")","v":""},{"$f":"IFERROR(VLOOKUP(CS!$AP36,スキルVL用!$C$1:$BO$518,N$2,),\"\")","v":""},{"$f":"IFERROR(VLOOKUP(CS!$AP36,スキルVL用!$C$1:$BO$518,O$2,),\"\")","v":""},{"$f":"IFERROR(VLOOKUP(CS!$AP36,スキルVL用!$C$1:$BO$518,P$2,),\"\")","v":""},{"$f":"IFERROR(VLOOKUP(CS!$AP36,スキルVL用!$C$1:$BO$518,Q$2,),\"\")","v":""},{"$f":"IFERROR(VLOOKUP(CS!$AP36,スキルVL用!$C$1:$BO$518,R$2,),\"\")","v":""},{"$f":"IFERROR(VLOOKUP(CS!$AP36,スキルVL用!$C$1:$BO$518,S$2,),\"\")","v":""},{"$f":"IFERROR(VLOOKUP(CS!$AP36,スキルVL用!$C$1:$BO$518,T$2,),\"\")","v":""},{"$f":"IFERROR(VLOOKUP(CS!$AP36,スキルVL用!$C$1:$BO$518,U$2,),\"\")","v":""},{"$f":"IFERROR(VLOOKUP(CS!$AP36,スキルVL用!$C$1:$BO$518,V$2,),\"\")","v":""},{"$f":"IFERROR(VLOOKUP(CS!$AP36,スキルVL用!$C$1:$BO$518,W$2,),\"\")","v":""},{"$f":"IFERROR(VLOOKUP(CS!$AP36,スキルVL用!$C$1:$BO$518,X$2,),\"\")","v":""},{"$f":"IFERROR(VLOOKUP(CS!$AP36,スキルVL用!$C$1:$BO$518,Y$2,),\"\")","v":""},{"$f":"IFERROR(VLOOKUP(CS!$AP36,スキルVL用!$C$1:$BO$518,Z$2,),\"\")","v":""},{"$f":"IFERROR(VLOOKUP(CS!$AP36,スキルVL用!$C$1:$BO$518,AA$2,),\"\")","v":""},{"$f":"IFERROR(VLOOKUP(CS!$AP36,スキルVL用!$C$1:$BO$518,AB$2,),\"\")","v":""},{"$f":"IFERROR(VLOOKUP(CS!$AP36,スキルVL用!$C$1:$BO$518,AC$2,),\"\")","v":""},{"$f":"IFERROR(VLOOKUP(CS!$AP36,スキルVL用!$C$1:$BO$518,AD$2,),\"\")","v":""}]
[null,"スキル6",{"$f":"IFERROR(VLOOKUP(CS!$AP38,スキルVL用!$C$1:$BO$518,C$2,),\"\")","v":""},{"$f":"IFERROR(VLOOKUP(CS!$AP38,スキルVL用!$C$1:$BO$518,D$2,),\"\")","v":""},{"$f":"IFERROR(VLOOKUP(CS!$AP38,スキルVL用!$C$1:$BO$518,E$2,),\"\")","v":""},{"$f":"IFERROR(VLOOKUP(CS!$AP38,スキルVL用!$C$1:$BO$518,F$2,),\"\")","v":""},{"$f":"IFERROR(VLOOKUP(CS!$AP38,スキルVL用!$C$1:$BO$518,G$2,),\"\")","v":""},{"$f":"IFERROR(VLOOKUP(CS!$AP38,スキルVL用!$C$1:$BO$518,H$2,),\"\")","v":""},{"$f":"IFERROR(VLOOKUP(CS!$AP38,スキルVL用!$C$1:$BO$518,I$2,),\"\")","v":""},{"$f":"IFERROR(VLOOKUP(CS!$AP38,スキルVL用!$C$1:$BO$518,J$2,),\"\")","v":""},{"$f":"IFERROR(VLOOKUP(CS!$AP38,スキルVL用!$C$1:$BO$518,K$2,),\"\")","v":""},{"$f":"IFERROR(VLOOKUP(CS!$AP38,スキルVL用!$C$1:$BO$518,L$2,),\"\")","v":""},{"$f":"IFERROR(VLOOKUP(CS!$AP38,スキルVL用!$C$1:$BO$518,M$2,),\"\")","v":""},{"$f":"IFERROR(VLOOKUP(CS!$AP38,スキルVL用!$C$1:$BO$518,N$2,),\"\")","v":""},{"$f":"IFERROR(VLOOKUP(CS!$AP38,スキルVL用!$C$1:$BO$518,O$2,),\"\")","v":""},{"$f":"IFERROR(VLOOKUP(CS!$AP38,スキルVL用!$C$1:$BO$518,P$2,),\"\")","v":""},{"$f":"IFERROR(VLOOKUP(CS!$AP38,スキルVL用!$C$1:$BO$518,Q$2,),\"\")","v":""},{"$f":"IFERROR(VLOOKUP(CS!$AP38,スキルVL用!$C$1:$BO$518,R$2,),\"\")","v":""},{"$f":"IFERROR(VLOOKUP(CS!$AP38,スキルVL用!$C$1:$BO$518,S$2,),\"\")","v":""},{"$f":"IFERROR(VLOOKUP(CS!$AP38,スキルVL用!$C$1:$BO$518,T$2,),\"\")","v":""},{"$f":"IFERROR(VLOOKUP(CS!$AP38,スキルVL用!$C$1:$BO$518,U$2,),\"\")","v":""},{"$f":"IFERROR(VLOOKUP(CS!$AP38,スキルVL用!$C$1:$BO$518,V$2,),\"\")","v":""},{"$f":"IFERROR(VLOOKUP(CS!$AP38,スキルVL用!$C$1:$BO$518,W$2,),\"\")","v":""},{"$f":"IFERROR(VLOOKUP(CS!$AP38,スキルVL用!$C$1:$BO$518,X$2,),\"\")","v":""},{"$f":"IFERROR(VLOOKUP(CS!$AP38,スキルVL用!$C$1:$BO$518,Y$2,),\"\")","v":""},{"$f":"IFERROR(VLOOKUP(CS!$AP38,スキルVL用!$C$1:$BO$518,Z$2,),\"\")","v":""},{"$f":"IFERROR(VLOOKUP(CS!$AP38,スキルVL用!$C$1:$BO$518,AA$2,),\"\")","v":""},{"$f":"IFERROR(VLOOKUP(CS!$AP38,スキルVL用!$C$1:$BO$518,AB$2,),\"\")","v":""},{"$f":"IFERROR(VLOOKUP(CS!$AP38,スキルVL用!$C$1:$BO$518,AC$2,),\"\")","v":""},{"$f":"IFERROR(VLOOKUP(CS!$AP38,スキルVL用!$C$1:$BO$518,AD$2,),\"\")","v":""}]
[null,"スキル7",{"$f":"IFERROR(VLOOKUP(CS!$AP40,スキルVL用!$C$1:$BO$518,C$2,),\"\")","v":""},{"$f":"IFERROR(VLOOKUP(CS!$AP40,スキルVL用!$C$1:$BO$518,D$2,),\"\")","v":""},{"$f":"IFERROR(VLOOKUP(CS!$AP40,スキルVL用!$C$1:$BO$518,E$2,),\"\")","v":""},{"$f":"IFERROR(VLOOKUP(CS!$AP40,スキルVL用!$C$1:$BO$518,F$2,),\"\")","v":""},{"$f":"IFERROR(VLOOKUP(CS!$AP40,スキルVL用!$C$1:$BO$518,G$2,),\"\")","v":""},{"$f":"IFERROR(VLOOKUP(CS!$AP40,スキルVL用!$C$1:$BO$518,H$2,),\"\")","v":""},{"$f":"IFERROR(VLOOKUP(CS!$AP40,スキルVL用!$C$1:$BO$518,I$2,),\"\")","v":""},{"$f":"IFERROR(VLOOKUP(CS!$AP40,スキルVL用!$C$1:$BO$518,J$2,),\"\")","v":""},{"$f":"IFERROR(VLOOKUP(CS!$AP40,スキルVL用!$C$1:$BO$518,K$2,),\"\")","v":""},{"$f":"IFERROR(VLOOKUP(CS!$AP40,スキルVL用!$C$1:$BO$518,L$2,),\"\")","v":""},{"$f":"IFERROR(VLOOKUP(CS!$AP40,スキルVL用!$C$1:$BO$518,M$2,),\"\")","v":""},{"$f":"IFERROR(VLOOKUP(CS!$AP40,スキルVL用!$C$1:$BO$518,N$2,),\"\")","v":""},{"$f":"IFERROR(VLOOKUP(CS!$AP40,スキルVL用!$C$1:$BO$518,O$2,),\"\")","v":""},{"$f":"IFERROR(VLOOKUP(CS!$AP40,スキルVL用!$C$1:$BO$518,P$2,),\"\")","v":""},{"$f":"IFERROR(VLOOKUP(CS!$AP40,スキルVL用!$C$1:$BO$518,Q$2,),\"\")","v":""},{"$f":"IFERROR(VLOOKUP(CS!$AP40,スキルVL用!$C$1:$BO$518,R$2,),\"\")","v":""},{"$f":"IFERROR(VLOOKUP(CS!$AP40,スキルVL用!$C$1:$BO$518,S$2,),\"\")","v":""},{"$f":"IFERROR(VLOOKUP(CS!$AP40,スキルVL用!$C$1:$BO$518,T$2,),\"\")","v":""},{"$f":"IFERROR(VLOOKUP(CS!$AP40,スキルVL用!$C$1:$BO$518,U$2,),\"\")","v":""},{"$f":"IFERROR(VLOOKUP(CS!$AP40,スキルVL用!$C$1:$BO$518,V$2,),\"\")","v":""},{"$f":"IFERROR(VLOOKUP(CS!$AP40,スキルVL用!$C$1:$BO$518,W$2,),\"\")","v":""},{"$f":"IFERROR(VLOOKUP(CS!$AP40,スキルVL用!$C$1:$BO$518,X$2,),\"\")","v":""},{"$f":"IFERROR(VLOOKUP(CS!$AP40,スキルVL用!$C$1:$BO$518,Y$2,),\"\")","v":""},{"$f":"IFERROR(VLOOKUP(CS!$AP40,スキルVL用!$C$1:$BO$518,Z$2,),\"\")","v":""},{"$f":"IFERROR(VLOOKUP(CS!$AP40,スキルVL用!$C$1:$BO$518,AA$2,),\"\")","v":""},{"$f":"IFERROR(VLOOKUP(CS!$AP40,スキルVL用!$C$1:$BO$518,AB$2,),\"\")","v":""},{"$f":"IFERROR(VLOOKUP(CS!$AP40,スキルVL用!$C$1:$BO$518,AC$2,),\"\")","v":""},{"$f":"IFERROR(VLOOKUP(CS!$AP40,スキルVL用!$C$1:$BO$518,AD$2,),\"\")","v":""}]
[null,"スキル8",{"$f":"IFERROR(VLOOKUP(CS!$AP42,スキルVL用!$C$1:$BO$518,C$2,),\"\")","v":""},{"$f":"IFERROR(VLOOKUP(CS!$AP42,スキルVL用!$C$1:$BO$518,D$2,),\"\")","v":""},{"$f":"IFERROR(VLOOKUP(CS!$AP42,スキルVL用!$C$1:$BO$518,E$2,),\"\")","v":""},{"$f":"IFERROR(VLOOKUP(CS!$AP42,スキルVL用!$C$1:$BO$518,F$2,),\"\")","v":""},{"$f":"IFERROR(VLOOKUP(CS!$AP42,スキルVL用!$C$1:$BO$518,G$2,),\"\")","v":""},{"$f":"IFERROR(VLOOKUP(CS!$AP42,スキルVL用!$C$1:$BO$518,H$2,),\"\")","v":""},{"$f":"IFERROR(VLOOKUP(CS!$AP42,スキルVL用!$C$1:$BO$518,I$2,),\"\")","v":""},{"$f":"IFERROR(VLOOKUP(CS!$AP42,スキルVL用!$C$1:$BO$518,J$2,),\"\")","v":""},{"$f":"IFERROR(VLOOKUP(CS!$AP42,スキルVL用!$C$1:$BO$518,K$2,),\"\")","v":""},{"$f":"IFERROR(VLOOKUP(CS!$AP42,スキルVL用!$C$1:$BO$518,L$2,),\"\")","v":""},{"$f":"IFERROR(VLOOKUP(CS!$AP42,スキルVL用!$C$1:$BO$518,M$2,),\"\")","v":""},{"$f":"IFERROR(VLOOKUP(CS!$AP42,スキルVL用!$C$1:$BO$518,N$2,),\"\")","v":""},{"$f":"IFERROR(VLOOKUP(CS!$AP42,スキルVL用!$C$1:$BO$518,O$2,),\"\")","v":""},{"$f":"IFERROR(VLOOKUP(CS!$AP42,スキルVL用!$C$1:$BO$518,P$2,),\"\")","v":""},{"$f":"IFERROR(VLOOKUP(CS!$AP42,スキルVL用!$C$1:$BO$518,Q$2,),\"\")","v":""},{"$f":"IFERROR(VLOOKUP(CS!$AP42,スキルVL用!$C$1:$BO$518,R$2,),\"\")","v":""},{"$f":"IFERROR(VLOOKUP(CS!$AP42,スキルVL用!$C$1:$BO$518,S$2,),\"\")","v":""},{"$f":"IFERROR(VLOOKUP(CS!$AP42,スキルVL用!$C$1:$BO$518,T$2,),\"\")","v":""},{"$f":"IFERROR(VLOOKUP(CS!$AP42,スキルVL用!$C$1:$BO$518,U$2,),\"\")","v":""},{"$f":"IFERROR(VLOOKUP(CS!$AP42,スキルVL用!$C$1:$BO$518,V$2,),\"\")","v":""},{"$f":"IFERROR(VLOOKUP(CS!$AP42,スキルVL用!$C$1:$BO$518,W$2,),\"\")","v":""},{"$f":"IFERROR(VLOOKUP(CS!$AP42,スキルVL用!$C$1:$BO$518,X$2,),\"\")","v":""},{"$f":"IFERROR(VLOOKUP(CS!$AP42,スキルVL用!$C$1:$BO$518,Y$2,),\"\")","v":""},{"$f":"IFERROR(VLOOKUP(CS!$AP42,スキルVL用!$C$1:$BO$518,Z$2,),\"\")","v":""},{"$f":"IFERROR(VLOOKUP(CS!$AP42,スキルVL用!$C$1:$BO$518,AA$2,),\"\")","v":""},{"$f":"IFERROR(VLOOKUP(CS!$AP42,スキルVL用!$C$1:$BO$518,AB$2,),\"\")","v":""},{"$f":"IFERROR(VLOOKUP(CS!$AP42,スキルVL用!$C$1:$BO$518,AC$2,),\"\")","v":""},{"$f":"IFERROR(VLOOKUP(CS!$AP42,スキルVL用!$C$1:$BO$518,AD$2,),\"\")","v":""}]
[null,"スキル9",{"$f":"IFERROR(VLOOKUP(CS!$AP44,スキルVL用!$C$1:$BO$518,C$2,),\"\")","v":""},{"$f":"IFERROR(VLOOKUP(CS!$AP44,スキルVL用!$C$1:$BO$518,D$2,),\"\")","v":""},{"$f":"IFERROR(VLOOKUP(CS!$AP44,スキルVL用!$C$1:$BO$518,E$2,),\"\")","v":""},{"$f":"IFERROR(VLOOKUP(CS!$AP44,スキルVL用!$C$1:$BO$518,F$2,),\"\")","v":""},{"$f":"IFERROR(VLOOKUP(CS!$AP44,スキルVL用!$C$1:$BO$518,G$2,),\"\")","v":""},{"$f":"IFERROR(VLOOKUP(CS!$AP44,スキルVL用!$C$1:$BO$518,H$2,),\"\")","v":""},{"$f":"IFERROR(VLOOKUP(CS!$AP44,スキルVL用!$C$1:$BO$518,I$2,),\"\")","v":""},{"$f":"IFERROR(VLOOKUP(CS!$AP44,スキルVL用!$C$1:$BO$518,J$2,),\"\")","v":""},{"$f":"IFERROR(VLOOKUP(CS!$AP44,スキルVL用!$C$1:$BO$518,K$2,),\"\")","v":""},{"$f":"IFERROR(VLOOKUP(CS!$AP44,スキルVL用!$C$1:$BO$518,L$2,),\"\")","v":""},{"$f":"IFERROR(VLOOKUP(CS!$AP44,スキルVL用!$C$1:$BO$518,M$2,),\"\")","v":""},{"$f":"IFERROR(VLOOKUP(CS!$AP44,スキルVL用!$C$1:$BO$518,N$2,),\"\")","v":""},{"$f":"IFERROR(VLOOKUP(CS!$AP44,スキルVL用!$C$1:$BO$518,O$2,),\"\")","v":""},{"$f":"IFERROR(VLOOKUP(CS!$AP44,スキルVL用!$C$1:$BO$518,P$2,),\"\")","v":""},{"$f":"IFERROR(VLOOKUP(CS!$AP44,スキルVL用!$C$1:$BO$518,Q$2,),\"\")","v":""},{"$f":"IFERROR(VLOOKUP(CS!$AP44,スキルVL用!$C$1:$BO$518,R$2,),\"\")","v":""},{"$f":"IFERROR(VLOOKUP(CS!$AP44,スキルVL用!$C$1:$BO$518,S$2,),\"\")","v":""},{"$f":"IFERROR(VLOOKUP(CS!$AP44,スキルVL用!$C$1:$BO$518,T$2,),\"\")","v":""},{"$f":"IFERROR(VLOOKUP(CS!$AP44,スキルVL用!$C$1:$BO$518,U$2,),\"\")","v":""},{"$f":"IFERROR(VLOOKUP(CS!$AP44,スキルVL用!$C$1:$BO$518,V$2,),\"\")","v":""},{"$f":"IFERROR(VLOOKUP(CS!$AP44,スキルVL用!$C$1:$BO$518,W$2,),\"\")","v":""},{"$f":"IFERROR(VLOOKUP(CS!$AP44,スキルVL用!$C$1:$BO$518,X$2,),\"\")","v":""},{"$f":"IFERROR(VLOOKUP(CS!$AP44,スキルVL用!$C$1:$BO$518,Y$2,),\"\")","v":""},{"$f":"IFERROR(VLOOKUP(CS!$AP44,スキルVL用!$C$1:$BO$518,Z$2,),\"\")","v":""},{"$f":"IFERROR(VLOOKUP(CS!$AP44,スキルVL用!$C$1:$BO$518,AA$2,),\"\")","v":""},{"$f":"IFERROR(VLOOKUP(CS!$AP44,スキルVL用!$C$1:$BO$518,AB$2,),\"\")","v":""},{"$f":"IFERROR(VLOOKUP(CS!$AP44,スキルVL用!$C$1:$BO$518,AC$2,),\"\")","v":""},{"$f":"IFERROR(VLOOKUP(CS!$AP44,スキルVL用!$C$1:$BO$518,AD$2,),\"\")","v":""}]
[null,"スキル10",{"$f":"IFERROR(VLOOKUP(CS!$AP46,スキルVL用!$C$1:$BO$518,C$2,),\"\")","v":""},{"$f":"IFERROR(VLOOKUP(CS!$AP46,スキルVL用!$C$1:$BO$518,D$2,),\"\")","v":""},{"$f":"IFERROR(VLOOKUP(CS!$AP46,スキルVL用!$C$1:$BO$518,E$2,),\"\")","v":""},{"$f":"IFERROR(VLOOKUP(CS!$AP46,スキルVL用!$C$1:$BO$518,F$2,),\"\")","v":""},{"$f":"IFERROR(VLOOKUP(CS!$AP46,スキルVL用!$C$1:$BO$518,G$2,),\"\")","v":""},{"$f":"IFERROR(VLOOKUP(CS!$AP46,スキルVL用!$C$1:$BO$518,H$2,),\"\")","v":""},{"$f":"IFERROR(VLOOKUP(CS!$AP46,スキルVL用!$C$1:$BO$518,I$2,),\"\")","v":""},{"$f":"IFERROR(VLOOKUP(CS!$AP46,スキルVL用!$C$1:$BO$518,J$2,),\"\")","v":""},{"$f":"IFERROR(VLOOKUP(CS!$AP46,スキルVL用!$C$1:$BO$518,K$2,),\"\")","v":""},{"$f":"IFERROR(VLOOKUP(CS!$AP46,スキルVL用!$C$1:$BO$518,L$2,),\"\")","v":""},{"$f":"IFERROR(VLOOKUP(CS!$AP46,スキルVL用!$C$1:$BO$518,M$2,),\"\")","v":""},{"$f":"IFERROR(VLOOKUP(CS!$AP46,スキルVL用!$C$1:$BO$518,N$2,),\"\")","v":""},{"$f":"IFERROR(VLOOKUP(CS!$AP46,スキルVL用!$C$1:$BO$518,O$2,),\"\")","v":""},{"$f":"IFERROR(VLOOKUP(CS!$AP46,スキルVL用!$C$1:$BO$518,P$2,),\"\")","v":""},{"$f":"IFERROR(VLOOKUP(CS!$AP46,スキルVL用!$C$1:$BO$518,Q$2,),\"\")","v":""},{"$f":"IFERROR(VLOOKUP(CS!$AP46,スキルVL用!$C$1:$BO$518,R$2,),\"\")","v":""},{"$f":"IFERROR(VLOOKUP(CS!$AP46,スキルVL用!$C$1:$BO$518,S$2,),\"\")","v":""},{"$f":"IFERROR(VLOOKUP(CS!$AP46,スキルVL用!$C$1:$BO$518,T$2,),\"\")","v":""},{"$f":"IFERROR(VLOOKUP(CS!$AP46,スキルVL用!$C$1:$BO$518,U$2,),\"\")","v":""},{"$f":"IFERROR(VLOOKUP(CS!$AP46,スキルVL用!$C$1:$BO$518,V$2,),\"\")","v":""},{"$f":"IFERROR(VLOOKUP(CS!$AP46,スキルVL用!$C$1:$BO$518,W$2,),\"\")","v":""},{"$f":"IFERROR(VLOOKUP(CS!$AP46,スキルVL用!$C$1:$BO$518,X$2,),\"\")","v":""},{"$f":"IFERROR(VLOOKUP(CS!$AP46,スキルVL用!$C$1:$BO$518,Y$2,),\"\")","v":""},{"$f":"IFERROR(VLOOKUP(CS!$AP46,スキルVL用!$C$1:$BO$518,Z$2,),\"\")","v":""},{"$f":"IFERROR(VLOOKUP(CS!$AP46,スキルVL用!$C$1:$BO$518,AA$2,),\"\")","v":""},{"$f":"IFERROR(VLOOKUP(CS!$AP46,スキルVL用!$C$1:$BO$518,AB$2,),\"\")","v":""},{"$f":"IFERROR(VLOOKUP(CS!$AP46,スキルVL用!$C$1:$BO$518,AC$2,),\"\")","v":""},{"$f":"IFERROR(VLOOKUP(CS!$AP46,スキルVL用!$C$1:$BO$518,AD$2,),\"\")","v":""}]
[null,"スキル11",{"$f":"IFERROR(VLOOKUP(CS!$AP48,スキルVL用!$C$1:$BO$518,C$2,),\"\")","v":""},{"$f":"IFERROR(VLOOKUP(CS!$AP48,スキルVL用!$C$1:$BO$518,D$2,),\"\")","v":""},{"$f":"IFERROR(VLOOKUP(CS!$AP48,スキルVL用!$C$1:$BO$518,E$2,),\"\")","v":""},{"$f":"IFERROR(VLOOKUP(CS!$AP48,スキルVL用!$C$1:$BO$518,F$2,),\"\")","v":""},{"$f":"IFERROR(VLOOKUP(CS!$AP48,スキルVL用!$C$1:$BO$518,G$2,),\"\")","v":""},{"$f":"IFERROR(VLOOKUP(CS!$AP48,スキルVL用!$C$1:$BO$518,H$2,),\"\")","v":""},{"$f":"IFERROR(VLOOKUP(CS!$AP48,スキルVL用!$C$1:$BO$518,I$2,),\"\")","v":""},{"$f":"IFERROR(VLOOKUP(CS!$AP48,スキルVL用!$C$1:$BO$518,J$2,),\"\")","v":""},{"$f":"IFERROR(VLOOKUP(CS!$AP48,スキルVL用!$C$1:$BO$518,K$2,),\"\")","v":""},{"$f":"IFERROR(VLOOKUP(CS!$AP48,スキルVL用!$C$1:$BO$518,L$2,),\"\")","v":""},{"$f":"IFERROR(VLOOKUP(CS!$AP48,スキルVL用!$C$1:$BO$518,M$2,),\"\")","v":""},{"$f":"IFERROR(VLOOKUP(CS!$AP48,スキルVL用!$C$1:$BO$518,N$2,),\"\")","v":""},{"$f":"IFERROR(VLOOKUP(CS!$AP48,スキルVL用!$C$1:$BO$518,O$2,),\"\")","v":""},{"$f":"IFERROR(VLOOKUP(CS!$AP48,スキルVL用!$C$1:$BO$518,P$2,),\"\")","v":""},{"$f":"IFERROR(VLOOKUP(CS!$AP48,スキルVL用!$C$1:$BO$518,Q$2,),\"\")","v":""},{"$f":"IFERROR(VLOOKUP(CS!$AP48,スキルVL用!$C$1:$BO$518,R$2,),\"\")","v":""},{"$f":"IFERROR(VLOOKUP(CS!$AP48,スキルVL用!$C$1:$BO$518,S$2,),\"\")","v":""},{"$f":"IFERROR(VLOOKUP(CS!$AP48,スキルVL用!$C$1:$BO$518,T$2,),\"\")","v":""},{"$f":"IFERROR(VLOOKUP(CS!$AP48,スキルVL用!$C$1:$BO$518,U$2,),\"\")","v":""},{"$f":"IFERROR(VLOOKUP(CS!$AP48,スキルVL用!$C$1:$BO$518,V$2,),\"\")","v":""},{"$f":"IFERROR(VLOOKUP(CS!$AP48,スキルVL用!$C$1:$BO$518,W$2,),\"\")","v":""},{"$f":"IFERROR(VLOOKUP(CS!$AP48,スキルVL用!$C$1:$BO$518,X$2,),\"\")","v":""},{"$f":"IFERROR(VLOOKUP(CS!$AP48,スキルVL用!$C$1:$BO$518,Y$2,),\"\")","v":""},{"$f":"IFERROR(VLOOKUP(CS!$AP48,スキルVL用!$C$1:$BO$518,Z$2,),\"\")","v":""},{"$f":"IFERROR(VLOOKUP(CS!$AP48,スキルVL用!$C$1:$BO$518,AA$2,),\"\")","v":""},{"$f":"IFERROR(VLOOKUP(CS!$AP48,スキルVL用!$C$1:$BO$518,AB$2,),\"\")","v":""},{"$f":"IFERROR(VLOOKUP(CS!$AP48,スキルVL用!$C$1:$BO$518,AC$2,),\"\")","v":""},{"$f":"IFERROR(VLOOKUP(CS!$AP48,スキルVL用!$C$1:$BO$518,AD$2,),\"\")","v":""}]
[null,"スキル12",{"$f":"IFERROR(VLOOKUP(CS!$AP50,スキルVL用!$C$1:$BO$518,C$2,),\"\")","v":""},{"$f":"IFERROR(VLOOKUP(CS!$AP50,スキルVL用!$C$1:$BO$518,D$2,),\"\")","v":""},{"$f":"IFERROR(VLOOKUP(CS!$AP50,スキルVL用!$C$1:$BO$518,E$2,),\"\")","v":""},{"$f":"IFERROR(VLOOKUP(CS!$AP50,スキルVL用!$C$1:$BO$518,F$2,),\"\")","v":""},{"$f":"IFERROR(VLOOKUP(CS!$AP50,スキルVL用!$C$1:$BO$518,G$2,),\"\")","v":""},{"$f":"IFERROR(VLOOKUP(CS!$AP50,スキルVL用!$C$1:$BO$518,H$2,),\"\")","v":""},{"$f":"IFERROR(VLOOKUP(CS!$AP50,スキルVL用!$C$1:$BO$518,I$2,),\"\")","v":""},{"$f":"IFERROR(VLOOKUP(CS!$AP50,スキルVL用!$C$1:$BO$518,J$2,),\"\")","v":""},{"$f":"IFERROR(VLOOKUP(CS!$AP50,スキルVL用!$C$1:$BO$518,K$2,),\"\")","v":""},{"$f":"IFERROR(VLOOKUP(CS!$AP50,スキルVL用!$C$1:$BO$518,L$2,),\"\")","v":""},{"$f":"IFERROR(VLOOKUP(CS!$AP50,スキルVL用!$C$1:$BO$518,M$2,),\"\")","v":""},{"$f":"IFERROR(VLOOKUP(CS!$AP50,スキルVL用!$C$1:$BO$518,N$2,),\"\")","v":""},{"$f":"IFERROR(VLOOKUP(CS!$AP50,スキルVL用!$C$1:$BO$518,O$2,),\"\")","v":""},{"$f":"IFERROR(VLOOKUP(CS!$AP50,スキルVL用!$C$1:$BO$518,P$2,),\"\")","v":""},{"$f":"IFERROR(VLOOKUP(CS!$AP50,スキルVL用!$C$1:$BO$518,Q$2,),\"\")","v":""},{"$f":"IFERROR(VLOOKUP(CS!$AP50,スキルVL用!$C$1:$BO$518,R$2,),\"\")","v":""},{"$f":"IFERROR(VLOOKUP(CS!$AP50,スキルVL用!$C$1:$BO$518,S$2,),\"\")","v":""},{"$f":"IFERROR(VLOOKUP(CS!$AP50,スキルVL用!$C$1:$BO$518,T$2,),\"\")","v":""},{"$f":"IFERROR(VLOOKUP(CS!$AP50,スキルVL用!$C$1:$BO$518,U$2,),\"\")","v":""},{"$f":"IFERROR(VLOOKUP(CS!$AP50,スキルVL用!$C$1:$BO$518,V$2,),\"\")","v":""},{"$f":"IFERROR(VLOOKUP(CS!$AP50,スキルVL用!$C$1:$BO$518,W$2,),\"\")","v":""},{"$f":"IFERROR(VLOOKUP(CS!$AP50,スキルVL用!$C$1:$BO$518,X$2,),\"\")","v":""},{"$f":"IFERROR(VLOOKUP(CS!$AP50,スキルVL用!$C$1:$BO$518,Y$2,),\"\")","v":""},{"$f":"IFERROR(VLOOKUP(CS!$AP50,スキルVL用!$C$1:$BO$518,Z$2,),\"\")","v":""},{"$f":"IFERROR(VLOOKUP(CS!$AP50,スキルVL用!$C$1:$BO$518,AA$2,),\"\")","v":""},{"$f":"IFERROR(VLOOKUP(CS!$AP50,スキルVL用!$C$1:$BO$518,AB$2,),\"\")","v":""},{"$f":"IFERROR(VLOOKUP(CS!$AP50,スキルVL用!$C$1:$BO$518,AC$2,),\"\")","v":""},{"$f":"IFERROR(VLOOKUP(CS!$AP50,スキルVL用!$C$1:$BO$518,AD$2,),\"\")","v":""}]
[null,"スキル13",{"$f":"IFERROR(VLOOKUP(CS!$AP52,スキルVL用!$C$1:$BO$518,C$2,),\"\")","v":""},{"$f":"IFERROR(VLOOKUP(CS!$AP52,スキルVL用!$C$1:$BO$518,D$2,),\"\")","v":""},{"$f":"IFERROR(VLOOKUP(CS!$AP52,スキルVL用!$C$1:$BO$518,E$2,),\"\")","v":""},{"$f":"IFERROR(VLOOKUP(CS!$AP52,スキルVL用!$C$1:$BO$518,F$2,),\"\")","v":""},{"$f":"IFERROR(VLOOKUP(CS!$AP52,スキルVL用!$C$1:$BO$518,G$2,),\"\")","v":""},{"$f":"IFERROR(VLOOKUP(CS!$AP52,スキルVL用!$C$1:$BO$518,H$2,),\"\")","v":""},{"$f":"IFERROR(VLOOKUP(CS!$AP52,スキルVL用!$C$1:$BO$518,I$2,),\"\")","v":""},{"$f":"IFERROR(VLOOKUP(CS!$AP52,スキルVL用!$C$1:$BO$518,J$2,),\"\")","v":""},{"$f":"IFERROR(VLOOKUP(CS!$AP52,スキルVL用!$C$1:$BO$518,K$2,),\"\")","v":""},{"$f":"IFERROR(VLOOKUP(CS!$AP52,スキルVL用!$C$1:$BO$518,L$2,),\"\")","v":""},{"$f":"IFERROR(VLOOKUP(CS!$AP52,スキルVL用!$C$1:$BO$518,M$2,),\"\")","v":""},{"$f":"IFERROR(VLOOKUP(CS!$AP52,スキルVL用!$C$1:$BO$518,N$2,),\"\")","v":""},{"$f":"IFERROR(VLOOKUP(CS!$AP52,スキルVL用!$C$1:$BO$518,O$2,),\"\")","v":""},{"$f":"IFERROR(VLOOKUP(CS!$AP52,スキルVL用!$C$1:$BO$518,P$2,),\"\")","v":""},{"$f":"IFERROR(VLOOKUP(CS!$AP52,スキルVL用!$C$1:$BO$518,Q$2,),\"\")","v":""},{"$f":"IFERROR(VLOOKUP(CS!$AP52,スキルVL用!$C$1:$BO$518,R$2,),\"\")","v":""},{"$f":"IFERROR(VLOOKUP(CS!$AP52,スキルVL用!$C$1:$BO$518,S$2,),\"\")","v":""},{"$f":"IFERROR(VLOOKUP(CS!$AP52,スキルVL用!$C$1:$BO$518,T$2,),\"\")","v":""},{"$f":"IFERROR(VLOOKUP(CS!$AP52,スキルVL用!$C$1:$BO$518,U$2,),\"\")","v":""},{"$f":"IFERROR(VLOOKUP(CS!$AP52,スキルVL用!$C$1:$BO$518,V$2,),\"\")","v":""},{"$f":"IFERROR(VLOOKUP(CS!$AP52,スキルVL用!$C$1:$BO$518,W$2,),\"\")","v":""},{"$f":"IFERROR(VLOOKUP(CS!$AP52,スキルVL用!$C$1:$BO$518,X$2,),\"\")","v":""},{"$f":"IFERROR(VLOOKUP(CS!$AP52,スキルVL用!$C$1:$BO$518,Y$2,),\"\")","v":""},{"$f":"IFERROR(VLOOKUP(CS!$AP52,スキルVL用!$C$1:$BO$518,Z$2,),\"\")","v":""},{"$f":"IFERROR(VLOOKUP(CS!$AP52,スキルVL用!$C$1:$BO$518,AA$2,),\"\")","v":""},{"$f":"IFERROR(VLOOKUP(CS!$AP52,スキルVL用!$C$1:$BO$518,AB$2,),\"\")","v":""},{"$f":"IFERROR(VLOOKUP(CS!$AP52,スキルVL用!$C$1:$BO$518,AC$2,),\"\")","v":""},{"$f":"IFERROR(VLOOKUP(CS!$AP52,スキルVL用!$C$1:$BO$518,AD$2,),\"\")","v":""}]
[null,"スキル14",{"$f":"IFERROR(VLOOKUP(CS!$AP54,スキルVL用!$C$1:$BO$518,C$2,),\"\")","v":""},{"$f":"IFERROR(VLOOKUP(CS!$AP54,スキルVL用!$C$1:$BO$518,D$2,),\"\")","v":""},{"$f":"IFERROR(VLOOKUP(CS!$AP54,スキルVL用!$C$1:$BO$518,E$2,),\"\")","v":""},{"$f":"IFERROR(VLOOKUP(CS!$AP54,スキルVL用!$C$1:$BO$518,F$2,),\"\")","v":""},{"$f":"IFERROR(VLOOKUP(CS!$AP54,スキルVL用!$C$1:$BO$518,G$2,),\"\")","v":""},{"$f":"IFERROR(VLOOKUP(CS!$AP54,スキルVL用!$C$1:$BO$518,H$2,),\"\")","v":""},{"$f":"IFERROR(VLOOKUP(CS!$AP54,スキルVL用!$C$1:$BO$518,I$2,),\"\")","v":""},{"$f":"IFERROR(VLOOKUP(CS!$AP54,スキルVL用!$C$1:$BO$518,J$2,),\"\")","v":""},{"$f":"IFERROR(VLOOKUP(CS!$AP54,スキルVL用!$C$1:$BO$518,K$2,),\"\")","v":""},{"$f":"IFERROR(VLOOKUP(CS!$AP54,スキルVL用!$C$1:$BO$518,L$2,),\"\")","v":""},{"$f":"IFERROR(VLOOKUP(CS!$AP54,スキルVL用!$C$1:$BO$518,M$2,),\"\")","v":""},{"$f":"IFERROR(VLOOKUP(CS!$AP54,スキルVL用!$C$1:$BO$518,N$2,),\"\")","v":""},{"$f":"IFERROR(VLOOKUP(CS!$AP54,スキルVL用!$C$1:$BO$518,O$2,),\"\")","v":""},{"$f":"IFERROR(VLOOKUP(CS!$AP54,スキルVL用!$C$1:$BO$518,P$2,),\"\")","v":""},{"$f":"IFERROR(VLOOKUP(CS!$AP54,スキルVL用!$C$1:$BO$518,Q$2,),\"\")","v":""},{"$f":"IFERROR(VLOOKUP(CS!$AP54,スキルVL用!$C$1:$BO$518,R$2,),\"\")","v":""},{"$f":"IFERROR(VLOOKUP(CS!$AP54,スキルVL用!$C$1:$BO$518,S$2,),\"\")","v":""},{"$f":"IFERROR(VLOOKUP(CS!$AP54,スキルVL用!$C$1:$BO$518,T$2,),\"\")","v":""},{"$f":"IFERROR(VLOOKUP(CS!$AP54,スキルVL用!$C$1:$BO$518,U$2,),\"\")","v":""},{"$f":"IFERROR(VLOOKUP(CS!$AP54,スキルVL用!$C$1:$BO$518,V$2,),\"\")","v":""},{"$f":"IFERROR(VLOOKUP(CS!$AP54,スキルVL用!$C$1:$BO$518,W$2,),\"\")","v":""},{"$f":"IFERROR(VLOOKUP(CS!$AP54,スキルVL用!$C$1:$BO$518,X$2,),\"\")","v":""},{"$f":"IFERROR(VLOOKUP(CS!$AP54,スキルVL用!$C$1:$BO$518,Y$2,),\"\")","v":""},{"$f":"IFERROR(VLOOKUP(CS!$AP54,スキルVL用!$C$1:$BO$518,Z$2,),\"\")","v":""},{"$f":"IFERROR(VLOOKUP(CS!$AP54,スキルVL用!$C$1:$BO$518,AA$2,),\"\")","v":""},{"$f":"IFERROR(VLOOKUP(CS!$AP54,スキルVL用!$C$1:$BO$518,AB$2,),\"\")","v":""},{"$f":"IFERROR(VLOOKUP(CS!$AP54,スキルVL用!$C$1:$BO$518,AC$2,),\"\")","v":""},{"$f":"IFERROR(VLOOKUP(CS!$AP54,スキルVL用!$C$1:$BO$518,AD$2,),\"\")","v":""}]
[null,"スキル15",{"$f":"IFERROR(VLOOKUP(CS!$AP56,スキルVL用!$C$1:$BO$518,C$2,),\"\")","v":""},{"$f":"IFERROR(VLOOKUP(CS!$AP56,スキルVL用!$C$1:$BO$518,D$2,),\"\")","v":""},{"$f":"IFERROR(VLOOKUP(CS!$AP56,スキルVL用!$C$1:$BO$518,E$2,),\"\")","v":""},{"$f":"IFERROR(VLOOKUP(CS!$AP56,スキルVL用!$C$1:$BO$518,F$2,),\"\")","v":""},{"$f":"IFERROR(VLOOKUP(CS!$AP56,スキルVL用!$C$1:$BO$518,G$2,),\"\")","v":""},{"$f":"IFERROR(VLOOKUP(CS!$AP56,スキルVL用!$C$1:$BO$518,H$2,),\"\")","v":""},{"$f":"IFERROR(VLOOKUP(CS!$AP56,スキルVL用!$C$1:$BO$518,I$2,),\"\")","v":""},{"$f":"IFERROR(VLOOKUP(CS!$AP56,スキルVL用!$C$1:$BO$518,J$2,),\"\")","v":""},{"$f":"IFERROR(VLOOKUP(CS!$AP56,スキルVL用!$C$1:$BO$518,K$2,),\"\")","v":""},{"$f":"IFERROR(VLOOKUP(CS!$AP56,スキルVL用!$C$1:$BO$518,L$2,),\"\")","v":""},{"$f":"IFERROR(VLOOKUP(CS!$AP56,スキルVL用!$C$1:$BO$518,M$2,),\"\")","v":""},{"$f":"IFERROR(VLOOKUP(CS!$AP56,スキルVL用!$C$1:$BO$518,N$2,),\"\")","v":""},{"$f":"IFERROR(VLOOKUP(CS!$AP56,スキルVL用!$C$1:$BO$518,O$2,),\"\")","v":""},{"$f":"IFERROR(VLOOKUP(CS!$AP56,スキルVL用!$C$1:$BO$518,P$2,),\"\")","v":""},{"$f":"IFERROR(VLOOKUP(CS!$AP56,スキルVL用!$C$1:$BO$518,Q$2,),\"\")","v":""},{"$f":"IFERROR(VLOOKUP(CS!$AP56,スキルVL用!$C$1:$BO$518,R$2,),\"\")","v":""},{"$f":"IFERROR(VLOOKUP(CS!$AP56,スキルVL用!$C$1:$BO$518,S$2,),\"\")","v":""},{"$f":"IFERROR(VLOOKUP(CS!$AP56,スキルVL用!$C$1:$BO$518,T$2,),\"\")","v":""},{"$f":"IFERROR(VLOOKUP(CS!$AP56,スキルVL用!$C$1:$BO$518,U$2,),\"\")","v":""},{"$f":"IFERROR(VLOOKUP(CS!$AP56,スキルVL用!$C$1:$BO$518,V$2,),\"\")","v":""},{"$f":"IFERROR(VLOOKUP(CS!$AP56,スキルVL用!$C$1:$BO$518,W$2,),\"\")","v":""},{"$f":"IFERROR(VLOOKUP(CS!$AP56,スキルVL用!$C$1:$BO$518,X$2,),\"\")","v":""},{"$f":"IFERROR(VLOOKUP(CS!$AP56,スキルVL用!$C$1:$BO$518,Y$2,),\"\")","v":""},{"$f":"IFERROR(VLOOKUP(CS!$AP56,スキルVL用!$C$1:$BO$518,Z$2,),\"\")","v":""},{"$f":"IFERROR(VLOOKUP(CS!$AP56,スキルVL用!$C$1:$BO$518,AA$2,),\"\")","v":""},{"$f":"IFERROR(VLOOKUP(CS!$AP56,スキルVL用!$C$1:$BO$518,AB$2,),\"\")","v":""},{"$f":"IFERROR(VLOOKUP(CS!$AP56,スキルVL用!$C$1:$BO$518,AC$2,),\"\")","v":""},{"$f":"IFERROR(VLOOKUP(CS!$AP56,スキルVL用!$C$1:$BO$518,AD$2,),\"\")","v":""}]
[null,"Total",{"$f":"IF(SUM(C4:C18)=0,\"\",SUM(C4:C18))","v":""},{"$f":"IF(SUM(D4:D18)=0,\"\",SUM(D4:D18))","v":""},"","","","","","","","","","","","","","","","","","","","","","","","","",""]