Workbook
Name CL: CS!$S$10
Name キメラA: CS!$N$10
Name キメラB: CS!$N$11
Name クラスA: CS!$I$12
Name クラスB: CS!$P$12
Name 種族名: CS!$I$10

Sheet CS
AQ2: Lifepath | BF2: Equipment's name | BU2: Illust
V3: Character's name | AE3: Player's name
AQ4: 理由 | BF4: 防具
V6: Experience Points | AQ6: 職業 | BF6: アクセA
V8: Age | AE8: Hair | AQ8: 宝物 | BF8: アクセB
AE9: Color
B10: Species | I10: 人間 | Q10: CL | S10: 1 | V10: Height | Z10: cm | AE10: Eye | BF10: アクセC
AE11: Color | AQ11: Other Data
B12: Class | I12: FS | O12: / | P12: FS | V12: Weight | Z12: kg | AE12: Complexion
AQ13: 命中C値 | AV13: 18 | AZ13: 命中F値 | BE13: 5
B14: 基本能力値 | S14: 武器性能
B15: 肉体 | E15: 集中 | H15: 反射 | K15: 知識 | N15: 幸運 | AQ15: 回避C値 | AV15: 18 | AZ15: 回避F値 | BE15: 5
S16: 名称 | AG16: 種別
B17: =VLOOKUP(種族名,VL用!$A$2:$F$25,2,FALSE)+S10-1 -> 6 | E17: =VLOOKUP(種族名,VL用!$A$2:$F$25,3,FALSE)+S10-1 -> 12 | H17: =VLOOKUP(種族名,VL用!$A$2:$F$25,4,FALSE)+S10-1 -> 7 | K17: =VLOOKUP(種族名,VL用!$A$2:$F$25,5,FALSE)+S10-1 -> 8 | N17: =VLOOKUP(種族名,VL用!$A$2:$F$25,6,FALSE)+S10-1 -> 8 | AQ17: 調査C値 | AV17: 18 | AZ17: 調査F値 | BE17: 5 | BK17: 所持品
S18: 射程 | Z18: コスト | AG18: 属性
AQ19: 移動ｺｽﾄ | AV19: =(3-IF(AQ26="行動順決定での敏捷に+"&(CS!S10*3)&" & 移動ｺｽﾄ-1",1,0)&"/"&(8-IF(AQ26="行動順決定での敏捷に+"&(CS!S10*3)&" & 移動ｺｽﾄ-1",1,0))) -> 3/8 | AZ19: 所持金 | BH19: ND
B20: Status
F22: 種族 | I22: ｸﾗｽ | L22: 武器 | O22: 防具 | R22: ｱｸｾｻﾘｰ | X22: 他修正 | AC22: Total status | AQ22: Skill | BE22: 現在のSL合計/SL合計上限 | BW22: =SUM($AY$32:$AZ$55)&"/"&S10*5+15 -> 0/20
F24: Bonus | I24: Bonus | R24: A | T24: B | V24: C | AQ24: 種族特典 | BE24: クラス特典A | BQ24: クラス特典B
C25: 近接 | F25: =IF($S$10=1,VLOOKUP(種族名,VL用!$F$27:$Z$51,VL用!$B27,FALSE),IF($S$10=2,VLOOKUP(種族名,VL用!$AA$27:$AU51,VL用!$B27,FALSE),IF($S$10=3,VLOOKUP(種族名,VL用!$AV$27:$BP$51,VL用!$B27,FALSE),IF($S$10=4,VLOOKUP(種族名,VL用!$BQ$27:$CK$51,VL用!$B27,FALSE),IF($S$10=5,VLOOKUP(種族名,VL用!$CL$27:$DF$51,VL用!$B27,FALSE),IF($S$10=6,VLOOKUP(種族名,VL用!$DG$27:$EA$51,VL用!$B27,FALSE),IF($S$10=7,VLOOKUP(種族名,VL用!$EB$27:$EV$51,VL用!$B27,FALSE),IF($S$10=8,VLOOKUP(種族名,VL用!$EW$27:$FQ$51,VL用!$B27,FALSE),IF($S$10=9,VLOOKUP(種族名,VL用!$FR$27:$GL$51,VL用!$B27,FALSE),IF($S$10=10,VLOOKUP(種族名,VL用!$GM$27:$HG$51,VL用!$B27,FALSE))))))))))) -> 5 | I25: =VLOOKUP(クラスA,VL用!$F$54:$P$94,VL用!$B27,FALSE)+VLOOKUP(クラスB,VL用!$F$54:$P$94,VL用!$B27,FALSE) -> 4 | AF25: 近接 | AI25: =SUM(F25:AB26) -> 9
AQ26: =VLOOKUP(種族名,VL用!$A$2:$G$25,7,FALSE) -> 常時C値-1(下限値16) & 集中判定を1度振り直せる。 | BE26: =VLOOKUP(クラスA,VL用!$F$54:$AA$94,22,FALSE) -> 命中判定のC値-1 F値+1 & 炎氷耐性+3 | BQ26: =IF(クラスA=クラスB,"なし",VLOOKUP(クラスB,VL用!$F$54:$AA$94,22,FALSE)) -> なし
C27: 射撃 | F27: =IF($S$10=1,VLOOKUP(種族名,VL用!$F$27:$Z$51,VL用!$B29,FALSE),IF($S$10=2,VLOOKUP(種族名,VL用!$AA$27:$AU53,VL用!$B29,FALSE),IF($S$10=3,VLOOKUP(種族名,VL用!$AV$27:$BP$51,VL用!$B29,FALSE),IF($S$10=4,VLOOKUP(種族名,VL用!$BQ$27:$CK$51,VL用!$B29,FALSE),IF($S$10=5,VLOOKUP(種族名,VL用!$CL$27:$DF$51,VL用!$B29,FALSE),IF($S$10=6,VLOOKUP(種族名,VL用!$DG$27:$EA$51,VL用!$B29,FALSE),IF($S$10=7,VLOOKUP(種族名,VL用!$EB$27:$EV$51,VL用!$B29,FALSE),IF($S$10=8,VLOOKUP(種族名,VL用!$EW$27:$FQ$51,VL用!$B29,FALSE),IF($S$10=9,VLOOKUP(種族名,VL用!$FR$27:$GL$51,VL用!$B29,FALSE),IF($S$10=10,VLOOKUP(種族名,VL用!$GM$27:$HG$51,VL用!$B29,FALSE))))))))))) -> 5 | I27: =VLOOKUP(クラスA,VL用!$F$54:$P$94,VL用!$B29,FALSE)+VLOOKUP(クラスB,VL用!$F$54:$P$94,VL用!$B29,FALSE) -> 4 | AF27: 射撃 | AI27: =SUM(F27:AB28) -> 9
AR28: 名称 | AY28: SL | BA28: 種別 | BC28: ﾀｲﾐﾝｸﾞ | BF28: 対象 | BH28: 射程 | BJ28: 判定値 | BM28: 代償 | BO28: コスト | BR28: 効果
C29: 回避 | F29: =IF($S$10=1,VLOOKUP(種族名,VL用!$F$27:$Z$51,VL用!$B31,FALSE),IF($S$10=2,VLOOKUP(種族名,VL用!$AA$27:$AU55,VL用!$B31,FALSE),IF($S$10=3,VLOOKUP(種族名,VL用!$AV$27:$BP$51,VL用!$B31,FALSE),IF($S$10=4,VLOOKUP(種族名,VL用!$BQ$27:$CK$51,VL用!$B31,FALSE),IF($S$10=5,VLOOKUP(種族名,VL用!$CL$27:$DF$51,VL用!$B31,FALSE),IF($S$10=6,VLOOKUP(種族名,VL用!$DG$27:$EA$51,VL用!$B31,FALSE),IF($S$10=7,VLOOKUP(種族名,VL用!$EB$27:$EV$51,VL用!$B31,FALSE),IF($S$10=8,VLOOKUP(種族名,VL用!$EW$27:$FQ$51,VL用!$B31,FALSE),IF($S$10=9,VLOOKUP(種族名,VL用!$FR$27:$GL$51,VL用!$B31,FALSE),IF($S$10=10,VLOOKUP(種族名,VL用!$GM$27:$HG$51,VL用!$B31,FALSE))))))))))) -> 3 | I29: =VLOOKUP(クラスA,VL用!$F$54:$P$94,VL用!$B31,FALSE)+VLOOKUP(クラスB,VL用!$F$54:$P$94,VL用!$B31,FALSE) -> 4 | AF29: 回避 | AI29: =SUM(F29:AB30) -> 7
AQ30: 自 | AR30: =VLOOKUP(種族名,VL用!$A$2:$AN$25,17,FALSE) -> 起死回生 | AY30: =VLOOKUP(種族名,VL用!$A$2:$AN$25,20,FALSE) -> ★ | BA30: =VLOOKUP(種族名,VL用!$A$2:$AN$25,21,FALSE) -> 自 | BC30: =VLOOKUP(種族名,VL用!$A$2:$AN$25,22,FALSE) -> ｵｰﾄ | BF30: =VLOOKUP(種族名,VL用!$A$2:$AN$25,23,FALSE) -> 自 | BH30: =VLOOKUP(種族名,VL用!$A$2:$AN$25,24,FALSE) -> なし | BJ30: =VLOOKUP(種族名,VL用!$A$2:$AN$25,25,FALSE) -> 自動 | BM30: =VLOOKUP(種族名,VL用!$A$2:$AN$25,26,FALSE) -> 6BP | BO30: =VLOOKUP(種族名,VL用!$A$2:$AN$25,27,FALSE) -> 0 | BR30: =VLOOKUP(種族名,VL用!$A$2:$AN$25,28,FALSE) -> 判定直後ダイス目を両方9にする。対抗判定のC値が20固定。戦闘外では-2BP。
C31: 魔術 | F31: =IF($S$10=1,VLOOKUP(種族名,VL用!$F$27:$Z$51,VL用!$B33,FALSE),IF($S$10=2,VLOOKUP(種族名,VL用!$AA$27:$AU57,VL用!$B33,FALSE),IF($S$10=3,VLOOKUP(種族名,VL用!$AV$27:$BP$51,VL用!$B33,FALSE),IF($S$10=4,VLOOKUP(種族名,VL用!$BQ$27:$CK$51,VL用!$B33,FALSE),IF($S$10=5,VLOOKUP(種族名,VL用!$CL$27:$DF$51,VL用!$B33,FALSE),IF($S$10=6,VLOOKUP(種族名,VL用!$DG$27:$EA$51,VL用!$B33,FALSE),IF($S$10=7,VLOOKUP(種族名,VL用!$EB$27:$EV$51,VL用!$B33,FALSE),IF($S$10=8,VLOOKUP(種族名,VL用!$EW$27:$FQ$51,VL用!$B33,FALSE),IF($S$10=9,VLOOKUP(種族名,VL用!$FR$27:$GL$51,VL用!$B33,FALSE),IF($S$10=10,VLOOKUP(種族名,VL用!$GM$27:$HG$51,VL用!$B33,FALSE))))))))))) -> 4 | I31: =VLOOKUP(クラスA,VL用!$F$54:$P94,VL用!$B33,FALSE)+VLOOKUP(クラスB,VL用!$F$54:$P$94,VL用!$B33,FALSE) -> 4 | AF31: 魔術 | AI31: =SUM(F31:AB32) -> 8
AQ32: 1
C33: 抵抗 | F33: =IF($S$10=1,VLOOKUP(種族名,VL用!$F$27:$Z$51,VL用!$B35,FALSE),IF($S$10=2,VLOOKUP(種族名,VL用!$AA$27:$AU59,VL用!$B35,FALSE),IF($S$10=3,VLOOKUP(種族名,VL用!$AV$27:$BP$51,VL用!$B35,FALSE),IF($S$10=4,VLOOKUP(種族名,VL用!$BQ$27:$CK$51,VL用!$B35,FALSE),IF($S$10=5,VLOOKUP(種族名,VL用!$CL$27:$DF$51,VL用!$B35,FALSE),IF($S$10=6,VLOOKUP(種族名,VL用!$DG$27:$EA$51,VL用!$B35,FALSE),IF($S$10=7,VLOOKUP(種族名,VL用!$EB$27:$EV$51,VL用!$B35,FALSE),IF($S$10=8,VLOOKUP(種族名,VL用!$EW$27:$FQ$51,VL用!$B35,FALSE),IF($S$10=9,VLOOKUP(種族名,VL用!$FR$27:$GL$51,VL用!$B35,FALSE),IF($S$10=10,VLOOKUP(種族名,VL用!$GM$27:$HG$51,VL用!$B35,FALSE))))))))))) -> 3 | I33: =VLOOKUP(クラスA,VL用!$F$54:$P$94,VL用!$B35,FALSE)+VLOOKUP(クラスB,VL用!$F$54:$P$94,VL用!$B35,FALSE) -> 2 | AF33: 抵抗 | AI33: =SUM(F33:AB34) -> 5
AQ34: 1
C35: 敏捷 | F35: =IF($S$10=1,VLOOKUP(種族名,VL用!$F$27:$Z$51,VL用!$B37,FALSE),IF($S$10=2,VLOOKUP(種族名,VL用!$AA$27:$AU61,VL用!$B37,FALSE),IF($S$10=3,VLOOKUP(種族名,VL用!$AV$27:$BP$51,VL用!$B37,FALSE),IF($S$10=4,VLOOKUP(種族名,VL用!$BQ$27:$CK$51,VL用!$B37,FALSE),IF($S$10=5,VLOOKUP(種族名,VL用!$CL$27:$DF$51,VL用!$B37,FALSE),IF($S$10=6,VLOOKUP(種族名,VL用!$DG$27:$EA$51,VL用!$B37,FALSE),IF($S$10=7,VLOOKUP(種族名,VL用!$EB$27:$EV$51,VL用!$B37,FALSE),IF($S$10=8,VLOOKUP(種族名,VL用!$EW$27:$FQ$51,VL用!$B37,FALSE),IF($S$10=9,VLOOKUP(種族名,VL用!$FR$27:$GL$51,VL用!$B37,FALSE),IF($S$10=10,VLOOKUP(種族名,VL用!$GM$27:$HG$51,VL用!$B37,FALSE))))))))))) -> 4 | I35: =VLOOKUP(クラスA,VL用!$F$54:$P$94,VL用!$B37,FALSE)+VLOOKUP(クラスB,VL用!$F$54:$P$94,VL用!$B37,FALSE)+IF(クラスA="WR",IF(S10<=5,S10,5),0)+IF(クラスB="WR",IF(S10<=5,S10,5),0)-IF(AND(クラスA="WR",クラスB="WR"),IF(S10<=5,S10,5),0) -> 8 | AF35: 敏捷 | AI35: =SUM(F35:AB36) -> 12
AQ36: 1
C37: 物攻 | F37: =IF($S$10=1,VLOOKUP(種族名,VL用!$F$27:$Z$51,VL用!$B39,FALSE),IF($S$10=2,VLOOKUP(種族名,VL用!$AA$27:$AU63,VL用!$B39,FALSE),IF($S$10=3,VLOOKUP(種族名,VL用!$AV$27:$BP$51,VL用!$B39,FALSE),IF($S$10=4,VLOOKUP(種族名,VL用!$BQ$27:$CK$51,VL用!$B39,FALSE),IF($S$10=5,VLOOKUP(種族名,VL用!$CL$27:$DF$51,VL用!$B39,FALSE),IF($S$10=6,VLOOKUP(種族名,VL用!$DG$27:$EA$51,VL用!$B39,FALSE),IF($S$10=7,VLOOKUP(種族名,VL用!$EB$27:$EV$51,VL用!$B39,FALSE),IF($S$10=8,VLOOKUP(種族名,VL用!$EW$27:$FQ$51,VL用!$B39,FALSE),IF($S$10=9,VLOOKUP(種族名,VL用!$FR$27:$GL$51,VL用!$B39,FALSE),IF($S$10=10,VLOOKUP(種族名,VL用!$GM$27:$HG$51,VL用!$B39,FALSE))))))))))) -> 10 | I37: =VLOOKUP(クラスA,VL用!$F$54:$P$94,VL用!$B39,FALSE)+VLOOKUP(クラスB,VL用!$F$54:$P$94,VL用!$B39,FALSE) -> 8 | AF37: 物攻 | AI37: =SUM(F37:AB38) -> 18
AQ38: 1
C39: 魔攻 | F39: =IF($S$10=1,VLOOKUP(種族名,VL用!$F$27:$Z$51,VL用!$B41,FALSE),IF($S$10=2,VLOOKUP(種族名,VL用!$AA$27:$AU65,VL用!$B41,FALSE),IF($S$10=3,VLOOKUP(種族名,VL用!$AV$27:$BP$51,VL用!$B41,FALSE),IF($S$10=4,VLOOKUP(種族名,VL用!$BQ$27:$CK$51,VL用!$B41,FALSE),IF($S$10=5,VLOOKUP(種族名,VL用!$CL$27:$DF$51,VL用!$B41,FALSE),IF($S$10=6,VLOOKUP(種族名,VL用!$DG$27:$EA$51,VL用!$B41,FALSE),IF($S$10=7,VLOOKUP(種族名,VL用!$EB$27:$EV$51,VL用!$B41,FALSE),IF($S$10=8,VLOOKUP(種族名,VL用!$EW$27:$FQ$51,VL用!$B41,FALSE),IF($S$10=9,VLOOKUP(種族名,VL用!$FR$27:$GL$51,VL用!$B41,FALSE),IF($S$10=10,VLOOKUP(種族名,VL用!$GM$27:$HG$51,VL用!$B41,FALSE))))))))))) -> 10 | I39: =VLOOKUP(クラスA,VL用!$F$54:$P$94,VL用!$B41,FALSE)+VLOOKUP(クラスB,VL用!$F$54:$P$94,VL用!$B41,FALSE) -> 6 | AF39: 魔攻 | AI39: =SUM(F39:AB40) -> 16
AQ40: 1
C41: 耐久 | F41: =IF($S$10=1,VLOOKUP(種族名,VL用!$F$27:$Z$51,VL用!$B43,FALSE),IF($S$10=2,VLOOKUP(種族名,VL用!$AA$27:$AU67,VL用!$B43,FALSE),IF($S$10=3,VLOOKUP(種族名,VL用!$AV$27:$BP$51,VL用!$B43,FALSE),IF($S$10=4,VLOOKUP(種族名,VL用!$BQ$27:$CK$51,VL用!$B43,FALSE),IF($S$10=5,VLOOKUP(種族名,VL用!$CL$27:$DF$51,VL用!$B43,FALSE),IF($S$10=6,VLOOKUP(種族名,VL用!$DG$27:$EA$51,VL用!$B43,FALSE),IF($S$10=7,VLOOKUP(種族名,VL用!$EB$27:$EV$51,VL用!$B43,FALSE),IF($S$10=8,VLOOKUP(種族名,VL用!$EW$27:$FQ$51,VL用!$B43,FALSE),IF($S$10=9,VLOOKUP(種族名,VL用!$FR$27:$GL$51,VL用!$B43,FALSE),IF($S$10=10,VLOOKUP(種族名,VL用!$GM$27:$HG$51,VL用!$B43,FALSE))))))))))) -> 100 | I41: =VLOOKUP(クラスA,VL用!$F$54:$P$100,VL用!$B43,FALSE)+VLOOKUP(クラスB,VL用!$F$54:$P$100,VL用!$B43,FALSE)+IF(クラスA="BS",S10*5,0)+IF(クラスA="AB",S10*3,0)+IF(クラスA="FM",(CL+1)*-10)+IF(クラスB="BS",S10*5,0)+IF(クラスB="AB",S10*3,0)+IF(クラスB="FM",(CL+1)*-10)-IF(AND(クラスA="BS",クラスB="BS"),S10*5,0)-IF(AND(クラスA="AB",クラスB="AB"),S10*3,0)-IF(AND(クラスA="FM",クラスB="FM"),(CL+1)*-10) -> 52 | AF41: 耐久 | AI41: =SUM(F41:AB42) -> 152
AQ42: 1
C43: 精神 | F43: =IF($S$10=1,VLOOKUP(種族名,VL用!$F$27:$Z$51,VL用!$B45,FALSE),IF($S$10=2,VLOOKUP(種族名,VL用!$AA$27:$AU69,VL用!$B45,FALSE),IF($S$10=3,VLOOKUP(種族名,VL用!$AV$27:$BP$51,VL用!$B45,FALSE),IF($S$10=4,VLOOKUP(種族名,VL用!$BQ$27:$CK$51,VL用!$B45,FALSE),IF($S$10=5,VLOOKUP(種族名,VL用!$CL$27:$DF$51,VL用!$B45,FALSE),IF($S$10=6,VLOOKUP(種族名,VL用!$DG$27:$EA$51,VL用!$B45,FALSE),IF($S$10=7,VLOOKUP(種族名,VL用!$EB$27:$EV$51,VL用!$B45,FALSE),IF($S$10=8,VLOOKUP(種族名,VL用!$EW$27:$FQ$51,VL用!$B45,FALSE),IF($S$10=9,VLOOKUP(種族名,VL用!$FR$27:$GL$51,VL用!$B45,FALSE),IF($S$10=10,VLOOKUP(種族名,VL用!$GM$27:$HG$51,VL用!$B45,FALSE))))))))))) -> 30 | I43: =VLOOKUP(クラスA,VL用!$F$54:$P$100,VL用!$B45,FALSE)+VLOOKUP(クラスB,VL用!$F$54:$P$100,VL用!$B45,FALSE)+IF(クラスA="VC",S10*2,0)+IF(クラスA="AB",S10)+IF(クラスB="VC",S10*2,0)+IF(クラスB="AB",S10)-IF(AND(クラスA="VC",クラスB="VC"),S10*2,0)-IF(AND(クラスA="AB",クラスB="AB"),S10) -> 14 | AF43: 精神 | AI43: =SUM(F43:AB44) -> 44
AQ44: 2
C45: 耐性 | D45: 近 | F45: =IF($S$10=1,VLOOKUP(種族名,VL用!$F$27:$Z$51,VL用!$B46,FALSE),IF($S$10=2,VLOOKUP(種族名,VL用!$AA$27:$AU69,VL用!$B46,FALSE),IF($S$10=3,VLOOKUP(種族名,VL用!$AV$27:$BP$51,VL用!$B46,FALSE),IF($S$10=4,VLOOKUP(種族名,VL用!$BQ$27:$CK$51,VL用!$B46,FALSE),IF($S$10=5,VLOOKUP(種族名,VL用!$CL$27:$DF$51,VL用!$B46,FALSE),IF($S$10=6,VLOOKUP(種族名,VL用!$DG$27:$EA$51,VL用!$B46,FALSE),IF($S$10=7,VLOOKUP(種族名,VL用!$EB$27:$EV$51,VL用!$B46,FALSE),IF($S$10=8,VLOOKUP(種族名,VL用!$EW$27:$FQ$51,VL用!$B46,FALSE),IF($S$10=9,VLOOKUP(種族名,VL用!$FR$27:$GL$51,VL用!$B46,FALSE),IF($S$10=10,VLOOKUP(種族名,VL用!$GM$27:$HG$51,VL用!$B46,FALSE))))))))))) -> 10 | I45: =IF(VL用!AS2=0,"",VL用!AS2) | AC45: 2 | AE45: 耐性 | AF45: 近 | AI45: =SUM(F45:AB45) -> 10
D46: 遠 | F46: =IF($S$10=1,VLOOKUP(種族名,VL用!$F$27:$Z$51,VL用!$B47,FALSE),IF($S$10=2,VLOOKUP(種族名,VL用!$AA$27:$AU70,VL用!$B47,FALSE),IF($S$10=3,VLOOKUP(種族名,VL用!$AV$27:$BP$51,VL用!$B47,FALSE),IF($S$10=4,VLOOKUP(種族名,VL用!$BQ$27:$CK$51,VL用!$B47,FALSE),IF($S$10=5,VLOOKUP(種族名,VL用!$CL$27:$DF$51,VL用!$B47,FALSE),IF($S$10=6,VLOOKUP(種族名,VL用!$DG$27:$EA$51,VL用!$B47,FALSE),IF($S$10=7,VLOOKUP(種族名,VL用!$EB$27:$EV$51,VL用!$B47,FALSE),IF($S$10=8,VLOOKUP(種族名,VL用!$EW$27:$FQ$51,VL用!$B47,FALSE),IF($S$10=9,VLOOKUP(種族名,VL用!$FR$27:$GL$51,VL用!$B47,FALSE),IF($S$10=10,VLOOKUP(種族名,VL用!$GM$27:$HG$51,VL用!$B47,FALSE))))))))))) -> 10 | I46: =IF(VL用!AS3=0,"",VL用!AS3) | AF46: 遠 | AI46: =SUM(F46:AB46) -> 10 | AQ46: 3
D47: 炎 | F47: =IF($S$10=1,VLOOKUP(種族名,VL用!$F$27:$Z$51,VL用!$B48,FALSE),IF($S$10=2,VLOOKUP(種族名,VL用!$AA$27:$AU71,VL用!$B48,FALSE),IF($S$10=3,VLOOKUP(種族名,VL用!$AV$27:$BP$51,VL用!$B48,FALSE),IF($S$10=4,VLOOKUP(種族名,VL用!$BQ$27:$CK$51,VL用!$B48,FALSE),IF($S$10=5,VLOOKUP(種族名,VL用!$CL$27:$DF$51,VL用!$B48,FALSE),IF($S$10=6,VLOOKUP(種族名,VL用!$DG$27:$EA$51,VL用!$B48,FALSE),IF($S$10=7,VLOOKUP(種族名,VL用!$EB$27:$EV$51,VL用!$B48,FALSE),IF($S$10=8,VLOOKUP(種族名,VL用!$EW$27:$FQ$51,VL用!$B48,FALSE),IF($S$10=9,VLOOKUP(種族名,VL用!$FR$27:$GL$51,VL用!$B48,FALSE),IF($S$10=10,VLOOKUP(種族名,VL用!$GM$27:$HG$51,VL用!$B48,FALSE)))))))))))+IF(種族名="キメラ忌",CL*2+5,0) -> 0 | I47: =IF(VL用!AS4=0,"",VL用!AS4) -> 3 | AF47: 炎 | AI47: =SUM(F47:AB47) -> 3
D48: 氷 | F48: =IF($S$10=1,VLOOKUP(種族名,VL用!$F$27:$Z$51,VL用!$B49,FALSE),IF($S$10=2,VLOOKUP(種族名,VL用!$AA$27:$AU72,VL用!$B49,FALSE),IF($S$10=3,VLOOKUP(種族名,VL用!$AV$27:$BP$51,VL用!$B49,FALSE),IF($S$10=4,VLOOKUP(種族名,VL用!$BQ$27:$CK$51,VL用!$B49,FALSE),IF($S$10=5,VLOOKUP(種族名,VL用!$CL$27:$DF$51,VL用!$B49,FALSE),IF($S$10=6,VLOOKUP(種族名,VL用!$DG$27:$EA$51,VL用!$B49,FALSE),IF($S$10=7,VLOOKUP(種族名,VL用!$EB$27:$EV$51,VL用!$B49,FALSE),IF($S$10=8,VLOOKUP(種族名,VL用!$EW$27:$FQ$51,VL用!$B49,FALSE),IF($S$10=9,VLOOKUP(種族名,VL用!$FR$27:$GL$51,VL用!$B49,FALSE),IF($S$10=10,VLOOKUP(種族名,VL用!$GM$27:$HG$51,VL用!$B49,FALSE)))))))))))+IF(種族名="キメラ忌",CL*2+5,0) -> 0 | I48: =IF(VL用!AS5=0,"",VL用!AS5) -> 3 | AF48: 氷 | AI48: =SUM(F48:AB48) -> 3 | AQ48: 4
D49: 水 | F49: =IF($S$10=1,VLOOKUP(種族名,VL用!$F$27:$Z$51,VL用!$B50,FALSE),IF($S$10=2,VLOOKUP(種族名,VL用!$AA$27:$AU73,VL用!$B50,FALSE),IF($S$10=3,VLOOKUP(種族名,VL用!$AV$27:$BP$51,VL用!$B50,FALSE),IF($S$10=4,VLOOKUP(種族名,VL用!$BQ$27:$CK$51,VL用!$B50,FALSE),IF($S$10=5,VLOOKUP(種族名,VL用!$CL$27:$DF$51,VL用!$B50,FALSE),IF($S$10=6,VLOOKUP(種族名,VL用!$DG$27:$EA$51,VL用!$B50,FALSE),IF($S$10=7,VLOOKUP(種族名,VL用!$EB$27:$EV$51,VL用!$B50,FALSE),IF($S$10=8,VLOOKUP(種族名,VL用!$EW$27:$FQ$51,VL用!$B50,FALSE),IF($S$10=9,VLOOKUP(種族名,VL用!$FR$27:$GL$51,VL用!$B50,FALSE),IF($S$10=10,VLOOKUP(種族名,VL用!$GM$27:$HG$51,VL用!$B50,FALSE)))))))))))+IF(種族名="キメラ忌",CL*2+5,0) -> -5 | I49: =IF(VL用!AS6=0,"",VL用!AS6) | AF49: 水 | AI49: =SUM(F49:AB49) -> -5
D50: 雷 | F50: =IF($S$10=1,VLOOKUP(種族名,VL用!$F$27:$Z$51,VL用!$B51,FALSE),IF($S$10=2,VLOOKUP(種族名,VL用!$AA$27:$AU74,VL用!$B51,FALSE),IF($S$10=3,VLOOKUP(種族名,VL用!$AV$27:$BP$51,VL用!$B51,FALSE),IF($S$10=4,VLOOKUP(種族名,VL用!$BQ$27:$CK$51,VL用!$B51,FALSE),IF($S$10=5,VLOOKUP(種族名,VL用!$CL$27:$DF$51,VL用!$B51,FALSE),IF($S$10=6,VLOOKUP(種族名,VL用!$DG$27:$EA$51,VL用!$B51,FALSE),IF($S$10=7,VLOOKUP(種族名,VL用!$EB$27:$EV$51,VL用!$B51,FALSE),IF($S$10=8,VLOOKUP(種族名,VL用!$EW$27:$FQ$51,VL用!$B51,FALSE),IF($S$10=9,VLOOKUP(種族名,VL用!$FR$27:$GL$51,VL用!$B51,FALSE),IF($S$10=10,VLOOKUP(種族名,VL用!$GM$27:$HG$51,VL用!$B51,FALSE)))))))))))+IF(種族名="キメラ忌",CL*2+5,0) -> 0 | I50: =IF(VL用!AS7=0,"",VL用!AS7) | AF50: 雷 | AI50: =SUM(F50:AB50) -> 0 | AQ50: 5
D51: 風 | F51: =IF($S$10=1,VLOOKUP(種族名,VL用!$F$27:$Z$51,VL用!$B52,FALSE),IF($S$10=2,VLOOKUP(種族名,VL用!$AA$27:$AU75,VL用!$B52,FALSE),IF($S$10=3,VLOOKUP(種族名,VL用!$AV$27:$BP$51,VL用!$B52,FALSE),IF($S$10=4,VLOOKUP(種族名,VL用!$BQ$27:$CK$51,VL用!$B52,FALSE),IF($S$10=5,VLOOKUP(種族名,VL用!$CL$27:$DF$51,VL用!$B52,FALSE),IF($S$10=6,VLOOKUP(種族名,VL用!$DG$27:$EA$51,VL用!$B52,FALSE),IF($S$10=7,VLOOKUP(種族名,VL用!$EB$27:$EV$51,VL用!$B52,FALSE),IF($S$10=8,VLOOKUP(種族名,VL用!$EW$27:$FQ$51,VL用!$B52,FALSE),IF($S$10=9,VLOOKUP(種族名,VL用!$FR$27:$GL$51,VL用!$B52,FALSE),IF($S$10=10,VLOOKUP(種族名,VL用!$GM$27:$HG$51,VL用!$B52,FALSE)))))))))))+IF(種族名="キメラ忌",CL*2+5,0) -> 5 | I51: =IF(VL用!AS8=0,"",VL用!AS8) | AF51: 風 | AI51: =SUM(F51:AB51) -> 5
D52: 土 | F52: =IF($S$10=1,VLOOKUP(種族名,VL用!$F$27:$Z$51,VL用!$B53,FALSE),IF($S$10=2,VLOOKUP(種族名,VL用!$AA$27:$AU76,VL用!$B53,FALSE),IF($S$10=3,VLOOKUP(種族名,VL用!$AV$27:$BP$51,VL用!$B53,FALSE),IF($S$10=4,VLOOKUP(種族名,VL用!$BQ$27:$CK$51,VL用!$B53,FALSE),IF($S$10=5,VLOOKUP(種族名,VL用!$CL$27:$DF$51,VL用!$B53,FALSE),IF($S$10=6,VLOOKUP(種族名,VL用!$DG$27:$EA$51,VL用!$B53,FALSE),IF($S$10=7,VLOOKUP(種族名,VL用!$EB$27:$EV$51,VL用!$B53,FALSE),IF($S$10=8,VLOOKUP(種族名,VL用!$EW$27:$FQ$51,VL用!$B53,FALSE),IF($S$10=9,VLOOKUP(種族名,VL用!$FR$27:$GL$51,VL用!$B53,FALSE),IF($S$10=10,VLOOKUP(種族名,VL用!$GM$27:$HG$51,VL用!$B53,FALSE)))))))))))+IF(種族名="キメラ忌",CL*2+5,0) -> 2 | I52: =IF(VL用!AS9=0,"",VL用!AS9) | AF52: 土 | AI52: =SUM(F52:AB52) -> 2 | AQ52: 7
D53: 光 | F53: =IF($S$10=1,VLOOKUP(種族名,VL用!$F$27:$Z$51,VL用!$B54,FALSE),IF($S$10=2,VLOOKUP(種族名,VL用!$AA$27:$AU77,VL用!$B54,FALSE),IF($S$10=3,VLOOKUP(種族名,VL用!$AV$27:$BP$51,VL用!$B54,FALSE),IF($S$10=4,VLOOKUP(種族名,VL用!$BQ$27:$CK$51,VL用!$B54,FALSE),IF($S$10=5,VLOOKUP(種族名,VL用!$CL$27:$DF$51,VL用!$B54,FALSE),IF($S$10=6,VLOOKUP(種族名,VL用!$DG$27:$EA$51,VL用!$B54,FALSE),IF($S$10=7,VLOOKUP(種族名,VL用!$EB$27:$EV$51,VL用!$B54,FALSE),IF($S$10=8,VLOOKUP(種族名,VL用!$EW$27:$FQ$51,VL用!$B54,FALSE),IF($S$10=9,VLOOKUP(種族名,VL用!$FR$27:$GL$51,VL用!$B54,FALSE),IF($S$10=10,VLOOKUP(種族名,VL用!$GM$27:$HG$51,VL用!$B54,FALSE)))))))))))+IF(種族名="キメラ忌",CL*2+5,0) -> 4 | I53: =IF(VL用!AS10=0,"",VL用!AS10) | AF53: 光 | AI53: =SUM(F53:AB53) -> 4
D54: 闇 | F54: =IF($S$10=1,VLOOKUP(種族名,VL用!$F$27:$Z$51,VL用!$B55,FALSE),IF($S$10=2,VLOOKUP(種族名,VL用!$AA$27:$AU78,VL用!$B55,FALSE),IF($S$10=3,VLOOKUP(種族名,VL用!$AV$27:$BP$51,VL用!$B55,FALSE),IF($S$10=4,VLOOKUP(種族名,VL用!$BQ$27:$CK$51,VL用!$B55,FALSE),IF($S$10=5,VLOOKUP(種族名,VL用!$CL$27:$DF$51,VL用!$B55,FALSE),IF($S$10=6,VLOOKUP(種族名,VL用!$DG$27:$EA$51,VL用!$B55,FALSE),IF($S$10=7,VLOOKUP(種族名,VL用!$EB$27:$EV$51,VL用!$B55,FALSE),IF($S$10=8,VLOOKUP(種族名,VL用!$EW$27:$FQ$51,VL用!$B55,FALSE),IF($S$10=9,VLOOKUP(種族名,VL用!$FR$27:$GL$51,VL用!$B55,FALSE),IF($S$10=10,VLOOKUP(種族名,VL用!$GM$27:$HG$51,VL用!$B55,FALSE)))))))))))+IF(種族名="キメラ忌",CL*2+5,0) -> 3 | I54: =IF(VL用!AS11=0,"",VL用!AS11) | AF54: 闇 | AI54: =SUM(F54:AB54) -> 3 | AQ54: 9

Sheet VL用
A1: 種族名 | B1: 肉体 | C1: 集中 | D1: 反射 | E1: 知識 | F1: 幸運 | G1: 種族特典 | Q1: 名称 | T1: SL | U1: 種別 | V1: ﾀｲﾐﾝｸﾞ | W1: 対象 | X1: 射程 | Y1: 判定値 | Z1: 代償 | AA1: コスト | AB1: 自動取得
A2: 人間 | B2: 6 | C2: 12 | D2: 7 | E2: 8 | F2: 8 | G2: 常時C値-1(下限値16) & 集中判定を1度振り直せる。 | Q2: 起死回生 | T2: ★ | U2: 自 | V2: ｵｰﾄ | W2: 自 | X2: なし | Y2: 自動 | Z2: 6BP | AA2: 0 | AB2: 判定直後ダイス目を両方9にする。対抗判定のC値が20固定。戦闘外では-2BP。 | AR2: 近 | AS2: =IF(クラスA="PD",CL*2,0)+IF(クラスB="PD",CL*2,0)-IF(AND(クラスA="PD",クラスB="PD"),CL*2,0) -> 0
A3: 天使 | B3: 6 | C3: 8 | D3: 7 | E3: 11 | F3: 8 | G3: ="封印,不動無効。ｸﾘﾃｨｶﾙでMPを"&(5+CS!S10*2)&"点回復。" -> 封印,不動無効。ｸﾘﾃｨｶﾙでMPを7点回復。 | Q3: 祝福 | T3: ★ | U3: 自 | V3: ｵｰﾄ | W3: [単] | X3: 0-5 | Y3: 自動 | Z3: 2BP | AA3: 0 | AB3: ｶｳﾝﾄ開始時に使用。対象のスキル使用回数を1回回復する。 | AR3: 遠 | AS3: =IF(クラスA="PD",CL*2,0)+IF(クラスB="PD",CL*2,0)-IF(AND(クラスA="PD",クラスB="PD"),CL*2,0) -> 0
A4: 悪魔 | B4: 10 | C4: 6 | D4: 7 | E4: 11 | F4: 6 | G4: 種別：魔のスキルのバステ無効 & 通常攻撃のコスト-1 | Q4: 増幅する苦痛 | T4: ★ | U4: 自 | V4: ｵｰﾄ | W4: 単 | X4: 0-4 | Y4: 自動 | Z4: 7BP | AA4: 5 | AB4: 敵(対象)が受けたダメージの半分(↓)を他の敵全てに与える。 | AR4: 炎 | AS4: =IF(クラスA="FS",CL*3,0)+IF(クラスA="TE",CL*3,0)+IF(クラスA="CR",CL+2)+IF(クラスA="AW",CL*3)+IF(クラスB="FS",CL*3,0)+IF(クラスB="TE",CL*3,0)+IF(クラスB="CR",CL+2)+IF(クラスB="AW",CL*3)-IF(AND(クラスA="FS",クラスB="FS"),CL*3,0)-IF(AND(クラスA="TE",クラスB="TE"),CL*3,0)-IF(AND(クラスA="CR",クラスB="CR"),CL+2)-IF(AND(クラスA="AW",クラスB="AW"),CL*3) -> 3
A5: 妖精 | B5: 7 | C5: 9 | D5: 6 | E5: 8 | F5: 10 | G5: サブアクションで、サブアクションのスキルを2つ使用できる。 | Q5: マナシールド | T5: ★ | U5: 自 | V5: ｻﾌﾞ | W5: N体 | X5: 0-2 | Y5: 自動 | Z5: NBP | AA5: 0 | AB5: ="〈近〉〈遠〉以外の属性を[N+2]個指定し、20C間、その属性D-"&30+CS!S10*8 -> 〈近〉〈遠〉以外の属性を[N+2]個指定し、20C間、その属性D-38 | AR5: 氷 | AS5: =IF(クラスA="FS",CL*3,0)+IF(クラスA="FC",CL*2,0)+IF(クラスA="CR",CL+2)+IF(クラスB="FS",CL*3,0)+IF(クラスB="FC",CL*2,0)+IF(クラスB="CR",CL+2)-IF(AND(クラスA="FS",クラスB="FS"),CL*3,0)-IF(AND(クラスA="FC",クラスB="FC"),CL*2,0)-IF(AND(クラスA="CR",クラスB="CR"),CL+2) -> 3
A6: 鳥人 | B6: 9 | C6: 6 | D6: 13 | E6: 6 | F6: 6 | G6: ="行動順決定での敏捷に+"&(CS!S10*3)&" & 移動ｺｽﾄ-1" -> 行動順決定での敏捷に+3 & 移動ｺｽﾄ-1 | Q6: ソニックムーブ | T6: ★ | U6: 自 | V6: ｵｰﾄ | W6: 自 | X6: なし | Y6: 自動 | Z6: 3BP | AA6: 0 | AB6: ｶｳﾝﾄ開始時に使用。即座に行動手番を迎える。 | AR6: 水 | AS6: =IF(クラスA="FC",CL*2,0)+IF(クラスA="TE",CL*3,0)+IF(クラスA="CR",CL+2)+IF(クラスB="FC",CL*2,0)+IF(クラスB="TE",CL*3,0)+IF(クラスB="CR",CL+2)-IF(AND(クラスA="FC",クラスB="FC"),CL*2,0)-IF(AND(クラスA="TE",クラスB="TE"),CL*3,0)-IF(AND(クラスA="CR",クラスB="CR"),CL+2) -> 0
A7: 竜人 | B7: 13 | C7: 7 | D7: 5 | E7: 10 | F7: 5 | G7: 常時F値+3 & 「BS：KB(X)」を70%で無効。 | Q7: ドラゴンフォース | T7: ★ | U7: 自 | V7: ｽﾀｰﾄ | W7: 自 | X7: なし | Y7: 自動 | Z7: NBP | AA7: 0 | AB7: ="戦闘中、与えるダメージに+[N×"&(1+ROUNDUP(CS!S10/3,0))&"+"&CS!S10*2&"]する。" -> 戦闘中、与えるダメージに+[N×2+2]する。 | AR7: 雷 | AS7: =IF(クラスA="FC",CL*2,0)+IF(クラスA="CR",CL+2)+IF(クラスA="AW",CL*3)+IF(クラスB="FC",CL*2,0)+IF(クラスB="CR",CL+2)+IF(クラスB="AW",CL*3)-IF(AND(クラスA="FC",クラスB="FC"),CL*2,0)-IF(AND(クラスA="CR",クラスB="CR"),CL+2)-IF(AND(クラスA="AW",クラスB="AW"),CL*3) -> 0
A8: 獣人 | B8: 9 | C8: 5 | D8: 14 | E8: 5 | F8: 7 | G8: 近接攻撃の回避の達成値+2 & 反射判定と回避判定のC値-1 F値3固定。 | Q8: ワイルドラッシュ | T8: ★ | U8: 自 | V8: ｵｰﾄ | W8: 自 | X8: なし | Y8: 自動 | Z8: 6BP | AA8: 0 | AB8: 行動手番後使用。追加ﾒｲﾝを得て攻撃を行う。そのときのｺｽﾄに-5する。 | AR8: 風 | AS8: =IF(クラスA="FC",CL*2,0)+IF(クラスA="TE",CL*3,0)+IF(クラスA="CR",CL+2)+IF(クラスB="FC",CL*2,0)+IF(クラスB="TE",CL*3,0)+IF(クラスB="CR",CL+2)-IF(AND(クラスA="FC",クラスB="FC"),CL*2,0)-IF(AND(クラスA="TE",クラスB="TE"),CL*3,0)-IF(AND(クラスA="CR",クラスB="CR"),CL+2) -> 0
A9: 吸血鬼 | B9: 12 | C9: 5 | D9: 9 | E9: 9 | F9: 5 | G9: ="ﾀﾞﾒｰｼﾞを与えた時または10ｶｳﾝﾄ毎に、HPを"&CS!S10*3+10&"点回復する。" -> ﾀﾞﾒｰｼﾞを与えた時または10ｶｳﾝﾄ毎に、HPを13点回復する。 | Q9: 鮮血の一撃 | T9: ★ | U9: 自 | V9: ﾀﾞﾒﾛ | W9: 自 | X9: なし | Y9: 自動 | Z9: 3BP | AA9: 0 | AB9: ダメージロールで振るダイスの目を全て最大値にする。 | AR9: 土 | AS9: =IF(クラスA="FC",CL*2,0)+IF(クラスA="TE",CL*3,0)+IF(クラスA="CR",CL+2)+IF(クラスB="FC",CL*2,0)+IF(クラスB="TE",CL*3,0)+IF(クラスB="CR",CL+2)-IF(AND(クラスA="FC",クラスB="FC"),CL*2,0)-IF(AND(クラスA="TE",クラスB="TE"),CL*3,0)-IF(AND(クラスA="CR",クラスB="CR"),CL+2) -> 0
A10: 偽人 | B10: 5 | C10: 7 | D10: 6 | E10: 12 | F10: 10 | G10: 人間以外のキメラ不可。 | Q10: 真姿解放 | T10: ★ | U10: 自 | V10: ｵｰﾄ | W10: 自 | X10: なし | Y10: 自動 | Z10: 2BP | AA10: 0 | AB10: いつでも使用可。あなたは[解放状態]となる。 | AR10: 光 | AS10: =IF(クラスA="YM",CL*2,0)+IF(クラスA="CR",CL+2)+IF(クラスB="YM",CL*2,0)+IF(クラスB="CR",CL+2)-IF(AND(クラスA="YM",クラスB="YM"),CL*2,0)-IF(AND(クラスA="CR",クラスB="CR"),CL+2) -> 0
A11: 魔法人形 | B11: 5 | C11: 10 | D11: 5 | E11: 10 | F11: 10 | G11: ="「種別：魔」の被ﾀﾞﾒ-"&10+CS!S10*3&" & 準備期間を-1してコスト+1" -> 「種別：魔」の被ﾀﾞﾒ-13 & 準備期間を-1してコスト+1 | Q11: エナジーバースト | T11: ★ | U11: 自 | V11: ｵｰﾄ | W11: 自 | X11: なし | Y11: 自動 | Z11: 5BP | AA11: 0 | AB11: C開始時に使用。次判定達成値+10 与D+[物攻or魔攻] C終了後HP0。 | AR11: 闇 | AS11: =IF(クラスA="YM",CL*2,0)+IF(クラスA="CR",CL+2)+IF(クラスA="AW",CL*3)+IF(クラスB="YM",CL*2,0)+IF(クラスB="CR",CL+2)+IF(クラスB="AW",CL*3)-IF(AND(クラスA="YM",クラスB="YM"),CL*2,0)-IF(AND(クラスA="CR",クラスB="CR"),CL+2)-IF(AND(クラスA="AW",クラスB="AW"),CL*3) -> 0
A12: 死神 | B12: 11 | C12: 8 | D12: 9 | E12: 7 | F12: 5 | G12: 攻撃全てに「BS：即死(25)」付与。 & ﾀﾞﾒｰｼﾞ+[現ｶｳﾝﾄ/5(↓)」 | Q12: 死神の鎌 | T12: ★ | U12: 自 | V12: ｻﾌﾞ | W12: 自 | X12: なし | Y12: 自動 | Z12: 4BP | AA12: 3 | AB12: 35Cの間、武器を「死神の鎌」に変更。
A13: 神格 | B13: 7 | C13: 8 | D13: 6 | E13: 13 | F13: 6 | G13: 攻撃でﾀﾞﾒｰｼﾞを受けた時、与えた対象に「BS：怯み(1)」付与。 | Q13: Paranormal Power | T13: ★ | U13: 自 | V13: ｽﾀｰﾄ | W13: 自 | X13: なし | Y13: 自動 | Z13: 1BP | AA13: 1 | AB13: ="①全達成値+1 ②ﾀﾞﾒｰｼﾞ+"&CS!S10+5&" ③C値-1 のどれかを戦闘中適用。" -> ①全達成値+1 ②ﾀﾞﾒｰｼﾞ+6 ③C値-1 のどれかを戦闘中適用。
A14: 妖怪 | B14: 10 | C14: 4 | D14: 8 | E14: 6 | F14: 12 | G14: 判定の1,2の目1つを3にする。感情の強度の合計値-1。 | Q14: 妖力波 | T14: ★ | U14: 自 | V14: ｵｰﾄ | W14: 単 | X14: 0-4 | Y14: 自動 | Z14: 2BP | AA14: 3 | AB14: 判定の低い方の出目を1にする。その後振り直しなど不可。
A15: 花姫 | B15: 5 | C15: 12 | D15: 5 | E15: 13 | F15: 5 | G15: ="攻撃に「BS：花毒("&CS!S10+5&")」付与。 & ｸﾗｽｽｷﾙのSL上限に+1" -> 攻撃に「BS：花毒(6)」付与。 & ｸﾗｽｽｷﾙのSL上限に+1 | Q15: フルブルーム | T15: ★ | U15: 自 | V15: ｵｰﾄ | W15: 自 | X15: なし | Y15: 自動 | Z15: 2BP | AA15: 0 | AB15: ="C開始時使用。HP"&CS!S10*15+90&"回復。以後ｻﾌﾞｱｸｼｮﾝｽｷﾙでﾌﾗﾜｰC1つ獲得。" -> C開始時使用。HP105回復。以後ｻﾌﾞｱｸｼｮﾝｽｷﾙでﾌﾗﾜｰC1つ獲得。
A16: 虫人 | B16: 11 | C16: 5 | D16: 11 | E16: 6 | F16: 7 | G16: DでHP0になる場合、HPを1にする。1/Sce & 「BS：花毒」を60%で無効 | Q16: タクタイルムーブ | T16: ★ | U16: 自 | V16: ｵｰﾄ | W16: 自 | X16: なし | Y16: 自動 | Z16: 2BP | AA16: 0 | AB16: ="回避判定直前使用。達成値+"&(3+ROUNDUP(CS!S10/3,0))&"。回避成功の場合,次の命中+"&(3+ROUNDUP(CS!S10/3,0)) -> 回避判定直前使用。達成値+4。回避成功の場合,次の命中+4
A17: 戦乙女 | B17: 7 | C17: 10 | D17: 8 | E17: 10 | F17: 5 | G17: 全てのｽｷﾙ代償-1MP。(下限値：3MP) 感情の個数-1 | Q17: トゥルーフェイス | T17: ★ | U17: 自 | V17: ｵｰﾄ | W17: 自 | X17: なし | Y17: 自動 | Z17: 4BP | AA17: 0 | AB17: 感情が2つ以下でのみ使用可。全達成値+2 & 与D+50 1ｾｯｼｮﾝ1回
A18: 半魚人 | B18: 7 | C18: 8 | D18: 12 | E18: 8 | F18: 5 | G18: ﾀﾞﾒｰｼﾞﾛｰﾙで5MP支払って〈水〉に変更できる。 & 全てのｽｷﾙ代償+1MP | Q18: フリーズバインド | T18: ★ | U18: 自 | V18: ｵｰﾄ | W18: 自 | X18: なし | Y18: 自動 | Z18: 1BP | AA18: 0 | AB18: 攻撃宣言時に使用。命中C値-2 達成値+1し、回避判定振り直し不可。
A19: 魔道士 | B19: 5 | C19: 8 | D19: 8 | E19: 14 | F19: 5 | G19: ="「種別：魔」かつ「単体」のｽｷﾙが回避されたとき、同属性"&20+CL*3&"点ﾀﾞﾒｰｼﾞを与える。" -> 「種別：魔」かつ「単体」のｽｷﾙが回避されたとき、同属性23点ﾀﾞﾒｰｼﾞを与える。 | Q19: 予備魔力開放 | T19: ★ | U19: 自 | V19: ｵｰﾄ | W19: 自 | X19: なし | Y19: 自動 | Z19: NBP | AA19: 0 | AB19: ="①C開始時使用→HP&MP[N*"&CL+8&"]点回復。②ﾀﾞﾒﾛ直前使用→与D+[N*"&CL+10&"]" -> ①C開始時使用→HP&MP[N*9]点回復。②ﾀﾞﾒﾛ直前使用→与D+[N*11]
A20: 付喪神 | B20: 4 | C20: 7 | D20: 8 | E20: 7 | F20: 14 | G20: ｶｳﾝﾄ開始時に任意ﾏｽ配置可能 1/Sce & 単体攻撃ｽｷﾙの命中C値-2 | Q20: 九十九神力 | T20: ★ | U20: 自 | V20: ｵｰﾄ | W20: 自 | X20: なし | Y20: 自動 | Z20: 7BP | AA20: 0 | AB20: HPが0になる瞬間に使用可能。HP全回復して、BS全解除。
A21: 幽体 | B21: 0 | C21: 12 | D21: 9 | E21: 11 | F21: 8 | G21: ="10ｶｳﾝﾄ毎に、MP"&10+ROUNDUP(CL/2,0)&"点減少 & MP0で戦闘不能 & 常時[感情の強度]+1" -> 10ｶｳﾝﾄ毎に、MP11点減少 & MP0で戦闘不能 & 常時[感情の強度]+1 | Q21: ソウルシード | T21: ★ | U21: 自 | V21: ｵｰﾄ | W21: 自 | X21: なし | Y21: 自動 | Z21: 10BP | AA21: 0 | AB21: ="C開始時に使用。HP&MP全回復 その後、行動手番毎にMP["&CL&"+2D10]点回復" -> C開始時に使用。HP&MP全回復 その後、行動手番毎にMP[1+2D10]点回復
A22: 鬼 | B22: 14 | C22: 4 | D22: 14 | E22: 4 | F22: 4 | G22: CまたはFの自身判定振り直し不可 & 怯み無効 | Q22: Unlimited Power | T22: ★ | U22: 自 | V22: ｵｰﾄ | W22: 自 | X22: なし | Y22: 自動 | Z22: 9BP | AA22: 0 | AB22: ="この戦闘中ｽｷﾙ攻撃で与えるダメージに+現カウント (上限値："&CL*6+40&")" -> この戦闘中ｽｷﾙ攻撃で与えるダメージに+現カウント (上限値：46)
A23: 爬虫人 | B23: 10 | C23: 10 | D23: 10 | E23: 4 | F23: 6 | G23: BSを1D10<=2で無効。命中F値-2 (下限値：3) | Q23: スケイルシールド | T23: ★ | U23: 自 | V23: ﾀﾞﾒﾛ | W23: 自 | X23: なし | Y23: 自動 | Z23: 1BP | AA23: 0 | AB23: ="自身の受けるダメージを"&CL*12+60&"点軽減。ダメージ0の場合 MP"&CL+5&"点回復" -> 自身の受けるダメージを72点軽減。ダメージ0の場合 MP6点回復
A24: キメラ忌 | B24: =ROUNDUP((VLOOKUP(キメラA,VL用!$A$2:$F$50,B26,FALSE)+VLOOKUP(キメラB,VL用!$A$2:$F$50,B26,FALSE))/2,0) -> #N/A | C24: =ROUNDUP((VLOOKUP(キメラA,VL用!$A$2:$F$50,C26,FALSE)+VLOOKUP(キメラB,VL用!$A$2:$F$50,C26,FALSE))/2,0) -> #N/A | D24: =ROUNDUP((VLOOKUP(キメラA,VL用!$A$2:$F$50,D26,FALSE)+VLOOKUP(キメラB,VL用!$A$2:$F$50,D26,FALSE))/2,0) -> #N/A | E24: =ROUNDUP((VLOOKUP(キメラA,VL用!$A$2:$F$50,E26,FALSE)+VLOOKUP(キメラB,VL用!$A$2:$F$50,E26,FALSE))/2,0) -> #N/A | F24: =ROUNDUP((VLOOKUP(キメラA,VL用!$A$2:$F$50,F26,FALSE)+VLOOKUP(キメラB,VL用!$A$2:$F$50,F26,FALSE))/2,0) -> #N/A | G24: =VLOOKUP(キメラA,A1:P50,7,FALSE) -> #N/A | Q24: 忌み嫌われし存在 | T24: ★ | U24: 自 | V24: 常時 | W24: 自 | X24: なし | Y24: 自動 | Z24: なし | AA24: なし | AB24: ="感情強度合計値-1。〈炎〉～〈闇〉耐性+"&5+CS!S10*2&" 4MP以上のｽｷﾙ代償-1MP" -> 感情強度合計値-1。〈炎〉～〈闇〉耐性+7 4MP以上のｽｷﾙ代償-1MP
A25: キメラ祝 | B25: =B24 -> #N/A | C25: =C24 -> #N/A | D25: =D24 -> #N/A | E25: =E24 -> #N/A | F25: =F24 -> #N/A | G25: =VLOOKUP(キメラA,A1:P25,7,FALSE) -> #N/A | Q25: 祝福されし存在 | T25: ★ | U25: 自 | V25: 常時 | W25: 自 | X25: なし | Y25: 自動 | Z25: なし | AA25: なし | AB25: 感情強度合計値+3。常時感情ロールの出目+1。
B26: 2 | C26: 3 | D26: 4 | E26: 5 | F26: 6 | G26: 2 | H26: 3 | I26: 4 | J26: 5 | K26: 6 | L26: 7 | M26: 8 | N26: 9 | O26: 10 | P26: 11 | Q26: 12 | R26: 13 | S26: 14 | T26: 15 | U26: 16 | V26: 17 | W26: 18 | X26: 19 | Y26: 20 | Z26: 21 | AB26: 2 | AC26: 3 | AD26: 4 | AE26: 5 | AF26: 6 | AG26: 7 | AH26: 8 | AI26: 9 | AJ26: 10 | AK26: 11 | AL26: 12 | AM26: 13 | AN26: 14 | AO26: 15 | AP26: 16 | AQ26: 17 | AR26: 18 | AS26: 19 | AT26: 20 | AU26: 21 | AW26: 2 | AX26: 3 | AY26: 4 | AZ26: 5 | BA26: 6 | BB26: 7 | BC26: 8 | BD26: 9 | BE26: 10 | BF26: 11 | BG26: 12 | BH26: 13 | BI26: 14 | BJ26: 15 | BK26: 16 | BL26: 17 | BM26: 18 | BN26: 19 | BO26: 20 | BP26: 21 | BR26: 2 | BS26: 3 | BT26: 4 | BU26: 5 | BV26: 6 | BW26: 7 | BX26: 8 | BY26: 9 | BZ26: 10 | CA26: 11 | CB26: 12 | CC26: 13 | CD26: 14 | CE26: 15 | CF26: 16 | CG26: 17 | CH26: 18 | CI26: 19 | CJ26: 20 | CK26: 21 | CM26: 2 | CN26: 3 | CO26: 4 | CP26: 5 | CQ26: 6 | CR26: 7 | CS26: 8 | CT26: 9 | CU26: 10 | CV26: 11 | CW26: 12 | CX26: 13 | CY26: 14 | CZ26: 15 | DA26: 16 | DB26: 17 | DC26: 18 | DD26: 19 | DE26: 20 | DF26: 21 | DH26: 2 | DI26: 3 | DJ26: 4 | DK26: 5 | DL26: 6 | DM26: 7 | DN26: 8 | DO26: 9 | DP26: 10 | DQ26: 11 | DR26: 12 | DS26: 13 | DT26: 14 | DU26: 15 | DV26: 16 | DW26: 17 | DX26: 18 | DY26: 19 | DZ26: 20 | EA26: 21 | EC26: 2 | ED26: 3 | EE26: 4 | EF26: 5 | EG26: 6 | EH26: 7 | EI26: 8 | EJ26: 9 | EK26: 10 | EL26: 11 | EM26: 12 | EN26: 13 | EO26: 14 | EP26: 15 | EQ26: 16 | ER26: 17 | ES26: 18 | ET26: 19 | EU26: 20 | EV26: 21 | EX26: 2 | EY26: 3 | EZ26: 4 | FA26: 5 | FB26: 6 | FC26: 7 | FD26: 8 | FE26: 9 | FF26: 10 | FG26: 11 | FH26: 12 | FI26: 13 | FJ26: 14 | FK26: 15 | FL26: 16 | FM26: 17 | FN26: 18 | FO26: 19 | FP26: 20 | FQ26: 21 | FS26: 2 | FT26: 3 | FU26: 4 | FV26: 5 | FW26: 6 | FX26: 7 | FY26: 8 | FZ26: 9 | GA26: 10 | GB26: 11 | GC26: 12 | GD26: 13 | GE26: 14 | GF26: 15 | GG26: 16 | GH26: 17 | GI26: 18 | GJ26: 19 | GK26: 20 | GL26: 21 | GN26: 2 | GO26: 3 | GP26: 4 | GQ26: 5 | GR26: 6 | GS26: 7 | GT26: 8 | GU26: 9 | GV26: 10 | GW26: 11 | GX26: 12 | GY26: 13 | GZ26: 14 | HA26: 15 | HB26: 16 | HC26: 17 | HD26: 18 | HE26: 19 | HF26: 20 | HG26: 21
B27: 2 | F27: 能力値 | G27: 近接 | H27: 射撃 | I27: 回避 | J27: 魔術 | K27: 抵抗 | L27: 敏捷 | M27: 物攻 | N27: 魔攻 | O27: 耐久 | P27: 精神 | Q27: 近 | R27: 遠 | S27: 炎 | T27: 氷 | U27: 水 | V27: 雷 | W27: 風 | X27: 土 | Y27: 光 | Z27: 闇 | AA27: 能力値 | AB27: 近接 | AC27: 射撃 | AD27: 回避 | AE27: 魔術 | AF27: 抵抗 | AG27: 敏捷 | AH27: 物攻 | AI27: 魔攻 | AJ27: 耐久 | AK27: 精神 | AL27: 近 | AM27: 遠 | AN27: 炎 | AO27: 氷 | AP27: 水 | AQ27: 雷 | AR27: 風 | AS27: 土 | AT27: 光 | AU27: 闇 | AV27: 能力値 | AW27: 近接 | AX27: 射撃 | AY27: 回避 | AZ27: 魔術 | BA27: 抵抗 | BB27: 敏捷 | BC27: 物攻 | BD27: 魔攻 | BE27: 耐久 | BF27: 精神 | BG27: 近 | BH27: 遠 | BI27: 炎 | BJ27: 氷 | BK27: 水 | BL27: 雷 | BM27: 風 | BN27: 土 | BO27: 光 | BP27: 闇 | BQ27: 能力値 | BR27: 近接 | BS27: 射撃 | BT27: 回避 | BU27: 魔術 | BV27: 抵抗 | BW27: 敏捷 | BX27: 物攻 | BY27: 魔攻 | BZ27: 耐久 | CA27: 精神 | CB27: 近 | CC27: 遠 | CD27: 炎 | CE27: 氷 | CF27: 水 | CG27: 雷 | CH27: 風 | CI27: 土 | CJ27: 光 | CK27: 闇 | CL27: 能力値 | CM27: 近接 | CN27: 射撃 | CO27: 回避 | CP27: 魔術 | CQ27: 抵抗 | CR27: 敏捷 | CS27: 物攻 | CT27: 魔攻 | CU27: 耐久 | CV27: 精神 | CW27: 近 | CX27: 遠 | CY27: 炎 | CZ27: 氷 | DA27: 水 | DB27: 雷 | DC27: 風 | DD27: 土 | DE27: 光 | DF27: 闇 | DG27: 能力値 | DH27: 近接 | DI27: 射撃 | DJ27: 回避 | DK27: 魔術 | DL27: 抵抗 | DM27: 敏捷 | DN27: 物攻 | DO27: 魔攻 | DP27: 耐久 | DQ27: 精神 | DR27: 近 | DS27: 遠 | DT27: 炎 | DU27: 氷 | DV27: 水 | DW27: 雷 | DX27: 風 | DY27: 土 | DZ27: 光 | EA27: 闇 | EB27: 能力値 | EC27: 近接 | ED27: 射撃 | EE27: 回避 | EF27: 魔術 | EG27: 抵抗 | EH27: 敏捷 | EI27: 物攻 | EJ27: 魔攻 | EK27: 耐久 | EL27: 精神 | EM27: 近 | EN27: 遠 | EO27: 炎 | EP27: 氷 | EQ27: 水 | ER27: 雷 | ES27: 風 | ET27: 土 | EU27: 光 | EV27: 闇 | EW27: 能力値 | EX27: 近接 | EY27: 射撃 | EZ27: 回避 | FA27: 魔術 | FB27: 抵抗 | FC27: 敏捷 | FD27: 物攻 | FE27: 魔攻 | FF27: 耐久 | FG27: 精神 | FH27: 近 | FI27: 遠 | FJ27: 炎 | FK27: 氷 | FL27: 水 | FM27: 雷 | FN27: 風 | FO27: 土 | FP27: 光 | FQ27: 闇 | FR27: 能力値 | FS27: 近接 | FT27: 射撃 | FU27: 回避 | FV27: 魔術 | FW27: 抵抗 | FX27: 敏捷 | FY27: 物攻 | FZ27: 魔攻 | GA27: 耐久 | GB27: 精神 | GC27: 近 | GD27: 遠 | GE27: 炎 | GF27: 氷 | GG27: 水 | GH27: 雷 | GI27: 風 | GJ27: 土 | GK27: 光 | GL27: 闇 | GM27: 能力値 | GN27: 近接 | GO27: 射撃 | GP27: 回避 | GQ27: 魔術 | GR27: 抵抗 | GS27: 敏捷 | GT27: 物攻 | GU27: 魔攻 | GV27: 耐久 | GW27: 精神 | GX27: 近 | GY27: 遠 | GZ27: 炎 | HA27: 氷 | HB27: 水 | HC27: 雷 | HD27: 風 | HE27: 土 | HF27: 光 | HG27: 闇
B28: 2 | F28: 人間 | G28: 5 | H28: 5 | I28: 3 | J28: 4 | K28: 3 | L28: 4 | M28: 10 | N28: 10 | O28: 100 | P28: 30 | Q28: 10 | R28: 10 | S28: 0 | T28: 0 | U28: -5 | V28: 0 | W28: 5 | X28: 2 | Y28: 4 | Z28: 3 | AA28: 人間 | AB28: 6 | AC28: 6 | AD28: 4 | AE28: 5 | AF28: 4 | AG28: 5 | AH28: 12 | AI28: 11 | AJ28: 122 | AK28: 32 | AL28: 13 | AM28: 12 | AN28: -1 | AO28: 1 | AP28: -4 | AQ28: -2 | AR28: 8 | AS28: 4 | AT28: 6 | AU28: 5 | AV28: 人間 | AW28: 7 | AX28: 7 | AY28: 5 | AZ28: 6 | BA28: 5 | BB28: 6 | BC28: 14 | BD28: 13 | BE28: 146 | BF28: 35 | BG28: 16 | BH28: 14 | BI28: -3 | BJ28: 3 | BK28: -3 | BL28: -4 | BM28: 11 | BN28: 6 | BO28: 7 | BP28: 7 | BQ28: 人間 | BR28: 8 | BS28: 9 | BT28: 6 | BU28: 8 | BV28: 6 | BW28: 7 | BX28: 15 | BY28: 15 | BZ28: 170 | CA28: 38 | CB28: 19 | CC28: 17 | CD28: -5 | CE28: 4 | CF28: 0 | CG28: -6 | CH28: 15 | CI28: 7 | CJ28: 10 | CK28: 8 | CL28: 人間 | CM28: 10 | CN28: 10 | CO28: 8 | CP28: 10 | CQ28: 8 | CR28: 8 | CS28: 17 | CT28: 16 | CU28: 194 | CV28: 41 | CW28: 22 | CX28: 20 | CY28: -6 | CZ28: 5 | DA28: 2 | DB28: -9 | DC28: 19 | DD28: 10 | DE28: 12 | DF28: 11 | DG28: 人間 | DH28: 11 | DI28: 12 | DJ28: 10 | DK28: 12 | DL28: 10 | DM28: 9 | DN28: 19 | DO28: 18 | DP28: 222 | DQ28: 44 | DR28: 25 | DS28: 23 | DT28: -9 | DU28: 6 | DV28: 4 | DW28: -12 | DX28: 22 | DY28: 12 | DZ28: 14 | EA28: 13 | EB28: 人間 | EC28: 13 | ED28: 13 | EE28: 12 | EF28: 13 | EG28: 12 | EH28: 10 | EI28: 22 | EJ28: 21 | EK28: 250 | EL28: 47 | EM28: 28 | EN28: 26 | EO28: -12 | EP28: 7 | EQ28: 6 | ER28: -15 | ES28: 26 | ET28: 13 | EU28: 16 | EV28: 15 | EW28: 人間 | EX28: 14 | EY28: 14 | EZ28: 13 | FA28: 15 | FB28: 13 | FC28: 12 | FD28: 25 | FE28: 23 | FF28: 274 | FG28: 50 | FH28: 32 | FI28: 28 | FJ28: -15 | FK28: 8 | FL28: 7 | FM28: -18 | FN28: 30 | FO28: 15 | FP28: 19 | FQ28: 17 | FR28: 人間 | FS28: 16 | FT28: 16 | FU28: 14 | FV28: 17 | FW28: 14 | FX28: 14 | FY28: 28 | FZ28: 25 | GA28: 300 | GB28: 53 | GC28: 35 | GD28: 30 | GE28: -16 | GF28: 9 | GG28: 10 | GH28: -21 | GI28: 32 | GJ28: 18 | GK28: 22 | GL28: 20 | GM28: 人間 | GN28: 18 | GO28: 18 | GP28: 15 | GQ28: 18 | GR28: 15 | GS28: 15 | GT28: 32 | GU28: 26 | GV28: 330 | GW28: 56 | GX28: 38 | GY28: 33 | GZ28: -18 | HA28: 10 | HB28: 12 | HC28: -24 | HD28: 35 | HE28: 22 | HF28: 25 | HG28: 22
B29: 3 | F29: 天使 | G29: 3 | H29: 4 | I29: 3 | J29: 5 | K29: 3 | L29: 3 | M29: 10 | N29: 13 | O29: 88 | P29: 35 | Q29: 8 | R29: 11 | S29: 3 | T29: 3 | U29: 3 | V29: 0 | W29: -10 | X29: 10 | Y29: 14 | Z29: -20 | AA29: 天使 | AB29: 4 | AC29: 5 | AD29: 4 | AE29: 7 | AF29: 5 | AG29: 4 | AH29: 12 | AI29: 15 | AJ29: 106 | AK29: 38 | AL29: 10 | AM29: 13 | AN29: 3 | AO29: 5 | AP29: 4 | AQ29: 2 | AR29: -13 | AS29: 15 | AT29: 18 | AU29: -21 | AV29: 天使 | AW29: 7 | AX29: 7 | AY29: 5 | AZ29: 8 | BA29: 6 | BB29: 5 | BC29: 14 | BD29: 18 | BE29: 120 | BF29: 42 | BG29: 12 | BH29: 15 | BI29: 3 | BJ29: 6 | BK29: 4 | BL29: 2 | BM29: -15 | BN29: 18 | BO29: 22 | BP29: -23 | BQ29: 天使 | BR29: 8 | BS29: 9 | BT29: 6 | BU29: 10 | BV29: 7 | BW29: 6 | BX29: 16 | BY29: 21 | BZ29: 146 | CA29: 45 | CB29: 14 | CC29: 18 | CD29: 4 | CE29: 9 | CF29: 5 | CG29: 3 | CH29: -18 | CI29: 22 | CJ29: 27 | CK29: -25 | CL29: 天使 | CM29: 9 | CN29: 11 | CO29: 7 | CP29: 12 | CQ29: 8 | CR29: 7 | CS29: 18 | CT29: 24 | CU29: 170 | CV29: 48 | CW29: 17 | CX29: 21 | CY29: 4 | CZ29: 10 | DA29: 5 | DB29: 4 | DC29: -21 | DD29: 25 | DE29: 30 | DF29: -27 | DG29: 天使 | DH29: 11 | DI29: 12 | DJ29: 9 | DK29: 13 | DL29: 9 | DM29: 9 | DN29: 20 | DO29: 26 | DP29: 198 | DQ29: 52 | DR29: 20 | DS29: 24 | DT29: 4 | DU29: 13 | DV29: 7 | DW29: 4 | DX29: -23 | DY29: 28 | DZ29: 33 | EA29: -29 | EB29: 天使 | EC29: 13 | ED29: 13 | EE29: 10 | EF29: 15 | EG29: 11 | EH29: 10 | EI29: 22 | EJ29: 29 | EK29: 220 | EL29: 55 | EM29: 23 | EN29: 27 | EO29: 5 | EP29: 15 | EQ29: 8 | ER29: 5 | ES29: -25 | ET29: 32 | EU29: 37 | EV29: -31 | EW29: 天使 | EX29: 14 | EY29: 15 | EZ29: 11 | FA29: 16 | FB29: 12 | FC29: 11 | FD29: 23 | FE29: 32 | FF29: 244 | FG29: 58 | FH29: 26 | FI29: 30 | FJ29: 5 | FK29: 17 | FL29: 10 | FM29: 5 | FN29: -27 | FO29: 36 | FP29: 41 | FQ29: -33 | FR29: 天使 | FS29: 15 | FT29: 17 | FU29: 13 | FV29: 18 | FW29: 13 | FX29: 12 | FY29: 25 | FZ29: 35 | GA29: 262 | GB29: 61 | GC29: 29 | GD29: 33 | GE29: 5 | GF29: 19 | GG29: 12 | GH29: 6 | GI29: -29 | GJ29: 39 | GK29: 45 | GL29: -35 | GM29: 天使 | GN29: 17 | GO29: 19 | GP29: 14 | GQ29: 19 | GR29: 14 | GS29: 13 | GT29: 27 | GU29: 38 | GV29: 280 | GW29: 65 | GX29: 33 | GY29: 37 | GZ29: 6 | HA29: 20 | HB29: 13 | HC29: 7 | HD29: -33 | HE29: 43 | HF29: 50 | HG29: -38
B30: 3 | F30: 悪魔 | G30: 4 | H30: 3 | I30: 3 | J30: 4 | K30: 4 | L30: 1 | M30: 13 | N30: 8 | O30: 115 | P30: 28 | Q30: 10 | R30: 8 | S30: 4 | T30: 4 | U30: 1 | V30: 0 | W30: -2 | X30: 3 | Y30: -10 | Z30: 10 | AA30: 悪魔 | AB30: 5 | AC30: 4 | AD30: 4 | AE30: 6 | AF30: 6 | AG30: 2 | AH30: 16 | AI30: 11 | AJ30: 145 | AK30: 32 | AL30: 13 | AM30: 11 | AN30: 6 | AO30: 6 | AP30: 2 | AQ30: 3 | AR30: -4 | AS30: 5 | AT30: -13 | AU30: 13 | AV30: 悪魔 | AW30: 6 | AX30: 6 | AY30: 5 | AZ30: 7 | BA30: 7 | BB30: 3 | BC30: 18 | BD30: 13 | BE30: 169 | BF30: 35 | BG30: 16 | BH30: 14 | BI30: 8 | BJ30: 10 | BK30: 3 | BL30: 5 | BM30: -6 | BN30: 7 | BO30: -15 | BP30: 16 | BQ30: 悪魔 | BR30: 8 | BS30: 8 | BT30: 6 | BU30: 8 | BV30: 8 | BW30: 3 | BX30: 20 | BY30: 15 | BZ30: 195 | CA30: 39 | CB30: 20 | CC30: 17 | CD30: 10 | CE30: 11 | CF30: 5 | CG30: 6 | CH30: -7 | CI30: 8 | CJ30: -18 | CK30: 18 | CL30: 悪魔 | CM30: 9 | CN30: 10 | CO30: 7 | CP30: 9 | CQ30: 9 | CR30: 4 | CS30: 22 | CT30: 17 | CU30: 221 | CV30: 41 | CW30: 23 | CX30: 20 | CY30: 11 | CZ30: 13 | DA30: 7 | DB30: 7 | DC30: -11 | DD30: 10 | DE30: -21 | DF30: 21 | DG30: 悪魔 | DH30: 11 | DI30: 12 | DJ30: 8 | DK30: 11 | DL30: 10 | DM30: 4 | DN30: 24 | DO30: 19 | DP30: 245 | DQ30: 43 | DR30: 27 | DS30: 24 | DT30: 13 | DU30: 14 | DV30: 9 | DW30: 9 | DX30: -13 | DY30: 11 | DZ30: -24 | EA30: 24 | EB30: 悪魔 | EC30: 13 | ED30: 14 | EE30: 10 | EF30: 13 | EG30: 12 | EH30: 5 | EI30: 26 | EJ30: 22 | EK30: 269 | EL30: 47 | EM30: 30 | EN30: 27 | EO30: 14 | EP30: 16 | EQ30: 10 | ER30: 10 | ES30: -15 | ET30: 13 | EU30: -26 | EV30: 28 | EW30: 悪魔 | EX30: 14 | EY30: 15 | EZ30: 11 | FA30: 14 | FB30: 14 | FC30: 5 | FD30: 30 | FE30: 25 | FF30: 295 | FG30: 50 | FH30: 33 | FI30: 30 | FJ30: 16 | FK30: 17 | FL30: 12 | FM30: 11 | FN30: -18 | FO30: 14 | FP30: -29 | FQ30: 32 | FR30: 悪魔 | FS30: 16 | FT30: 16 | FU30: 12 | FV30: 16 | FW30: 16 | FX30: 6 | FY30: 33 | FZ30: 28 | GA30: 323 | GB30: 53 | GC30: 37 | GD30: 33 | GE30: 18 | GF30: 19 | GG30: 14 | GH30: 12 | GI30: -21 | GJ30: 15 | GK30: -32 | GL30: 35 | GM30: 悪魔 | GN30: 17 | GO30: 17 | GP30: 13 | GQ30: 18 | GR30: 17 | GS30: 7 | GT30: 36 | GU30: 32 | GV30: 355 | GW30: 58 | GX30: 40 | GY30: 36 | GZ30: 20 | HA30: 22 | HB30: 15 | HC30: 14 | HD30: -24 | HE30: 17 | HF30: -35 | HG30: 39
B31: 4 | F31: 妖精 | G31: 4 | H31: 5 | I31: 3 | J31: 4 | K31: 4 | L31: 5 | M31: 9 | N31: 10 | O31: 85 | P31: 34 | Q31: 7 | R31: 8 | S31: 3 | T31: 0 | U31: 9 | V31: -5 | W31: 10 | X31: 3 | Y31: 0 | Z31: 0 | AA31: 妖精 | AB31: 5 | AC31: 7 | AD31: 4 | AE31: 5 | AF31: 5 | AG31: 6 | AH31: 11 | AI31: 13 | AJ31: 103 | AK31: 37 | AL31: 10 | AM31: 11 | AN31: 5 | AO31: 1 | AP31: 13 | AQ31: -5 | AR31: 13 | AS31: 5 | AT31: 1 | AU31: 1 | AV31: 妖精 | AW31: 7 | AX31: 8 | AY31: 5 | AZ31: 7 | BA31: 7 | BB31: 8 | BC31: 14 | BD31: 16 | BE31: 121 | BF31: 41 | BG31: 12 | BH31: 14 | BI31: 7 | BJ31: 1 | BK31: 15 | BL31: -5 | BM31: 15 | BN31: 8 | BO31: 2 | BP31: 2 | BQ31: 妖精 | BR31: 9 | BS31: 9 | BT31: 7 | BU31: 8 | BV31: 8 | BW31: 9 | BX31: 16 | BY31: 19 | BZ31: 137 | CA31: 44 | CB31: 14 | CC31: 17 | CD31: 10 | CE31: 2 | CF31: 18 | CG31: -5 | CH31: 18 | CI31: 10 | CJ31: 3 | CK31: 3 | CL31: 妖精 | CM31: 10 | CN31: 10 | CO31: 8 | CP31: 10 | CQ31: 9 | CR31: 10 | CS31: 19 | CT31: 21 | CU31: 153 | CV31: 47 | CW31: 16 | CX31: 20 | CY31: 12 | CZ31: 2 | DA31: 21 | DB31: -5 | DC31: 20 | DD31: 11 | DE31: 4 | DF31: 4 | DG31: 妖精 | DH31: 11 | DI31: 12 | DJ31: 9 | DK31: 11 | DL31: 10 | DM31: 11 | DN31: 21 | DO31: 23 | DP31: 165 | DQ31: 50 | DR31: 18 | DS31: 23 | DT31: 14 | DU31: 3 | DV31: 24 | DW31: -6 | DX31: 22 | DY31: 13 | DZ31: 6 | EA31: 5 | EB31: 妖精 | EC31: 12 | ED31: 14 | EE31: 10 | EF31: 13 | EG31: 11 | EH31: 12 | EI31: 23 | EJ31: 25 | EK31: 185 | EL31: 53 | EM31: 20 | EN31: 25 | EO31: 17 | EP31: 4 | EQ31: 27 | ER31: -6 | ES31: 24 | ET31: 14 | EU31: 7 | EV31: 7 | EW31: 妖精 | EX31: 14 | EY31: 15 | EZ31: 11 | FA31: 14 | FB31: 13 | FC31: 14 | FD31: 25 | FE31: 28 | FF31: 203 | FG31: 56 | FH31: 22 | FI31: 28 | FJ31: 19 | FK31: 4 | FL31: 30 | FM31: -7 | FN31: 26 | FO31: 15 | FP31: 10 | FQ31: 8 | FR31: 妖精 | FS31: 15 | FT31: 17 | FU31: 13 | FV31: 16 | FW31: 14 | FX31: 15 | FY31: 27 | FZ31: 31 | GA31: 223 | GB31: 59 | GC31: 24 | GD31: 31 | GE31: 22 | GF31: 5 | GG31: 33 | GH31: -7 | GI31: 29 | GJ31: 16 | GK31: 10 | GL31: 9 | GM31: 妖精 | GN31: 17 | GO31: 19 | GP31: 15 | GQ31: 18 | GR31: 16 | GS31: 16 | GT31: 29 | GU31: 34 | GV31: 245 | GW31: 63 | GX31: 27 | GY31: 33 | GZ31: 24 | HA31: 6 | HB31: 36 | HC31: -8 | HD31: 31 | HE31: 18 | HF31: 11 | HG31: 10
B32: 4 | F32: 鳥人 | G32: 4 | H32: 4 | I32: 3 | J32: 5 | K32: 3 | L32: 6 | M32: 6 | N32: 6 | O32: 92 | P32: 26 | Q32: 10 | R32: 4 | S32: 2 | T32: -10 | U32: 2 | V32: -10 | W32: 10 | X32: 10 | Y32: 0 | Z32: -5 | AA32: 鳥人 | AB32: 5 | AC32: 6 | AD32: 4 | AE32: 7 | AF32: 4 | AG32: 8 | AH32: 8 | AI32: 9 | AJ32: 118 | AK32: 28 | AL32: 12 | AM32: 6 | AN32: 3 | AO32: -8 | AP32: 2 | AQ32: -12 | AR32: 13 | AS32: 16 | AT32: 1 | AU32: -4 | AV32: 鳥人 | AW32: 7 | AX32: 8 | AY32: 6 | AZ32: 8 | BA32: 5 | BB32: 9 | BC32: 10 | BD32: 11 | BE32: 142 | BF32: 31 | BG32: 14 | BH32: 8 | BI32: 4 | BJ32: -7 | BK32: 3 | BL32: -14 | BM32: 17 | BN32: 23 | BO32: 1 | BP32: -3 | BQ32: 鳥人 | BR32: 8 | BS32: 9 | BT32: 7 | BU32: 9 | BV32: 6 | BW32: 11 | BX32: 13 | BY32: 13 | BZ32: 160 | CA32: 35 | CB32: 16 | CC32: 10 | CD32: 5 | CE32: -6 | CF32: 3 | CG32: -16 | CH32: 20 | CI32: 29 | CJ32: 1 | CK32: -2 | CL32: 鳥人 | CM32: 10 | CN32: 10 | CO32: 9 | CP32: 10 | CQ32: 7 | CR32: 13 | CS32: 15 | CT32: 16 | CU32: 178 | CV32: 38 | CW32: 19 | CX32: 13 | CY32: 6 | CZ32: -5 | DA32: 4 | DB32: -17 | DC32: 24 | DD32: 35 | DE32: 2 | DF32: -1 | DG32: 鳥人 | DH32: 11 | DI32: 12 | DJ32: 11 | DK32: 11 | DL32: 9 | DM32: 14 | DN32: 18 | DO32: 18 | DP32: 190 | DQ32: 41 | DR32: 22 | DS32: 16 | DT32: 8 | DU32: -5 | DV32: 4 | DW32: -21 | DX32: 28 | DY32: 41 | DZ32: 2 | EA32: 0 | EB32: 鳥人 | EC32: 13 | ED32: 13 | EE32: 12 | EF32: 13 | EG32: 10 | EH32: 16 | EI32: 20 | EJ32: 20 | EK32: 212 | EL32: 44 | EM32: 25 | EN32: 19 | EO32: 9 | EP32: -5 | EQ32: 5 | ER32: -23 | ES32: 31 | ET32: 47 | EU32: 2 | EV32: 1 | EW32: 鳥人 | EX32: 14 | EY32: 14 | EZ32: 13 | FA32: 14 | FB32: 11 | FC32: 18 | FD32: 23 | FE32: 22 | FF32: 236 | FG32: 47 | FH32: 28 | FI32: 22 | FJ32: 10 | FK32: -5 | FL32: 5 | FM32: -25 | FN32: 35 | FO32: 54 | FP32: 2 | FQ32: 2 | FR32: 鳥人 | FS32: 15 | FT32: 16 | FU32: 15 | FV32: 16 | FW32: 13 | FX32: 20 | FY32: 26 | FZ32: 24 | GA32: 262 | GB32: 50 | GC32: 31 | GD32: 24 | GE32: 11 | GF32: -5 | GG32: 6 | GH32: -28 | GI32: 38 | GJ32: 60 | GK32: 3 | GL32: 3 | GM32: 鳥人 | GN32: 17 | GO32: 17 | GP32: 16 | GQ32: 18 | GR32: 15 | GS32: 22 | GT32: 29 | GU32: 27 | GV32: 288 | GW32: 53 | GX32: 34 | GY32: 26 | GZ32: 12 | HA32: -5 | HB32: 7 | HC32: -31 | HD32: 43 | HE32: 66 | HF32: 3 | HG32: 4
B33: 5 | F33: 竜人 | G33: 4 | H33: 3 | I33: 2 | J33: 4 | K33: 4 | L33: 0 | M33: 15 | N33: 13 | O33: 128 | P33: 15 | Q33: 15 | R33: 12 | S33: 17 | T33: 14 | U33: 0 | V33: 15 | W33: 12 | X33: 16 | Y33: 0 | Z33: 0 | AA33: 竜人 | AB33: 5 | AC33: 4 | AD33: 3 | AE33: 6 | AF33: 5 | AG33: 1 | AH33: 18 | AI33: 17 | AJ33: 162 | AK33: 18 | AL33: 18 | AM33: 14 | AN33: 23 | AO33: 21 | AP33: 0 | AQ33: 18 | AR33: 14 | AS33: 20 | AT33: 1 | AU33: 2 | AV33: 竜人 | AW33: 7 | AX33: 5 | AY33: 4 | AZ33: 7 | BA33: 7 | BB33: 1 | BC33: 21 | BD33: 20 | BE33: 194 | BF33: 21 | BG33: 20 | BH33: 16 | BI33: 28 | BJ33: 27 | BK33: 0 | BL33: 21 | BM33: 17 | BN33: 23 | BO33: 2 | BP33: 2 | BQ33: 竜人 | BR33: 9 | BS33: 7 | BT33: 5 | BU33: 8 | BV33: 8 | BW33: 2 | BX33: 23 | BY33: 22 | BZ33: 226 | CA33: 23 | CB33: 23 | CC33: 19 | CD33: 32 | CE33: 32 | CF33: 0 | CG33: 25 | CH33: 20 | CI33: 25 | CJ33: 2 | CK33: 3 | CL33: 竜人 | CM33: 11 | CN33: 8 | CO33: 6 | CP33: 10 | CQ33: 9 | CR33: 2 | CS33: 25 | CT33: 25 | CU33: 254 | CV33: 25 | CW33: 27 | CX33: 23 | CY33: 36 | CZ33: 37 | DA33: 0 | DB33: 29 | DC33: 25 | DD33: 28 | DE33: 3 | DF33: 4 | DG33: 竜人 | DH33: 12 | DI33: 10 | DJ33: 7 | DK33: 12 | DL33: 10 | DM33: 3 | DN33: 28 | DO33: 28 | DP33: 279 | DQ33: 28 | DR33: 31 | DS33: 27 | DT33: 41 | DU33: 40 | DV33: 0 | DW33: 34 | DX33: 16 | DY33: 34 | DZ33: 3 | EA33: 4 | EB33: 竜人 | EC33: 14 | ED33: 12 | EE33: 9 | EF33: 14 | EG33: 13 | EH33: 3 | EI33: 31 | EJ33: 30 | EK33: 303 | EL33: 31 | EM33: 35 | EN33: 31 | EO33: 46 | EP33: 43 | EQ33: 0 | ER33: 38 | ES33: 26 | ET33: 39 | EU33: 4 | EV33: 5 | EW33: 竜人 | EX33: 15 | EY33: 13 | EZ33: 10 | FA33: 15 | FB33: 15 | FC33: 4 | FD33: 34 | FE33: 33 | FF33: 329 | FG33: 35 | FH33: 39 | FI33: 35 | FJ33: 50 | FK33: 47 | FL33: 0 | FM33: 43 | FN33: 29 | FO33: 41 | FP33: 5 | FQ33: 5 | FR33: 竜人 | FS33: 17 | FT33: 15 | FU33: 11 | FV33: 17 | FW33: 16 | FX33: 4 | FY33: 37 | FZ33: 36 | GA33: 361 | GB33: 37 | GC33: 42 | GD33: 38 | GE33: 55 | GF33: 53 | GG33: 0 | GH33: 48 | GI33: 32 | GJ33: 46 | GK33: 5 | GL33: 6 | GM33: 竜人 | GN33: 19 | GO33: 17 | GP33: 12 | GQ33: 18 | GR33: 18 | GS33: 5 | GT33: 40 | GU33: 38 | GV33: 392 | GW33: 40 | GX33: 46 | GY33: 42 | GZ33: 59 | HA33: 56 | HB33: 0 | HC33: 52 | HD33: 55 | HE33: 50 | HF33: 6 | HG33: 7
B34: 5 | F34: 獣人 | G34: 4 | H34: 4 | I34: 4 | J34: 4 | K34: 3 | L34: 3 | M34: 11 | N34: 10 | O34: 104 | P34: 20 | Q34: 9 | R34: 5 | S34: -8 | T34: 6 | U34: 1 | V34: -4 | W34: 3 | X34: 11 | Y34: 2 | Z34: 2 | AA34: 獣人 | AB34: 6 | AC34: 5 | AD34: 5 | AE34: 6 | AF34: 4 | AG34: 4 | AH34: 13 | AI34: 12 | AJ34: 127 | AK34: 23 | AL34: 12 | AM34: 8 | AN34: -10 | AO34: 8 | AP34: 2 | AQ34: -4 | AR34: 3 | AS34: 11 | AT34: 2 | AU34: 2 | AV34: 獣人 | AW34: 7 | AX34: 7 | AY34: 7 | AZ34: 7 | BA34: 6 | BB34: 5 | BC34: 15 | BD34: 14 | BE34: 152 | BF34: 26 | BG34: 15 | BH34: 10 | BI34: -13 | BJ34: 10 | BK34: 3 | BL34: -4 | BM34: 7 | BN34: 18 | BO34: 4 | BP34: 5 | BQ34: 獣人 | BR34: 9 | BS34: 8 | BT34: 9 | BU34: 8 | BV34: 7 | BW34: 7 | BX34: 18 | BY34: 16 | BZ34: 175 | CA34: 28 | CB34: 17 | CC34: 12 | CD34: -15 | CE34: 12 | CF34: 3 | CG34: -4 | CH34: 9 | CI34: 21 | CJ34: 5 | CK34: 7 | CL34: 獣人 | CM34: 10 | CN34: 9 | CO34: 10 | CP34: 9 | CQ34: 8 | CR34: 10 | CS34: 20 | CT34: 19 | CU34: 202 | CV34: 31 | CW34: 20 | CX34: 14 | CY34: -18 | CZ34: 13 | DA34: 4 | DB34: -3 | DC34: 12 | DD34: 24 | DE34: 6 | DF34: 9 | DG34: 獣人 | DH34: 11 | DI34: 10 | DJ34: 12 | DK34: 11 | DL34: 9 | DM34: 12 | DN34: 23 | DO34: 21 | DP34: 229 | DQ34: 34 | DR34: 22 | DS34: 16 | DT34: -21 | DU34: 15 | DV34: 4 | DW34: -3 | DX34: 14 | DY34: 27 | DZ34: 7 | EA34: 11 | EB34: 獣人 | EC34: 13 | ED34: 12 | EE34: 13 | EF34: 12 | EG34: 10 | EH34: 13 | EI34: 26 | EJ34: 23 | EK34: 256 | EL34: 37 | EM34: 24 | EN34: 18 | EO34: -24 | EP34: 17 | EQ34: 5 | ER34: -3 | ES34: 16 | ET34: 32 | EU34: 8 | EV34: 12 | EW34: 獣人 | EX34: 14 | EY34: 13 | EZ34: 15 | FA34: 14 | FB34: 12 | FC34: 14 | FD34: 29 | FE34: 24 | FF34: 282 | FG34: 39 | FH34: 26 | FI34: 21 | FJ34: -27 | FK34: 20 | FL34: 5 | FM34: -2 | FN34: 18 | FO34: 36 | FP34: 9 | FQ34: 14 | FR34: 獣人 | FS34: 16 | FT34: 15 | FU34: 16 | FV34: 15 | FW34: 13 | FX34: 15 | FY34: 31 | FZ34: 26 | GA34: 309 | GB34: 43 | GC34: 28 | GD34: 22 | GE34: -30 | GF34: 23 | GG34: 6 | GH34: -2 | GI34: 20 | GJ34: 41 | GK34: 10 | GL34: 16 | GM34: 獣人 | GN34: 18 | GO34: 17 | GP34: 18 | GQ34: 17 | GR34: 14 | GS34: 18 | GT34: 34 | GU34: 28 | GV34: 342 | GW34: 46 | GX34: 32 | GY34: 24 | GZ34: -33 | HA34: 27 | HB34: 6 | HC34: -2 | HD34: 23 | HE34: 45 | HF34: 12 | HG34: 18
B35: 6 | F35: 吸血鬼 | G35: 4 | H35: 3 | I35: 3 | J35: 4 | K35: 3 | L35: 5 | M35: 11 | N35: 10 | O35: 120 | P35: 25 | Q35: 13 | R35: 13 | S35: -35 | T35: 5 | U35: -30 | V35: 3 | W35: 4 | X35: 2 | Y35: -35 | Z35: 26 | AA35: 吸血鬼 | AB35: 6 | AC35: 4 | AD35: 4 | AE35: 5 | AF35: 5 | AG35: 7 | AH35: 13 | AI35: 12 | AJ35: 141 | AK35: 28 | AL35: 16 | AM35: 16 | AN35: -38 | AO35: 7 | AP35: -30 | AQ35: 5 | AR35: 6 | AS35: 4 | AT35: -38 | AU35: 34 | AV35: 吸血鬼 | AW35: 7 | AX35: 6 | AY35: 6 | AZ35: 7 | BA35: 6 | BB35: 9 | BC35: 15 | BD35: 14 | BE35: 167 | BF35: 32 | BG35: 19 | BH35: 19 | BI35: -41 | BJ35: 10 | BK35: -30 | BL35: 7 | BM35: 8 | BN35: 6 | BO35: -42 | BP35: 37 | BQ35: 吸血鬼 | BR35: 8 | BS35: 7 | BT35: 7 | BU35: 9 | BV35: 7 | BW35: 11 | BX35: 17 | BY35: 15 | BZ35: 194 | CA35: 35 | CB35: 22 | CC35: 22 | CD35: -43 | CE35: 12 | CF35: -30 | CG35: 11 | CH35: 10 | CI35: 8 | CJ35: -45 | CK35: 41 | CL35: 吸血鬼 | CM35: 10 | CN35: 9 | CO35: 8 | CP35: 10 | CQ35: 8 | CR35: 12 | CS35: 19 | CT35: 17 | CU35: 222 | CV35: 38 | CW35: 25 | CX35: 25 | CY35: -46 | CZ35: 15 | DA35: -30 | DB35: 13 | DC35: 12 | DD35: 10 | DE35: -48 | DF35: 46 | DG35: 吸血鬼 | DH35: 12 | DI35: 11 | DJ35: 9 | DK35: 11 | DL35: 10 | DM35: 14 | DN35: 21 | DO35: 19 | DP35: 249 | DQ35: 41 | DR35: 28 | DS35: 28 | DT35: -49 | DU35: 16 | DV35: -30 | DW35: 16 | DX35: 15 | DY35: 11 | DZ35: -51 | EA35: 51 | EB35: 吸血鬼 | EC35: 14 | ED35: 12 | EE35: 10 | EF35: 13 | EG35: 11 | EH35: 16 | EI35: 24 | EJ35: 22 | EK35: 276 | EL35: 44 | EM35: 31 | EN35: 31 | EO35: -52 | EP35: 18 | EQ35: -30 | ER35: 19 | ES35: 18 | ET35: 13 | EU35: -53 | EV35: 55 | EW35: 吸血鬼 | EX35: 15 | EY35: 14 | EZ35: 11 | FA35: 15 | FB35: 12 | FC35: 17 | FD35: 27 | FE35: 24 | FF35: 305 | FG35: 47 | FH35: 34 | FI35: 34 | FJ35: -55 | FK35: 20 | FL35: -30 | FM35: 21 | FN35: 20 | FO35: 15 | FP35: -56 | FQ35: 58 | FR35: 吸血鬼 | FS35: 17 | FT35: 15 | FU35: 12 | FV35: 16 | FW35: 13 | FX35: 19 | FY35: 31 | FZ35: 26 | GA35: 335 | GB35: 50 | GC35: 37 | GD35: 37 | GE35: -58 | GF35: 22 | GG35: -30 | GH35: 23 | GI35: 22 | GJ35: 17 | GK35: -60 | GL35: 62 | GM35: 吸血鬼 | GN35: 19 | GO35: 17 | GP35: 14 | GQ35: 18 | GR35: 14 | GS35: 21 | GT35: 34 | GU35: 28 | GV35: 360 | GW35: 53 | GX35: 40 | GY35: 40 | GZ35: -61 | HA35: 25 | HB35: -30 | HC35: 26 | HD35: 25 | HE35: 19 | HF35: -63 | HG35: 66
B36: 6 | F36: 偽人 | G36: 5 | H36: 5 | I36: 3 | J36: 4 | K36: 3 | L36: 4 | M36: 10 | N36: 10 | O36: 100 | P36: 30 | Q36: 10 | R36: 10 | S36: 0 | T36: 0 | U36: -5 | V36: 0 | W36: 5 | X36: 2 | Y36: 4 | Z36: 3 | AA36: 偽人 | AB36: 6 | AC36: 6 | AD36: 4 | AE36: 5 | AF36: 4 | AG36: 5 | AH36: 12 | AI36: 11 | AJ36: 122 | AK36: 32 | AL36: 13 | AM36: 12 | AN36: -1 | AO36: 1 | AP36: -4 | AQ36: -2 | AR36: 8 | AS36: 4 | AT36: 6 | AU36: 5 | AV36: 偽人 | AW36: 7 | AX36: 7 | AY36: 5 | AZ36: 6 | BA36: 5 | BB36: 6 | BC36: 14 | BD36: 13 | BE36: 146 | BF36: 35 | BG36: 16 | BH36: 14 | BI36: -3 | BJ36: 3 | BK36: -3 | BL36: -4 | BM36: 11 | BN36: 6 | BO36: 7 | BP36: 7 | BQ36: 偽人 | BR36: 8 | BS36: 9 | BT36: 6 | BU36: 8 | BV36: 6 | BW36: 7 | BX36: 15 | BY36: 15 | BZ36: 170 | CA36: 38 | CB36: 19 | CC36: 17 | CD36: -5 | CE36: 4 | CF36: 0 | CG36: -6 | CH36: 15 | CI36: 7 | CJ36: 10 | CK36: 8 | CL36: 偽人 | CM36: 10 | CN36: 10 | CO36: 8 | CP36: 10 | CQ36: 8 | CR36: 8 | CS36: 17 | CT36: 16 | CU36: 194 | CV36: 41 | CW36: 22 | CX36: 20 | CY36: -6 | CZ36: 5 | DA36: 2 | DB36: -9 | DC36: 19 | DD36: 10 | DE36: 12 | DF36: 11 | DG36: 偽人 | DH36: 11 | DI36: 12 | DJ36: 10 | DK36: 12 | DL36: 10 | DM36: 9 | DN36: 19 | DO36: 18 | DP36: 222 | DQ36: 44 | DR36: 25 | DS36: 23 | DT36: -9 | DU36: 6 | DV36: 4 | DW36: -12 | DX36: 22 | DY36: 12 | DZ36: 14 | EA36: 13 | EB36: 偽人 | EC36: 13 | ED36: 13 | EE36: 12 | EF36: 13 | EG36: 12 | EH36: 10 | EI36: 22 | EJ36: 21 | EK36: 250 | EL36: 47 | EM36: 28 | EN36: 26 | EO36: -12 | EP36: 7 | EQ36: 6 | ER36: -15 | ES36: 26 | ET36: 13 | EU36: 16 | EV36: 15 | EW36: 偽人 | EX36: 14 | EY36: 14 | EZ36: 13 | FA36: 15 | FB36: 13 | FC36: 12 | FD36: 25 | FE36: 23 | FF36: 274 | FG36: 50 | FH36: 32 | FI36: 28 | FJ36: -15 | FK36: 8 | FL36: 7 | FM36: -18 | FN36: 30 | FO36: 15 | FP36: 19 | FQ36: 17 | FR36: 偽人 | FS36: 16 | FT36: 16 | FU36: 14 | FV36: 17 | FW36: 14 | FX36: 14 | FY36: 28 | FZ36: 25 | GA36: 300 | GB36: 53 | GC36: 35 | GD36: 30 | GE36: -16 | GF36: 9 | GG36: 10 | GH36: -21 | GI36: 32 | GJ36: 18 | GK36: 22 | GL36: 20 | GM36: 偽人 | GN36: 18 | GO36: 18 | GP36: 15 | GQ36: 18 | GR36: 15 | GS36: 15 | GT36: 32 | GU36: 26 | GV36: 330 | GW36: 56 | GX36: 38 | GY36: 33 | GZ36: -18 | HA36: 10 | HB36: 12 | HC36: -24 | HD36: 35 | HE36: 22 | HF36: 25 | HG36: 22
B37: 7 | F37: 魔法人形 | G37: 4 | H37: 3 | I37: 3 | J37: 5 | K37: 4 | L37: 4 | M37: 7 | N37: 18 | O37: 50 | P37: 44 | Q37: 3 | R37: 2 | S37: 20 | T37: 20 | U37: 20 | V37: 20 | W37: 10 | X37: 5 | Y37: 6 | Z37: 6 | AA37: 魔法人形 | AB37: 5 | AC37: 4 | AD37: 4 | AE37: 6 | AF37: 6 | AG37: 5 | AH37: 11 | AI37: 22 | AJ37: 66 | AK37: 49 | AL37: 5 | AM37: 4 | AN37: 23 | AO37: 23 | AP37: 23 | AQ37: 23 | AR37: 12 | AS37: 5 | AT37: 6 | AU37: 6 | AV37: 魔法人形 | AW37: 6 | AX37: 5 | AY37: 6 | AZ37: 8 | BA37: 8 | BB37: 7 | BC37: 13 | BD37: 25 | BE37: 78 | BF37: 53 | BG37: 7 | BH37: 6 | BI37: 26 | BJ37: 25 | BK37: 30 | BL37: 31 | BM37: 15 | BN37: 5 | BO37: 7 | BP37: 7 | BQ37: 魔法人形 | BR37: 8 | BS37: 6 | BT37: 7 | BU37: 10 | BV37: 10 | BW37: 8 | BX37: 15 | BY37: 28 | BZ37: 92 | CA37: 58 | CB37: 8 | CC37: 7 | CD37: 29 | CE37: 28 | CF37: 34 | CG37: 35 | CH37: 18 | CI37: 5 | CJ37: 7 | CK37: 7 | CL37: 魔法人形 | CM37: 9 | CN37: 7 | CO37: 8 | CP37: 12 | CQ37: 11 | CR37: 9 | CS37: 18 | CT37: 32 | CU37: 106 | CV37: 63 | CW37: 10 | CX37: 8 | CY37: 31 | CZ37: 30 | DA37: 36 | DB37: 38 | DC37: 21 | DD37: 5 | DE37: 8 | DF37: 8 | DG37: 魔法人形 | DH37: 10 | DI37: 8 | DJ37: 9 | DK37: 14 | DL37: 13 | DM37: 10 | DN37: 21 | DO37: 36 | DP37: 116 | DQ37: 67 | DR37: 11 | DS37: 10 | DT37: 34 | DU37: 33 | DV37: 38 | DW37: 41 | DX37: 25 | DY37: 5 | DZ37: 8 | EA37: 8 | EB37: 魔法人形 | EC37: 12 | ED37: 9 | EE37: 10 | EF37: 16 | EG37: 14 | EH37: 11 | EI37: 25 | EJ37: 41 | EK37: 130 | EL37: 72 | EM37: 13 | EN37: 11 | EO37: 37 | EP37: 35 | EQ37: 40 | ER37: 45 | ES37: 28 | ET37: 5 | EU37: 12 | EV37: 12 | EW37: 魔法人形 | EX37: 13 | EY37: 10 | EZ37: 12 | FA37: 18 | FB37: 16 | FC37: 13 | FD37: 29 | FE37: 45 | FF37: 146 | FG37: 75 | FH37: 15 | FI37: 12 | FJ37: 40 | FK37: 38 | FL37: 42 | FM37: 48 | FN37: 30 | FO37: 5 | FP37: 12 | FQ37: 12 | FR37: 魔法人形 | FS37: 14 | FT37: 11 | FU37: 13 | FV37: 20 | FW37: 18 | FX37: 14 | FY37: 31 | FZ37: 49 | GA37: 162 | GB37: 79 | GC37: 17 | GD37: 14 | GE37: 43 | GF37: 40 | GG37: 45 | GH37: 50 | GI37: 33 | GJ37: 5 | GK37: 10 | GL37: 10 | GM37: 魔法人形 | GN37: 16 | GO37: 12 | GP37: 14 | GQ37: 21 | GR37: 19 | GS37: 16 | GT37: 35 | GU37: 53 | GV37: 180 | GW37: 83 | GX37: 19 | GY37: 16 | GZ37: 46 | HA37: 42 | HB37: 49 | HC37: 53 | HD37: 36 | HE37: 5 | HF37: 10 | HG37: 10
B38: 7 | F38: 死神 | G38: 5 | H38: 2 | I38: 3 | J38: 5 | K38: 3 | L38: 3 | M38: 6 | N38: 6 | O38: 90 | P38: 28 | Q38: 9 | R38: 9 | S38: 8 | T38: 0 | U38: 4 | V38: 8 | W38: -5 | X38: 0 | Y38: -20 | Z38: 20 | AA38: 死神 | AB38: 6 | AC38: 3 | AD38: 4 | AE38: 7 | AF38: 5 | AG38: 5 | AH38: 8 | AI38: 8 | AJ38: 109 | AK38: 30 | AL38: 11 | AM38: 11 | AN38: 11 | AO38: 0 | AP38: 5 | AQ38: 10 | AR38: -5 | AS38: 0 | AT38: -20 | AU38: 24 | AV38: 死神 | AW38: 8 | AX38: 4 | AY38: 6 | AZ38: 8 | BA38: 6 | BB38: 6 | BC38: 11 | BD38: 11 | BE38: 127 | BF38: 33 | BG38: 15 | BH38: 14 | BI38: 13 | BJ38: 0 | BK38: 6 | BL38: 13 | BM38: -5 | BN38: 0 | BO38: -20 | BP38: 27 | BQ38: 死神 | BR38: 9 | BS38: 5 | BT38: 7 | BU38: 9 | BV38: 7 | BW38: 7 | BX38: 13 | BY38: 13 | BZ38: 146 | CA38: 36 | CB38: 19 | CC38: 17 | CD38: 16 | CE38: 0 | CF38: 8 | CG38: 15 | CH38: -5 | CI38: 0 | CJ38: -20 | CK38: 31 | CL38: 死神 | CM38: 11 | CN38: 6 | CO38: 9 | CP38: 11 | CQ38: 9 | CR38: 8 | CS38: 16 | CT38: 16 | CU38: 169 | CV38: 39 | CW38: 21 | CX38: 19 | CY38: 19 | CZ38: 0 | DA38: 10 | DB38: 18 | DC38: -5 | DD38: 0 | DE38: -20 | DF38: 35 | DG38: 死神 | DH38: 13 | DI38: 7 | DJ38: 10 | DK38: 13 | DL38: 11 | DM38: 9 | DN38: 19 | DO38: 19 | DP38: 192 | DQ38: 41 | DR38: 23 | DS38: 22 | DT38: 22 | DU38: 0 | DV38: 12 | DW38: 21 | DX38: -5 | DY38: 0 | DZ38: -20 | EA38: 39 | EB38: 死神 | EC38: 14 | ED38: 8 | EE38: 11 | EF38: 15 | EG38: 12 | EH38: 10 | EI38: 21 | EJ38: 21 | EK38: 212 | EL38: 44 | EM38: 25 | EN38: 25 | EO38: 25 | EP38: 0 | EQ38: 13 | ER38: 24 | ES38: -5 | ET38: 0 | EU38: -20 | EV38: 44 | EW38: 死神 | EX38: 15 | EY38: 9 | EZ38: 13 | FA38: 16 | FB38: 13 | FC38: 11 | FD38: 24 | FE38: 24 | FF38: 237 | FG38: 47 | FH38: 28 | FI38: 28 | FJ38: 28 | FK38: 0 | FL38: 14 | FM38: 27 | FN38: -5 | FO38: 0 | FP38: -20 | FQ38: 47 | FR38: 死神 | FS38: 17 | FT38: 10 | FU38: 14 | FV38: 18 | FW38: 15 | FX38: 13 | FY38: 26 | FZ38: 26 | GA38: 260 | GB38: 50 | GC38: 30 | GD38: 31 | GE38: 31 | GF38: 0 | GG38: 15 | GH38: 29 | GI38: -5 | GJ38: 0 | GK38: -20 | GL38: 50 | GM38: 死神 | GN38: 19 | GO38: 11 | GP38: 16 | GQ38: 19 | GR38: 17 | GS38: 14 | GT38: 29 | GU38: 29 | GV38: 282 | GW38: 52 | GX38: 32 | GY38: 34 | GZ38: 34 | HA38: 0 | HB38: 17 | HC38: 31 | HD38: -5 | HE38: 0 | HF38: -20 | HG38: 54
B39: 8 | F39: 神格 | G39: 4 | H39: 4 | I39: 3 | J39: 4 | K39: 5 | L39: 2 | M39: 7 | N39: 8 | O39: 108 | P39: 28 | Q39: 8 | R39: 8 | S39: 1 | T39: 2 | U39: 3 | V39: 3 | W39: 2 | X39: 2 | Y39: 0 | Z39: 0 | AA39: 神格 | AB39: 6 | AC39: 5 | AD39: 4 | AE39: 6 | AF39: 6 | AG39: 3 | AH39: 10 | AI39: 11 | AJ39: 131 | AK39: 30 | AL39: 10 | AM39: 10 | AN39: 3 | AO39: 4 | AP39: 4 | AQ39: 5 | AR39: 4 | AS39: 5 | AT39: 0 | AU39: 0 | AV39: 神格 | AW39: 7 | AX39: 7 | AY39: 5 | AZ39: 7 | BA39: 8 | BB39: 5 | BC39: 13 | BD39: 14 | BE39: 153 | BF39: 33 | BG39: 12 | BH39: 11 | BI39: 5 | BJ39: 7 | BK39: 6 | BL39: 7 | BM39: 6 | BN39: 8 | BO39: 0 | BP39: 0 | BQ39: 神格 | BR39: 9 | BS39: 8 | BT39: 6 | BU39: 8 | BV39: 9 | BW39: 7 | BX39: 15 | BY39: 17 | BZ39: 175 | CA39: 35 | CB39: 14 | CC39: 12 | CD39: 7 | CE39: 10 | CF39: 8 | CG39: 8 | CH39: 8 | CI39: 12 | CJ39: 0 | CK39: 0 | CL39: 神格 | CM39: 9 | CN39: 9 | CO39: 8 | CP39: 10 | CQ39: 10 | CR39: 8 | CS39: 18 | CT39: 20 | CU39: 196 | CV39: 38 | CW39: 17 | CX39: 14 | CY39: 10 | CZ39: 12 | DA39: 10 | DB39: 12 | DC39: 10 | DD39: 15 | DE39: 0 | DF39: 0 | DG39: 神格 | DH39: 11 | DI39: 11 | DJ39: 9 | DK39: 12 | DL39: 12 | DM39: 9 | DN39: 20 | DO39: 22 | DP39: 218 | DQ39: 41 | DR39: 19 | DS39: 16 | DT39: 12 | DU39: 14 | DV39: 12 | DW39: 13 | DX39: 12 | DY39: 19 | DZ39: 0 | EA39: 0 | EB39: 神格 | EC39: 13 | ED39: 12 | EE39: 11 | EF39: 14 | EG39: 13 | EH39: 10 | EI39: 23 | EJ39: 25 | EK39: 242 | EL39: 44 | EM39: 21 | EN39: 18 | EO39: 13 | EP39: 16 | EQ39: 14 | ER39: 15 | ES39: 14 | ET39: 21 | EU39: 0 | EV39: 0 | EW39: 神格 | EX39: 15 | EY39: 14 | EZ39: 12 | FA39: 15 | FB39: 15 | FC39: 12 | FD39: 25 | FE39: 28 | FF39: 271 | FG39: 47 | FH39: 23 | FI39: 21 | FJ39: 15 | FK39: 18 | FL39: 16 | FM39: 18 | FN39: 16 | FO39: 25 | FP39: 0 | FQ39: 0 | FR39: 神格 | FS39: 16 | FT39: 16 | FU39: 14 | FV39: 17 | FW39: 16 | FX39: 13 | FY39: 27 | FZ39: 31 | GA39: 292 | GB39: 50 | GC39: 24 | GD39: 23 | GE39: 18 | GF39: 20 | GG39: 18 | GH39: 20 | GI39: 19 | GJ39: 29 | GK39: 0 | GL39: 0 | GM39: 神格 | GN39: 17 | GO39: 17 | GP39: 15 | GQ39: 18 | GR39: 18 | GS39: 15 | GT39: 30 | GU39: 34 | GV39: 314 | GW39: 53 | GX39: 26 | GY39: 25 | GZ39: 20 | HA39: 22 | HB39: 19 | HC39: 21 | HD39: 22 | HE39: 33 | HF39: 0 | HG39: 0
... B49: 15 | F49: 爬虫人 | G49: 4 | H49: 5 | I49: 3 | J49: 3 | K49: 2 | L49: 4 | M49: 10 | N49: 13 | O49: 117 | P49: 21 | Q49: 17 | R49: 17 | S49: 38 | T49: 6 | U49: 8 | V49: 3 | W49: -10 | X49: 3 | Y49: 3 | Z49: 6 | AA49: 爬虫人 | AB49: 6 | AC49: 6 | AD49: 5 | AE49: 4 | AF49: 3 | AG49: 5 | AH49: 12 | AI49: 15 | AJ49: 139 | AK49: 24 | AL49: 20 | AM49: 19 | AN49: 42 | AO49: 9 | AP49: 10 | AQ49: 0 | AR49: -12 | AS49: 4 | AT49: 4 | AU49: 8 | AV49: 爬虫人 | AW49: 7 | AX49: 8 | AY49: 6 | AZ49: 6 | BA49: 5 | BB49: 6 | BC49: 13 | BD49: 18 | BE49: 161 | BF49: 27 | BG49: 22 | BH49: 21 | BI49: 45 | BJ49: 11 | BK49: 11 | BL49: 0 | BM49: -13 | BN49: 6 | BO49: 5 | BP49: 10 | BQ49: 爬虫人 | BR49: 8 | BS49: 9 | BT49: 7 | BU49: 8 | BV49: 7 | BW49: 7 | BX49: 16 | BY49: 22 | BZ49: 184 | CA49: 30 | CB49: 24 | CC49: 23 | CD49: 48 | CE49: 13 | CF49: 13 | CG49: 0 | CH49: -15 | CI49: 7 | CJ49: 6 | CK49: 12 | CL49: 爬虫人 | CM49: 10 | CN49: 10 | CO49: 9 | CP49: 9 | CQ49: 8 | CR49: 8 | CS49: 19 | CT49: 25 | CU49: 210 | CV49: 34 | CW49: 27 | CX49: 25 | CY49: 51 | CZ49: 14 | DA49: 14 | DB49: 0 | DC49: -16 | DD49: 9 | DE49: 7 | DF49: 14 | DG49: 爬虫人 | DH49: 12 | DI49: 12 | DJ49: 10 | DK49: 11 | DL49: 9 | DM49: 9 | DN49: 23 | DO49: 29 | DP49: 233 | DQ49: 37 | DR49: 31 | DS49: 27 | DT49: 55 | DU49: 17 | DV49: 15 | DW49: 0 | DX49: -17 | DY49: 10 | DZ49: 8 | EA49: 16 | EB49: 爬虫人 | EC49: 13 | ED49: 13 | EE49: 11 | EF49: 12 | EG49: 11 | EH49: 10 | EI49: 26 | EJ49: 33 | EK49: 257 | EL49: 41 | EM49: 35 | EN49: 29 | EO49: 58 | EP49: 20 | EQ49: 16 | ER49: 0 | ES49: -19 | ET49: 11 | EU49: 9 | EV49: 18 | EW49: 爬虫人 | EX49: 14 | EY49: 15 | EZ49: 13 | FA49: 13 | FB49: 12 | FC49: 11 | FD49: 30 | FE49: 35 | FF49: 282 | FG49: 45 | FH49: 38 | FI49: 32 | FJ49: 61 | FK49: 23 | FL49: 17 | FM49: 0 | FN49: -20 | FO49: 13 | FP49: 10 | FQ49: 20 | FR49: 爬虫人 | FS49: 15 | FT49: 16 | FU49: 14 | FV49: 15 | FW49: 13 | FX49: 12 | FY49: 33 | FZ49: 38 | GA49: 315 | GB49: 48 | GC49: 40 | GD49: 35 | GE49: 63 | GF49: 25 | GG49: 19 | GH49: 0 | GI49: -21 | GJ49: 14 | GK49: 11 | GL49: 22 | GM49: 爬虫人 | GN49: 17 | GO49: 17 | GP49: 15 | GQ49: 17 | GR49: 14 | GS49: 13 | GT49: 35 | GU49: 40 | GV49: 346 | GW49: 52 | GX49: 42 | GY49: 39 | GZ49: 66 | HA49: 27 | HB49: 20 | HC49: 0 | HD49: -23 | HE49: 15 | HF49: 12 | HG49: 23
B50: 16 | F50: キメラ忌 | G50: =MAX(VLOOKUP(キメラA,F27:Z70,G26,FALSE),VLOOKUP(キメラB,F27:Z70,G26,FALSE)) -> #N/A | H50: =MAX(VLOOKUP(キメラA,F27:Z70,H26,FALSE),VLOOKUP(キメラB,F27:Z70,H26,FALSE)) -> #N/A | I50: =MAX(VLOOKUP(キメラA,F27:Z70,I26,FALSE),VLOOKUP(キメラB,F27:Z70,I26,FALSE)) -> #N/A | J50: =MAX(VLOOKUP(キメラA,F27:Z70,J26,FALSE),VLOOKUP(キメラB,F27:Z70,J26,FALSE)) -> #N/A | K50: =MAX(VLOOKUP(キメラA,F27:Z70,K26,FALSE),VLOOKUP(キメラB,F27:Z70,K26,FALSE)) -> #N/A | L50: =ROUNDDOWN(VLOOKUP(キメラA,F27:Z70,L26,FALSE)/2+VLOOKUP(キメラB,F27:Z70,L26,FALSE)/2,0) -> #N/A | M50: =MIN(VLOOKUP(キメラA,F27:Z70,M26,FALSE),VLOOKUP(キメラB,F27:Z70,M26,FALSE)) -> #N/A | N50: =MIN(VLOOKUP(キメラA,F27:Z70,N26,FALSE),VLOOKUP(キメラB,F27:Z70,N26,FALSE)) -> #N/A | O50: =ROUNDDOWN(VLOOKUP(キメラA,F27:Z70,O26,FALSE)/2+VLOOKUP(キメラB,F27:Z70,O26,FALSE)/2,0) -> #N/A | P50: =ROUNDDOWN(VLOOKUP(キメラA,F27:Z70,P26,FALSE)/2+VLOOKUP(キメラB,F27:Z70,P26,FALSE)/2,0) -> #N/A | Q50: =MIN(VLOOKUP(キメラA,F27:Z70,Q26,FALSE),VLOOKUP(キメラB,F27:Z70,Q26,FALSE)) -> #N/A | R50: =MIN(VLOOKUP(キメラA,F27:Z70,R26,FALSE),VLOOKUP(キメラB,F27:Z70,R26,FALSE)) -> #N/A | S50: =MIN(VLOOKUP(キメラA,F27:Z70,S26,FALSE),VLOOKUP(キメラB,F27:Z70,S26,FALSE)) -> #N/A | T50: =MIN(VLOOKUP(キメラA,F27:Z70,T26,FALSE),VLOOKUP(キメラB,F27:Z70,T26,FALSE)) -> #N/A | U50: =MIN(VLOOKUP(キメラA,F27:Z70,U26,FALSE),VLOOKUP(キメラB,F27:Z70,U26,FALSE)) -> #N/A | V50: =MIN(VLOOKUP(キメラA,F27:Z70,V26,FALSE),VLOOKUP(キメラB,F27:Z70,V26,FALSE)) -> #N/A | W50: =MIN(VLOOKUP(キメラA,F27:Z70,W26,FALSE),VLOOKUP(キメラB,F27:Z70,W26,FALSE)) -> #N/A | X50: =MIN(VLOOKUP(キメラA,F27:Z70,X26,FALSE),VLOOKUP(キメラB,F27:Z70,X26,FALSE)) -> #N/A | Y50: =MIN(VLOOKUP(キメラA,F27:Z70,Y26,FALSE),VLOOKUP(キメラB,F27:Z70,Y26,FALSE)) -> #N/A | Z50: =MIN(VLOOKUP(キメラA,F27:Z70,Z26,FALSE),VLOOKUP(キメラB,F27:Z70,Z26,FALSE)) -> #N/A | AA50: キメラ忌 | AB50: =MAX(VLOOKUP(キメラA,AA27:AU70,AB26,FALSE),VLOOKUP(キメラB,AA27:AU70,AB26,FALSE)) -> #N/A | AC50: =MAX(VLOOKUP(キメラA,AA27:AU70,AC26,FALSE),VLOOKUP(キメラB,AA27:AU70,AC26,FALSE)) -> #N/A | AD50: =MAX(VLOOKUP(キメラA,AA27:AU70,AD26,FALSE),VLOOKUP(キメラB,AA27:AU70,AD26,FALSE)) -> #N/A | AE50: =MAX(VLOOKUP(キメラA,AA27:AU70,AE26,FALSE),VLOOKUP(キメラB,AA27:AU70,AE26,FALSE)) -> #N/A | AF50: =MAX(VLOOKUP(キメラA,AA27:AU70,AF26,FALSE),VLOOKUP(キメラB,AA27:AU70,AF26,FALSE)) -> #N/A | AG50: =ROUNDDOWN(VLOOKUP(キメラA,AA27:AU70,AG26,FALSE)/2+VLOOKUP(キメラB,AA27:AU70,AG26,FALSE)/2,0) -> #N/A | AH50: =MIN(VLOOKUP(キメラA,AA27:AU70,AH26,FALSE),VLOOKUP(キメラB,AA27:AU70,AH26,FALSE)) -> #N/A | AI50: =MIN(VLOOKUP(キメラA,AA27:AU70,AI26,FALSE),VLOOKUP(キメラB,AA27:AU70,AI26,FALSE)) -> #N/A | AJ50: =ROUNDDOWN(VLOOKUP(キメラA,AA27:AU70,AJ26,FALSE)/2+VLOOKUP(キメラB,AA27:AU70,AJ26,FALSE)/2,0) -> #N/A | AK50: =ROUNDDOWN(VLOOKUP(キメラA,AA27:AU70,AK26,FALSE)/2+VLOOKUP(キメラB,AA27:AU70,AK26,FALSE)/2,0) -> #N/A | AL50: =MIN(VLOOKUP(キメラA,AA27:AU70,AL26,FALSE),VLOOKUP(キメラB,AA27:AU70,AL26,FALSE)) -> #N/A | AM50: =MIN(VLOOKUP(キメラA,AA27:AU70,AM26,FALSE),VLOOKUP(キメラB,AA27:AU70,AM26,FALSE)) -> #N/A | AN50: =MIN(VLOOKUP(キメラA,AA27:AU70,AN26,FALSE),VLOOKUP(キメラB,AA27:AU70,AN26,FALSE)) -> #N/A | AO50: =MIN(VLOOKUP(キメラA,AA27:AU70,AO26,FALSE),VLOOKUP(キメラB,AA27:AU70,AO26,FALSE)) -> #N/A | AP50: =MIN(VLOOKUP(キメラA,AA27:AU70,AP26,FALSE),VLOOKUP(キメラB,AA27:AU70,AP26,FALSE)) -> #N/A | AQ50: =MIN(VLOOKUP(キメラA,AA27:AU70,AQ26,FALSE),VLOOKUP(キメラB,AA27:AU70,AQ26,FALSE)) -> #N/A | AR50: =MIN(VLOOKUP(キメラA,AA27:AU70,AR26,FALSE),VLOOKUP(キメラB,AA27:AU70,AR26,FALSE)) -> #N/A | AS50: =MIN(VLOOKUP(キメラA,AA27:AU70,AS26,FALSE),VLOOKUP(キメラB,AA27:AU70,AS26,FALSE)) -> #N/A | AT50: =MIN(VLOOKUP(キメラA,AA27:AU70,AT26,FALSE),VLOOKUP(キメラB,AA27:AU70,AT26,FALSE)) -> #N/A | AU50: =MIN(VLOOKUP(キメラA,AA27:AU70,AU26,FALSE),VLOOKUP(キメラB,AA27:AU70,AU26,FALSE)) -> #N/A | AV50: キメラ忌 | AW50: =MAX(VLOOKUP(キメラA,AV27:BP70,AW26,FALSE),VLOOKUP(キメラB,AV27:BP70,AW26,FALSE)) -> #N/A | AX50: =MAX(VLOOKUP(キメラA,AV27:BP70,AX26,FALSE),VLOOKUP(キメラB,AV27:BP70,AX26,FALSE)) -> #N/A | AY50: =MAX(VLOOKUP(キメラA,AV27:BP70,AY26,FALSE),VLOOKUP(キメラB,AV27:BP70,AY26,FALSE)) -> #N/A | AZ50: =MAX(VLOOKUP(キメラA,AV27:BP70,AZ26,FALSE),VLOOKUP(キメラB,AV27:BP70,AZ26,FALSE)) -> #N/A | BA50: =MAX(VLOOKUP(キメラA,AV27:BP70,BA26,FALSE),VLOOKUP(キメラB,AV27:BP70,BA26,FALSE)) -> #N/A | BB50: =ROUNDDOWN(VLOOKUP(キメラA,AV27:BP70,BB26,FALSE)/2+VLOOKUP(キメラB,AV27:BP70,BB26,FALSE)/2,0) -> #N/A | BC50: =MIN(VLOOKUP(キメラA,AV27:BP70,BC26,FALSE),VLOOKUP(キメラB,AV27:BP70,BC26,FALSE)) -> #N/A | BD50: =MIN(VLOOKUP(キメラA,AV27:BP70,BD26,FALSE),VLOOKUP(キメラB,AV27:BP70,BD26,FALSE)) -> #N/A | BE50: =ROUNDDOWN(VLOOKUP(キメラA,AV27:BP70,BE26,FALSE)/2+VLOOKUP(キメラB,AV27:BP70,BE26,FALSE)/2,0) -> #N/A | BF50: =ROUNDDOWN(VLOOKUP(キメラA,AV27:BP70,BF26,FALSE)/2+VLOOKUP(キメラB,AV27:BP70,BF26,FALSE)/2,0) -> #N/A | BG50: =MIN(VLOOKUP(キメラA,AV27:BP70,BG26,FALSE),VLOOKUP(キメラB,AV27:BP70,BG26,FALSE)) -> #N/A | BH50: =MIN(VLOOKUP(キメラA,AV27:BP70,BH26,FALSE),VLOOKUP(キメラB,AV27:BP70,BH26,FALSE)) -> #N/A | BI50: =MIN(VLOOKUP(キメラA,AV27:BP70,BI26,FALSE),VLOOKUP(キメラB,AV27:BP70,BI26,FALSE)) -> #N/A | BJ50: =MIN(VLOOKUP(キメラA,AV27:BP70,BJ26,FALSE),VLOOKUP(キメラB,AV27:BP70,BJ26,FALSE)) -> #N/A | BK50: =MIN(VLOOKUP(キメラA,AV27:BP70,BK26,FALSE),VLOOKUP(キメラB,AV27:BP70,BK26,FALSE)) -> #N/A | BL50: =MIN(VLOOKUP(キメラA,AV27:BP70,BL26,FALSE),VLOOKUP(キメラB,AV27:BP70,BL26,FALSE)) -> #N/A | BM50: =MIN(VLOOKUP(キメラA,AV27:BP70,BM26,FALSE),VLOOKUP(キメラB,AV27:BP70,BM26,FALSE)) -> #N/A | BN50: =MIN(VLOOKUP(キメラA,AV27:BP70,BN26,FALSE),VLOOKUP(キメラB,AV27:BP70,BN26,FALSE)) -> #N/A | BO50: =MIN(VLOOKUP(キメラA,AV27:BP70,BO26,FALSE),VLOOKUP(キメラB,AV27:BP70,BO26,FALSE)) -> #N/A | BP50: =MIN(VLOOKUP(キメラA,AV27:BP70,BP26,FALSE),VLOOKUP(キメラB,AV27:BP70,BP26,FALSE)) -> #N/A | BQ50: キメラ忌 | BR50: =MAX(VLOOKUP(キメラA,BQ27:CK70,BR26,FALSE),VLOOKUP(キメラB,BQ27:CK70,BR26,FALSE)) -> #N/A | BS50: =MAX(VLOOKUP(キメラA,BQ27:CK70,BS26,FALSE),VLOOKUP(キメラB,BQ27:CK70,BS26,FALSE)) -> #N/A | BT50: =MAX(VLOOKUP(キメラA,BQ27:CK70,BT26,FALSE),VLOOKUP(キメラB,BQ27:CK70,BT26,FALSE)) -> #N/A | BU50: =MAX(VLOOKUP(キメラA,BQ27:CK70,BU26,FALSE),VLOOKUP(キメラB,BQ27:CK70,BU26,FALSE)) -> #N/A | BV50: =MAX(VLOOKUP(キメラA,BQ27:CK70,BV26,FALSE),VLOOKUP(キメラB,BQ27:CK70,BV26,FALSE)) -> #N/A | BW50: =ROUNDDOWN(VLOOKUP(キメラA,BQ27:CK70,BW26,FALSE)/2+VLOOKUP(キメラB,BQ27:CK70,BW26,FALSE)/2,0) -> #N/A | BX50: =MIN(VLOOKUP(キメラA,BQ27:CK70,BX26,FALSE),VLOOKUP(キメラB,BQ27:CK70,BX26,FALSE)) -> #N/A | BY50: =MIN(VLOOKUP(キメラA,BQ27:CK70,BY26,FALSE),VLOOKUP(キメラB,BQ27:CK70,BY26,FALSE)) -> #N/A | BZ50: =ROUNDDOWN(VLOOKUP(キメラA,BQ27:CK70,BZ26,FALSE)/2+VLOOKUP(キメラB,BQ27:CK70,BZ26,FALSE)/2,0) -> #N/A | CA50: =ROUNDDOWN(VLOOKUP(キメラA,BQ27:CK70,CA26,FALSE)/2+VLOOKUP(キメラB,BQ27:CK70,CA26,FALSE)/2,0) -> #N/A | CB50: =MIN(VLOOKUP(キメラA,BQ27:CK70,CB26,FALSE),VLOOKUP(キメラB,BQ27:CK70,CB26,FALSE)) -> #N/A | CC50: =MIN(VLOOKUP(キメラA,BQ27:CK70,CC26,FALSE),VLOOKUP(キメラB,BQ27:CK70,CC26,FALSE)) -> #N/A | CD50: =MIN(VLOOKUP(キメラA,BQ27:CK70,CD26,FALSE),VLOOKUP(キメラB,BQ27:CK70,CD26,FALSE)) -> #N/A | CE50: =MIN(VLOOKUP(キメラA,BQ27:CK70,CE26,FALSE),VLOOKUP(キメラB,BQ27:CK70,CE26,FALSE)) -> #N/A | CF50: =MIN(VLOOKUP(キメラA,BQ27:CK70,CF26,FALSE),VLOOKUP(キメラB,BQ27:CK70,CF26,FALSE)) -> #N/A | CG50: =MIN(VLOOKUP(キメラA,BQ27:CK70,CG26,FALSE),VLOOKUP(キメラB,BQ27:CK70,CG26,FALSE)) -> #N/A | CH50: =MIN(VLOOKUP(キメラA,BQ27:CK70,CH26,FALSE),VLOOKUP(キメラB,BQ27:CK70,CH26,FALSE)) -> #N/A | CI50: =MIN(VLOOKUP(キメラA,BQ27:CK70,CI26,FALSE),VLOOKUP(キメラB,BQ27:CK70,CI26,FALSE)) -> #N/A | CJ50: =MIN(VLOOKUP(キメラA,BQ27:CK70,CJ26,FALSE),VLOOKUP(キメラB,BQ27:CK70,CJ26,FALSE)) -> #N/A | CK50: =MIN(VLOOKUP(キメラA,BQ27:CK70,CK26,FALSE),VLOOKUP(キメラB,BQ27:CK70,CK26,FALSE)) -> #N/A | CL50: キメラ忌 | CM50: =MAX(VLOOKUP(キメラA,CL27:DF70,CM26,FALSE),VLOOKUP(キメラB,CL27:DF70,CM26,FALSE)) -> #N/A | CN50: =MAX(VLOOKUP(キメラA,CL27:DF70,CN26,FALSE),VLOOKUP(キメラB,CL27:DF70,CN26,FALSE)) -> #N/A | CO50: =MAX(VLOOKUP(キメラA,CL27:DF70,CO26,FALSE),VLOOKUP(キメラB,CL27:DF70,CO26,FALSE)) -> #N/A | CP50: =MAX(VLOOKUP(キメラA,CL27:DF70,CP26,FALSE),VLOOKUP(キメラB,CL27:DF70,CP26,FALSE)) -> #N/A | CQ50: =MAX(VLOOKUP(キメラA,CL27:DF70,CQ26,FALSE),VLOOKUP(キメラB,CL27:DF70,CQ26,FALSE)) -> #N/A | CR50: =ROUNDDOWN(VLOOKUP(キメラA,CL27:DF70,CR26,FALSE)/2+VLOOKUP(キメラB,CL27:DF70,CR26,FALSE)/2,0) -> #N/A | CS50: =MIN(VLOOKUP(キメラA,CL27:DF70,CS26,FALSE),VLOOKUP(キメラB,CL27:DF70,CS26,FALSE)) -> #N/A | CT50: =MIN(VLOOKUP(キメラA,CL27:DF70,CT26,FALSE),VLOOKUP(キメラB,CL27:DF70,CT26,FALSE)) -> #N/A | CU50: =ROUNDDOWN(VLOOKUP(キメラA,CL27:DF70,CU26,FALSE)/2+VLOOKUP(キメラB,CL27:DF70,CU26,FALSE)/2,0) -> #N/A | CV50: =ROUNDDOWN(VLOOKUP(キメラA,CL27:DF70,CV26,FALSE)/2+VLOOKUP(キメラB,CL27:DF70,CV26,FALSE)/2,0) -> #N/A | CW50: =MIN(VLOOKUP(キメラA,CL27:DF70,CW26,FALSE),VLOOKUP(キメラB,CL27:DF70,CW26,FALSE)) -> #N/A | CX50: =MIN(VLOOKUP(キメラA,CL27:DF70,CX26,FALSE),VLOOKUP(キメラB,CL27:DF70,CX26,FALSE)) -> #N/A | CY50: =MIN(VLOOKUP(キメラA,CL27:DF70,CY26,FALSE),VLOOKUP(キメラB,CL27:DF70,CY26,FALSE)) -> #N/A | CZ50: =MIN(VLOOKUP(キメラA,CL27:DF70,CZ26,FALSE),VLOOKUP(キメラB,CL27:DF70,CZ26,FALSE)) -> #N/A | DA50: =MIN(VLOOKUP(キメラA,CL27:DF70,DA26,FALSE),VLOOKUP(キメラB,CL27:DF70,DA26,FALSE)) -> #N/A | DB50: =MIN(VLOOKUP(キメラA,CL27:DF70,DB26,FALSE),VLOOKUP(キメラB,CL27:DF70,DB26,FALSE)) -> #N/A | DC50: =MIN(VLOOKUP(キメラA,CL27:DF70,DC26,FALSE),VLOOKUP(キメラB,CL27:DF70,DC26,FALSE)) -> #N/A | DD50: =MIN(VLOOKUP(キメラA,CL27:DF70,DD26,FALSE),VLOOKUP(キメラB,CL27:DF70,DD26,FALSE)) -> #N/A | DE50: =MIN(VLOOKUP(キメラA,CL27:DF70,DE26,FALSE),VLOOKUP(キメラB,CL27:DF70,DE26,FALSE)) -> #N/A | DF50: =MIN(VLOOKUP(キメラA,CL27:DF70,DF26,FALSE),VLOOKUP(キメラB,CL27:DF70,DF26,FALSE)) -> #N/A | DG50: キメラ忌 | DH50: =MAX(VLOOKUP(キメラA,DG27:EA70,DH26,FALSE),VLOOKUP(キメラB,DG27:EA70,DH26,FALSE)) -> #N/A | DI50: =MAX(VLOOKUP(キメラA,DG27:EA70,DI26,FALSE),VLOOKUP(キメラB,DG27:EA70,DI26,FALSE)) -> #N/A | DJ50: =MAX(VLOOKUP(キメラA,DG27:EA70,DJ26,FALSE),VLOOKUP(キメラB,DG27:EA70,DJ26,FALSE)) -> #N/A | DK50: =MAX(VLOOKUP(キメラA,DG27:EA70,DK26,FALSE),VLOOKUP(キメラB,DG27:EA70,DK26,FALSE)) -> #N/A | DL50: =MAX(VLOOKUP(キメラA,DG27:EA70,DL26,FALSE),VLOOKUP(キメラB,DG27:EA70,DL26,FALSE)) -> #N/A | DM50: =ROUNDDOWN(VLOOKUP(キメラA,DG27:EA70,DM26,FALSE)/2+VLOOKUP(キメラB,DG27:EA70,DM26,FALSE)/2,0) -> #N/A | DN50: =ROUNDDOWN(VLOOKUP(キメラA,DG27:EA70,DN26,FALSE)/2+VLOOKUP(キメラB,DG27:EA70,DN26,FALSE)/2,0) -> #N/A | DO50: =ROUNDDOWN(VLOOKUP(キメラA,DG27:EA70,DO26,FALSE)/2+VLOOKUP(キメラB,DG27:EA70,DO26,FALSE)/2,0) -> #N/A | DP50: =ROUNDDOWN(VLOOKUP(キメラA,DG27:EA70,DP26,FALSE)/2+VLOOKUP(キメラB,DG27:EA70,DP26,FALSE)/2,0) -> #N/A | DQ50: =ROUNDDOWN(VLOOKUP(キメラA,DG27:EA70,DQ26,FALSE)/2+VLOOKUP(キメラB,DG27:EA70,DQ26,FALSE)/2,0) -> #N/A | DR50: =MIN(VLOOKUP(キメラA,DG27:EA70,DR26,FALSE),VLOOKUP(キメラB,DG27:EA70,DR26,FALSE)) -> #N/A | DS50: =MIN(VLOOKUP(キメラA,DG27:EA70,DS26,FALSE),VLOOKUP(キメラB,DG27:EA70,DS26,FALSE)) -> #N/A | DT50: =MIN(VLOOKUP(キメラA,DG27:EA70,DT26,FALSE),VLOOKUP(キメラB,DG27:EA70,DT26,FALSE)) -> #N/A | DU50: =MIN(VLOOKUP(キメラA,DG27:EA70,DU26,FALSE),VLOOKUP(キメラB,DG27:EA70,DU26,FALSE)) -> #N/A | DV50: =MIN(VLOOKUP(キメラA,DG27:EA70,DV26,FALSE),VLOOKUP(キメラB,DG27:EA70,DV26,FALSE)) -> #N/A | DW50: =MIN(VLOOKUP(キメラA,DG27:EA70,DW26,FALSE),VLOOKUP(キメラB,DG27:EA70,DW26,FALSE)) -> #N/A | DX50: =MIN(VLOOKUP(キメラA,DG27:EA70,DX26,FALSE),VLOOKUP(キメラB,DG27:EA70,DX26,FALSE)) -> #N/A | DY50: =MIN(VLOOKUP(キメラA,DG27:EA70,DY26,FALSE),VLOOKUP(キメラB,DG27:EA70,DY26,FALSE)) -> #N/A | DZ50: =MIN(VLOOKUP(キメラA,DG27:EA70,DZ26,FALSE),VLOOKUP(キメラB,DG27:EA70,DZ26,FALSE)) -> #N/A | EA50: =MIN(VLOOKUP(キメラA,DG27:EA70,EA26,FALSE),VLOOKUP(キメラB,DG27:EA70,EA26,FALSE)) -> #N/A | EB50: キメラ忌 | EC50: =MAX(VLOOKUP(キメラA,EB27:EV70,EC26,FALSE),VLOOKUP(キメラB,EB27:EV70,EC26,FALSE)) -> #N/A | ED50: =MAX(VLOOKUP(キメラA,EB27:EV70,ED26,FALSE),VLOOKUP(キメラB,EB27:EV70,ED26,FALSE)) -> #N/A | EE50: =MAX(VLOOKUP(キメラA,EB27:EV70,EE26,FALSE),VLOOKUP(キメラB,EB27:EV70,EE26,FALSE)) -> #N/A | EF50: =MAX(VLOOKUP(キメラA,EB27:EV70,EF26,FALSE),VLOOKUP(キメラB,EB27:EV70,EF26,FALSE)) -> #N/A | EG50: =MAX(VLOOKUP(キメラA,EB27:EV70,EG26,FALSE),VLOOKUP(キメラB,EB27:EV70,EG26,FALSE)) -> #N/A | EH50: =ROUNDDOWN(VLOOKUP(キメラA,EB27:EV70,EH26,FALSE)/2+VLOOKUP(キメラB,EB27:EV70,EH26,FALSE)/2,0) -> #N/A | EI50: =ROUNDDOWN(VLOOKUP(キメラA,EB27:EV70,EI26,FALSE)/2+VLOOKUP(キメラB,EB27:EV70,EI26,FALSE)/2,0) -> #N/A | EJ50: =ROUNDDOWN(VLOOKUP(キメラA,EB27:EV70,EJ26,FALSE)/2+VLOOKUP(キメラB,EB27:EV70,EJ26,FALSE)/2,0) -> #N/A | EK50: =ROUNDDOWN(VLOOKUP(キメラA,EB27:EV70,EK26,FALSE)/2+VLOOKUP(キメラB,EB27:EV70,EK26,FALSE)/2,0) -> #N/A | EL50: =ROUNDDOWN(VLOOKUP(キメラA,EB27:EV70,EL26,FALSE)/2+VLOOKUP(キメラB,EB27:EV70,EL26,FALSE)/2,0) -> #N/A | EM50: =MIN(VLOOKUP(キメラA,EB27:EV70,EM26,FALSE),VLOOKUP(キメラB,EB27:EV70,EM26,FALSE)) -> #N/A | EN50: =MIN(VLOOKUP(キメラA,EB27:EV70,EN26,FALSE),VLOOKUP(キメラB,EB27:EV70,EN26,FALSE)) -> #N/A | EO50: =MIN(VLOOKUP(キメラA,EB27:EV70,EO26,FALSE),VLOOKUP(キメラB,EB27:EV70,EO26,FALSE)) -> #N/A | EP50: =MIN(VLOOKUP(キメラA,EB27:EV70,EP26,FALSE),VLOOKUP(キメラB,EB27:EV70,EP26,FALSE)) -> #N/A | EQ50: =MIN(VLOOKUP(キメラA,EB27:EV70,EQ26,FALSE),VLOOKUP(キメラB,EB27:EV70,EQ26,FALSE)) -> #N/A | ER50: =MIN(VLOOKUP(キメラA,EB27:EV70,ER26,FALSE),VLOOKUP(キメラB,EB27:EV70,ER26,FALSE)) -> #N/A | ES50: =MIN(VLOOKUP(キメラA,EB27:EV70,ES26,FALSE),VLOOKUP(キメラB,EB27:EV70,ES26,FALSE)) -> #N/A | ET50: =MIN(VLOOKUP(キメラA,EB27:EV70,ET26,FALSE),VLOOKUP(キメラB,EB27:EV70,ET26,FALSE)) -> #N/A | EU50: =MIN(VLOOKUP(キメラA,EB27:EV70,EU26,FALSE),VLOOKUP(キメラB,EB27:EV70,EU26,FALSE)) -> #N/A | EV50: =MIN(VLOOKUP(キメラA,EB27:EV70,EV26,FALSE),VLOOKUP(キメラB,EB27:EV70,EV26,FALSE)) -> #N/A | EW50: キメラ忌 | EX50: =MAX(VLOOKUP(キメラA,EW27:FQ70,EX26,FALSE),VLOOKUP(キメラB,EW27:FQ70,EX26,FALSE)) -> #N/A | EY50: =MAX(VLOOKUP(キメラA,EW27:FQ70,EY26,FALSE),VLOOKUP(キメラB,EW27:FQ70,EY26,FALSE)) -> #N/A | EZ50: =MAX(VLOOKUP(キメラA,EW27:FQ70,EZ26,FALSE),VLOOKUP(キメラB,EW27:FQ70,EZ26,FALSE)) -> #N/A | FA50: =MAX(VLOOKUP(キメラA,EW27:FQ70,FA26,FALSE),VLOOKUP(キメラB,EW27:FQ70,FA26,FALSE)) -> #N/A | FB50: =MAX(VLOOKUP(キメラA,EW27:FQ70,FB26,FALSE),VLOOKUP(キメラB,EW27:FQ70,FB26,FALSE)) -> #N/A | FC50: =ROUNDDOWN(VLOOKUP(キメラA,EW27:FQ70,FC26,FALSE)/2+VLOOKUP(キメラB,EW27:FQ70,FC26,FALSE)/2,0) -> #N/A | FD50: =ROUNDDOWN(VLOOKUP(キメラA,EW27:FQ70,FD26,FALSE)/2+VLOOKUP(キメラB,EW27:FQ70,FD26,FALSE)/2,0) -> #N/A | FE50: =ROUNDDOWN(VLOOKUP(キメラA,EW27:FQ70,FE26,FALSE)/2+VLOOKUP(キメラB,EW27:FQ70,FE26,FALSE)/2,0) -> #N/A | FF50: =ROUNDDOWN(VLOOKUP(キメラA,EW27:FQ70,FF26,FALSE)/2+VLOOKUP(キメラB,EW27:FQ70,FF26,FALSE)/2,0) -> #N/A | FG50: =ROUNDDOWN(VLOOKUP(キメラA,EW27:FQ70,FG26,FALSE)/2+VLOOKUP(キメラB,EW27:FQ70,FG26,FALSE)/2,0) -> #N/A | FH50: =MIN(VLOOKUP(キメラA,EW27:FQ70,FH26,FALSE),VLOOKUP(キメラB,EW27:FQ70,FH26,FALSE)) -> #N/A | FI50: =MIN(VLOOKUP(キメラA,EW27:FQ70,FI26,FALSE),VLOOKUP(キメラB,EW27:FQ70,FI26,FALSE)) -> #N/A | FJ50: =MIN(VLOOKUP(キメラA,EW27:FQ70,FJ26,FALSE),VLOOKUP(キメラB,EW27:FQ70,FJ26,FALSE)) -> #N/A | FK50: =MIN(VLOOKUP(キメラA,EW27:FQ70,FK26,FALSE),VLOOKUP(キメラB,EW27:FQ70,FK26,FALSE)) -> #N/A | FL50: =MIN(VLOOKUP(キメラA,EW27:FQ70,FL26,FALSE),VLOOKUP(キメラB,EW27:FQ70,FL26,FALSE)) -> #N/A | FM50: =MIN(VLOOKUP(キメラA,EW27:FQ70,FM26,FALSE),VLOOKUP(キメラB,EW27:FQ70,FM26,FALSE)) -> #N/A | FN50: =MIN(VLOOKUP(キメラA,EW27:FQ70,FN26,FALSE),VLOOKUP(キメラB,EW27:FQ70,FN26,FALSE)) -> #N/A | FO50: =MIN(VLOOKUP(キメラA,EW27:FQ70,FO26,FALSE),VLOOKUP(キメラB,EW27:FQ70,FO26,FALSE)) -> #N/A | FP50: =MIN(VLOOKUP(キメラA,EW27:FQ70,FP26,FALSE),VLOOKUP(キメラB,EW27:FQ70,FP26,FALSE)) -> #N/A | FQ50: =MIN(VLOOKUP(キメラA,EW27:FQ70,FQ26,FALSE),VLOOKUP(キメラB,EW27:FQ70,FQ26,FALSE)) -> #N/A | FR50: キメラ忌 | FS50: =MAX(VLOOKUP(キメラA,FR27:GL70,FS26,FALSE),VLOOKUP(キメラB,FR27:GL70,FS26,FALSE)) -> #N/A | FT50: =MAX(VLOOKUP(キメラA,FR27:GL70,FT26,FALSE),VLOOKUP(キメラB,FR27:GL70,FT26,FALSE)) -> #N/A | FU50: =MAX(VLOOKUP(キメラA,FR27:GL70,FU26,FALSE),VLOOKUP(キメラB,FR27:GL70,FU26,FALSE)) -> #N/A | FV50: =MAX(VLOOKUP(キメラA,FR27:GL70,FV26,FALSE),VLOOKUP(キメラB,FR27:GL70,FV26,FALSE)) -> #N/A | FW50: =MAX(VLOOKUP(キメラA,FR27:GL70,FW26,FALSE),VLOOKUP(キメラB,FR27:GL70,FW26,FALSE)) -> #N/A | FX50: =ROUNDDOWN(VLOOKUP(キメラA,FR27:GL70,FX26,FALSE)/2+VLOOKUP(キメラB,FR27:GL70,FX26,FALSE)/2,0) -> #N/A | FY50: =ROUNDDOWN(VLOOKUP(キメラA,FR27:GL70,FY26,FALSE)/2+VLOOKUP(キメラB,FR27:GL70,FY26,FALSE)/2,0) -> #N/A | FZ50: =ROUNDDOWN(VLOOKUP(キメラA,FR27:GL70,FZ26,FALSE)/2+VLOOKUP(キメラB,FR27:GL70,FZ26,FALSE)/2,0) -> #N/A | GA50: =ROUNDDOWN(VLOOKUP(キメラA,FR27:GL70,GA26,FALSE)/2+VLOOKUP(キメラB,FR27:GL70,GA26,FALSE)/2,0) -> #N/A | GB50: =ROUNDDOWN(VLOOKUP(キメラA,FR27:GL70,GB26,FALSE)/2+VLOOKUP(キメラB,FR27:GL70,GB26,FALSE)/2,0) -> #N/A | GC50: =MIN(VLOOKUP(キメラA,FR27:GL70,GC26,FALSE),VLOOKUP(キメラB,FR27:GL70,GC26,FALSE)) -> #N/A | GD50: =MIN(VLOOKUP(キメラA,FR27:GL70,GD26,FALSE),VLOOKUP(キメラB,FR27:GL70,GD26,FALSE)) -> #N/A | GE50: =MIN(VLOOKUP(キメラA,FR27:GL70,GE26,FALSE),VLOOKUP(キメラB,FR27:GL70,GE26,FALSE)) -> #N/A | GF50: =MIN(VLOOKUP(キメラA,FR27:GL70,GF26,FALSE),VLOOKUP(キメラB,FR27:GL70,GF26,FALSE)) -> #N/A | GG50: =MIN(VLOOKUP(キメラA,FR27:GL70,GG26,FALSE),VLOOKUP(キメラB,FR27:GL70,GG26,FALSE)) -> #N/A | GH50: =MIN(VLOOKUP(キメラA,FR27:GL70,GH26,FALSE),VLOOKUP(キメラB,FR27:GL70,GH26,FALSE)) -> #N/A | GI50: =MIN(VLOOKUP(キメラA,FR27:GL70,GI26,FALSE),VLOOKUP(キメラB,FR27:GL70,GI26,FALSE)) -> #N/A | GJ50: =MIN(VLOOKUP(キメラA,FR27:GL70,GJ26,FALSE),VLOOKUP(キメラB,FR27:GL70,GJ26,FALSE)) -> #N/A | GK50: =MIN(VLOOKUP(キメラA,FR27:GL70,GK26,FALSE),VLOOKUP(キメラB,FR27:GL70,GK26,FALSE)) -> #N/A | GL50: =MIN(VLOOKUP(キメラA,FR27:GL70,GL26,FALSE),VLOOKUP(キメラB,FR27:GL70,GL26,FALSE)) -> #N/A | GM50: キメラ忌 | GN50: =MAX(VLOOKUP(キメラA,GM27:HG70,GN26,FALSE),VLOOKUP(キメラB,GM27:HG70,GN26,FALSE)) -> #N/A | GO50: =MAX(VLOOKUP(キメラA,GM27:HG70,GO26,FALSE),VLOOKUP(キメラB,GM27:HG70,GO26,FALSE)) -> #N/A | GP50: =MAX(VLOOKUP(キメラA,GM27:HG70,GP26,FALSE),VLOOKUP(キメラB,GM27:HG70,GP26,FALSE)) -> #N/A | GQ50: =MAX(VLOOKUP(キメラA,GM27:HG70,GQ26,FALSE),VLOOKUP(キメラB,GM27:HG70,GQ26,FALSE)) -> #N/A | GR50: =MAX(VLOOKUP(キメラA,GM27:HG70,GR26,FALSE),VLOOKUP(キメラB,GM27:HG70,GR26,FALSE)) -> #N/A | GS50: =ROUNDDOWN(VLOOKUP(キメラA,GM27:HG70,GS26,FALSE)/2+VLOOKUP(キメラB,GM27:HG70,GS26,FALSE)/2,0) -> #N/A | GT50: =ROUNDDOWN(VLOOKUP(キメラA,GM27:HG70,GT26,FALSE)/2+VLOOKUP(キメラB,GM27:HG70,GT26,FALSE)/2,0) -> #N/A | GU50: =ROUNDDOWN(VLOOKUP(キメラA,GM27:HG70,GU26,FALSE)/2+VLOOKUP(キメラB,GM27:HG70,GU26,FALSE)/2,0) -> #N/A | GV50: =ROUNDDOWN(VLOOKUP(キメラA,GM27:HG70,GV26,FALSE)/2+VLOOKUP(キメラB,GM27:HG70,GV26,FALSE)/2,0) -> #N/A | GW50: =ROUNDDOWN(VLOOKUP(キメラA,GM27:HG70,GW26,FALSE)/2+VLOOKUP(キメラB,GM27:HG70,GW26,FALSE)/2,0) -> #N/A | GX50: =MIN(VLOOKUP(キメラA,GM27:HG70,GX26,FALSE),VLOOKUP(キメラB,GM27:HG70,GX26,FALSE)) -> #N/A | GY50: =MIN(VLOOKUP(キメラA,GM27:HG70,GY26,FALSE),VLOOKUP(キメラB,GM27:HG70,GY26,FALSE)) -> #N/A | GZ50: =MIN(VLOOKUP(キメラA,GM27:HG70,GZ26,FALSE),VLOOKUP(キメラB,GM27:HG70,GZ26,FALSE)) -> #N/A | HA50: =MIN(VLOOKUP(キメラA,GM27:HG70,HA26,FALSE),VLOOKUP(キメラB,GM27:HG70,HA26,FALSE)) -> #N/A | HB50: =MIN(VLOOKUP(キメラA,GM27:HG70,HB26,FALSE),VLOOKUP(キメラB,GM27:HG70,HB26,FALSE)) -> #N/A | HC50: =MIN(VLOOKUP(キメラA,GM27:HG70,HC26,FALSE),VLOOKUP(キメラB,GM27:HG70,HC26,FALSE)) -> #N/A | HD50: =MIN(VLOOKUP(キメラA,GM27:HG70,HD26,FALSE),VLOOKUP(キメラB,GM27:HG70,HD26,FALSE)) -> #N/A | HE50: =MIN(VLOOKUP(キメラA,GM27:HG70,HE26,FALSE),VLOOKUP(キメラB,GM27:HG70,HE26,FALSE)) -> #N/A | HF50: =MIN(VLOOKUP(キメラA,GM27:HG70,HF26,FALSE),VLOOKUP(キメラB,GM27:HG70,HF26,FALSE)) -> #N/A | HG50: =MIN(VLOOKUP(キメラA,GM27:HG70,HG26,FALSE),VLOOKUP(キメラB,GM27:HG70,HG26,FALSE)) -> #N/A
B51: 17 | F51: キメラ祝 | G51: =G50 -> #N/A | H51: =H50 -> #N/A | I51: =I50 -> #N/A | J51: =J50 -> #N/A | K51: =K50 -> #N/A | L51: =L50 -> #N/A | M51: =M50 -> #N/A | N51: =N50 -> #N/A | ... Z51: =Z50 -> #N/A | AA51: キメラ祝 | AB51: =AB50 -> #N/A | AC51: =AC50 -> #N/A | AD51: =AD50 -> #N/A | AE51: =AE50 -> #N/A | AF51: =AF50 -> #N/A | AG51: =AG50 -> #N/A | AH51: =AH50 -> #N/A | AI51: =AI50 -> #N/A | ... AU51: =AU50 -> #N/A | AV51: キメラ祝 | AW51: =AW50 -> #N/A | AX51: =AX50 -> #N/A | AY51: =AY50 -> #N/A | AZ51: =AZ50 -> #N/A | BA51: =BA50 -> #N/A | BB51: =BB50 -> #N/A | BC51: =BC50 -> #N/A | BD51: =BD50 -> #N/A | ... BP51: =BP50 -> #N/A | BQ51: キメラ祝 | BR51: =BR50 -> #N/A | BS51: =BS50 -> #N/A | BT51: =BT50 -> #N/A | BU51: =BU50 -> #N/A | BV51: =BV50 -> #N/A | BW51: =BW50 -> #N/A | BX51: =BX50 -> #N/A | BY51: =BY50 -> #N/A | ... CK51: =CK50 -> #N/A | CL51: キメラ祝 | CM51: =CM50 -> #N/A | CN51: =CN50 -> #N/A | CO51: =CO50 -> #N/A | CP51: =CP50 -> #N/A | CQ51: =CQ50 -> #N/A | CR51: =CR50 -> #N/A | CS51: =CS50 -> #N/A | CT51: =CT50 -> #N/A | ... DF51: =DF50 -> #N/A | DG51: キメラ祝 | DH51: =DH50 -> #N/A | DI51: =DI50 -> #N/A | DJ51: =DJ50 -> #N/A | DK51: =DK50 -> #N/A | DL51: =DL50 -> #N/A | DM51: =DM50 -> #N/A | DN51: =DN50 -> #N/A | DO51: =DO50 -> #N/A | ... EA51: =EA50 -> #N/A | EB51: キメラ祝 | EC51: =EC50 -> #N/A | ED51: =ED50 -> #N/A | EE51: =EE50 -> #N/A | EF51: =EF50 -> #N/A | EG51: =EG50 -> #N/A | EH51: =EH50 -> #N/A | EI51: =EI50 -> #N/A | EJ51: =EJ50 -> #N/A | ... EV51: =EV50 -> #N/A | EW51: キメラ祝 | EX51: =EX50 -> #N/A | EY51: =EY50 -> #N/A | EZ51: =EZ50 -> #N/A | FA51: =FA50 -> #N/A | FB51: =FB50 -> #N/A | FC51: =FC50 -> #N/A | FD51: =FD50 -> #N/A | FE51: =FE50 -> #N/A | ... FQ51: =FQ50 -> #N/A | FR51: キメラ祝 | FS51: =FS50 -> #N/A | FT51: =FT50 -> #N/A | FU51: =FU50 -> #N/A | FV51: =FV50 -> #N/A | FW51: =FW50 -> #N/A | FX51: =FX50 -> #N/A | FY51: =FY50 -> #N/A | FZ51: =FZ50 -> #N/A | ... GL51: =GL50 -> #N/A | GM51: キメラ祝 | GN51: =GN50 -> #N/A | GO51: =GO50 -> #N/A | GP51: =GP50 -> #N/A | GQ51: =GQ50 -> #N/A | GR51: =GR50 -> #N/A | GS51: =GS50 -> #N/A | GT51: =GT50 -> #N/A | GU51: =GU50 -> #N/A | ... HG51: =HG50 -> #N/A
B52: 18 | G52: 1 | AB52: 2 | AW52: 3 | BR52: 4 | CM52: 5 | DH52: 6 | EC52: 7 | EX52: 8 | FS52: 9 | GN52: 10
B53: 19
B54: 20 | F54: ｸﾗｽ名 | G54: 近接 | H54: 射撃 | I54: 回避 | J54: 魔術 | K54: 抵抗 | L54: 敏捷 | M54: 物攻 | N54: 魔攻 | O54: 耐久 | P54: 精神 | Q54: 近 | R54: 遠 | S54: 炎 | T54: 氷 | U54: 水 | V54: 雷 | W54: 風 | X54: 土 | Y54: 光 | Z54: 闇 | AA54: クラス特典
B55: 21 | F55: FS | G55: 2 | H55: 2 | I55: 2 | J55: 2 | K55: 1 | L55: 4 | M55: 4 | N55: 3 | O55: 26 | P55: 7 | Q55: 0 | R55: 0 | S55: 0 | T55: 0 | U55: 0 | V55: 0 | W55: 0 | X55: 0 | Y55: 0 | Z55: 0 | AA55: ="命中判定のC値-1 F値+1 & 炎氷耐性+"&CS!S10*3 -> 命中判定のC値-1 F値+1 & 炎氷耐性+3
F56: FC | G56: 2 | H56: 2 | I56: 1 | J56: 2 | K56: 1 | L56: 2 | M56: 3 | N56: 4 | O56: 35 | P56: 8 | Q56: 0 | R56: 0 | S56: 0 | T56: 0 | U56: 0 | V56: 0 | W56: 0 | X56: 0 | Y56: 0 | Z56: 0 | AA56: ="氷水雷風土耐性+"&CS!S10*2&" & 「BS：凍結」無効" -> 氷水雷風土耐性+2 & 「BS：凍結」無効
F57: AS | G57: 2 | H57: 1 | I57: 1 | J57: 2 | K57: 2 | L57: 3 | M57: 4 | N57: 6 | O57: 18 | P57: 10 | Q57: 0 | R57: 0 | S57: 0 | T57: 0 | U57: 0 | V57: 0 | W57: 0 | X57: 0 | Y57: 0 | Z57: 0 | AA57: 「サブアクション」と「オートスキル」の代償-1MP (下限値：1MP)
F58: WR | G58: 1 | H58: 2 | I58: 3 | J58: 1 | K58: 2 | L58: 4 | M58: 4 | N58: 4 | O58: 17 | P58: 8 | Q58: 0 | R58: 0 | S58: 0 | T58: 0 | U58: 0 | V58: 0 | W58: 0 | X58: 0 | Y58: 0 | Z58: 0 | AA58: ="【敏捷】+"&IF(CS!S10<=5,CS!S10,5) -> 【敏捷】+1
F59: BS | G59: 1 | H59: 2 | I59: 1 | J59: 2 | K59: 3 | L59: 3 | M59: 4 | N59: 4 | O59: 25 | P59: 7 | Q59: 0 | R59: 0 | S59: 0 | T59: 0 | U59: 0 | V59: 0 | W59: 0 | X59: 0 | Y59: 0 | Z59: 0 | AA59: ="【耐久力】+"&CS!S10*5&" & 20カウント毎に【HP】を"&CS!S10*3&"点回復。" -> 【耐久力】+5 & 20カウント毎に【HP】を3点回復。
F60: VC | G60: 2 | H60: 2 | I60: 1 | J60: 2 | K60: 1 | L60: 4 | M60: 4 | N60: 4 | O60: 26 | P60: 9 | Q60: 0 | R60: 0 | S60: 0 | T60: 0 | U60: 0 | V60: 0 | W60: 0 | X60: 0 | Y60: 0 | Z60: 0 | AA60: ="【精神力】+"&CS!S10*2&" & 「BS：脱力(X)」無効" -> 【精神力】+2 & 「BS：脱力(X)」無効
F61: TE | G61: 2 | H61: 1 | I61: 1 | J61: 2 | K61: 2 | L61: 2 | M61: 4 | N61: 4 | O61: 30 | P61: 8 | Q61: 0 | R61: 0 | S61: 0 | T61: 0 | U61: 0 | V61: 0 | W61: 0 | X61: 0 | Y61: 0 | Z61: 0 | AA61: ="「種別：支」のｽｷﾙの代償-1MP & 炎水風土属性の耐性+"&CS!S10*3 -> 「種別：支」のｽｷﾙの代償-1MP & 炎水風土属性の耐性+3
F62: TM | G62: 2 | H62: 2 | I62: 2 | J62: 1 | K62: 3 | L62: 4 | M62: 4 | N62: 4 | O62: 20 | P62: 11 | Q62: 0 | R62: 0 | S62: 0 | T62: 0 | U62: 0 | V62: 0 | W62: 0 | X62: 0 | Y62: 0 | Z62: 0 | AA62: アイテムコスト-１ & バステを1D6を振って6が出たら無効にする。
F63: EE | G63: 2 | H63: 2 | I63: 1 | J63: 1 | K63: 2 | L63: 3 | M63: 5 | N63: 5 | O63: 31 | P63: 8 | Q63: 0 | R63: 0 | S63: 0 | T63: 0 | U63: 0 | V63: 0 | W63: 0 | X63: 0 | Y63: 0 | Z63: 0 | AA63: 「BS：麻痺」無効。 1セッションに1回判定を振り直しできる。
F64: AB | G64: 3 | H64: 3 | I64: 1 | J64: 2 | K64: 0 | L64: 3 | M64: 7 | N64: 4 | O64: 23 | P64: 9 | Q64: 0 | R64: 0 | S64: 0 | T64: 0 | U64: 0 | V64: 0 | W64: 0 | X64: 0 | Y64: 0 | Z64: 0 | AA64: ="「BS：封印」無効。【耐久力】+"&CS!S10*3&" & 【精神力】+"&CS!S10 -> 「BS：封印」無効。【耐久力】+3 & 【精神力】+1
F65: BC | G65: 1 | H65: 1 | I65: 3 | J65: 1 | K65: 3 | L65: 3 | M65: 8 | N65: 8 | O65: 30 | P65: 9 | Q65: 0 | R65: 0 | S65: 0 | T65: 0 | U65: 0 | V65: 0 | W65: 0 | X65: 0 | Y65: 0 | Z65: 0 | AA65: ="行動順決定時、【敏捷】+"&10+CS!S10&" & ｶｳﾝﾄ開始時、後ろのｶｳﾝﾄに配置可能。" -> 行動順決定時、【敏捷】+11 & ｶｳﾝﾄ開始時、後ろのｶｳﾝﾄに配置可能。
F66: PD | G66: 1 | H66: 1 | I66: 3 | J66: 1 | K66: 3 | L66: 2 | M66: 3 | N66: 3 | O66: 24 | P66: 12 | Q66: 0 | R66: 0 | S66: 0 | T66: 0 | U66: 0 | V66: 0 | W66: 0 | X66: 0 | Y66: 0 | Z66: 0 | AA66: ="〈近〉〈遠〉耐性+"&CS!S10*2&" & 「サブアクション」のスキルの射程上限に+1する。" -> 〈近〉〈遠〉耐性+2 & 「サブアクション」のスキルの射程上限に+1する。
F67: AG | G67: 2 | H67: 2 | I67: 2 | J67: 1 | K67: 1 | L67: 3 | M67: 3 | N67: 3 | O67: 38 | P67: 5 | Q67: 0 | R67: 0 | S67: 0 | T67: 0 | U67: 0 | V67: 0 | W67: 0 | X67: 0 | Y67: 0 | Z67: 0 | AA67: 「ﾒｲﾝｱｸｼｮﾝ」の代償-1MP(下限：1) 「ｽﾀｰﾄ」のｺｽﾄ-1(下限:2)
F68: EB | G68: 3 | H68: 0 | I68: 2 | J68: 2 | K68: 1 | L68: 3 | M68: 2 | N68: 4 | O68: 28 | P68: 8 | Q68: 0 | R68: 0 | S68: 0 | T68: 0 | U68: 0 | V68: 0 | W68: 0 | X68: 0 | Y68: 0 | Z68: 0 | AA68: 「BS：KB(X)」を受ける時1D10を振り、出目が7以上なら無効にする。
F69: OK | G69: 2 | H69: 2 | I69: 2 | J69: 2 | K69: 2 | L69: 2 | M69: 3 | N69: 3 | O69: 25 | P69: 10 | Q69: 0 | R69: 0 | S69: 0 | T69: 0 | U69: 0 | V69: 0 | W69: 0 | X69: 0 | Y69: 0 | Z69: 0 | AA69: ="感情使用時、HP+[(強度×5)+"&CS!S10*5&"] MP+[強度]" -> 感情使用時、HP+[(強度×5)+5] MP+[強度]
F70: WT | G70: 1 | H70: 2 | I70: 2 | J70: 3 | K70: 1 | L70: 3 | M70: 7 | N70: 7 | O70: 31 | P70: 8 | Q70: 0 | R70: 0 | S70: 0 | T70: 0 | U70: 0 | V70: 0 | W70: 0 | X70: 0 | Y70: 0 | Z70: 0 | AA70: 12Cまでﾀﾞﾒｰｼﾞ受けない。 命中C値+1 & 回避C値-1(下限値16)
F71: YM | G71: 2 | H71: 2 | I71: 1 | J71: 2 | K71: 2 | L71: 3 | M71: 2 | N71: 2 | O71: 27 | P71: 9 | Q71: 0 | R71: 0 | S71: 0 | T71: 0 | U71: 0 | V71: 0 | W71: 0 | X71: 0 | Y71: 0 | Z71: 0 | AA71: ="光闇耐性+"&CS!S10*2&" & 常時F値-1(下限値4)" -> 光闇耐性+2 & 常時F値-1(下限値4)
F72: TD | G72: 1 | H72: 2 | I72: 2 | J72: 3 | K72: 1 | L72: 4 | M72: 3 | N72: 4 | O72: 24 | P72: 10 | Q72: 0 | R72: 0 | S72: 0 | T72: 0 | U72: 0 | V72: 0 | W72: 0 | X72: 0 | Y72: 0 | Z72: 0 | AA72: 回避判定のC値-1(下限値16)
F73: CR | G73: 2 | H73: 2 | I73: 1 | J73: 2 | K73: 1 | L73: 3 | M73: 4 | N73: 4 | O73: 20 | P73: 8 | Q73: 0 | R73: 0 | S73: 0 | T73: 0 | U73: 0 | V73: 0 | W73: 0 | X73: 0 | Y73: 0 | Z73: 0 | AA73: ="「BS：呪い」「BS：疲労」無効 & 〈炎〉～〈闇〉耐性+"&CS!S10+2 -> 「BS：呪い」「BS：疲労」無効 & 〈炎〉～〈闇〉耐性+3
F74: MV | G74: 1 | H74: 2 | I74: 1 | J74: 2 | K74: 3 | L74: 5 | M74: 1 | N74: 1 | O74: 17 | P74: 11 | Q74: 0 | R74: 0 | S74: 0 | T74: 0 | U74: 0 | V74: 0 | W74: 0 | X74: 0 | Y74: 0 | Z74: 0 | AA74: ="BS付与するとき、代わりに"&CS!S10+8&"点の〈無〉属性ﾀﾞﾒｰｼﾞを与えてもよい。" -> BS付与するとき、代わりに9点の〈無〉属性ﾀﾞﾒｰｼﾞを与えてもよい。
F75: TA | G75: 2 | H75: 2 | I75: 3 | J75: 2 | K75: 0 | L75: 2 | M75: 4 | N75: 3 | O75: 20 | P75: 8 | Q75: 0 | R75: 0 | S75: 0 | T75: 0 | U75: 0 | V75: 0 | W75: 0 | X75: 0 | Y75: 0 | Z75: 0 | AA75: ｻﾌﾞｱｸｼｮﾝでｱｲﾃﾑを使用した場合でも、ｻﾌﾞｱｸｼｮﾝのｽｷﾙ使用可。
F76: LS | G76: 1 | H76: 3 | I76: 1 | J76: 2 | K76: 1 | L76: 2 | M76: 5 | N76: 3 | O76: 29 | P76: 7 | Q76: 0 | R76: 0 | S76: 0 | T76: 0 | U76: 0 | V76: 0 | W76: 0 | X76: 0 | Y76: 0 | Z76: 0 | AA76: 自身の攻撃前に1D10を振り、出目が3か4なら攻撃対象の全耐性0。
F77: BR | G77: 2 | H77: 0 | I77: 2 | J77: 2 | K77: 2 | L77: 4 | M77: 7 | N77: 7 | O77: 23 | P77: 10 | Q77: 0 | R77: 0 | S77: 0 | T77: 0 | U77: 0 | V77: 0 | W77: 0 | X77: 0 | Y77: 0 | Z77: 0 | AA77: ="「射程：0-1」の範囲内の対象から受けるダメージ-"&CS!S10*3+10 -> 「射程：0-1」の範囲内の対象から受けるダメージ-13
F78: SN | G78: 2 | H78: 2 | I78: 2 | J78: 2 | K78: 0 | L78: 3 | M78: 5 | N78: 5 | O78: 15 | P78: 12 | Q78: 0 | R78: 0 | S78: 0 | T78: 0 | U78: 0 | V78: 0 | W78: 0 | X78: 0 | Y78: 0 | Z78: 0 | AA78: 攻撃を回避したとき、【MP】を1D6点回復する。
F79: CP | G79: 2 | H79: 1 | I79: 1 | J79: 2 | K79: 2 | L79: 1 | M79: 4 | N79: 4 | O79: 14 | P79: 14 | Q79: 0 | R79: 0 | S79: 0 | T79: 0 | U79: 0 | V79: 0 | W79: 0 | X79: 0 | Y79: 0 | Z79: 0 | AA79: 20の倍数ｶｳﾝﾄ終了時、あなたのいるﾏｽに「ﾄﾞｰﾙ」を1体配置する。
F80: SA | G80: 2 | H80: 2 | I80: 2 | J80: 1 | K80: 2 | L80: 3 | M80: 5 | N80: 3 | O80: 19 | P80: 9 | Q80: 0 | R80: 0 | S80: 0 | T80: 0 | U80: 0 | V80: 0 | W80: 0 | X80: 0 | Y80: 0 | Z80: 0 | AA80: 10の倍数Cごとに、【MP】を[X/2](↓)点回復。X=[現C/10]
F81: FM | G81: 0 | H81: 0 | I81: 3 | J81: 3 | K81: 3 | L81: 5 | M81: 0 | N81: 10 | O81: 0 | P81: 15 | Q81: 0 | R81: 0 | S81: 0 | T81: 0 | U81: 0 | V81: 0 | W81: 0 | X81: 0 | Y81: 0 | Z81: 0 | AA81: ="【耐久力】-"&(CL+1)*10&" 感情強度合計値-2" -> 【耐久力】-20 感情強度合計値-2
F82: BD | G82: 2 | H82: 0 | I82: 2 | J82: 2 | K82: 3 | L82: 2 | M82: 5 | N82: 5 | O82: 18 | P82: 10 | Q82: 0 | R82: 0 | S82: 0 | T82: 0 | U82: 0 | V82: 0 | W82: 0 | X82: 0 | Y82: 0 | Z82: 0 | AA82: 5の倍数ｶｳﾝﾄ開始時、4MP ｺｽﾄ0で[ﾊﾞﾘｱ状態]の付与,解除可能。
F83: ER | G83: 2 | H83: 2 | I83: 1 | J83: 2 | K83: 1 | L83: 4 | M83: 6 | N83: 6 | O83: 27 | P83: 8 | Q83: 0 | R83: 0 | S83: 0 | T83: 0 | U83: 0 | V83: 0 | W83: 0 | X83: 0 | Y83: 0 | Z83: 0 | AA83: 幻獣が存在する間、判定のC値-1、F値+3。(C値下限16 F値上限9)
F84: PP | G84: 1 | H84: 2 | I84: 1 | J84: 2 | K84: 3 | L84: 3 | M84: 4 | N84: 7 | O84: 20 | P84: 12 | Q84: 0 | R84: 0 | S84: 0 | T84: 0 | U84: 0 | V84: 0 | W84: 0 | X84: 0 | Y84: 0 | Z84: 0 | AA84: 「BS：怯み(X)」のXに-1(下限値：1) 「BS：毒(X)」無効。
F85: AW | G85: 2 | H85: 2 | I85: 2 | J85: 2 | K85: 2 | L85: 4 | M85: 5 | N85: 5 | O85: 8 | P85: 8 | Q85: 0 | R85: 0 | S85: 0 | T85: 0 | U85: 0 | V85: 0 | W85: 0 | X85: 0 | Y85: 0 | Z85: 0 | AA85: ="1C開始～13C終了間MP代償無視。 & 〈炎〉〈雷〉〈闇〉耐性+"&CL*3 -> 1C開始～13C終了間MP代償無視。 & 〈炎〉〈雷〉〈闇〉耐性+3
F86: WP | G86: 1 | H86: 2 | I86: 2 | J86: 2 | K86: 2 | L86: 3 | M86: 5 | N86: 6 | O86: 27 | P86: 7 | Q86: 0 | R86: 0 | S86: 0 | T86: 0 | U86: 0 | V86: 0 | W86: 0 | X86: 0 | Y86: 0 | Z86: 0 | AA86: 現在のカウントが偶数の場合、全判定の達成値+1
F87: IA | G87: 3 | H87: 2 | I87: 2 | J87: 0 | K87: 2 | L87: 4 | M87: 5 | N87: 3 | O87: 30 | P87: 7 | Q87: 0 | R87: 0 | S87: 0 | T87: 0 | U87: 0 | V87: 0 | W87: 0 | X87: 0 | Y87: 0 | Z87: 0 | AA87: ="ｽｷﾙによって武器変更される時、【HP】+"&ROUNDDOWN(CS!AI41/7,0) &" 【MP】+"&2 -> ｽｷﾙによって武器変更される時、【HP】+21 【MP】+2
F88: VM | G88: 1 | H88: 1 | I88: 2 | J88: 3 | K88: 2 | L88: 2 | M88: 3 | N88: 7 | O88: 5 | P88: 13 | Q88: 0 | R88: 0 | S88: 0 | T88: 0 | U88: 0 | V88: 0 | W88: 0 | X88: 0 | Y88: 0 | Z88: 0 | AA88: 「種別：回」のｽｷﾙ効果で自身のHPが回復したとき、1ﾏｽ移動可能
F89: SF | G89: 2 | H89: 2 | I89: 1 | J89: 2 | K89: 1 | L89: 1 | M89: 7 | N89: 7 | O89: 32 | P89: 10 | Q89: 0 | R89: 0 | S89: 0 | T89: 0 | U89: 0 | V89: 0 | W89: 0 | X89: 0 | Y89: 0 | Z89: 0 | AA89: 1ｾｯｼｮﾝ1回、あなたへのBS付与を無効にする。
F90: DP | G90: 2 | H90: 2 | I90: 1 | J90: 2 | K90: 2 | L90: 2 | M90: 6 | N90: 3 | O90: 21 | P90: 9 | Q90: 0 | R90: 0 | S90: 0 | T90: 0 | U90: 0 | V90: 0 | W90: 0 | X90: 0 | Y90: 0 | Z90: 0 | AA90: 1戦闘1回、判定達成値に+15する。その後、「BS：眠り」となる。
